{"text_format":"1","workbook":"xlsx","n_sheets":8,"sheets":["About the DTS Model","Step 1 - Enter Raw Data","Sheet2","Sheet3","Step 1 - DTS Calculator","Step 2 - Treatment Statistics","Crunch sets II","Retroactive"],"not_rendered":{"charts":10,"images":0,"macros":1,"external_links":0,"defined_names":583,"comments":0,"pivot_tables":10},"unopened":[],"bounds":{"document_bytes":16777216,"sheet_cells":100000,"rows_first":2000,"rows_last":500,"rows_between":2000,"halvings":0,"cell_chars":16384,"cell_head_chars":4096},"cells_cut":0,"cells_raw":0,"read":"whole","date_system":"1900"}

{"sheet":"About the DTS Model","index":0,"n_rows":1,"n_cols":1,"rows_kept":1,"cut":false,"hidden":true,"merged":[[0,0,0,12]]}
["The Developmental Timespan (DTS) Model "]

{"sheet":"Step 1 - Enter Raw Data","index":1,"n_rows":247,"n_cols":77,"rows_kept":247,"cut":false,"hidden":true,"merged":[[26,74,26,76],[38,74,38,75],[37,74,37,75],[1,3,1,11]]}
[]
["Treatment","Name               (leave unused names blank)",null,"Directions"]
[1,"Blackberry",null,"1.  Enter data required in yellow-shaded cells only."]
[2,"Blueberry",null,"2.  Enter treatment names (10 letters or less) into Rows 3-12, Col B.  Make sure unused names are blank (not 0, N/A, --, etc.)."]
[3,"Cherry",null,"3.  Check the life stage(s) for which data was collected.  Mark \"Y\" for yes, \"N\" for no."]
[4,"Grape",null,"4.  Enter the number of insects observed for each life stage on days 1-60.  If no counts were done, enter \"0\" (zero). "]
[5,"Raspberry",null,"5.  To erase old data, replace with \"0\" (zero)."]
[6,"Strawberry",null,"6.  Once data is entered, click on the tabs at the bottom of the worksheet and proceed to Step 2 for calculations."]
[7]
[8]
[9]
[10]
["n =",{"$f":"10-COUNTBLANK(B3:B12)","v":6}]
[]
["Life stage","Present (Y/N)"]
["Eggs","y"]
["1st instars","y"]
["2nd instars","y"]
["3rd instars","y"]
["4th instars","n"]
["5th instars","n"]
["Pupae","y"]
["Adults","y"]
[]
[]
[null,{"$f":"B28*B28","v":1},{"$f":"C28*C28","v":4},9,16,25,36,49,64,81,100,121,144,169,196,225,256,289,324,361,400,441,484,529,576,625,676,729,784,841,900,961,1024,1089,1156,1225,1296,1369,1444,1521,1600,1681,1764,1849,1936,2025,2116,2209,2304,2401,2500,2601,2704,2809,2916,3025,3136,3249,3364,3481,3600,"XLS (d)","XLS StDev (d)","XLS StDev (h)","DLS StDev (h)"]
[{"$f":"IF(Comm1=\"\",\"No data\",Comm1)","v":"Blackberry"},{"$f":"IF(Comm1=\"\",\"\",IF(SUM(B29:BI36)=0,\"Warning!! Data input not started!\",\"\"))","v":""},null,null,null,null,null,null,null,null,null,null,null,null,null,null,null,null,null,null,null,null,null,null,null,null,null,null,null,null,null,null,null,null,null,null,null,null,null,null,null,null,null,null,null,null,null,null,null,null,null,null,null,null,null,null,null,null,null,null,null,null,null,null,null,null,null,null,null,null,null,null,null,null,"Age over all treatments"]
["Day  ",1,2,3,4,5,6,7,8,9,10,11,12,13,14,15,16,17,18,19,20,21,22,23,24,25,26,27,28,29,30,31,32,33,34,35,36,37,38,39,40,41,42,43,44,45,46,47,48,49,50,51,52,53,54,55,56,57,58,59,60,null,null,null,null,null,null,{"$f":"Comm1","v":"Blackberry"},"Min","Max",null,null,null,null,null,"Min","Max"]
[{"$f":"IF(LSCheckEggs= \"y\",\"n Eggs\", \"\")","v":"n Eggs"},235,0,0,0,0,0,0,0,0,0,0,0,0,0,0,0,0,0,0,0,0,0,0,0,0,0,0,0,0,0,0,0,0,0,0,0,0,0,0,0,0,0,0,0,0,0,0,0,0,0,0,0,0,0,0,0,0,0,0,0,{"$f":"IF(SUM(B29:BI29)=0,\"N/A\",SUMPRODUCT(B29:BI29,B$28:BI$28)/SUM(B29:BI29))","v":1},{"$f":"IF(SUM(B29:BI29)=0,\"N/A\",SQRT((SUMPRODUCT(B29:BI29,B$26:BI$26)-(((SUMPRODUCT(B29:BI29,B$28:BI$28))^2)/SUM(B29:BI29)))/(SUM(B29:BI29)-1)))","v":0},{"$f":"IF(SUM(B29:BI29)=0,\"N/A\",BK29*24)","v":0},{"$f":"IF(SUM(B29:BI29)=0,\"N/A\",SQRT(BL$36^2+BL29^2))","v":22.477869193266944},{"$f":"MIN(IF(B29:BI29>0,1,61)*(B$28:BI$28))","v":1},{"$f":"MAX(IF(C29:BJ29>0,1,0)*(C$28:BJ$28))","v":0},"Eggs",{"$f":"IF(BN29=61,\"N/A\",BN29)","v":1},{"$f":"IF(BO29=0,BQ29,BO29)","v":1},null,null,null,null,"Eggs",{"$f":"MIN(BQ29,BQ40,BQ51,BQ62,BQ73,BQ84,BQ95,BQ106,BQ117,BQ128)","v":1},{"$f":"MAX(BR29,BR40,BR51,BR62,BR73,BR84,BR95,BR106,BR117,BR128)","v":3}]
[{"$f":"IF(LSCheck1st= \"y\",\"n 1st instars\", \"\")","v":"n 1st instars"},29,183,9,0,0,0,0,0,0,0,0,0,0,0,0,0,0,0,0,0,0,0,0,0,0,0,0,0,0,0,0,0,0,0,0,0,0,0,0,0,0,0,0,0,0,0,0,0,0,0,0,0,0,0,0,0,0,0,0,0,{"$f":"IF(SUM(B30:BI30)=0,\"N/A\",SUMPRODUCT(B30:BI30,B$28:BI$28)/SUM(B30:BI30))","v":1.909502262443439},{"$f":"IF(SUM(B30:BI30)=0,\"N/A\",SQRT((SUMPRODUCT(B30:BI30,B$26:BI$26)-(((SUMPRODUCT(B30:BI30,B$28:BI$28))^2)/SUM(B30:BI30)))/(SUM(B30:BI30)-1)))","v":0.40558624936833848},{"$f":"IF(SUM(B30:BI30)=0,\"N/A\",BK30*24)","v":9.734069984840124},{"$f":"IF(SUM(B30:BI30)=0,\"N/A\",SQRT(BL$36^2+BL30^2))","v":24.495034638460599},{"$f":"MIN(IF(B30:BI30>0,1,61)*(B$28:BI$28))","v":1},{"$f":"MAX(IF(C30:BJ30>0,1,0)*(C$28:BJ$28))","v":3},"1st",{"$f":"IF(BN30=61,\"N/A\",BN30)","v":1},{"$f":"IF(BO30=0,BQ30,BO30)","v":3},null,null,null,null,"1st",1,6]
[{"$f":"IF(LSCheck2nd= \"y\",\"n 2nd instars\", \"\")","v":"n 2nd instars"},0,10,228,24,4,1,0,0,0,0,0,0,0,0,0,0,0,0,0,0,0,0,0,0,0,0,0,0,0,0,0,0,0,0,0,0,0,0,0,0,0,0,0,0,0,0,0,0,0,0,0,0,0,0,0,0,0,0,0,0,3.0936329588014981,{"$f":"IF(SUM(B31:BI31)=0,\"N/A\",SQRT((SUMPRODUCT(B31:BI31,B$26:BI$26)-(((SUMPRODUCT(B31:BI31,B$28:BI$28))^2)/SUM(B31:BI31)))/(SUM(B31:BI31)-1)))","v":0.46152402013900923},11.076576483336222,25.05883377295951,{"$f":"MIN(IF(B31:BI31>0,1,61)*(B$28:BI$28))","v":2},{"$f":"MAX(IF(C31:BJ31>0,1,0)*(C$28:BJ$28))","v":6},"2nd",2,6,null,null,null,null,"2nd",1,9]
[{"$f":"IF(LSCheck3rd= \"y\",\"n 3rd instars\", \"\")","v":"n 3rd instars"},0,0,29,245,286,295,207,6,0,0,0,0,0,0,0,0,0,0,0,0,0,0,0,0,0,0,0,0,0,0,0,0,0,0,0,0,0,0,0,0,0,0,0,0,0,0,0,0,0,0,0,0,0,0,0,0,0,0,0,0,5.3970037453183517,{"$f":"IF(SUM(B32:BI32)=0,\"N/A\",SQRT((SUMPRODUCT(B32:BI32,B$26:BI$26)-(((SUMPRODUCT(B32:BI32,B$28:BI$28))^2)/SUM(B32:BI32)))/(SUM(B32:BI32)-1)))","v":1.1329893494492085},27.191744386781004,35.279534666229026,{"$f":"MIN(IF(B32:BI32>0,1,61)*(B$28:BI$28))","v":3},{"$f":"MAX(IF(C32:BJ32>0,1,0)*(C$28:BJ$28))","v":8},"3rd",3,8,null,null,null,null,"3rd",3,10]
[{"$f":"IF(LSCheck4th= \"y\",\"n 4th instars\", \"\")","v":""},0,0,0,0,0,0,0,0,0,0,0,0,0,0,0,0,0,0,0,0,0,0,0,0,0,0,0,0,0,0,0,0,0,0,0,0,0,0,0,0,0,0,0,0,0,0,0,0,0,0,0,0,0,0,0,0,0,0,0,0,"N/A",{"$f":"IF(SUM(B33:BI33)=0,\"N/A\",SQRT((SUMPRODUCT(B33:BI33,B$26:BI$26)-(((SUMPRODUCT(B33:BI33,B$28:BI$28))^2)/SUM(B33:BI33)))/(SUM(B33:BI33)-1)))","v":"N/A"},"N/A","N/A",{"$f":"MIN(IF(B33:BI33>0,1,61)*(B$28:BI$28))","v":61},{"$f":"MAX(IF(C33:BJ33>0,1,0)*(C$28:BJ$28))","v":0},"4th","N/A","N/A",null,null,null,null,"4th",0,0]
[{"$f":"IF(LSCheck5th= \"y\",\"n 5th instars\", \"\")","v":""},0,0,0,0,0,0,0,0,0,0,0,0,0,0,0,0,0,0,0,0,0,0,0,0,0,0,0,0,0,0,0,0,0,0,0,0,0,0,0,0,0,0,0,0,0,0,0,0,0,0,0,0,0,0,0,0,0,0,0,0,"N/A","N/A","N/A","N/A",{"$f":"MIN(IF(B34:BI34>0,1,61)*(B$28:BI$28))","v":61},{"$f":"MAX(IF(C34:BJ34>0,1,0)*(C$28:BJ$28))","v":0},"5th","N/A","N/A",null,null,null,null,"5th",0,0]
[{"$f":"IF(LSCheckPupa= \"y\",\"n Pupae\", \"\")","v":"n Pupae"},0,0,0,0,7,53,275,271,221,0,0,0,0,0,0,0,0,0,0,0,0,0,0,0,0,0,0,0,0,0,0,0,0,0,0,0,0,0,0,0,0,0,0,0,0,0,0,0,0,0,0,0,0,0,0,0,0,0,0,0,7.7811366384522369,0.94098612148270955,22.583666915585027,31.86340557479236,{"$f":"MIN(IF(B35:BI35>0,1,61)*(B$28:BI$28))","v":5},{"$f":"MAX(IF(C35:BJ35>0,1,0)*(C$28:BJ$28))","v":9},"Pupae",5,9,"Min Adult","Max Adult",null,null,"Pupae",4,10]
[{"$f":"IF(LSCheckAdult= \"y\",\"n Adults\", \"\")","v":"n Adults"},0,0,0,0,0,0,1,59,1355,1521,202,105,59,13,3,2,0,0,0,0,0,0,0,0,0,0,0,0,0,0,0,0,0,0,0,0,0,0,0,0,0,0,0,0,0,0,0,0,0,0,0,0,0,0,0,0,0,0,0,0,9.7566265060240962,0.93657788305278933,22.477869193266944,null,{"$f":"MIN(IF(B36:BI36>0,1,61)*(B$28:BI$28))","v":7},{"$f":"MAX(IF(C36:BJ36>0,1,0)*(C$28:BJ$28))","v":16},"Adults",{"$f":"IF(BN36=61,\"N/A\",BN36)","v":7},16,{"$f":"IF($BN36=61,\"N/A\",ROUNDUP(BQ36-(1.96*$BK36),0))","v":6},{"$f":"IF($BO36=0,\"N/A\",ROUNDDOWN(BR36+(1.96*$BK36),0))","v":17},null,null,"Adults",7,17]
["Total",{"$f":"SUM(B29:B36)","v":264},{"$f":"SUM(C29:C36)","v":193},266,269,297,349,483,336,1576,1521,202,105,59,13,3,2,0,0,0,0,0,0,0,0,0,0,0,0,0,0,0,0,0,0,0,0,0,0,0,0,0,0,0,0,0,0,0,0,0,0,0,0,0,0,0,0,0,0,0,0,{"$f":"SUM(B37:BI37)","v":5938},2.8558550086565124,68.540520207756302,null,{"$f":"MIN(IF(B37:BI37>0,1,61)*(B$28:BI$28))","v":1},{"$f":"MAX(IF(C37:BJ37>0,1,0)*(C$28:BJ$28))","v":16},"Overall",{"$f":"IF(BN37=61,\"N/A\",BN37)","v":1},{"$f":"IF(BO37=0,BQ37,BO37)","v":16},null,null,null,null,"Overall",1,17]
[{"$f":"IF(Comm2=\"\",\"No data\",Comm2)","v":"Blueberry"},{"$f":"IF(Comm2=\"\",\"\",IF(SUM(B40:BI47)=0,\"Warning!! Data input not started!\",\"\"))","v":""},null,null,null,null,null,null,null,null,null,null,null,null,null,null,null,null,null,null,null,null,null,null,null,null,null,null,null,null,null,null,null,null,null,null,null,null,null,null,null,null,null,null,null,null,null,null,null,null,null,null,null,null,null,null,null,null,null,null,null,null,null,null,null,null,null,null,null,null,null,null,null,null,"Min Adult - 1.96SD",null,{"$f":"BX36-(1.96*MAX(BK36,BK47,BK58,BK69,BK80,BK91,BK102,BK113,BK124,BK135))","v":3.8538606235006476}]
["Day  ",1,2,3,4,5,6,7,8,9,10,11,12,13,14,15,16,17,18,19,20,21,22,23,24,25,26,27,28,29,30,31,32,33,34,35,36,37,38,39,40,41,42,43,44,45,46,47,48,49,50,51,52,53,54,55,56,57,58,59,60,null,null,null,null,null,null,{"$f":"Comm2","v":"Blueberry"},"Min","Max",null,null,null,null,"Max Adult + 1.96SD",null,{"$f":"BY37+(1.96*MAX(BK36,BK47,BK58,BK69,BK80,BK91,BK102,BK113,BK124,BK135))","v":20.146139376499352}]
[{"$f":"IF(LSCheckEggs= \"y\",\"n Eggs\", \"\")","v":"n Eggs"},129,7,0,0,0,0,0,0,0,0,0,0,0,0,0,0,0,0,0,0,0,0,0,0,0,0,0,0,0,0,0,0,0,0,0,0,0,0,0,0,0,0,0,0,0,0,0,0,0,0,0,0,0,0,0,0,0,0,0,0,{"$f":"IF(SUM(B40:BI40)=0,\"N/A\",SUMPRODUCT(B40:BI40,B$39:BI$39)/SUM(B40:BI40))","v":1.0514705882352942},0.22177242059360674,{"$f":"IF(SUM(B40:BI40)=0,\"N/A\",BK40*24)","v":5.3225380942465623},{"$f":"IF(SUM(B40:BI40)=0,\"N/A\",SQRT(BL$47^2+BL40^2))","v":26.187579540011381},{"$f":"MIN(IF(B40:BI40>0,1,61)*(B$28:BI$28))","v":1},{"$f":"MAX(IF(C40:BJ40>0,1,0)*(C$28:BJ$28))","v":2},"Eggs",{"$f":"IF(BN40=61,\"N/A\",BN40)","v":1},{"$f":"IF(BO40=0,BQ40,BO40)","v":2}]
[{"$f":"IF(LSCheck1st= \"y\",\"n 1st instars\", \"\")","v":"n 1st instars"},11,97,11,5,15,2,0,0,0,0,0,0,0,0,0,0,0,0,0,0,0,0,0,0,0,0,0,0,0,0,0,0,0,0,0,0,0,0,0,0,0,0,0,0,0,0,0,0,0,0,0,0,0,0,0,0,0,0,0,0,{"$f":"IF(SUM(B41:BI41)=0,\"N/A\",SUMPRODUCT(B41:BI41,B$39:BI$39)/SUM(B41:BI41))","v":2.4468085106382977},1.1365708570387985,27.277700568931163,{"$f":"IF(SUM(B41:BI41)=0,\"N/A\",SQRT(BL$47^2+BL41^2))","v":37.437051950280278},{"$f":"MIN(IF(B41:BI41>0,1,61)*(B$28:BI$28))","v":1},{"$f":"MAX(IF(C41:BJ41>0,1,0)*(C$28:BJ$28))","v":6},"1st",{"$f":"IF(BN41=61,\"N/A\",BN41)","v":1},{"$f":"IF(BO41=0,BQ41,BO41)","v":6}]
[{"$f":"IF(LSCheck2nd= \"y\",\"n 2nd instars\", \"\")","v":"n 2nd instars"},0,13,46,87,35,29,5,0,0,0,0,0,0,0,0,0,0,0,0,0,0,0,0,0,0,0,0,0,0,0,0,0,0,0,0,0,0,0,0,0,0,0,0,0,0,0,0,0,0,0,0,0,0,0,0,0,0,0,0,0,4.1674418604651162,1.1600275798833317,27.840661917199959,37.849205624260399,{"$f":"MIN(IF(B42:BI42>0,1,61)*(B$28:BI$28))","v":2},{"$f":"MAX(IF(C42:BJ42>0,1,0)*(C$28:BJ$28))","v":7},"2nd",2,7]
[{"$f":"IF(LSCheck3rd= \"y\",\"n 3rd instars\", \"\")","v":"n 3rd instars"},0,0,16,20,50,58,56,50,5,0,0,0,0,0,0,0,0,0,0,0,0,0,0,0,0,0,0,0,0,0,0,0,0,0,0,0,0,0,0,0,0,0,0,0,0,0,0,0,0,0,0,0,0,0,0,0,0,0,0,0,6.1294117647058828,1.4989883882305495,35.975721317533186,44.178189581698895,{"$f":"MIN(IF(B43:BI43>0,1,61)*(B$28:BI$28))","v":3},{"$f":"MAX(IF(C43:BJ43>0,1,0)*(C$28:BJ$28))","v":9},"3rd",3,9]
[{"$f":"IF(LSCheck4th= \"y\",\"n 4th instars\", \"\")","v":""},0,0,0,0,0,0,0,0,0,0,0,0,0,0,0,0,0,0,0,0,0,0,0,0,0,0,0,0,0,0,0,0,0,0,0,0,0,0,0,0,0,0,0,0,0,0,0,0,0,0,0,0,0,0,0,0,0,0,0,0,"N/A","N/A","N/A","N/A",{"$f":"MIN(IF(B44:BI44>0,1,61)*(B$28:BI$28))","v":61},{"$f":"MAX(IF(C44:BJ44>0,1,0)*(C$28:BJ$28))","v":0},"4th","N/A","N/A"]
[{"$f":"IF(LSCheck5th= \"y\",\"n 5th instars\", \"\")","v":""},0,0,0,0,0,0,0,0,0,0,0,0,0,0,0,0,0,0,0,0,0,0,0,0,0,0,0,0,0,0,0,0,0,0,0,0,0,0,0,0,0,0,0,0,0,0,0,0,0,0,0,0,0,0,0,0,0,0,0,0,"N/A","N/A","N/A","N/A",{"$f":"MIN(IF(B45:BI45>0,1,61)*(B$28:BI$28))","v":61},{"$f":"MAX(IF(C45:BJ45>0,1,0)*(C$28:BJ$28))","v":0},"5th","N/A","N/A"]
[{"$f":"IF(LSCheckPupa= \"y\",\"n Pupae\", \"\")","v":"n Pupae"},0,0,0,0,0,0,15,9,71,80,0,0,0,0,0,0,0,0,0,0,0,0,0,0,0,0,0,0,0,0,0,0,0,0,0,0,0,0,0,0,0,0,0,0,0,0,0,0,0,0,0,0,0,0,0,0,0,0,0,0,{"$f":"IF(SUM(B46:BI46)=0,\"N/A\",SUMPRODUCT(B46:BI46,B$39:BI$39)/SUM(B46:BI46))","v":9.2342857142857149},0.89505116309899579,21.4812279143759,33.450008417175013,{"$f":"MIN(IF(B46:BI46>0,1,61)*(B$28:BI$28))","v":7},{"$f":"MAX(IF(C46:BJ46>0,1,0)*(C$28:BJ$28))","v":10},"Pupae",7,10,"Min Adult","Max Adult"]
[{"$f":"IF(LSCheckAdult= \"y\",\"n Adults\", \"\")","v":"n Adults"},0,0,0,0,0,0,0,6,102,405,163,128,19,5,2,1,0,0,0,0,0,0,0,0,0,0,0,0,0,0,0,0,0,0,0,0,0,0,0,0,0,0,0,0,0,0,0,0,0,0,0,0,0,0,0,0,0,0,0,0,10.478941034897714,1.0683742113861903,25.640981073268566,null,{"$f":"MIN(IF(B47:BI47>0,1,61)*(B$28:BI$28))","v":8},{"$f":"MAX(IF(C47:BJ47>0,1,0)*(C$28:BJ$28))","v":16},"Adults",8,16,{"$f":"IF($BN47=61,\"N/A\",ROUNDUP(BQ47-(1.96*$BK47),0))","v":6},{"$f":"IF($BO47=0,\"N/A\",ROUNDDOWN(BR47+(1.96*$BK47),0))","v":18}]
["Total",{"$f":"SUM(B40:B47)","v":140},{"$f":"SUM(C40:C47)","v":117},{"$f":"SUM(D40:D47)","v":73},{"$f":"SUM(E40:E47)","v":112},{"$f":"SUM(F40:F47)","v":100},{"$f":"SUM(G40:G47)","v":89},{"$f":"SUM(H40:H47)","v":76},{"$f":"SUM(I40:I47)","v":65},{"$f":"SUM(J40:J47)","v":178},{"$f":"SUM(K40:K47)","v":485},{"$f":"SUM(L40:L47)","v":163},{"$f":"SUM(M40:M47)","v":128},{"$f":"SUM(N40:N47)","v":19},{"$f":"SUM(O40:O47)","v":5},{"$f":"SUM(P40:P47)","v":2},{"$f":"SUM(Q40:Q47)","v":1},{"$f":"SUM(R40:R47)","v":0},{"$f":"SUM(S40:S47)","v":0},{"$f":"SUM(T40:T47)","v":0},{"$f":"SUM(U40:U47)","v":0},{"$f":"SUM(V40:V47)","v":0},{"$f":"SUM(W40:W47)","v":0},{"$f":"SUM(X40:X47)","v":0},{"$f":"SUM(Y40:Y47)","v":0},{"$f":"SUM(Z40:Z47)","v":0},{"$f":"SUM(AA40:AA47)","v":0},{"$f":"SUM(AB40:AB47)","v":0},{"$f":"SUM(AC40:AC47)","v":0},{"$f":"SUM(AD40:AD47)","v":0},{"$f":"SUM(AE40:AE47)","v":0},{"$f":"SUM(AF40:AF47)","v":0},{"$f":"SUM(AG40:AG47)","v":0},{"$f":"SUM(AH40:AH47)","v":0},{"$f":"SUM(AI40:AI47)","v":0},{"$f":"SUM(AJ40:AJ47)","v":0},{"$f":"SUM(AK40:AK47)","v":0},{"$f":"SUM(AL40:AL47)","v":0},{"$f":"SUM(AM40:AM47)","v":0},{"$f":"SUM(AN40:AN47)","v":0},{"$f":"SUM(AO40:AO47)","v":0},{"$f":"SUM(AP40:AP47)","v":0},{"$f":"SUM(AQ40:AQ47)","v":0},{"$f":"SUM(AR40:AR47)","v":0},{"$f":"SUM(AS40:AS47)","v":0},{"$f":"SUM(AT40:AT47)","v":0},{"$f":"SUM(AU40:AU47)","v":0},{"$f":"SUM(AV40:AV47)","v":0},{"$f":"SUM(AW40:AW47)","v":0},{"$f":"SUM(AX40:AX47)","v":0},{"$f":"SUM(AY40:AY47)","v":0},{"$f":"SUM(AZ40:AZ47)","v":0},{"$f":"SUM(BA40:BA47)","v":0},{"$f":"SUM(BB40:BB47)","v":0},{"$f":"SUM(BC40:BC47)","v":0},{"$f":"SUM(BD40:BD47)","v":0},{"$f":"SUM(BE40:BE47)","v":0},{"$f":"SUM(BF40:BF47)","v":0},{"$f":"SUM(BG40:BG47)","v":0},{"$f":"SUM(BH40:BH47)","v":0},{"$f":"SUM(BI40:BI47)","v":0},{"$f":"SUM(B48:BI48)","v":1753},3.5554599263190716,85.331038231657715,null,{"$f":"MIN(IF(B48:BI48>0,1,61)*(B$28:BI$28))","v":1},{"$f":"MAX(IF(C48:BJ48>0,1,0)*(C$28:BJ$28))","v":16},"Overall",1,16]
[{"$f":"IF(Comm3=\"\",\"No data\",Comm3)","v":"Cherry"},{"$f":"IF(Comm3=\"\",\"\",IF(SUM(B51:BI58)=0,\"Warning!! Data input not started!\",\"\"))","v":""}]
["Day  ",1,2,3,4,5,6,7,8,9,10,11,12,13,14,15,16,17,18,19,20,21,22,23,24,25,26,27,28,29,30,31,32,33,34,35,36,37,38,39,40,41,42,43,44,45,46,47,48,49,50,51,52,53,54,55,56,57,58,59,60,null,null,null,null,null,null,{"$f":"Comm3","v":"Cherry"},"Min","Max"]
[{"$f":"IF(LSCheckEggs= \"y\",\"n Eggs\", \"\")","v":"n Eggs"},157,10,0,0,0,0,0,0,0,0,0,0,0,0,0,0,0,0,0,0,0,0,0,0,0,0,0,0,0,0,0,0,0,0,0,0,0,0,0,0,0,0,0,0,0,0,0,0,0,0,0,0,0,0,0,0,0,0,0,0,{"$f":"IF(SUM(B51:BI51)=0,\"N/A\",SUMPRODUCT(B51:BI51,B$50:BI$50)/SUM(B51:BI51))","v":1.0598802395209581},0.237978403454569,5.711481682909656,{"$f":"IF(SUM(B51:BI51)=0,\"N/A\",SQRT(BL$58^2+BL51^2))","v":20.621892913872149},{"$f":"MIN(IF(B51:BI51>0,1,61)*(B$28:BI$28))","v":1},{"$f":"MAX(IF(C51:BJ51>0,1,0)*(C$28:BJ$28))","v":2},"Eggs",1,2]
[{"$f":"IF(LSCheck1st= \"y\",\"n 1st instars\", \"\")","v":"n 1st instars"},14,34,2,0,0,0,0,0,0,0,0,0,0,0,0,0,0,0,0,0,0,0,0,0,0,0,0,0,0,0,0,0,0,0,0,0,0,0,0,0,0,0,0,0,0,0,0,0,0,0,0,0,0,0,0,0,0,0,0,0,{"$f":"IF(SUM(B52:BI52)=0,\"N/A\",SUMPRODUCT(B52:BI52,B$50:BI$50)/SUM(B52:BI52))","v":1.76},0.51745057932213823,12.418813903731317,{"$f":"IF(SUM(B52:BI52)=0,\"N/A\",SQRT(BL$58^2+BL52^2))","v":23.385217191903692},{"$f":"MIN(IF(B52:BI52>0,1,61)*(B$28:BI$28))","v":1},{"$f":"MAX(IF(C52:BJ52>0,1,0)*(C$28:BJ$28))","v":3},"1st",1,3]
[{"$f":"IF(LSCheck2nd= \"y\",\"n 2nd instars\", \"\")","v":"n 2nd instars"},0,13,46,24,8,0,0,0,0,0,0,0,0,0,0,0,0,0,0,0,0,0,0,0,0,0,0,0,0,0,0,0,0,0,0,0,0,0,0,0,0,0,0,0,0,0,0,0,0,0,0,0,0,0,0,0,0,0,0,0,3.2967032967032965,0.82319844366694361,19.756762648006646,27.981621015707226,{"$f":"MIN(IF(B53:BI53>0,1,61)*(B$28:BI$28))","v":2},{"$f":"MAX(IF(C53:BJ53>0,1,0)*(C$28:BJ$28))","v":5},"2nd",2,5]
[{"$f":"IF(LSCheck3rd= \"y\",\"n 3rd instars\", \"\")","v":"n 3rd instars"},0,0,20,70,74,142,59,16,0,0,0,0,0,0,0,0,0,0,0,0,0,0,0,0,0,0,0,0,0,0,0,0,0,0,0,0,0,0,0,0,0,0,0,0,0,0,0,0,0,0,0,0,0,0,0,0,0,0,0,0,5.5196850393700787,1.2237801253802059,29.370723009124941,35.42994234282267,{"$f":"MIN(IF(B54:BI54>0,1,61)*(B$28:BI$28))","v":3},{"$f":"MAX(IF(C54:BJ54>0,1,0)*(C$28:BJ$28))","v":8},"3rd",3,8]
[{"$f":"IF(LSCheck4th= \"y\",\"n 4th instars\", \"\")","v":""},0,0,0,0,0,0,0,0,0,0,0,0,0,0,0,0,0,0,0,0,0,0,0,0,0,0,0,0,0,0,0,0,0,0,0,0,0,0,0,0,0,0,0,0,0,0,0,0,0,0,0,0,0,0,0,0,0,0,0,0,"N/A","N/A","N/A","N/A",{"$f":"MIN(IF(B55:BI55>0,1,61)*(B$28:BI$28))","v":61},{"$f":"MAX(IF(C55:BJ55>0,1,0)*(C$28:BJ$28))","v":0},"4th","N/A","N/A"]
[{"$f":"IF(LSCheck5th= \"y\",\"n 5th instars\", \"\")","v":""},0,0,0,0,0,0,0,0,0,0,0,0,0,0,0,0,0,0,0,0,0,0,0,0,0,0,0,0,0,0,0,0,0,0,0,0,0,0,0,0,0,0,0,0,0,0,0,0,0,0,0,0,0,0,0,0,0,0,0,0,"N/A","N/A","N/A","N/A",{"$f":"MIN(IF(B56:BI56>0,1,61)*(B$28:BI$28))","v":61},{"$f":"MAX(IF(C56:BJ56>0,1,0)*(C$28:BJ$28))","v":0},"5th","N/A","N/A"]
[{"$f":"IF(LSCheckPupa= \"y\",\"n Pupae\", \"\")","v":"n Pupae"},0,0,0,0,3,10,44,70,0,0,0,0,0,0,0,0,0,0,0,0,0,0,0,0,0,0,0,0,0,0,0,0,0,0,0,0,0,0,0,0,0,0,0,0,0,0,0,0,0,0,0,0,0,0,0,0,0,0,0,0,7.4251968503937009,0.74022395838112931,17.765375001147103,26.612966637869974,{"$f":"MIN(IF(B57:BI57>0,1,61)*(B$28:BI$28))","v":5},{"$f":"MAX(IF(C57:BJ57>0,1,0)*(C$28:BJ$28))","v":8},"Pupae",5,8,"Min Adult","Max Adult"]
[{"$f":"IF(LSCheckAdult= \"y\",\"n Adults\", \"\")","v":"n Adults"},0,0,0,0,0,0,0,6,214,978,1572,498,23,0,0,0,0,0,0,0,0,0,0,0,0,0,0,0,0,0,0,0,0,0,0,0,0,0,0,0,0,0,0,0,0,0,0,0,0,0,0,0,0,0,0,0,0,0,0,0,10.732604071710727,0.82563259031858516,19.815182167646043,null,{"$f":"MIN(IF(B58:BI58>0,1,61)*(B$28:BI$28))","v":8},{"$f":"MAX(IF(C58:BJ58>0,1,0)*(C$28:BJ$28))","v":13},"Adults",8,13,{"$f":"IF($BN58=61,\"N/A\",ROUNDUP(BQ58-(1.96*$BK58),0))","v":7},{"$f":"IF($BO58=0,\"N/A\",ROUNDDOWN(BR58+(1.96*$BK58),0))","v":14}]
["Total",{"$f":"SUM(B51:B58)","v":171},{"$f":"SUM(C51:C58)","v":57},{"$f":"SUM(D51:D58)","v":68},{"$f":"SUM(E51:E58)","v":94},{"$f":"SUM(F51:F58)","v":85},{"$f":"SUM(G51:G58)","v":152},{"$f":"SUM(H51:H58)","v":103},{"$f":"SUM(I51:I58)","v":92},{"$f":"SUM(J51:J58)","v":214},{"$f":"SUM(K51:K58)","v":978},{"$f":"SUM(L51:L58)","v":1572},{"$f":"SUM(M51:M58)","v":498},{"$f":"SUM(N51:N58)","v":23},{"$f":"SUM(O51:O58)","v":0},{"$f":"SUM(P51:P58)","v":0},{"$f":"SUM(Q51:Q58)","v":0},{"$f":"SUM(R51:R58)","v":0},{"$f":"SUM(S51:S58)","v":0},{"$f":"SUM(T51:T58)","v":0},{"$f":"SUM(U51:U58)","v":0},{"$f":"SUM(V51:V58)","v":0},{"$f":"SUM(W51:W58)","v":0},{"$f":"SUM(X51:X58)","v":0},{"$f":"SUM(Y51:Y58)","v":0},{"$f":"SUM(Z51:Z58)","v":0},{"$f":"SUM(AA51:AA58)","v":0},{"$f":"SUM(AB51:AB58)","v":0},{"$f":"SUM(AC51:AC58)","v":0},{"$f":"SUM(AD51:AD58)","v":0},{"$f":"SUM(AE51:AE58)","v":0},{"$f":"SUM(AF51:AF58)","v":0},{"$f":"SUM(AG51:AG58)","v":0},{"$f":"SUM(AH51:AH58)","v":0},{"$f":"SUM(AI51:AI58)","v":0},{"$f":"SUM(AJ51:AJ58)","v":0},{"$f":"SUM(AK51:AK58)","v":0},{"$f":"SUM(AL51:AL58)","v":0},{"$f":"SUM(AM51:AM58)","v":0},{"$f":"SUM(AN51:AN58)","v":0},{"$f":"SUM(AO51:AO58)","v":0},{"$f":"SUM(AP51:AP58)","v":0},{"$f":"SUM(AQ51:AQ58)","v":0},{"$f":"SUM(AR51:AR58)","v":0},{"$f":"SUM(AS51:AS58)","v":0},{"$f":"SUM(AT51:AT58)","v":0},{"$f":"SUM(AU51:AU58)","v":0},{"$f":"SUM(AV51:AV58)","v":0},{"$f":"SUM(AW51:AW58)","v":0},{"$f":"SUM(AX51:AX58)","v":0},{"$f":"SUM(AY51:AY58)","v":0},{"$f":"SUM(AZ51:AZ58)","v":0},{"$f":"SUM(BA51:BA58)","v":0},{"$f":"SUM(BB51:BB58)","v":0},{"$f":"SUM(BC51:BC58)","v":0},{"$f":"SUM(BD51:BD58)","v":0},{"$f":"SUM(BE51:BE58)","v":0},{"$f":"SUM(BF51:BF58)","v":0},{"$f":"SUM(BG51:BG58)","v":0},{"$f":"SUM(BH51:BH58)","v":0},{"$f":"SUM(BI51:BI58)","v":0},{"$f":"SUM(B59:BI59)","v":4107},2.8323427539510151,67.976226094824369,null,{"$f":"MIN(IF(B59:BI59>0,1,61)*(B$28:BI$28))","v":1},{"$f":"MAX(IF(C59:BJ59>0,1,0)*(C$28:BJ$28))","v":13},"Overall",1,13]
[{"$f":"IF(Comm4=\"\",\"No data\",Comm4)","v":"Grape"},{"$f":"IF(Comm4=\"\",\"\",IF(SUM(B62:BI69)=0,\"Warning!! Data input not started!\",\"\"))","v":""}]
["Day  ",1,2,3,4,5,6,7,8,9,10,11,12,13,14,15,16,17,18,19,20,21,22,23,24,25,26,27,28,29,30,31,32,33,34,35,36,37,38,39,40,41,42,43,44,45,46,47,48,49,50,51,52,53,54,55,56,57,58,59,60,null,null,null,null,null,null,{"$f":"Comm4","v":"Grape"},"Min","Max"]
[{"$f":"IF(LSCheckEggs= \"y\",\"n Eggs\", \"\")","v":"n Eggs"},252,41,0,0,0,0,0,0,0,0,0,0,0,0,0,0,0,0,0,0,0,0,0,0,0,0,0,0,0,0,0,0,0,0,0,0,0,0,0,0,0,0,0,0,0,0,0,0,0,0,0,0,0,0,0,0,0,0,0,0,{"$f":"IF(SUM(B62:BI62)=0,\"N/A\",SUMPRODUCT(B62:BI62,B$61:BI$61)/SUM(B62:BI62))","v":1.1399317406143346},0.34750972507734179,8.340233401856203,{"$f":"IF(SUM(B62:BI62)=0,\"N/A\",SQRT(BL$69^2+BL62^2))","v":39.416621623985741},{"$f":"MIN(IF(B62:BI62>0,1,61)*(B$28:BI$28))","v":1},{"$f":"MAX(IF(C62:BJ62>0,1,0)*(C$28:BJ$28))","v":2},"Eggs",1,2]
[{"$f":"IF(LSCheck1st= \"y\",\"n 1st instars\", \"\")","v":"n 1st instars"},52,72,26,2,0,0,0,0,0,0,0,0,0,0,0,0,0,0,0,0,0,0,0,0,0,0,0,0,0,0,0,0,0,0,0,0,0,0,0,0,0,0,0,0,0,0,0,0,0,0,0,0,0,0,0,0,0,0,0,0,{"$f":"IF(SUM(B63:BI63)=0,\"N/A\",SUMPRODUCT(B63:BI63,B$61:BI$61)/SUM(B63:BI63))","v":1.8552631578947369},0.74057338388023075,17.773761213125539,{"$f":"IF(SUM(B63:BI63)=0,\"N/A\",SQRT(BL$69^2+BL63^2))","v":42.426609040933592},{"$f":"MIN(IF(B63:BI63>0,1,61)*(B$28:BI$28))","v":1},{"$f":"MAX(IF(C63:BJ63>0,1,0)*(C$28:BJ$28))","v":4},"1st",1,4]
[{"$f":"IF(LSCheck2nd= \"y\",\"n 2nd instars\", \"\")","v":"n 2nd instars"},0,21,67,25,12,3,30,16,3,0,0,0,0,0,0,0,0,0,0,0,0,0,0,0,0,0,0,0,0,0,0,0,0,0,0,0,0,0,0,0,0,0,0,0,0,0,0,0,0,0,0,0,0,0,0,0,0,0,0,0,4.4406779661016946,2.0527519204329816,49.266046090391555,62.540018103863765,{"$f":"MIN(IF(B64:BI64>0,1,61)*(B$28:BI$28))","v":2},{"$f":"MAX(IF(C64:BJ64>0,1,0)*(C$28:BJ$28))","v":9},"2nd",2,9]
[{"$f":"IF(LSCheck3rd= \"y\",\"n 3rd instars\", \"\")","v":"n 3rd instars"},0,0,15,71,46,66,99,78,40,10,0,0,0,0,0,0,0,0,0,0,0,0,0,0,0,0,0,0,0,0,0,0,0,0,0,0,0,0,0,0,0,0,0,0,0,0,0,0,0,0,0,0,0,0,0,0,0,0,0,0,6.4282352941176475,1.7631321136450568,42.315170727481366,57.224856843393837,{"$f":"MIN(IF(B65:BI65>0,1,61)*(B$28:BI$28))","v":3},{"$f":"MAX(IF(C65:BJ65>0,1,0)*(C$28:BJ$28))","v":10},"3rd",3,10]
[{"$f":"IF(LSCheck4th= \"y\",\"n 4th instars\", \"\")","v":""},0,0,0,0,0,0,0,0,0,0,0,0,0,0,0,0,0,0,0,0,0,0,0,0,0,0,0,0,0,0,0,0,0,0,0,0,0,0,0,0,0,0,0,0,0,0,0,0,0,0,0,0,0,0,0,0,0,0,0,0,"N/A","N/A","N/A","N/A",{"$f":"MIN(IF(B66:BI66>0,1,61)*(B$28:BI$28))","v":61},{"$f":"MAX(IF(C66:BJ66>0,1,0)*(C$28:BJ$28))","v":0},"4th","N/A","N/A"]
[{"$f":"IF(LSCheck5th= \"y\",\"n 5th instars\", \"\")","v":""},0,0,0,0,0,0,0,0,0,0,0,0,0,0,0,0,0,0,0,0,0,0,0,0,0,0,0,0,0,0,0,0,0,0,0,0,0,0,0,0,0,0,0,0,0,0,0,0,0,0,0,0,0,0,0,0,0,0,0,0,"N/A","N/A","N/A","N/A",{"$f":"MIN(IF(B67:BI67>0,1,61)*(B$28:BI$28))","v":61},{"$f":"MAX(IF(C67:BJ67>0,1,0)*(C$28:BJ$28))","v":0},"5th","N/A","N/A"]
[{"$f":"IF(LSCheckPupa= \"y\",\"n Pupae\", \"\")","v":"n Pupae"},0,0,0,0,0,6,7,50,69,72,0,0,0,0,0,0,0,0,0,0,0,0,0,0,0,0,0,0,0,0,0,0,0,0,0,0,0,0,0,0,0,0,0,0,0,0,0,0,0,0,0,0,0,0,0,0,0,0,0,0,8.9509803921568629,1.0012548873125817,24.03011729550196,45.404373184602001,{"$f":"MIN(IF(B68:BI68>0,1,61)*(B$28:BI$28))","v":6},{"$f":"MAX(IF(C68:BJ68>0,1,0)*(C$28:BJ$28))","v":10},"Pupae",6,10,"Min Adult","Max Adult"]
[{"$f":"IF(LSCheckAdult= \"y\",\"n Adults\", \"\")","v":"n Adults"},0,0,0,0,0,0,0,3,72,374,290,109,41,22,40,14,10,0,0,0,0,0,0,0,0,0,0,0,0,0,0,0,0,0,0,0,0,0,0,0,0,0,0,0,0,0,0,0,0,0,0,0,0,0,0,0,0,0,0,0,11.02051282051282,1.6051731512751799,38.524155630604319,null,{"$f":"MIN(IF(B69:BI69>0,1,61)*(B$28:BI$28))","v":8},{"$f":"MAX(IF(C69:BJ69>0,1,0)*(C$28:BJ$28))","v":17},"Adults",8,17,{"$f":"IF($BN69=61,\"N/A\",ROUNDUP(BQ69-(1.96*$BK69),0))","v":5},{"$f":"IF($BO69=0,\"N/A\",ROUNDDOWN(BR69+(1.96*$BK69),0))","v":20}]
["Total",{"$f":"SUM(B62:B69)","v":304},{"$f":"SUM(C62:C69)","v":134},{"$f":"SUM(D62:D69)","v":108},{"$f":"SUM(E62:E69)","v":98},{"$f":"SUM(F62:F69)","v":58},{"$f":"SUM(G62:G69)","v":75},{"$f":"SUM(H62:H69)","v":136},{"$f":"SUM(I62:I69)","v":147},{"$f":"SUM(J62:J69)","v":184},{"$f":"SUM(K62:K69)","v":456},{"$f":"SUM(L62:L69)","v":290},{"$f":"SUM(M62:M69)","v":109},{"$f":"SUM(N62:N69)","v":41},{"$f":"SUM(O62:O69)","v":22},{"$f":"SUM(P62:P69)","v":40},{"$f":"SUM(Q62:Q69)","v":14},{"$f":"SUM(R62:R69)","v":10},{"$f":"SUM(S62:S69)","v":0},{"$f":"SUM(T62:T69)","v":0},{"$f":"SUM(U62:U69)","v":0},{"$f":"SUM(V62:V69)","v":0},{"$f":"SUM(W62:W69)","v":0},{"$f":"SUM(X62:X69)","v":0},{"$f":"SUM(Y62:Y69)","v":0},{"$f":"SUM(Z62:Z69)","v":0},{"$f":"SUM(AA62:AA69)","v":0},{"$f":"SUM(AB62:AB69)","v":0},{"$f":"SUM(AC62:AC69)","v":0},{"$f":"SUM(AD62:AD69)","v":0},{"$f":"SUM(AE62:AE69)","v":0},{"$f":"SUM(AF62:AF69)","v":0},{"$f":"SUM(AG62:AG69)","v":0},{"$f":"SUM(AH62:AH69)","v":0},{"$f":"SUM(AI62:AI69)","v":0},{"$f":"SUM(AJ62:AJ69)","v":0},{"$f":"SUM(AK62:AK69)","v":0},{"$f":"SUM(AL62:AL69)","v":0},{"$f":"SUM(AM62:AM69)","v":0},{"$f":"SUM(AN62:AN69)","v":0},{"$f":"SUM(AO62:AO69)","v":0},{"$f":"SUM(AP62:AP69)","v":0},{"$f":"SUM(AQ62:AQ69)","v":0},{"$f":"SUM(AR62:AR69)","v":0},{"$f":"SUM(AS62:AS69)","v":0},{"$f":"SUM(AT62:AT69)","v":0},{"$f":"SUM(AU62:AU69)","v":0},{"$f":"SUM(AV62:AV69)","v":0},{"$f":"SUM(AW62:AW69)","v":0},{"$f":"SUM(AX62:AX69)","v":0},{"$f":"SUM(AY62:AY69)","v":0},{"$f":"SUM(AZ62:AZ69)","v":0},{"$f":"SUM(BA62:BA69)","v":0},{"$f":"SUM(BB62:BB69)","v":0},{"$f":"SUM(BC62:BC69)","v":0},{"$f":"SUM(BD62:BD69)","v":0},{"$f":"SUM(BE62:BE69)","v":0},{"$f":"SUM(BF62:BF69)","v":0},{"$f":"SUM(BG62:BG69)","v":0},{"$f":"SUM(BH62:BH69)","v":0},{"$f":"SUM(BI62:BI69)","v":0},{"$f":"SUM(B70:BI70)","v":2226},4.036042954547546,96.865030909141097,null,{"$f":"MIN(IF(B70:BI70>0,1,61)*(B$28:BI$28))","v":1},{"$f":"MAX(IF(C70:BJ70>0,1,0)*(C$28:BJ$28))","v":17},"Overall",1,17]
[{"$f":"IF(Comm5=\"\",\"No data\",Comm5)","v":"Raspberry"},{"$f":"IF(Comm5=\"\",\"\",IF(SUM(B73:BI80)=0,\"Warning!! Data input not started!\",\"\"))","v":""}]
["Day  ",1,2,3,4,5,6,7,8,9,10,11,12,13,14,15,16,17,18,19,20,21,22,23,24,25,26,27,28,29,30,31,32,33,34,35,36,37,38,39,40,41,42,43,44,45,46,47,48,49,50,51,52,53,54,55,56,57,58,59,60,null,null,null,null,null,null,{"$f":"Comm5","v":"Raspberry"},"Min","Max"]
[{"$f":"IF(LSCheckEggs= \"y\",\"n Eggs\", \"\")","v":"n Eggs"},90,1,2,0,0,0,0,0,0,0,0,0,0,0,0,0,0,0,0,0,0,0,0,0,0,0,0,0,0,0,0,0,0,0,0,0,0,0,0,0,0,0,0,0,0,0,0,0,0,0,0,0,0,0,0,0,0,0,0,0,{"$f":"IF(SUM(B73:BI73)=0,\"N/A\",SUMPRODUCT(B73:BI73,B$72:BI$72)/SUM(B73:BI73))","v":1.053763440860215},0.30806518924217069,7.393564541812097,{"$f":"IF(SUM(B73:BI73)=0,\"N/A\",SQRT(BL$80^2+BL73^2))","v":22.810769173588966},{"$f":"MIN(IF(B73:BI73>0,1,61)*(B$28:BI$28))","v":1},{"$f":"MAX(IF(C73:BJ73>0,1,0)*(C$28:BJ$28))","v":3},"Eggs",1,3]
[{"$f":"IF(LSCheck1st= \"y\",\"n 1st instars\", \"\")","v":"n 1st instars"},2,47,16,0,0,0,0,0,0,0,0,0,0,0,0,0,0,0,0,0,0,0,0,0,0,0,0,0,0,0,0,0,0,0,0,0,0,0,0,0,0,0,0,0,0,0,0,0,0,0,0,0,0,0,0,0,0,0,0,0,{"$f":"IF(SUM(B74:BI74)=0,\"N/A\",SUMPRODUCT(B74:BI74,B$72:BI$72)/SUM(B74:BI74))","v":2.2153846153846155},0.48387458642153891,11.612990074116933,{"$f":"IF(SUM(B74:BI74)=0,\"N/A\",SQRT(BL$80^2+BL74^2))","v":24.505671427617607},{"$f":"MIN(IF(B74:BI74>0,1,61)*(B$28:BI$28))","v":1},{"$f":"MAX(IF(C74:BJ74>0,1,0)*(C$28:BJ$28))","v":3},"1st",1,3]
[{"$f":"IF(LSCheck2nd= \"y\",\"n 2nd instars\", \"\")","v":"n 2nd instars"},7,38,85,7,1,0,0,0,0,0,0,0,0,0,0,0,0,0,0,0,0,0,0,0,0,0,0,0,0,0,0,0,0,0,0,0,0,0,0,0,0,0,0,0,0,0,0,0,0,0,0,0,0,0,0,0,0,0,0,0,2.6884057971014492,0.68135464722464156,16.352511533391397,27.075284432605951,{"$f":"MIN(IF(B75:BI75>0,1,61)*(B$28:BI$28))","v":1},{"$f":"MAX(IF(C75:BJ75>0,1,0)*(C$28:BJ$28))","v":5},"2nd",1,5]
[{"$f":"IF(LSCheck3rd= \"y\",\"n 3rd instars\", \"\")","v":"n 3rd instars"},0,0,19,90,91,78,0,0,0,0,0,0,0,0,0,0,0,0,0,0,0,0,0,0,0,0,0,0,0,0,0,0,0,0,0,0,0,0,0,0,0,0,0,0,0,0,0,0,0,0,0,0,0,0,0,0,0,0,0,0,4.8201438848920866,0.92108708777494064,22.106090106598575,30.892484740756466,{"$f":"MIN(IF(B76:BI76>0,1,61)*(B$28:BI$28))","v":3},{"$f":"MAX(IF(C76:BJ76>0,1,0)*(C$28:BJ$28))","v":6},"3rd",3,6]
[{"$f":"IF(LSCheck4th= \"y\",\"n 4th instars\", \"\")","v":""},0,0,0,0,0,0,0,0,0,0,0,0,0,0,0,0,0,0,0,0,0,0,0,0,0,0,0,0,0,0,0,0,0,0,0,0,0,0,0,0,0,0,0,0,0,0,0,0,0,0,0,0,0,0,0,0,0,0,0,0,"N/A","N/A","N/A","N/A",{"$f":"MIN(IF(B77:BI77>0,1,61)*(B$28:BI$28))","v":61},{"$f":"MAX(IF(C77:BJ77>0,1,0)*(C$28:BJ$28))","v":0},"4th","N/A","N/A"]
[{"$f":"IF(LSCheck5th= \"y\",\"n 5th instars\", \"\")","v":""},0,0,0,0,0,0,0,0,0,0,0,0,0,0,0,0,0,0,0,0,0,0,0,0,0,0,0,0,0,0,0,0,0,0,0,0,0,0,0,0,0,0,0,0,0,0,0,0,0,0,0,0,0,0,0,0,0,0,0,0,"N/A","N/A","N/A","N/A",{"$f":"MIN(IF(B78:BI78>0,1,61)*(B$28:BI$28))","v":61},{"$f":"MAX(IF(C78:BJ78>0,1,0)*(C$28:BJ$28))","v":0},"5th","N/A","N/A"]
[{"$f":"IF(LSCheckPupa= \"y\",\"n Pupae\", \"\")","v":"n Pupae"},0,0,0,2,1,67,39,0,0,0,0,0,0,0,0,0,0,0,0,0,0,0,0,0,0,0,0,0,0,0,0,0,0,0,0,0,0,0,0,0,0,0,0,0,0,0,0,0,0,0,0,0,0,0,0,0,0,0,0,0,6.3119266055045875,0.58842614481063082,14.122227475455141,25.789604543794688,{"$f":"MIN(IF(B79:BI79>0,1,61)*(B$28:BI$28))","v":4},{"$f":"MAX(IF(C79:BJ79>0,1,0)*(C$28:BJ$28))","v":7},"Pupae",4,7,"Min Adult","Max Adult"]
[{"$f":"IF(LSCheckAdult= \"y\",\"n Adults\", \"\")","v":"n Adults"},0,0,0,0,0,0,0,107,984,560,72,47,10,2,2,2,1,0,0,0,0,0,0,0,0,0,0,0,0,0,0,0,0,0,0,0,0,0,0,0,0,0,0,0,0,0,0,0,0,0,0,0,0,0,0,0,0,0,0,0,9.4599888080581973,0.89913769807445965,21.579304753787032,null,{"$f":"MIN(IF(B80:BI80>0,1,61)*(B$28:BI$28))","v":8},{"$f":"MAX(IF(C80:BJ80>0,1,0)*(C$28:BJ$28))","v":17},"Adults",8,17,{"$f":"IF($BN80=61,\"N/A\",ROUNDUP(BQ80-(1.96*$BK80),0))","v":7},{"$f":"IF($BO80=0,\"N/A\",ROUNDDOWN(BR80+(1.96*$BK80),0))","v":18}]
["Total",{"$f":"SUM(B73:B80)","v":99},{"$f":"SUM(C73:C80)","v":86},{"$f":"SUM(D73:D80)","v":122},{"$f":"SUM(E73:E80)","v":99},{"$f":"SUM(F73:F80)","v":93},{"$f":"SUM(G73:G80)","v":145},{"$f":"SUM(H73:H80)","v":39},{"$f":"SUM(I73:I80)","v":107},{"$f":"SUM(J73:J80)","v":984},{"$f":"SUM(K73:K80)","v":560},{"$f":"SUM(L73:L80)","v":72},{"$f":"SUM(M73:M80)","v":47},{"$f":"SUM(N73:N80)","v":10},{"$f":"SUM(O73:O80)","v":2},{"$f":"SUM(P73:P80)","v":2},{"$f":"SUM(Q73:Q80)","v":2},{"$f":"SUM(R73:R80)","v":1},{"$f":"SUM(S73:S80)","v":0},{"$f":"SUM(T73:T80)","v":0},{"$f":"SUM(U73:U80)","v":0},{"$f":"SUM(V73:V80)","v":0},{"$f":"SUM(W73:W80)","v":0},{"$f":"SUM(X73:X80)","v":0},{"$f":"SUM(Y73:Y80)","v":0},{"$f":"SUM(Z73:Z80)","v":0},{"$f":"SUM(AA73:AA80)","v":0},{"$f":"SUM(AB73:AB80)","v":0},{"$f":"SUM(AC73:AC80)","v":0},{"$f":"SUM(AD73:AD80)","v":0},{"$f":"SUM(AE73:AE80)","v":0},{"$f":"SUM(AF73:AF80)","v":0},{"$f":"SUM(AG73:AG80)","v":0},{"$f":"SUM(AH73:AH80)","v":0},{"$f":"SUM(AI73:AI80)","v":0},{"$f":"SUM(AJ73:AJ80)","v":0},{"$f":"SUM(AK73:AK80)","v":0},{"$f":"SUM(AL73:AL80)","v":0},{"$f":"SUM(AM73:AM80)","v":0},{"$f":"SUM(AN73:AN80)","v":0},{"$f":"SUM(AO73:AO80)","v":0},{"$f":"SUM(AP73:AP80)","v":0},{"$f":"SUM(AQ73:AQ80)","v":0},{"$f":"SUM(AR73:AR80)","v":0},{"$f":"SUM(AS73:AS80)","v":0},{"$f":"SUM(AT73:AT80)","v":0},{"$f":"SUM(AU73:AU80)","v":0},{"$f":"SUM(AV73:AV80)","v":0},{"$f":"SUM(AW73:AW80)","v":0},{"$f":"SUM(AX73:AX80)","v":0},{"$f":"SUM(AY73:AY80)","v":0},{"$f":"SUM(AZ73:AZ80)","v":0},{"$f":"SUM(BA73:BA80)","v":0},{"$f":"SUM(BB73:BB80)","v":0},{"$f":"SUM(BC73:BC80)","v":0},{"$f":"SUM(BD73:BD80)","v":0},{"$f":"SUM(BE73:BE80)","v":0},{"$f":"SUM(BF73:BF80)","v":0},{"$f":"SUM(BG73:BG80)","v":0},{"$f":"SUM(BH73:BH80)","v":0},{"$f":"SUM(BI73:BI80)","v":0},{"$f":"SUM(B81:BI81)","v":2470},2.7938092695519074,67.051422469245779,null,{"$f":"MIN(IF(B81:BI81>0,1,61)*(B$28:BI$28))","v":1},{"$f":"MAX(IF(C81:BJ81>0,1,0)*(C$28:BJ$28))","v":17},"Overall",1,17]
[{"$f":"IF(Comm6=\"\",\"No data\",Comm6)","v":"Strawberry"},{"$f":"IF(Comm6=\"\",\"\",IF(SUM(B84:BI91)=0,\"Warning!! Data input not started!\",\"\"))","v":""}]
["Day  ",1,2,3,4,5,6,7,8,9,10,11,12,13,14,15,16,17,18,19,20,21,22,23,24,25,26,27,28,29,30,31,32,33,34,35,36,37,38,39,40,41,42,43,44,45,46,47,48,49,50,51,52,53,54,55,56,57,58,59,60,null,null,null,null,null,null,{"$f":"Comm6","v":"Strawberry"},"Min","Max"]
[{"$f":"IF(LSCheckEggs= \"y\",\"n Eggs\", \"\")","v":"n Eggs"},236,25,0,0,0,0,0,0,0,0,0,0,0,0,0,0,0,0,0,0,0,0,0,0,0,0,0,0,0,0,0,0,0,0,0,0,0,0,0,0,0,0,0,0,0,0,0,0,0,0,0,0,0,0,0,0,0,0,0,0,{"$f":"IF(SUM(B84:BI84)=0,\"N/A\",SUMPRODUCT(B84:BI84,B$83:BI$83)/SUM(B84:BI84))","v":1.0957854406130267},0.29486218413584819,7.0766924192603566,{"$f":"IF(SUM(B84:BI84)=0,\"N/A\",SQRT(BL$91^2+BL84^2))","v":25.40657513594644},{"$f":"MIN(IF(B84:BI84>0,1,61)*(B$28:BI$28))","v":1},{"$f":"MAX(IF(C84:BJ84>0,1,0)*(C$28:BJ$28))","v":2},"Eggs",1,2]
[{"$f":"IF(LSCheck1st= \"y\",\"n 1st instars\", \"\")","v":"n 1st instars"},0,221,57,24,8,0,0,0,0,0,0,0,0,0,0,0,0,0,0,0,0,0,0,0,0,0,0,0,0,0,0,0,0,0,0,0,0,0,0,0,0,0,0,0,0,0,0,0,0,0,0,0,0,0,0,0,0,0,0,0,{"$f":"IF(SUM(B85:BI85)=0,\"N/A\",SUMPRODUCT(B85:BI85,B$83:BI$83)/SUM(B85:BI85))","v":2.4161290322580644},0.74460161768378719,17.870438824410893,{"$f":"IF(SUM(B85:BI85)=0,\"N/A\",SQRT(BL$91^2+BL85^2))","v":30.245116437512472},{"$f":"MIN(IF(B85:BI85>0,1,61)*(B$28:BI$28))","v":2},{"$f":"MAX(IF(C85:BJ85>0,1,0)*(C$28:BJ$28))","v":5},"1st",2,5]
[{"$f":"IF(LSCheck2nd= \"y\",\"n 2nd instars\", \"\")","v":"n 2nd instars"},0,7,243,66,17,1,0,0,0,0,0,0,0,0,0,0,0,0,0,0,0,0,0,0,0,0,0,0,0,0,0,0,0,0,0,0,0,0,0,0,0,0,0,0,0,0,0,0,0,0,0,0,0,0,0,0,0,0,0,0,3.2874251497005988,0.60629130459891911,14.550991310374059,28.410312083049284,{"$f":"MIN(IF(B86:BI86>0,1,61)*(B$28:BI$28))","v":2},{"$f":"MAX(IF(C86:BJ86>0,1,0)*(C$28:BJ$28))","v":6},"2nd",2,6]
[{"$f":"IF(LSCheck3rd= \"y\",\"n 3rd instars\", \"\")","v":"n 3rd instars"},0,0,7,214,221,189,22,0,0,0,0,0,0,0,0,0,0,0,0,0,0,0,0,0,0,0,0,0,0,0,0,0,0,0,0,0,0,0,0,0,0,0,0,0,0,0,0,0,0,0,0,0,0,0,0,0,0,0,0,0,5.0076569678407354,0.89216228953039534,21.41189494872949,32.463575432122418,{"$f":"MIN(IF(B87:BI87>0,1,61)*(B$28:BI$28))","v":3},{"$f":"MAX(IF(C87:BJ87>0,1,0)*(C$28:BJ$28))","v":7},"3rd",3,7]
[{"$f":"IF(LSCheck4th= \"y\",\"n 4th instars\", \"\")","v":""},0,0,0,0,0,0,0,0,0,0,0,0,0,0,0,0,0,0,0,0,0,0,0,0,0,0,0,0,0,0,0,0,0,0,0,0,0,0,0,0,0,0,0,0,0,0,0,0,0,0,0,0,0,0,0,0,0,0,0,0,"N/A","N/A","N/A","N/A",{"$f":"MIN(IF(B88:BI88>0,1,61)*(B$28:BI$28))","v":61},{"$f":"MAX(IF(C88:BJ88>0,1,0)*(C$28:BJ$28))","v":0},"4th","N/A","N/A"]
[{"$f":"IF(LSCheck5th= \"y\",\"n 5th instars\", \"\")","v":""},0,0,0,0,0,0,0,0,0,0,0,0,0,0,0,0,0,0,0,0,0,0,0,0,0,0,0,0,0,0,0,0,0,0,0,0,0,0,0,0,0,0,0,0,0,0,0,0,0,0,0,0,0,0,0,0,0,0,0,0,"N/A","N/A","N/A","N/A",{"$f":"MIN(IF(B89:BI89>0,1,61)*(B$28:BI$28))","v":61},{"$f":"MAX(IF(C89:BJ89>0,1,0)*(C$28:BJ$28))","v":0},"5th","N/A","N/A"]
[{"$f":"IF(LSCheckPupa= \"y\",\"n Pupae\", \"\")","v":"n Pupae"},0,0,0,0,0,39,229,203,0,0,0,0,0,0,0,0,0,0,0,0,0,0,0,0,0,0,0,0,0,0,0,0,0,0,0,0,0,0,0,0,0,0,0,0,0,0,0,0,0,0,0,0,0,0,0,0,0,0,0,0,7.3481953290870488,0.62721262136827616,15.053102912838629,28.670723601719327,{"$f":"MIN(IF(B90:BI90>0,1,61)*(B$28:BI$28))","v":6},{"$f":"MAX(IF(C90:BJ90>0,1,0)*(C$28:BJ$28))","v":8},"Pupae",6,8,"Min Adult","Max Adult"]
[{"$f":"IF(LSCheckAdult= \"y\",\"n Adults\", \"\")","v":"n Adults"},0,0,0,0,0,0,0,4,246,1048,441,274,39,21,4,0,0,0,0,0,0,0,0,0,0,0,0,0,0,0,0,0,0,0,0,0,0,0,0,0,0,0,0,0,0,0,0,0,0,0,0,0,0,0,0,0,0,0,0,0,10.460279248916708,1.0167131858736251,24.401116460967003,null,{"$f":"MIN(IF(B91:BI91>0,1,61)*(B$28:BI$28))","v":8},{"$f":"MAX(IF(C91:BJ91>0,1,0)*(C$28:BJ$28))","v":15},"Adults",8,15,{"$f":"IF($BN91=61,\"N/A\",ROUNDUP(BQ91-(1.96*$BK91),0))","v":7},{"$f":"IF($BO91=0,\"N/A\",ROUNDDOWN(BR91+(1.96*$BK91),0))","v":16}]
["Total",{"$f":"SUM(B84:B91)","v":236},{"$f":"SUM(C84:C91)","v":253},{"$f":"SUM(D84:D91)","v":307},{"$f":"SUM(E84:E91)","v":304},{"$f":"SUM(F84:F91)","v":246},{"$f":"SUM(G84:G91)","v":229},{"$f":"SUM(H84:H91)","v":251},{"$f":"SUM(I84:I91)","v":207},{"$f":"SUM(J84:J91)","v":246},{"$f":"SUM(K84:K91)","v":1048},{"$f":"SUM(L84:L91)","v":441},{"$f":"SUM(M84:M91)","v":274},{"$f":"SUM(N84:N91)","v":39},{"$f":"SUM(O84:O91)","v":21},{"$f":"SUM(P84:P91)","v":4},{"$f":"SUM(Q84:Q91)","v":0},{"$f":"SUM(R84:R91)","v":0},{"$f":"SUM(S84:S91)","v":0},{"$f":"SUM(T84:T91)","v":0},{"$f":"SUM(U84:U91)","v":0},{"$f":"SUM(V84:V91)","v":0},{"$f":"SUM(W84:W91)","v":0},{"$f":"SUM(X84:X91)","v":0},{"$f":"SUM(Y84:Y91)","v":0},{"$f":"SUM(Z84:Z91)","v":0},{"$f":"SUM(AA84:AA91)","v":0},{"$f":"SUM(AB84:AB91)","v":0},{"$f":"SUM(AC84:AC91)","v":0},{"$f":"SUM(AD84:AD91)","v":0},{"$f":"SUM(AE84:AE91)","v":0},{"$f":"SUM(AF84:AF91)","v":0},{"$f":"SUM(AG84:AG91)","v":0},{"$f":"SUM(AH84:AH91)","v":0},{"$f":"SUM(AI84:AI91)","v":0},{"$f":"SUM(AJ84:AJ91)","v":0},{"$f":"SUM(AK84:AK91)","v":0},{"$f":"SUM(AL84:AL91)","v":0},{"$f":"SUM(AM84:AM91)","v":0},{"$f":"SUM(AN84:AN91)","v":0},{"$f":"SUM(AO84:AO91)","v":0},{"$f":"SUM(AP84:AP91)","v":0},{"$f":"SUM(AQ84:AQ91)","v":0},{"$f":"SUM(AR84:AR91)","v":0},{"$f":"SUM(AS84:AS91)","v":0},{"$f":"SUM(AT84:AT91)","v":0},{"$f":"SUM(AU84:AU91)","v":0},{"$f":"SUM(AV84:AV91)","v":0},{"$f":"SUM(AW84:AW91)","v":0},{"$f":"SUM(AX84:AX91)","v":0},{"$f":"SUM(AY84:AY91)","v":0},{"$f":"SUM(AZ84:AZ91)","v":0},{"$f":"SUM(BA84:BA91)","v":0},{"$f":"SUM(BB84:BB91)","v":0},{"$f":"SUM(BC84:BC91)","v":0},{"$f":"SUM(BD84:BD91)","v":0},{"$f":"SUM(BE84:BE91)","v":0},{"$f":"SUM(BF84:BF91)","v":0},{"$f":"SUM(BG84:BG91)","v":0},{"$f":"SUM(BH84:BH91)","v":0},{"$f":"SUM(BI84:BI91)","v":0},{"$f":"SUM(B92:BI92)","v":4106},3.4924057153213841,83.817737167713219,null,{"$f":"MIN(IF(B92:BI92>0,1,61)*(B$28:BI$28))","v":1},{"$f":"MAX(IF(C92:BJ92>0,1,0)*(C$28:BJ$28))","v":15},"Overall",1,15]
[{"$f":"IF(Comm7=\"\",\"No data\",Comm7)","v":"No data"},{"$f":"IF(Comm7=\"\",\"\",IF(SUM(B95:BI102)=0,\"Warning!! Data input not started!\",\"\"))","v":""}]
["Day  ",1,2,3,4,5,6,7,8,9,10,11,12,13,14,15,16,17,18,19,20,21,22,23,24,25,26,27,28,29,30,31,32,33,34,35,36,37,38,39,40,41,42,43,44,45,46,47,48,49,50,51,52,53,54,55,56,57,58,59,60,null,null,null,null,null,null,{"$f":"Comm7","v":0},"Min","Max"]
[{"$f":"IF(LSCheckEggs= \"y\",\"n Eggs\", \"\")","v":"n Eggs"},0,0,0,0,0,0,0,0,0,0,0,0,0,0,0,0,0,0,0,0,0,0,0,0,0,0,0,0,0,0,0,0,0,0,0,0,0,0,0,0,0,0,0,0,0,0,0,0,0,0,0,0,0,0,0,0,0,0,0,0,{"$f":"IF(SUM(B95:BI95)=0,\"N/A\",SUMPRODUCT(B95:BI95,B$94:BI$94)/SUM(B95:BI95))","v":"N/A"},{"$f":"IF(SUM(B95:BI95)=0,\"N/A\",SQRT((SUMPRODUCT(B95:BI95,B$26:BI$26)-(((SUMPRODUCT(B95:BI95,B$28:BI$28))^2)/SUM(B95:BI95)))/(SUM(B95:BI95)-1)))","v":"N/A"},{"$f":"IF(SUM(B95:BI95)=0,\"N/A\",BK95*24)","v":"N/A"},{"$f":"IF(SUM(B95:BI95)=0,\"N/A\",SQRT(BL$102^2+BL95^2))","v":"N/A"},{"$f":"MIN(IF(B95:BI95>0,1,61)*(B$28:BI$28))","v":61},{"$f":"MAX(IF(C95:BJ95>0,1,0)*(C$28:BJ$28))","v":0},"Eggs","N/A","N/A"]
[{"$f":"IF(LSCheck1st= \"y\",\"n 1st instars\", \"\")","v":"n 1st instars"},0,0,0,0,0,0,0,0,0,0,0,0,0,0,0,0,0,0,0,0,0,0,0,0,0,0,0,0,0,0,0,0,0,0,0,0,0,0,0,0,0,0,0,0,0,0,0,0,0,0,0,0,0,0,0,0,0,0,0,0,{"$f":"IF(SUM(B96:BI96)=0,\"N/A\",SUMPRODUCT(B96:BI96,B$94:BI$94)/SUM(B96:BI96))","v":"N/A"},"N/A","N/A",{"$f":"IF(SUM(B96:BI96)=0,\"N/A\",SQRT(BL$102^2+BL96^2))","v":"N/A"},{"$f":"MIN(IF(B96:BI96>0,1,61)*(B$28:BI$28))","v":61},{"$f":"MAX(IF(C96:BJ96>0,1,0)*(C$28:BJ$28))","v":0},"1st","N/A","N/A"]
[{"$f":"IF(LSCheck2nd= \"y\",\"n 2nd instars\", \"\")","v":"n 2nd instars"},0,0,0,0,0,0,0,0,0,0,0,0,0,0,0,0,0,0,0,0,0,0,0,0,0,0,0,0,0,0,0,0,0,0,0,0,0,0,0,0,0,0,0,0,0,0,0,0,0,0,0,0,0,0,0,0,0,0,0,0,"N/A","N/A","N/A","N/A",{"$f":"MIN(IF(B97:BI97>0,1,61)*(B$28:BI$28))","v":61},{"$f":"MAX(IF(C97:BJ97>0,1,0)*(C$28:BJ$28))","v":0},"2nd","N/A","N/A"]
[{"$f":"IF(LSCheck3rd= \"y\",\"n 3rd instars\", \"\")","v":"n 3rd instars"},0,0,0,0,0,0,0,0,0,0,0,0,0,0,0,0,0,0,0,0,0,0,0,0,0,0,0,0,0,0,0,0,0,0,0,0,0,0,0,0,0,0,0,0,0,0,0,0,0,0,0,0,0,0,0,0,0,0,0,0,"N/A","N/A","N/A","N/A",{"$f":"MIN(IF(B98:BI98>0,1,61)*(B$28:BI$28))","v":61},{"$f":"MAX(IF(C98:BJ98>0,1,0)*(C$28:BJ$28))","v":0},"3rd","N/A","N/A"]
[{"$f":"IF(LSCheck4th= \"y\",\"n 4th instars\", \"\")","v":""},0,0,0,0,0,0,0,0,0,0,0,0,0,0,0,0,0,0,0,0,0,0,0,0,0,0,0,0,0,0,0,0,0,0,0,0,0,0,0,0,0,0,0,0,0,0,0,0,0,0,0,0,0,0,0,0,0,0,0,0,"N/A","N/A","N/A","N/A",{"$f":"MIN(IF(B99:BI99>0,1,61)*(B$28:BI$28))","v":61},{"$f":"MAX(IF(C99:BJ99>0,1,0)*(C$28:BJ$28))","v":0},"4th","N/A","N/A"]
[{"$f":"IF(LSCheck5th= \"y\",\"n 5th instars\", \"\")","v":""},0,0,0,0,0,0,0,0,0,0,0,0,0,0,0,0,0,0,0,0,0,0,0,0,0,0,0,0,0,0,0,0,0,0,0,0,0,0,0,0,0,0,0,0,0,0,0,0,0,0,0,0,0,0,0,0,0,0,0,0,"N/A","N/A","N/A","N/A",{"$f":"MIN(IF(B100:BI100>0,1,61)*(B$28:BI$28))","v":61},{"$f":"MAX(IF(C100:BJ100>0,1,0)*(C$28:BJ$28))","v":0},"5th","N/A","N/A"]
[{"$f":"IF(LSCheckPupa= \"y\",\"n Pupae\", \"\")","v":"n Pupae"},0,0,0,0,0,0,0,0,0,0,0,0,0,0,0,0,0,0,0,0,0,0,0,0,0,0,0,0,0,0,0,0,0,0,0,0,0,0,0,0,0,0,0,0,0,0,0,0,0,0,0,0,0,0,0,0,0,0,0,0,"N/A","N/A","N/A","N/A",{"$f":"MIN(IF(B101:BI101>0,1,61)*(B$28:BI$28))","v":61},{"$f":"MAX(IF(C101:BJ101>0,1,0)*(C$28:BJ$28))","v":0},"Pupae","N/A","N/A","Min Adult","Max Adult"]
[{"$f":"IF(LSCheckAdult= \"y\",\"n Adults\", \"\")","v":"n Adults"},0,0,0,0,0,0,0,0,0,0,0,0,0,0,0,0,0,0,0,0,0,0,0,0,0,0,0,0,0,0,0,0,0,0,0,0,0,0,0,0,0,0,0,0,0,0,0,0,0,0,0,0,0,0,0,0,0,0,0,0,"N/A","N/A","N/A",null,{"$f":"MIN(IF(B102:BI102>0,1,61)*(B$28:BI$28))","v":61},{"$f":"MAX(IF(C102:BJ102>0,1,0)*(C$28:BJ$28))","v":0},"Adults","N/A","N/A",{"$f":"IF($BN102=61,\"N/A\",ROUNDUP(BQ102-(1.96*$BK102),0))","v":"N/A"},{"$f":"IF($BO102=0,\"N/A\",ROUNDDOWN(BR102+(1.96*$BK102),0))","v":"N/A"}]
["Total",{"$f":"SUM(B95:B102)","v":0},{"$f":"SUM(C95:C102)","v":0},{"$f":"SUM(D95:D102)","v":0},{"$f":"SUM(E95:E102)","v":0},{"$f":"SUM(F95:F102)","v":0},{"$f":"SUM(G95:G102)","v":0},{"$f":"SUM(H95:H102)","v":0},{"$f":"SUM(I95:I102)","v":0},{"$f":"SUM(J95:J102)","v":0},{"$f":"SUM(K95:K102)","v":0},{"$f":"SUM(L95:L102)","v":0},{"$f":"SUM(M95:M102)","v":0},{"$f":"SUM(N95:N102)","v":0},{"$f":"SUM(O95:O102)","v":0},{"$f":"SUM(P95:P102)","v":0},{"$f":"SUM(Q95:Q102)","v":0},{"$f":"SUM(R95:R102)","v":0},{"$f":"SUM(S95:S102)","v":0},{"$f":"SUM(T95:T102)","v":0},{"$f":"SUM(U95:U102)","v":0},{"$f":"SUM(V95:V102)","v":0},{"$f":"SUM(W95:W102)","v":0},{"$f":"SUM(X95:X102)","v":0},{"$f":"SUM(Y95:Y102)","v":0},{"$f":"SUM(Z95:Z102)","v":0},{"$f":"SUM(AA95:AA102)","v":0},{"$f":"SUM(AB95:AB102)","v":0},{"$f":"SUM(AC95:AC102)","v":0},{"$f":"SUM(AD95:AD102)","v":0},{"$f":"SUM(AE95:AE102)","v":0},{"$f":"SUM(AF95:AF102)","v":0},{"$f":"SUM(AG95:AG102)","v":0},{"$f":"SUM(AH95:AH102)","v":0},{"$f":"SUM(AI95:AI102)","v":0},{"$f":"SUM(AJ95:AJ102)","v":0},{"$f":"SUM(AK95:AK102)","v":0},{"$f":"SUM(AL95:AL102)","v":0},{"$f":"SUM(AM95:AM102)","v":0},{"$f":"SUM(AN95:AN102)","v":0},{"$f":"SUM(AO95:AO102)","v":0},{"$f":"SUM(AP95:AP102)","v":0},{"$f":"SUM(AQ95:AQ102)","v":0},{"$f":"SUM(AR95:AR102)","v":0},{"$f":"SUM(AS95:AS102)","v":0},{"$f":"SUM(AT95:AT102)","v":0},{"$f":"SUM(AU95:AU102)","v":0},{"$f":"SUM(AV95:AV102)","v":0},{"$f":"SUM(AW95:AW102)","v":0},{"$f":"SUM(AX95:AX102)","v":0},{"$f":"SUM(AY95:AY102)","v":0},{"$f":"SUM(AZ95:AZ102)","v":0},{"$f":"SUM(BA95:BA102)","v":0},{"$f":"SUM(BB95:BB102)","v":0},{"$f":"SUM(BC95:BC102)","v":0},{"$f":"SUM(BD95:BD102)","v":0},{"$f":"SUM(BE95:BE102)","v":0},{"$f":"SUM(BF95:BF102)","v":0},{"$f":"SUM(BG95:BG102)","v":0},{"$f":"SUM(BH95:BH102)","v":0},{"$f":"SUM(BI95:BI102)","v":0},{"$f":"SUM(B103:BI103)","v":0},"N/A","N/A",null,{"$f":"MIN(IF(B103:BI103>0,1,61)*(B$28:BI$28))","v":61},{"$f":"MAX(IF(C103:BJ103>0,1,0)*(C$28:BJ$28))","v":0},"Overall","N/A","N/A"]
[{"$f":"IF(Comm8=\"\",\"No data\",Comm8)","v":"No data"},{"$f":"IF(Comm8=\"\",\"\",IF(SUM(B106:BI113)=0,\"Warning!! Data input not started!\",\"\"))","v":""}]
["Day  ",1,2,3,4,5,6,7,8,9,10,11,12,13,14,15,16,17,18,19,20,21,22,23,24,25,26,27,28,29,30,31,32,33,34,35,36,37,38,39,40,41,42,43,44,45,46,47,48,49,50,51,52,53,54,55,56,57,58,59,60,null,null,null,null,null,null,{"$f":"Comm8","v":0},"Min","Max"]
[{"$f":"IF(LSCheckEggs= \"y\",\"n Eggs\", \"\")","v":"n Eggs"},0,0,0,0,0,0,0,0,0,0,0,0,0,0,0,0,0,0,0,0,0,0,0,0,0,0,0,0,0,0,0,0,0,0,0,0,0,0,0,0,0,0,0,0,0,0,0,0,0,0,0,0,0,0,0,0,0,0,0,0,{"$f":"IF(SUM(B106:BI106)=0,\"N/A\",SUMPRODUCT(B106:BI106,B$105:BI$105)/SUM(B106:BI106))","v":"N/A"},"N/A","N/A",{"$f":"IF(SUM(B106:BI106)=0,\"N/A\",SQRT(BL$113^2+BL106^2))","v":"N/A"},{"$f":"MIN(IF(B106:BI106>0,1,61)*(B$28:BI$28))","v":61},{"$f":"MAX(IF(C106:BJ106>0,1,0)*(C$28:BJ$28))","v":0},"Eggs",{"$f":"IF(BN106=61,\"N/A\",BN106)","v":"N/A"},{"$f":"IF(BO106=0,BQ106,BO106)","v":"N/A"}]
[{"$f":"IF(LSCheck1st= \"y\",\"n 1st instars\", \"\")","v":"n 1st instars"},0,0,0,0,0,0,0,0,0,0,0,0,0,0,0,0,0,0,0,0,0,0,0,0,0,0,0,0,0,0,0,0,0,0,0,0,0,0,0,0,0,0,0,0,0,0,0,0,0,0,0,0,0,0,0,0,0,0,0,0,{"$f":"IF(SUM(B107:BI107)=0,\"N/A\",SUMPRODUCT(B107:BI107,B$105:BI$105)/SUM(B107:BI107))","v":"N/A"},"N/A","N/A",{"$f":"IF(SUM(B107:BI107)=0,\"N/A\",SQRT(BL$113^2+BL107^2))","v":"N/A"},{"$f":"MIN(IF(B107:BI107>0,1,61)*(B$28:BI$28))","v":61},{"$f":"MAX(IF(C107:BJ107>0,1,0)*(C$28:BJ$28))","v":0},"1st","N/A","N/A"]
[{"$f":"IF(LSCheck2nd= \"y\",\"n 2nd instars\", \"\")","v":"n 2nd instars"},0,0,0,0,0,0,0,0,0,0,0,0,0,0,0,0,0,0,0,0,0,0,0,0,0,0,0,0,0,0,0,0,0,0,0,0,0,0,0,0,0,0,0,0,0,0,0,0,0,0,0,0,0,0,0,0,0,0,0,0,"N/A","N/A","N/A","N/A",{"$f":"MIN(IF(B108:BI108>0,1,61)*(B$28:BI$28))","v":61},{"$f":"MAX(IF(C108:BJ108>0,1,0)*(C$28:BJ$28))","v":0},"2nd","N/A","N/A"]
[{"$f":"IF(LSCheck3rd= \"y\",\"n 3rd instars\", \"\")","v":"n 3rd instars"},0,0,0,0,0,0,0,0,0,0,0,0,0,0,0,0,0,0,0,0,0,0,0,0,0,0,0,0,0,0,0,0,0,0,0,0,0,0,0,0,0,0,0,0,0,0,0,0,0,0,0,0,0,0,0,0,0,0,0,0,"N/A","N/A","N/A","N/A",{"$f":"MIN(IF(B109:BI109>0,1,61)*(B$28:BI$28))","v":61},{"$f":"MAX(IF(C109:BJ109>0,1,0)*(C$28:BJ$28))","v":0},"3rd","N/A","N/A"]
[{"$f":"IF(LSCheck4th= \"y\",\"n 4th instars\", \"\")","v":""},0,0,0,0,0,0,0,0,0,0,0,0,0,0,0,0,0,0,0,0,0,0,0,0,0,0,0,0,0,0,0,0,0,0,0,0,0,0,0,0,0,0,0,0,0,0,0,0,0,0,0,0,0,0,0,0,0,0,0,0,"N/A","N/A","N/A","N/A",{"$f":"MIN(IF(B110:BI110>0,1,61)*(B$28:BI$28))","v":61},{"$f":"MAX(IF(C110:BJ110>0,1,0)*(C$28:BJ$28))","v":0},"4th","N/A","N/A"]
[{"$f":"IF(LSCheck5th= \"y\",\"n 5th instars\", \"\")","v":""},0,0,0,0,0,0,0,0,0,0,0,0,0,0,0,0,0,0,0,0,0,0,0,0,0,0,0,0,0,0,0,0,0,0,0,0,0,0,0,0,0,0,0,0,0,0,0,0,0,0,0,0,0,0,0,0,0,0,0,0,"N/A","N/A","N/A","N/A",{"$f":"MIN(IF(B111:BI111>0,1,61)*(B$28:BI$28))","v":61},{"$f":"MAX(IF(C111:BJ111>0,1,0)*(C$28:BJ$28))","v":0},"5th","N/A","N/A"]
[{"$f":"IF(LSCheckPupa= \"y\",\"n Pupae\", \"\")","v":"n Pupae"},0,0,0,0,0,0,0,0,0,0,0,0,0,0,0,0,0,0,0,0,0,0,0,0,0,0,0,0,0,0,0,0,0,0,0,0,0,0,0,0,0,0,0,0,0,0,0,0,0,0,0,0,0,0,0,0,0,0,0,0,"N/A","N/A","N/A","N/A",{"$f":"MIN(IF(B112:BI112>0,1,61)*(B$28:BI$28))","v":61},{"$f":"MAX(IF(C112:BJ112>0,1,0)*(C$28:BJ$28))","v":0},"Pupae","N/A","N/A","Min Adult","Max Adult"]
[{"$f":"IF(LSCheckAdult= \"y\",\"n Adults\", \"\")","v":"n Adults"},0,0,0,0,0,0,0,0,0,0,0,0,0,0,0,0,0,0,0,0,0,0,0,0,0,0,0,0,0,0,0,0,0,0,0,0,0,0,0,0,0,0,0,0,0,0,0,0,0,0,0,0,0,0,0,0,0,0,0,0,"N/A","N/A","N/A",null,{"$f":"MIN(IF(B113:BI113>0,1,61)*(B$28:BI$28))","v":61},{"$f":"MAX(IF(C113:BJ113>0,1,0)*(C$28:BJ$28))","v":0},"Adults","N/A","N/A",{"$f":"IF($BN113=61,\"N/A\",ROUNDUP(BQ113-(1.96*$BK113),0))","v":"N/A"},{"$f":"IF($BO113=0,\"N/A\",ROUNDDOWN(BR113+(1.96*$BK113),0))","v":"N/A"}]
["Total",{"$f":"SUM(B106:B113)","v":0},{"$f":"SUM(C106:C113)","v":0},{"$f":"SUM(D106:D113)","v":0},{"$f":"SUM(E106:E113)","v":0},{"$f":"SUM(F106:F113)","v":0},{"$f":"SUM(G106:G113)","v":0},{"$f":"SUM(H106:H113)","v":0},{"$f":"SUM(I106:I113)","v":0},{"$f":"SUM(J106:J113)","v":0},{"$f":"SUM(K106:K113)","v":0},{"$f":"SUM(L106:L113)","v":0},{"$f":"SUM(M106:M113)","v":0},{"$f":"SUM(N106:N113)","v":0},{"$f":"SUM(O106:O113)","v":0},{"$f":"SUM(P106:P113)","v":0},{"$f":"SUM(Q106:Q113)","v":0},{"$f":"SUM(R106:R113)","v":0},{"$f":"SUM(S106:S113)","v":0},{"$f":"SUM(T106:T113)","v":0},{"$f":"SUM(U106:U113)","v":0},{"$f":"SUM(V106:V113)","v":0},{"$f":"SUM(W106:W113)","v":0},{"$f":"SUM(X106:X113)","v":0},{"$f":"SUM(Y106:Y113)","v":0},{"$f":"SUM(Z106:Z113)","v":0},{"$f":"SUM(AA106:AA113)","v":0},{"$f":"SUM(AB106:AB113)","v":0},{"$f":"SUM(AC106:AC113)","v":0},{"$f":"SUM(AD106:AD113)","v":0},{"$f":"SUM(AE106:AE113)","v":0},{"$f":"SUM(AF106:AF113)","v":0},{"$f":"SUM(AG106:AG113)","v":0},{"$f":"SUM(AH106:AH113)","v":0},{"$f":"SUM(AI106:AI113)","v":0},{"$f":"SUM(AJ106:AJ113)","v":0},{"$f":"SUM(AK106:AK113)","v":0},{"$f":"SUM(AL106:AL113)","v":0},{"$f":"SUM(AM106:AM113)","v":0},{"$f":"SUM(AN106:AN113)","v":0},{"$f":"SUM(AO106:AO113)","v":0},{"$f":"SUM(AP106:AP113)","v":0},{"$f":"SUM(AQ106:AQ113)","v":0},{"$f":"SUM(AR106:AR113)","v":0},{"$f":"SUM(AS106:AS113)","v":0},{"$f":"SUM(AT106:AT113)","v":0},{"$f":"SUM(AU106:AU113)","v":0},{"$f":"SUM(AV106:AV113)","v":0},{"$f":"SUM(AW106:AW113)","v":0},{"$f":"SUM(AX106:AX113)","v":0},{"$f":"SUM(AY106:AY113)","v":0},{"$f":"SUM(AZ106:AZ113)","v":0},{"$f":"SUM(BA106:BA113)","v":0},{"$f":"SUM(BB106:BB113)","v":0},{"$f":"SUM(BC106:BC113)","v":0},{"$f":"SUM(BD106:BD113)","v":0},{"$f":"SUM(BE106:BE113)","v":0},{"$f":"SUM(BF106:BF113)","v":0},{"$f":"SUM(BG106:BG113)","v":0},{"$f":"SUM(BH106:BH113)","v":0},{"$f":"SUM(BI106:BI113)","v":0},{"$f":"SUM(B114:BI114)","v":0},"N/A","N/A",null,{"$f":"MIN(IF(B114:BI114>0,1,61)*(B$28:BI$28))","v":61},{"$f":"MAX(IF(C114:BJ114>0,1,0)*(C$28:BJ$28))","v":0},"Overall","N/A","N/A"]
[{"$f":"IF(Comm9=\"\",\"No data\",Comm9)","v":"No data"},{"$f":"IF(Comm9=\"\",\"\",IF(SUM(B117:BI124)=0,\"Warning!! Data input not started!\",\"\"))","v":""}]
["Day  ",1,2,3,4,5,6,7,8,9,10,11,12,13,14,15,16,17,18,19,20,21,22,23,24,25,26,27,28,29,30,31,32,33,34,35,36,37,38,39,40,41,42,43,44,45,46,47,48,49,50,51,52,53,54,55,56,57,58,59,60,null,null,null,null,null,null,{"$f":"Comm9","v":0},"Min","Max"]
[{"$f":"IF(LSCheckEggs= \"y\",\"n Eggs\", \"\")","v":"n Eggs"},0,0,0,0,0,0,0,0,0,0,0,0,0,0,0,0,0,0,0,0,0,0,0,0,0,0,0,0,0,0,0,0,0,0,0,0,0,0,0,0,0,0,0,0,0,0,0,0,0,0,0,0,0,0,0,0,0,0,0,0,{"$f":"IF(SUM(B117:BI117)=0,\"N/A\",SUMPRODUCT(B117:BI117,B$116:BI$116)/SUM(B117:BI117))","v":"N/A"},"N/A","N/A",{"$f":"IF(SUM(B117:BI117)=0,\"N/A\",SQRT(BL$124^2+BL117^2))","v":"N/A"},{"$f":"MIN(IF(B117:BI117>0,1,61)*(B$28:BI$28))","v":61},{"$f":"MAX(IF(C117:BJ117>0,1,0)*(C$28:BJ$28))","v":0},"Eggs","N/A","N/A"]
[{"$f":"IF(LSCheck1st= \"y\",\"n 1st instars\", \"\")","v":"n 1st instars"},0,0,0,0,0,0,0,0,0,0,0,0,0,0,0,0,0,0,0,0,0,0,0,0,0,0,0,0,0,0,0,0,0,0,0,0,0,0,0,0,0,0,0,0,0,0,0,0,0,0,0,0,0,0,0,0,0,0,0,0,{"$f":"IF(SUM(B118:BI118)=0,\"N/A\",SUMPRODUCT(B118:BI118,B$116:BI$116)/SUM(B118:BI118))","v":"N/A"},"N/A","N/A",{"$f":"IF(SUM(B118:BI118)=0,\"N/A\",SQRT(BL$124^2+BL118^2))","v":"N/A"},{"$f":"MIN(IF(B118:BI118>0,1,61)*(B$28:BI$28))","v":61},{"$f":"MAX(IF(C118:BJ118>0,1,0)*(C$28:BJ$28))","v":0},"1st","N/A","N/A"]
[{"$f":"IF(LSCheck2nd= \"y\",\"n 2nd instars\", \"\")","v":"n 2nd instars"},0,0,0,0,0,0,0,0,0,0,0,0,0,0,0,0,0,0,0,0,0,0,0,0,0,0,0,0,0,0,0,0,0,0,0,0,0,0,0,0,0,0,0,0,0,0,0,0,0,0,0,0,0,0,0,0,0,0,0,0,"N/A","N/A","N/A","N/A",{"$f":"MIN(IF(B119:BI119>0,1,61)*(B$28:BI$28))","v":61},{"$f":"MAX(IF(C119:BJ119>0,1,0)*(C$28:BJ$28))","v":0},"2nd","N/A","N/A"]
[{"$f":"IF(LSCheck3rd= \"y\",\"n 3rd instars\", \"\")","v":"n 3rd instars"},0,0,0,0,0,0,0,0,0,0,0,0,0,0,0,0,0,0,0,0,0,0,0,0,0,0,0,0,0,0,0,0,0,0,0,0,0,0,0,0,0,0,0,0,0,0,0,0,0,0,0,0,0,0,0,0,0,0,0,0,"N/A","N/A","N/A","N/A",{"$f":"MIN(IF(B120:BI120>0,1,61)*(B$28:BI$28))","v":61},{"$f":"MAX(IF(C120:BJ120>0,1,0)*(C$28:BJ$28))","v":0},"3rd","N/A","N/A"]
[{"$f":"IF(LSCheck4th= \"y\",\"n 4th instars\", \"\")","v":""},0,0,0,0,0,0,0,0,0,0,0,0,0,0,0,0,0,0,0,0,0,0,0,0,0,0,0,0,0,0,0,0,0,0,0,0,0,0,0,0,0,0,0,0,0,0,0,0,0,0,0,0,0,0,0,0,0,0,0,0,"N/A","N/A","N/A","N/A",{"$f":"MIN(IF(B121:BI121>0,1,61)*(B$28:BI$28))","v":61},{"$f":"MAX(IF(C121:BJ121>0,1,0)*(C$28:BJ$28))","v":0},"4th","N/A","N/A"]
[{"$f":"IF(LSCheck5th= \"y\",\"n 5th instars\", \"\")","v":""},0,0,0,0,0,0,0,0,0,0,0,0,0,0,0,0,0,0,0,0,0,0,0,0,0,0,0,0,0,0,0,0,0,0,0,0,0,0,0,0,0,0,0,0,0,0,0,0,0,0,0,0,0,0,0,0,0,0,0,0,"N/A","N/A","N/A","N/A",{"$f":"MIN(IF(B122:BI122>0,1,61)*(B$28:BI$28))","v":61},{"$f":"MAX(IF(C122:BJ122>0,1,0)*(C$28:BJ$28))","v":0},"5th","N/A","N/A"]
[{"$f":"IF(LSCheckPupa= \"y\",\"n Pupae\", \"\")","v":"n Pupae"},0,0,0,0,0,0,0,0,0,0,0,0,0,0,0,0,0,0,0,0,0,0,0,0,0,0,0,0,0,0,0,0,0,0,0,0,0,0,0,0,0,0,0,0,0,0,0,0,0,0,0,0,0,0,0,0,0,0,0,0,"N/A","N/A","N/A","N/A",{"$f":"MIN(IF(B123:BI123>0,1,61)*(B$28:BI$28))","v":61},{"$f":"MAX(IF(C123:BJ123>0,1,0)*(C$28:BJ$28))","v":0},"Pupae","N/A","N/A","Min Adult","Max Adult"]
[{"$f":"IF(LSCheckAdult= \"y\",\"n Adults\", \"\")","v":"n Adults"},0,0,0,0,0,0,0,0,0,0,0,0,0,0,0,0,0,0,0,0,0,0,0,0,0,0,0,0,0,0,0,0,0,0,0,0,0,0,0,0,0,0,0,0,0,0,0,0,0,0,0,0,0,0,0,0,0,0,0,0,"N/A","N/A","N/A",null,{"$f":"MIN(IF(B124:BI124>0,1,61)*(B$28:BI$28))","v":61},{"$f":"MAX(IF(C124:BJ124>0,1,0)*(C$28:BJ$28))","v":0},"Adults","N/A","N/A",{"$f":"IF($BN124=61,\"N/A\",ROUNDUP(BQ124-(1.96*$BK124),0))","v":"N/A"},{"$f":"IF($BO124=0,\"N/A\",ROUNDDOWN(BR124+(1.96*$BK124),0))","v":"N/A"}]
["Total",{"$f":"SUM(B117:B124)","v":0},{"$f":"SUM(C117:C124)","v":0},{"$f":"SUM(D117:D124)","v":0},{"$f":"SUM(E117:E124)","v":0},{"$f":"SUM(F117:F124)","v":0},{"$f":"SUM(G117:G124)","v":0},{"$f":"SUM(H117:H124)","v":0},{"$f":"SUM(I117:I124)","v":0},{"$f":"SUM(J117:J124)","v":0},{"$f":"SUM(K117:K124)","v":0},{"$f":"SUM(L117:L124)","v":0},{"$f":"SUM(M117:M124)","v":0},{"$f":"SUM(N117:N124)","v":0},{"$f":"SUM(O117:O124)","v":0},{"$f":"SUM(P117:P124)","v":0},{"$f":"SUM(Q117:Q124)","v":0},{"$f":"SUM(R117:R124)","v":0},{"$f":"SUM(S117:S124)","v":0},{"$f":"SUM(T117:T124)","v":0},{"$f":"SUM(U117:U124)","v":0},{"$f":"SUM(V117:V124)","v":0},{"$f":"SUM(W117:W124)","v":0},{"$f":"SUM(X117:X124)","v":0},{"$f":"SUM(Y117:Y124)","v":0},{"$f":"SUM(Z117:Z124)","v":0},{"$f":"SUM(AA117:AA124)","v":0},{"$f":"SUM(AB117:AB124)","v":0},{"$f":"SUM(AC117:AC124)","v":0},{"$f":"SUM(AD117:AD124)","v":0},{"$f":"SUM(AE117:AE124)","v":0},{"$f":"SUM(AF117:AF124)","v":0},{"$f":"SUM(AG117:AG124)","v":0},{"$f":"SUM(AH117:AH124)","v":0},{"$f":"SUM(AI117:AI124)","v":0},{"$f":"SUM(AJ117:AJ124)","v":0},{"$f":"SUM(AK117:AK124)","v":0},{"$f":"SUM(AL117:AL124)","v":0},{"$f":"SUM(AM117:AM124)","v":0},{"$f":"SUM(AN117:AN124)","v":0},{"$f":"SUM(AO117:AO124)","v":0},{"$f":"SUM(AP117:AP124)","v":0},{"$f":"SUM(AQ117:AQ124)","v":0},{"$f":"SUM(AR117:AR124)","v":0},{"$f":"SUM(AS117:AS124)","v":0},{"$f":"SUM(AT117:AT124)","v":0},{"$f":"SUM(AU117:AU124)","v":0},{"$f":"SUM(AV117:AV124)","v":0},{"$f":"SUM(AW117:AW124)","v":0},{"$f":"SUM(AX117:AX124)","v":0},{"$f":"SUM(AY117:AY124)","v":0},{"$f":"SUM(AZ117:AZ124)","v":0},{"$f":"SUM(BA117:BA124)","v":0},{"$f":"SUM(BB117:BB124)","v":0},{"$f":"SUM(BC117:BC124)","v":0},{"$f":"SUM(BD117:BD124)","v":0},{"$f":"SUM(BE117:BE124)","v":0},{"$f":"SUM(BF117:BF124)","v":0},{"$f":"SUM(BG117:BG124)","v":0},{"$f":"SUM(BH117:BH124)","v":0},{"$f":"SUM(BI117:BI124)","v":0},{"$f":"SUM(B125:BI125)","v":0},"N/A","N/A",null,{"$f":"MIN(IF(B125:BI125>0,1,61)*(B$28:BI$28))","v":61},{"$f":"MAX(IF(C125:BJ125>0,1,0)*(C$28:BJ$28))","v":0},"Overall","N/A","N/A"]
[{"$f":"IF(Comm10=\"\",\"No data\",Comm10)","v":"No data"},{"$f":"IF(Comm10=\"\",\"\",IF(SUM(B128:BI135)=0,\"Warning!! Data input not started!\",\"\"))","v":""}]
["Day  ",1,2,3,4,5,6,7,8,9,10,11,12,13,14,15,16,17,18,19,20,21,22,23,24,25,26,27,28,29,30,31,32,33,34,35,36,37,38,39,40,41,42,43,44,45,46,47,48,49,50,51,52,53,54,55,56,57,58,59,60,null,null,null,null,null,null,{"$f":"Comm10","v":0},"Min","Max"]
[{"$f":"IF(LSCheckEggs= \"y\",\"n Eggs\", \"\")","v":"n Eggs"},0,0,0,0,0,0,0,0,0,0,0,0,0,0,0,0,0,0,0,0,0,0,0,0,0,0,0,0,0,0,0,0,0,0,0,0,0,0,0,0,0,0,0,0,0,0,0,0,0,0,0,0,0,0,0,0,0,0,0,0,{"$f":"IF(SUM(B128:BI128)=0,\"N/A\",SUMPRODUCT(B128:BI128,B$127:BI$127)/SUM(B128:BI128))","v":"N/A"},"N/A","N/A",{"$f":"IF(SUM(B128:BI128)=0,\"N/A\",SQRT(BL$135^2+BL128^2))","v":"N/A"},{"$f":"MIN(IF(B128:BI128>0,1,61)*(B$28:BI$28))","v":61},{"$f":"MAX(IF(C128:BJ128>0,1,0)*(C$28:BJ$28))","v":0},"Eggs","N/A","N/A"]
[{"$f":"IF(LSCheck1st= \"y\",\"n 1st instars\", \"\")","v":"n 1st instars"},0,0,0,0,0,0,0,0,0,0,0,0,0,0,0,0,0,0,0,0,0,0,0,0,0,0,0,0,0,0,0,0,0,0,0,0,0,0,0,0,0,0,0,0,0,0,0,0,0,0,0,0,0,0,0,0,0,0,0,0,{"$f":"IF(SUM(B129:BI129)=0,\"N/A\",SUMPRODUCT(B129:BI129,B$127:BI$127)/SUM(B129:BI129))","v":"N/A"},"N/A","N/A",{"$f":"IF(SUM(B129:BI129)=0,\"N/A\",SQRT(BL$135^2+BL129^2))","v":"N/A"},{"$f":"MIN(IF(B129:BI129>0,1,61)*(B$28:BI$28))","v":61},{"$f":"MAX(IF(C129:BJ129>0,1,0)*(C$28:BJ$28))","v":0},"1st","N/A","N/A"]
[{"$f":"IF(LSCheck2nd= \"y\",\"n 2nd instars\", \"\")","v":"n 2nd instars"},0,0,0,0,0,0,0,0,0,0,0,0,0,0,0,0,0,0,0,0,0,0,0,0,0,0,0,0,0,0,0,0,0,0,0,0,0,0,0,0,0,0,0,0,0,0,0,0,0,0,0,0,0,0,0,0,0,0,0,0,"N/A","N/A","N/A","N/A",{"$f":"MIN(IF(B130:BI130>0,1,61)*(B$28:BI$28))","v":61},{"$f":"MAX(IF(C130:BJ130>0,1,0)*(C$28:BJ$28))","v":0},"2nd","N/A","N/A"]
[{"$f":"IF(LSCheck3rd= \"y\",\"n 3rd instars\", \"\")","v":"n 3rd instars"},0,0,0,0,0,0,0,0,0,0,0,0,0,0,0,0,0,0,0,0,0,0,0,0,0,0,0,0,0,0,0,0,0,0,0,0,0,0,0,0,0,0,0,0,0,0,0,0,0,0,0,0,0,0,0,0,0,0,0,0,"N/A","N/A","N/A","N/A",{"$f":"MIN(IF(B131:BI131>0,1,61)*(B$28:BI$28))","v":61},{"$f":"MAX(IF(C131:BJ131>0,1,0)*(C$28:BJ$28))","v":0},"3rd","N/A","N/A"]
[{"$f":"IF(LSCheck4th= \"y\",\"n 4th instars\", \"\")","v":""},0,0,0,0,0,0,0,0,0,0,0,0,0,0,0,0,0,0,0,0,0,0,0,0,0,0,0,0,0,0,0,0,0,0,0,0,0,0,0,0,0,0,0,0,0,0,0,0,0,0,0,0,0,0,0,0,0,0,0,0,"N/A","N/A","N/A","N/A",{"$f":"MIN(IF(B132:BI132>0,1,61)*(B$28:BI$28))","v":61},{"$f":"MAX(IF(C132:BJ132>0,1,0)*(C$28:BJ$28))","v":0},"4th","N/A","N/A"]
[{"$f":"IF(LSCheck5th= \"y\",\"n 5th instars\", \"\")","v":""},0,0,0,0,0,0,0,0,0,0,0,0,0,0,0,0,0,0,0,0,0,0,0,0,0,0,0,0,0,0,0,0,0,0,0,0,0,0,0,0,0,0,0,0,0,0,0,0,0,0,0,0,0,0,0,0,0,0,0,0,"N/A","N/A","N/A","N/A",{"$f":"MIN(IF(B133:BI133>0,1,61)*(B$28:BI$28))","v":61},{"$f":"MAX(IF(C133:BJ133>0,1,0)*(C$28:BJ$28))","v":0},"5th","N/A","N/A"]
[{"$f":"IF(LSCheckPupa= \"y\",\"n Pupae\", \"\")","v":"n Pupae"},0,0,0,0,0,0,0,0,0,0,0,0,0,0,0,0,0,0,0,0,0,0,0,0,0,0,0,0,0,0,0,0,0,0,0,0,0,0,0,0,0,0,0,0,0,0,0,0,0,0,0,0,0,0,0,0,0,0,0,0,"N/A","N/A","N/A","N/A",{"$f":"MIN(IF(B134:BI134>0,1,61)*(B$28:BI$28))","v":61},{"$f":"MAX(IF(C134:BJ134>0,1,0)*(C$28:BJ$28))","v":0},"Pupae","N/A","N/A","Min Adult","Max Adult"]
[{"$f":"IF(LSCheckAdult= \"y\",\"n Adults\", \"\")","v":"n Adults"},0,0,0,0,0,0,0,0,0,0,0,0,0,0,0,0,0,0,0,0,0,0,0,0,0,0,0,0,0,0,0,0,0,0,0,0,0,0,0,0,0,0,0,0,0,0,0,0,0,0,0,0,0,0,0,0,0,0,0,0,"N/A","N/A","N/A",null,{"$f":"MIN(IF(B135:BI135>0,1,61)*(B$28:BI$28))","v":61},{"$f":"MAX(IF(C135:BJ135>0,1,0)*(C$28:BJ$28))","v":0},"Adults","N/A","N/A",{"$f":"IF($BN135=61,\"N/A\",ROUNDUP(BQ135-(1.96*$BK135),0))","v":"N/A"},{"$f":"IF($BO135=0,\"N/A\",ROUNDDOWN(BR135+(1.96*$BK135),0))","v":"N/A"}]
["Total",{"$f":"SUM(B128:B135)","v":0},{"$f":"SUM(C128:C135)","v":0},{"$f":"SUM(D128:D135)","v":0},{"$f":"SUM(E128:E135)","v":0},{"$f":"SUM(F128:F135)","v":0},{"$f":"SUM(G128:G135)","v":0},{"$f":"SUM(H128:H135)","v":0},{"$f":"SUM(I128:I135)","v":0},{"$f":"SUM(J128:J135)","v":0},{"$f":"SUM(K128:K135)","v":0},{"$f":"SUM(L128:L135)","v":0},{"$f":"SUM(M128:M135)","v":0},{"$f":"SUM(N128:N135)","v":0},{"$f":"SUM(O128:O135)","v":0},{"$f":"SUM(P128:P135)","v":0},{"$f":"SUM(Q128:Q135)","v":0},{"$f":"SUM(R128:R135)","v":0},{"$f":"SUM(S128:S135)","v":0},{"$f":"SUM(T128:T135)","v":0},{"$f":"SUM(U128:U135)","v":0},{"$f":"SUM(V128:V135)","v":0},{"$f":"SUM(W128:W135)","v":0},{"$f":"SUM(X128:X135)","v":0},{"$f":"SUM(Y128:Y135)","v":0},{"$f":"SUM(Z128:Z135)","v":0},{"$f":"SUM(AA128:AA135)","v":0},{"$f":"SUM(AB128:AB135)","v":0},{"$f":"SUM(AC128:AC135)","v":0},{"$f":"SUM(AD128:AD135)","v":0},{"$f":"SUM(AE128:AE135)","v":0},{"$f":"SUM(AF128:AF135)","v":0},{"$f":"SUM(AG128:AG135)","v":0},{"$f":"SUM(AH128:AH135)","v":0},{"$f":"SUM(AI128:AI135)","v":0},{"$f":"SUM(AJ128:AJ135)","v":0},{"$f":"SUM(AK128:AK135)","v":0},{"$f":"SUM(AL128:AL135)","v":0},{"$f":"SUM(AM128:AM135)","v":0},{"$f":"SUM(AN128:AN135)","v":0},{"$f":"SUM(AO128:AO135)","v":0},{"$f":"SUM(AP128:AP135)","v":0},{"$f":"SUM(AQ128:AQ135)","v":0},{"$f":"SUM(AR128:AR135)","v":0},{"$f":"SUM(AS128:AS135)","v":0},{"$f":"SUM(AT128:AT135)","v":0},{"$f":"SUM(AU128:AU135)","v":0},{"$f":"SUM(AV128:AV135)","v":0},{"$f":"SUM(AW128:AW135)","v":0},{"$f":"SUM(AX128:AX135)","v":0},{"$f":"SUM(AY128:AY135)","v":0},{"$f":"SUM(AZ128:AZ135)","v":0},{"$f":"SUM(BA128:BA135)","v":0},{"$f":"SUM(BB128:BB135)","v":0},{"$f":"SUM(BC128:BC135)","v":0},{"$f":"SUM(BD128:BD135)","v":0},{"$f":"SUM(BE128:BE135)","v":0},{"$f":"SUM(BF128:BF135)","v":0},{"$f":"SUM(BG128:BG135)","v":0},{"$f":"SUM(BH128:BH135)","v":0},{"$f":"SUM(BI128:BI135)","v":0},{"$f":"SUM(B136:BI136)","v":0},"N/A","N/A",null,{"$f":"MIN(IF(B136:BI136>0,1,61)*(B$28:BI$28))","v":61},{"$f":"MAX(IF(C136:BJ136>0,1,0)*(C$28:BJ$28))","v":0},"Overall","N/A","N/A"]
[]
[]
[{"$f":"IF(Comm1=\"\",\"No data\",Comm1)","v":"Blackberry"}]
["Day  ",1,2,3,4,5,6,7,8,9,10,11,12,13,14,15,16,17,18,19,20,21,22,23,24,25,26,27,28,29,30,31,32,33,34,35,36,37,38,39,40,41,42,43,44,45,46,47,48,49,50,51,52,53,54,55,56,57,58,59,60]
[{"$f":"IF(LSCheckEggs= \"y\",\"Prob Eggs\", \"\")","v":"Prob Eggs"},{"$f":"IF(SUM(B$29:B$36)=0,0,(B29/SUM(B$29:B$36)))","v":0.89015151515151514},{"$f":"IF(SUM(C$29:C$36)=0,0,(C29/SUM(C$29:C$36)))","v":0},0,0,0,0,0,0,0,0,0,0,0,0,0,0,0,0,0,0,0,0,0,0,0,0,0,0,0,0,0,0,0,0,0,0,0,0,0,0,0,0,0,0,0,0,0,0,0,0,0,0,0,0,0,0,0,0,0,0]
[{"$f":"IF(LSCheck1st= \"y\",\"Prob 1st instars\", \"\")","v":"Prob 1st instars"},{"$f":"IF(SUM(B$29:B$36)=0,0,(B30/SUM(B$29:B$36)))","v":0.10984848484848485},{"$f":"IF(SUM(C$29:C$36)=0,0,(C30/SUM(C$29:C$36)))","v":0.94818652849740936},3.3834586466165412E-2,0,0,0,0,0,0,0,0,0,0,0,0,0,0,0,0,0,0,0,0,0,0,0,0,0,0,0,0,0,0,0,0,0,0,0,0,0,0,0,0,0,0,0,0,0,0,0,0,0,0,0,0,0,0,0,0,0]
[{"$f":"IF(LSCheck2nd= \"y\",\"Prob 2nd instars\", \"\")","v":"Prob 2nd instars"},0,{"$f":"IF(SUM(C$29:C$36)=0,0,(C31/SUM(C$29:C$36)))","v":5.181347150259067E-2},0.8571428571428571,8.9219330855018583E-2,1.3468013468013467E-2,2.8653295128939827E-3,0,0,0,0,0,0,0,0,0,0,0,0,0,0,0,0,0,0,0,0,0,0,0,0,0,0,0,0,0,0,0,0,0,0,0,0,0,0,0,0,0,0,0,0,0,0,0,0,0,0,0,0,0,0]
[{"$f":"IF(LSCheck3rd= \"y\",\"Prob 3rd instars\", \"\")","v":"Prob 3rd instars"},0,{"$f":"IF(SUM(C$29:C$36)=0,0,(C32/SUM(C$29:C$36)))","v":0},0.10902255639097744,0.91078066914498146,0.96296296296296291,0.8452722063037249,0.42857142857142855,1.7857142857142856E-2,0,0,0,0,0,0,0,0,0,0,0,0,0,0,0,0,0,0,0,0,0,0,0,0,0,0,0,0,0,0,0,0,0,0,0,0,0,0,0,0,0,0,0,0,0,0,0,0,0,0,0,0]
[{"$f":"IF(LSCheck4th= \"y\",\"Prob 4th instars\", \"\")","v":""},0,{"$f":"IF(SUM(C$29:C$36)=0,0,(C33/SUM(C$29:C$36)))","v":0},0,0,0,0,0,0,0,0,0,0,0,0,0,0,0,0,0,0,0,0,0,0,0,0,0,0,0,0,0,0,0,0,0,0,0,0,0,0,0,0,0,0,0,0,0,0,0,0,0,0,0,0,0,0,0,0,0,0]
[{"$f":"IF(LSCheck5th= \"y\",\"Prob 5th instars\", \"\")","v":""},0,{"$f":"IF(SUM(C$29:C$36)=0,0,(C34/SUM(C$29:C$36)))","v":0},0,0,0,0,0,0,0,0,0,0,0,0,0,0,0,0,0,0,0,0,0,0,0,0,0,0,0,0,0,0,0,0,0,0,0,0,0,0,0,0,0,0,0,0,0,0,0,0,0,0,0,0,0,0,0,0,0,0]
[{"$f":"IF(LSCheckPupa= \"y\",\"Prob Pupae\", \"\")","v":"Prob Pupae"},0,{"$f":"IF(SUM(C$29:C$36)=0,0,(C35/SUM(C$29:C$36)))","v":0},0,0,2.3569023569023569E-2,0.15186246418338109,0.56935817805383027,0.80654761904761907,0.14022842639593908,0,0,0,0,0,0,0,0,0,0,0,0,0,0,0,0,0,0,0,0,0,0,0,0,0,0,0,0,0,0,0,0,0,0,0,0,0,0,0,0,0,0,0,0,0,0,0,0,0,0,0]
[{"$f":"IF(LSCheckAdult= \"y\",\"Prob Adults\", \"\")","v":"Prob Adults"},0,{"$f":"IF(SUM(C$29:C$36)=0,0,(C36/SUM(C$29:C$36)))","v":0},0,0,0,0,2.070393374741201E-3,0.17559523809523808,0.85977157360406087,1,1,1,1,1,1,1,0,0,0,0,0,0,0,0,0,0,0,0,0,0,0,0,0,0,0,0,0,0,0,0,0,0,0,0,0,0,0,0,0,0,0,0,0,0,0,0,0,0,0,0]
[]
[{"$f":"IF(Comm2=\"\",\"No data\",Comm2)","v":"Blueberry"}]
["Day  ",1,2,3,4,5,6,7,8,9,10,11,12,13,14,15,16,17,18,19,20,21,22,23,24,25,26,27,28,29,30,31,32,33,34,35,36,37,38,39,40,41,42,43,44,45,46,47,48,49,50,51,52,53,54,55,56,57,58,59,60]
[{"$f":"IF(LSCheckEggs= \"y\",\"Prob Eggs\", \"\")","v":"Prob Eggs"},{"$f":"IF(SUM(B$40:B$47)=0,0,(B40/SUM(B$40:B$47)))","v":0.92142857142857137},{"$f":"IF(SUM(C$40:C$47)=0,0,(C40/SUM(C$40:C$47)))","v":5.9829059829059832E-2},0,0,0,0,0,0,0,0,0,0,0,0,0,0,0,0,0,0,0,0,0,0,0,0,0,0,0,0,0,0,0,0,0,0,0,0,0,0,0,0,0,0,0,0,0,0,0,0,0,0,0,0,0,0,0,0,0,0]
[{"$f":"IF(LSCheck1st= \"y\",\"Prob 1st instars\", \"\")","v":"Prob 1st instars"},{"$f":"IF(SUM(B$40:B$47)=0,0,(B41/SUM(B$40:B$47)))","v":7.857142857142857E-2},{"$f":"IF(SUM(C$40:C$47)=0,0,(C41/SUM(C$40:C$47)))","v":0.82905982905982911},0.15068493150684931,4.4642857142857144E-2,0.15,2.247191011235955E-2,0,0,0,0,0,0,0,0,0,0,0,0,0,0,0,0,0,0,0,0,0,0,0,0,0,0,0,0,0,0,0,0,0,0,0,0,0,0,0,0,0,0,0,0,0,0,0,0,0,0,0,0,0,0]
[{"$f":"IF(LSCheck2nd= \"y\",\"Prob 2nd instars\", \"\")","v":"Prob 2nd instars"},0,{"$f":"IF(SUM(C$40:C$47)=0,0,(C42/SUM(C$40:C$47)))","v":0.1111111111111111},0.63013698630136983,0.7767857142857143,0.35,0.3258426966292135,6.5789473684210523E-2,0,0,0,0,0,0,0,0,0,0,0,0,0,0,0,0,0,0,0,0,0,0,0,0,0,0,0,0,0,0,0,0,0,0,0,0,0,0,0,0,0,0,0,0,0,0,0,0,0,0,0,0,0]
[{"$f":"IF(LSCheck3rd= \"y\",\"Prob 3rd instars\", \"\")","v":"Prob 3rd instars"},0,{"$f":"IF(SUM(C$40:C$47)=0,0,(C43/SUM(C$40:C$47)))","v":0},0.21917808219178081,0.17857142857142858,0.5,0.651685393258427,0.73684210526315785,0.76923076923076927,2.8089887640449437E-2,0,0,0,0,0,0,0,0,0,0,0,0,0,0,0,0,0,0,0,0,0,0,0,0,0,0,0,0,0,0,0,0,0,0,0,0,0,0,0,0,0,0,0,0,0,0,0,0,0,0,0]
[{"$f":"IF(LSCheck4th= \"y\",\"Prob 4th instars\", \"\")","v":""},0,{"$f":"IF(SUM(C$40:C$47)=0,0,(C44/SUM(C$40:C$47)))","v":0},0,0,0,0,0,0,0,0,0,0,0,0,0,0,0,0,0,0,0,0,0,0,0,0,0,0,0,0,0,0,0,0,0,0,0,0,0,0,0,0,0,0,0,0,0,0,0,0,0,0,0,0,0,0,0,0,0,0]
[{"$f":"IF(LSCheck5th= \"y\",\"Prob 5th instars\", \"\")","v":""},0,{"$f":"IF(SUM(C$40:C$47)=0,0,(C45/SUM(C$40:C$47)))","v":0},0,0,0,0,0,0,0,0,0,0,0,0,0,0,0,0,0,0,0,0,0,0,0,0,0,0,0,0,0,0,0,0,0,0,0,0,0,0,0,0,0,0,0,0,0,0,0,0,0,0,0,0,0,0,0,0,0,0]
[{"$f":"IF(LSCheckPupa= \"y\",\"Prob Pupae\", \"\")","v":"Prob Pupae"},0,{"$f":"IF(SUM(C$40:C$47)=0,0,(C46/SUM(C$40:C$47)))","v":0},0,0,0,0,0.19736842105263158,0.13846153846153847,0.398876404494382,0.16494845360824742,0,0,0,0,0,0,0,0,0,0,0,0,0,0,0,0,0,0,0,0,0,0,0,0,0,0,0,0,0,0,0,0,0,0,0,0,0,0,0,0,0,0,0,0,0,0,0,0,0,0]
[{"$f":"IF(LSCheckAdult= \"y\",\"Prob Adults\", \"\")","v":"Prob Adults"},0,{"$f":"IF(SUM(C$40:C$47)=0,0,(C47/SUM(C$40:C$47)))","v":0},0,0,0,0,0,9.2307692307692313E-2,0.5730337078651685,0.83505154639175261,1,1,1,1,1,1,0,0,0,0,0,0,0,0,0,0,0,0,0,0,0,0,0,0,0,0,0,0,0,0,0,0,0,0,0,0,0,0,0,0,0,0,0,0,0,0,0,0,0,0]
[]
[{"$f":"IF(Comm3=\"\",\"No data\",Comm3)","v":"Cherry"}]
["Day  ",1,2,3,4,5,6,7,8,9,10,11,12,13,14,15,16,17,18,19,20,21,22,23,24,25,26,27,28,29,30,31,32,33,34,35,36,37,38,39,40,41,42,43,44,45,46,47,48,49,50,51,52,53,54,55,56,57,58,59,60]
[{"$f":"IF(LSCheckEggs= \"y\",\"Prob Eggs\", \"\")","v":"Prob Eggs"},{"$f":"IF(SUM(B$51:B$58)=0,0,(B51/SUM(B$51:B$58)))","v":0.91812865497076024},{"$f":"IF(SUM(C$51:C$58)=0,0,(C51/SUM(C$51:C$58)))","v":0.17543859649122806},0,0,0,0,0,0,0,0,0,0,0,0,0,0,0,0,0,0,0,0,0,0,0,0,0,0,0,0,0,0,0,0,0,0,0,0,0,0,0,0,0,0,0,0,0,0,0,0,0,0,0,0,0,0,0,0,0,0]
[{"$f":"IF(LSCheck1st= \"y\",\"Prob 1st instars\", \"\")","v":"Prob 1st instars"},{"$f":"IF(SUM(B$51:B$58)=0,0,(B52/SUM(B$51:B$58)))","v":8.1871345029239762E-2},{"$f":"IF(SUM(C$51:C$58)=0,0,(C52/SUM(C$51:C$58)))","v":0.59649122807017541},2.9411764705882353E-2,0,0,0,0,0,0,0,0,0,0,0,0,0,0,0,0,0,0,0,0,0,0,0,0,0,0,0,0,0,0,0,0,0,0,0,0,0,0,0,0,0,0,0,0,0,0,0,0,0,0,0,0,0,0,0,0,0]
[{"$f":"IF(LSCheck2nd= \"y\",\"Prob 2nd instars\", \"\")","v":"Prob 2nd instars"},0,{"$f":"IF(SUM(C$51:C$58)=0,0,(C53/SUM(C$51:C$58)))","v":0.22807017543859648},0.67647058823529416,0.25531914893617019,9.4117647058823528E-2,0,0,0,0,0,0,0,0,0,0,0,0,0,0,0,0,0,0,0,0,0,0,0,0,0,0,0,0,0,0,0,0,0,0,0,0,0,0,0,0,0,0,0,0,0,0,0,0,0,0,0,0,0,0,0]
[{"$f":"IF(LSCheck3rd= \"y\",\"Prob 3rd instars\", \"\")","v":"Prob 3rd instars"},0,{"$f":"IF(SUM(C$51:C$58)=0,0,(C54/SUM(C$51:C$58)))","v":0},0.29411764705882354,0.74468085106382975,0.87058823529411766,0.93421052631578949,0.57281553398058249,0.17391304347826086,0,0,0,0,0,0,0,0,0,0,0,0,0,0,0,0,0,0,0,0,0,0,0,0,0,0,0,0,0,0,0,0,0,0,0,0,0,0,0,0,0,0,0,0,0,0,0,0,0,0,0,0]
[{"$f":"IF(LSCheck4th= \"y\",\"Prob 4th instars\", \"\")","v":""},0,{"$f":"IF(SUM(C$51:C$58)=0,0,(C55/SUM(C$51:C$58)))","v":0},0,0,0,0,0,0,0,0,0,0,0,0,0,0,0,0,0,0,0,0,0,0,0,0,0,0,0,0,0,0,0,0,0,0,0,0,0,0,0,0,0,0,0,0,0,0,0,0,0,0,0,0,0,0,0,0,0,0]
[{"$f":"IF(LSCheck5th= \"y\",\"Prob 5th instars\", \"\")","v":""},0,{"$f":"IF(SUM(C$51:C$58)=0,0,(C56/SUM(C$51:C$58)))","v":0},0,0,0,0,0,0,0,0,0,0,0,0,0,0,0,0,0,0,0,0,0,0,0,0,0,0,0,0,0,0,0,0,0,0,0,0,0,0,0,0,0,0,0,0,0,0,0,0,0,0,0,0,0,0,0,0,0,0]
[{"$f":"IF(LSCheckPupa= \"y\",\"Prob Pupae\", \"\")","v":"Prob Pupae"},0,{"$f":"IF(SUM(C$51:C$58)=0,0,(C57/SUM(C$51:C$58)))","v":0},0,0,3.5294117647058823E-2,6.5789473684210523E-2,0.42718446601941745,0.76086956521739135,0,0,0,0,0,0,0,0,0,0,0,0,0,0,0,0,0,0,0,0,0,0,0,0,0,0,0,0,0,0,0,0,0,0,0,0,0,0,0,0,0,0,0,0,0,0,0,0,0,0,0,0]
[{"$f":"IF(LSCheckAdult= \"y\",\"Prob Adults\", \"\")","v":"Prob Adults"},0,{"$f":"IF(SUM(C$51:C$58)=0,0,(C58/SUM(C$51:C$58)))","v":0},0,0,0,0,0,6.5217391304347824E-2,1,1,1,1,1,0,0,0,0,0,0,0,0,0,0,0,0,0,0,0,0,0,0,0,0,0,0,0,0,0,0,0,0,0,0,0,0,0,0,0,0,0,0,0,0,0,0,0,0,0,0,0]
[]
[{"$f":"IF(Comm4=\"\",\"No data\",Comm4)","v":"Grape"}]
["Day  ",1,2,3,4,5,6,7,8,9,10,11,12,13,14,15,16,17,18,19,20,21,22,23,24,25,26,27,28,29,30,31,32,33,34,35,36,37,38,39,40,41,42,43,44,45,46,47,48,49,50,51,52,53,54,55,56,57,58,59,60]
[{"$f":"IF(LSCheckEggs= \"y\",\"Prob Eggs\", \"\")","v":"Prob Eggs"},{"$f":"IF(SUM(B$62:B$69)=0,0,(B62/SUM(B$62:B$69)))","v":0.82894736842105265},{"$f":"IF(SUM(C$62:C$69)=0,0,(C62/SUM(C$62:C$69)))","v":0.30597014925373134},0,0,0,0,0,0,0,0,0,0,0,0,0,0,0,0,0,0,0,0,0,0,0,0,0,0,0,0,0,0,0,0,0,0,0,0,0,0,0,0,0,0,0,0,0,0,0,0,0,0,0,0,0,0,0,0,0,0]
[{"$f":"IF(LSCheck1st= \"y\",\"Prob 1st instars\", \"\")","v":"Prob 1st instars"},{"$f":"IF(SUM(B$62:B$69)=0,0,(B63/SUM(B$62:B$69)))","v":0.17105263157894737},0.53731343283582089,0.24074074074074073,2.0408163265306121E-2,0,0,0,0,0,0,0,0,0,0,0,0,0,0,0,0,0,0,0,0,0,0,0,0,0,0,0,0,0,0,0,0,0,0,0,0,0,0,0,0,0,0,0,0,0,0,0,0,0,0,0,0,0,0,0,0]
[{"$f":"IF(LSCheck2nd= \"y\",\"Prob 2nd instars\", \"\")","v":"Prob 2nd instars"},0,0.15671641791044777,0.62037037037037035,0.25510204081632654,0.20689655172413793,0.04,0.22058823529411764,0.10884353741496598,1.6304347826086956E-2,0,0,0,0,0,0,0,0,0,0,0,0,0,0,0,0,0,0,0,0,0,0,0,0,0,0,0,0,0,0,0,0,0,0,0,0,0,0,0,0,0,0,0,0,0,0,0,0,0,0,0]
[{"$f":"IF(LSCheck3rd= \"y\",\"Prob 3rd instars\", \"\")","v":"Prob 3rd instars"},0,0,0.1388888888888889,0.72448979591836737,0.7931034482758621,0.88,0.7279411764705882,0.53061224489795922,0.21739130434782608,2.1929824561403508E-2,0,0,0,0,0,0,0,0,0,0,0,0,0,0,0,0,0,0,0,0,0,0,0,0,0,0,0,0,0,0,0,0,0,0,0,0,0,0,0,0,0,0,0,0,0,0,0,0,0,0]
[{"$f":"IF(LSCheck4th= \"y\",\"Prob 4th instars\", \"\")","v":""},0,0,0,0,0,0,0,0,0,0,0,0,0,0,0,0,0,0,0,0,0,0,0,0,0,0,0,0,0,0,0,0,0,0,0,{"$f":"IF(SUM(AK$62:AK$69)=0,0,(AK66/SUM(AK$62:AK$69)))","v":0},0,0,0,0,0,0,0,0,0,0,0,0,0,0,0,0,0,0,0,0,0,0,0,0]
[{"$f":"IF(LSCheck5th= \"y\",\"Prob 5th instars\", \"\")","v":""},0,0,0,0,0,0,0,0,0,0,0,0,0,0,0,0,0,0,0,0,0,0,0,0,0,0,0,0,0,0,0,0,0,0,0,0,0,0,0,0,0,0,0,0,0,0,0,0,0,0,0,0,0,0,0,0,0,0,0,0]
[{"$f":"IF(LSCheckPupa= \"y\",\"Prob Pupae\", \"\")","v":"Prob Pupae"},0,0,0,0,0,0.08,5.1470588235294115E-2,0.3401360544217687,0.375,0.15789473684210525,0,0,0,0,0,0,0,0,0,0,0,0,0,0,0,0,0,0,0,0,0,0,0,0,0,0,0,0,0,0,0,0,0,0,0,0,0,0,0,0,0,0,0,0,0,0,0,0,0,0]
[{"$f":"IF(LSCheckAdult= \"y\",\"Prob Adults\", \"\")","v":"Prob Adults"},0,0,0,0,0,0,0,2.0408163265306121E-2,0.39130434782608697,0.82017543859649122,1,1,1,1,1,1,1,0,0,0,0,0,0,0,0,0,0,0,0,0,0,0,0,0,0,0,0,0,0,0,0,0,0,0,0,0,0,0,0,0,0,0,0,0,0,0,0,0,0,0]
[]
[{"$f":"IF(Comm5=\"\",\"No data\",Comm5)","v":"Raspberry"}]
["Day  ",1,2,3,4,5,6,7,8,9,10,11,12,13,14,15,16,17,18,19,20,21,22,23,24,25,26,27,28,29,30,31,32,33,34,35,36,37,38,39,40,41,42,43,44,45,46,47,48,49,50,51,52,53,54,55,56,57,58,59,60]
[{"$f":"IF(LSCheckEggs= \"y\",\"Prob Eggs\", \"\")","v":"Prob Eggs"},{"$f":"IF(SUM(B$73:B$80)=0,0,(B73/SUM(B$73:B$80)))","v":0.90909090909090906},{"$f":"IF(SUM(C$73:C$80)=0,0,(C73/SUM(C$73:C$80)))","v":1.1627906976744186E-2},1.6393442622950821E-2,0,0,0,0,0,0,0,0,0,0,0,0,0,0,0,0,0,0,0,0,0,0,0,0,0,0,0,0,0,0,0,0,0,0,0,0,0,0,0,0,0,0,0,0,0,0,0,0,0,0,0,0,0,0,0,0,0]
[{"$f":"IF(LSCheck1st= \"y\",\"Prob 1st instars\", \"\")","v":"Prob 1st instars"},{"$f":"IF(SUM(B$73:B$80)=0,0,(B74/SUM(B$73:B$80)))","v":2.0202020202020204E-2},0.54651162790697672,0.13114754098360656,0,0,0,0,0,0,0,0,0,0,0,0,0,0,0,0,0,0,0,0,0,0,0,0,0,0,0,0,0,0,0,0,0,0,0,0,0,0,0,0,0,0,0,0,0,0,0,0,0,0,0,0,0,0,0,0,0]
[{"$f":"IF(LSCheck2nd= \"y\",\"Prob 2nd instars\", \"\")","v":"Prob 2nd instars"},7.0707070707070704E-2,0.44186046511627908,0.69672131147540983,7.0707070707070704E-2,1.0752688172043012E-2,0,0,0,0,0,0,0,0,0,0,0,0,0,0,0,0,0,0,0,0,0,0,0,0,0,0,0,0,0,0,0,0,0,0,0,0,0,0,0,0,0,0,0,0,0,0,0,0,0,0,0,0,0,0,0]
[{"$f":"IF(LSCheck3rd= \"y\",\"Prob 3rd instars\", \"\")","v":"Prob 3rd instars"},0,0,0.15573770491803279,0.90909090909090906,0.978494623655914,0.53793103448275859,0,0,0,0,0,0,0,0,0,0,0,0,0,0,0,0,0,0,0,0,0,0,0,0,0,0,0,0,0,0,0,0,0,0,0,0,0,0,0,0,0,0,0,0,0,0,0,0,0,0,0,0,0,0]
[{"$f":"IF(LSCheck4th= \"y\",\"Prob 4th instars\", \"\")","v":""},0,0,0,0,0,0,0,0,0,0,0,0,0,0,0,0,0,0,0,0,0,0,0,0,0,0,0,0,0,0,0,0,0,0,0,{"$f":"IF(SUM(AK$73:AK$80)=0,0,(AK77/SUM(AK$73:AK$80)))","v":0},0,0,0,0,0,0,0,0,0,0,0,0,0,0,0,0,0,0,0,0,0,0,0,0]
[{"$f":"IF(LSCheck5th= \"y\",\"Prob 5th instars\", \"\")","v":""},0,0,0,0,0,0,0,0,0,0,0,0,0,0,0,0,0,0,0,0,0,0,0,0,0,0,0,0,0,0,0,0,0,0,0,0,0,0,0,0,0,0,0,0,0,0,0,0,0,0,0,0,0,0,0,0,0,0,0,0]
[{"$f":"IF(LSCheckPupa= \"y\",\"Prob Pupae\", \"\")","v":"Prob Pupae"},0,0,0,2.0202020202020204E-2,1.0752688172043012E-2,0.46206896551724136,1,0,0,0,0,0,0,0,0,0,0,0,0,0,0,0,0,0,0,0,0,0,0,0,0,0,0,0,0,0,0,0,0,0,0,0,0,0,0,0,0,0,0,0,0,0,0,0,0,0,0,0,0,0]
[{"$f":"IF(LSCheckAdult= \"y\",\"Prob Adults\", \"\")","v":"Prob Adults"},0,0,0,0,0,0,0,1,1,1,1,1,1,1,1,1,1,0,0,0,0,0,0,0,0,0,0,0,0,0,0,0,0,0,0,0,0,0,0,0,0,0,0,0,0,0,0,0,0,0,0,0,0,0,0,0,0,0,0,0]
[]
[{"$f":"IF(Comm6=\"\",\"No data\",Comm6)","v":"Strawberry"}]
["Day  ",1,2,3,4,5,6,7,8,9,10,11,12,13,14,15,16,17,18,19,20,21,22,23,24,25,26,27,28,29,30,31,32,33,34,35,36,37,38,39,40,41,42,43,44,45,46,47,48,49,50,51,52,53,54,55,56,57,58,59,60]
[{"$f":"IF(LSCheckEggs= \"y\",\"Prob Eggs\", \"\")","v":"Prob Eggs"},{"$f":"IF(SUM(B$84:B$91)=0,0,(B84/SUM(B$84:B$91)))","v":1},{"$f":"IF(SUM(C$84:C$91)=0,0,(C84/SUM(C$84:C$91)))","v":9.8814229249011856E-2},0,0,0,0,0,0,0,0,0,0,0,0,0,0,0,0,0,0,0,0,0,0,0,0,0,0,0,0,0,0,0,0,0,0,0,0,0,0,0,0,0,0,0,0,0,0,0,0,0,0,0,0,0,0,0,0,0,0]
[{"$f":"IF(LSCheck1st= \"y\",\"Prob 1st instars\", \"\")","v":"Prob 1st instars"},{"$f":"IF(SUM(B$84:B$91)=0,0,(B85/SUM(B$84:B$91)))","v":0},0.87351778656126478,0.18566775244299674,7.8947368421052627E-2,3.2520325203252036E-2,0,0,0,0,0,0,0,0,0,0,0,0,0,0,0,0,0,0,0,0,0,0,0,0,0,0,0,0,0,0,0,0,0,0,0,0,0,0,0,0,0,0,0,0,0,0,0,0,0,0,0,0,0,0,0]
[{"$f":"IF(LSCheck2nd= \"y\",\"Prob 2nd instars\", \"\")","v":"Prob 2nd instars"},0,2.766798418972332E-2,0.79153094462540718,0.21710526315789475,6.910569105691057E-2,4.3668122270742356E-3,0,0,0,0,0,0,0,0,0,0,0,0,0,0,0,0,0,0,0,0,0,0,0,0,0,0,0,0,0,0,0,0,0,0,0,0,0,0,0,0,0,0,0,0,0,0,0,0,0,0,0,0,0,0]
[{"$f":"IF(LSCheck3rd= \"y\",\"Prob 3rd instars\", \"\")","v":"Prob 3rd instars"},0,0,2.2801302931596091E-2,0.70394736842105265,0.89837398373983735,0.8253275109170306,8.7649402390438252E-2,0,0,0,0,0,0,0,0,0,0,0,0,0,0,0,0,0,0,0,0,0,0,0,0,0,0,0,0,0,0,0,0,0,0,0,0,0,0,0,0,0,0,0,0,0,0,0,0,0,0,0,0,0]
[{"$f":"IF(LSCheck4th= \"y\",\"Prob 4th instars\", \"\")","v":""},0,0,0,0,0,0,0,0,0,0,0,0,0,0,0,0,0,0,0,0,0,0,0,0,0,0,0,0,0,0,0,0,0,0,0,{"$f":"IF(SUM(AK$84:AK$91)=0,0,(AK88/SUM(AK$84:AK$91)))","v":0},0,0,0,0,0,0,0,0,0,0,0,0,0,0,0,0,0,0,0,0,0,0,0,0]
[{"$f":"IF(LSCheck5th= \"y\",\"Prob 5th instars\", \"\")","v":""},0,0,0,0,0,0,0,0,0,0,0,0,0,0,0,0,0,0,0,0,0,0,0,0,0,0,0,0,0,0,0,0,0,0,0,0,0,0,0,0,0,0,0,0,0,0,0,0,0,0,0,0,0,0,0,0,0,0,0,0]
[{"$f":"IF(LSCheckPupa= \"y\",\"Prob Pupae\", \"\")","v":"Prob Pupae"},0,0,0,0,0,0.1703056768558952,0.91235059760956172,0.98067632850241548,0,0,0,0,0,0,0,0,0,0,0,0,0,0,0,0,0,0,0,0,0,0,0,0,0,0,0,0,0,0,0,0,0,0,0,0,0,0,0,0,0,0,0,0,0,0,0,0,0,0,0,0]
[{"$f":"IF(LSCheckAdult= \"y\",\"Prob Adults\", \"\")","v":"Prob Adults"},0,0,0,0,0,0,0,1.932367149758454E-2,1,1,1,1,1,1,1,0,0,0,0,0,0,0,0,0,0,0,0,0,0,0,0,0,0,0,0,0,0,0,0,0,0,0,0,0,0,0,0,0,0,0,0,0,0,0,0,0,0,0,0,0]
[]
[{"$f":"IF(Comm7=\"\",\"No data\",Comm7)","v":"No data"}]
["Day  ",1,2,3,4,5,6,7,8,9,10,11,12,13,14,15,16,17,18,19,20,21,22,23,24,25,26,27,28,29,30,31,32,33,34,35,36,37,38,39,40,41,42,43,44,45,46,47,48,49,50,51,52,53,54,55,56,57,58,59,60]
[{"$f":"IF(LSCheckEggs= \"y\",\"Prob Eggs\", \"\")","v":"Prob Eggs"},{"$f":"IF(SUM(B$95:B$102)=0,0,(B95/SUM(B$95:B$102)))","v":0},{"$f":"IF(SUM(C$95:C$102)=0,0,(C95/SUM(C$95:C$102)))","v":0},0,0,0,0,0,0,0,0,0,0,0,0,0,0,0,0,0,0,0,0,0,0,0,0,0,0,0,0,0,0,0,0,0,0,0,0,0,0,0,0,0,0,0,0,0,0,0,0,0,0,0,0,0,0,0,0,0,0]
[{"$f":"IF(LSCheck1st= \"y\",\"Prob 1st instars\", \"\")","v":"Prob 1st instars"},{"$f":"IF(SUM(B$95:B$102)=0,0,(B96/SUM(B$95:B$102)))","v":0},0,0,0,0,0,0,0,0,0,0,0,0,0,0,0,0,0,0,0,0,0,0,0,0,0,0,0,0,0,0,0,0,0,0,0,0,0,0,0,0,0,0,0,0,0,0,0,0,0,0,0,0,0,0,0,0,0,0,0]
[{"$f":"IF(LSCheck2nd= \"y\",\"Prob 2nd instars\", \"\")","v":"Prob 2nd instars"},0,0,0,0,0,0,0,0,0,0,0,0,0,0,0,0,0,0,0,0,0,0,0,0,0,0,0,0,0,0,0,0,0,0,0,0,0,0,0,0,0,0,0,0,0,0,0,0,0,0,0,0,0,0,0,0,0,0,0,0]
[{"$f":"IF(LSCheck3rd= \"y\",\"Prob 3rd instars\", \"\")","v":"Prob 3rd instars"},0,0,0,0,0,0,0,0,0,0,0,0,0,0,0,0,0,0,0,0,0,0,0,0,0,0,0,0,0,0,0,0,0,0,0,0,0,0,0,0,0,0,0,0,0,0,0,0,0,0,0,0,0,0,0,0,0,0,0,0]
[{"$f":"IF(LSCheck4th= \"y\",\"Prob 4th instars\", \"\")","v":""},0,0,0,0,0,0,0,0,0,0,0,0,0,0,0,0,0,0,0,0,0,0,0,0,0,0,0,0,0,0,0,0,0,0,0,{"$f":"IF(SUM(AK$95:AK$102)=0,0,(AK99/SUM(AK$95:AK$102)))","v":0},0,0,0,0,0,0,0,0,0,0,0,0,0,0,0,0,0,0,0,0,0,0,0,0]
[{"$f":"IF(LSCheck5th= \"y\",\"Prob 5th instars\", \"\")","v":""},0,0,0,0,0,0,0,0,0,0,0,0,0,0,0,0,0,0,0,0,0,0,0,0,0,0,0,0,0,0,0,0,0,0,0,0,0,0,0,0,0,0,0,0,0,0,0,0,0,0,0,0,0,0,0,0,0,0,0,0]
[{"$f":"IF(LSCheckPupa= \"y\",\"Prob Pupae\", \"\")","v":"Prob Pupae"},0,0,0,0,0,0,0,0,0,0,0,0,0,0,0,0,0,0,0,0,0,0,0,0,0,0,0,0,0,0,0,0,0,0,0,0,0,0,0,0,0,0,0,0,0,0,0,0,0,0,0,0,0,0,0,0,0,0,0,0]
[{"$f":"IF(LSCheckAdult= \"y\",\"Prob Adults\", \"\")","v":"Prob Adults"},0,0,0,0,0,0,0,0,0,0,0,0,0,0,0,0,0,0,0,0,0,0,0,0,0,0,0,0,0,0,0,0,0,0,0,0,0,0,0,0,0,0,0,0,0,0,0,0,0,0,0,0,0,0,0,0,0,0,0,0]
[]
[{"$f":"IF(Comm8=\"\",\"No data\",Comm8)","v":"No data"}]
["Day  ",1,2,3,4,5,6,7,8,9,10,11,12,13,14,15,16,17,18,19,20,21,22,23,24,25,26,27,28,29,30,31,32,33,34,35,36,37,38,39,40,41,42,43,44,45,46,47,48,49,50,51,52,53,54,55,56,57,58,59,60]
[{"$f":"IF(LSCheckEggs= \"y\",\"Prob Eggs\", \"\")","v":"Prob Eggs"},{"$f":"IF(SUM(B$106:B$113)=0,0,(B106/SUM(B$106:B$113)))","v":0},{"$f":"IF(SUM(C$106:C$113)=0,0,(C106/SUM(C$106:C$113)))","v":0},0,0,0,0,0,0,0,0,0,0,0,0,0,0,0,0,0,0,0,0,0,0,0,0,0,0,0,0,0,0,0,0,0,0,0,0,0,0,0,0,0,0,0,0,0,0,0,0,0,0,0,0,0,0,0,0,0,0]
[{"$f":"IF(LSCheck1st= \"y\",\"Prob 1st instars\", \"\")","v":"Prob 1st instars"},{"$f":"IF(SUM(B$106:B$113)=0,0,(B107/SUM(B$106:B$113)))","v":0},0,0,0,0,0,0,0,0,0,0,0,0,0,0,0,0,0,0,0,0,0,0,0,0,0,0,0,0,0,0,0,0,0,0,0,0,0,0,0,0,0,0,0,0,0,0,0,0,0,0,0,0,0,0,0,0,0,0,0]
[{"$f":"IF(LSCheck2nd= \"y\",\"Prob 2nd instars\", \"\")","v":"Prob 2nd instars"},0,0,0,0,0,0,0,0,0,0,0,0,0,0,0,0,0,0,0,0,0,0,0,0,0,0,0,0,0,0,0,0,0,0,0,0,0,0,0,0,0,0,0,0,0,0,0,0,0,0,0,0,0,0,0,0,0,0,0,0]
[{"$f":"IF(LSCheck3rd= \"y\",\"Prob 3rd instars\", \"\")","v":"Prob 3rd instars"},0,0,0,0,0,0,0,0,0,0,0,0,0,0,0,0,0,0,0,0,0,0,0,0,0,0,0,0,0,0,0,0,0,0,0,0,0,0,0,0,0,0,0,0,0,0,0,0,0,0,0,0,0,0,0,0,0,0,0,0]
[{"$f":"IF(LSCheck4th= \"y\",\"Prob 4th instars\", \"\")","v":""},0,0,0,0,0,0,0,0,0,0,0,0,0,0,0,0,0,0,0,0,0,0,0,0,0,0,0,0,0,0,0,0,0,0,0,{"$f":"IF(SUM(AK$106:AK$113)=0,0,(AK110/SUM(AK$106:AK$113)))","v":0},0,0,0,0,0,0,0,0,0,0,0,0,0,0,0,0,0,0,0,0,0,0,0,0]
[{"$f":"IF(LSCheck5th= \"y\",\"Prob 5th instars\", \"\")","v":""},0,0,0,0,0,0,0,0,0,0,0,0,0,0,0,0,0,0,0,0,0,0,0,0,0,0,0,0,0,0,0,0,0,0,0,0,0,0,0,0,0,0,0,0,0,0,0,0,0,0,0,0,0,0,0,0,0,0,0,0]
[{"$f":"IF(LSCheckPupa= \"y\",\"Prob Pupae\", \"\")","v":"Prob Pupae"},0,0,0,0,0,0,0,0,0,0,0,0,0,0,0,0,0,0,0,0,0,0,0,0,0,0,0,0,0,0,0,0,0,0,0,0,0,0,0,0,0,0,0,0,0,0,0,0,0,0,0,0,0,0,0,0,0,0,0,0]
[{"$f":"IF(LSCheckAdult= \"y\",\"Prob Adults\", \"\")","v":"Prob Adults"},0,0,0,0,0,0,0,0,0,0,0,0,0,0,0,0,0,0,0,0,0,0,0,0,0,0,0,0,0,0,0,0,0,0,0,0,0,0,0,0,0,0,0,0,0,0,0,0,0,0,0,0,0,0,0,0,0,0,0,0]
[]
[{"$f":"IF(Comm9=\"\",\"No data\",Comm9)","v":"No data"}]
["Day  ",1,2,3,4,5,6,7,8,9,10,11,12,13,14,15,16,17,18,19,20,21,22,23,24,25,26,27,28,29,30,31,32,33,34,35,36,37,38,39,40,41,42,43,44,45,46,47,48,49,50,51,52,53,54,55,56,57,58,59,60]
[{"$f":"IF(LSCheckEggs= \"y\",\"Prob Eggs\", \"\")","v":"Prob Eggs"},{"$f":"IF(SUM(B$117:B$124)=0,0,(B117/SUM(B$117:B$124)))","v":0},{"$f":"IF(SUM(C$117:C$124)=0,0,(C117/SUM(C$117:C$124)))","v":0},0,0,0,0,0,0,0,0,0,0,0,0,0,0,0,0,0,0,0,0,0,0,0,0,0,0,0,0,0,0,0,0,0,0,0,0,0,0,0,0,0,0,0,0,0,0,0,0,0,0,0,0,0,0,0,0,0,0]
[{"$f":"IF(LSCheck1st= \"y\",\"Prob 1st instars\", \"\")","v":"Prob 1st instars"},{"$f":"IF(SUM(B$117:B$124)=0,0,(B118/SUM(B$117:B$124)))","v":0},0,0,0,0,0,0,0,0,0,0,0,0,0,0,0,0,0,0,0,0,0,0,0,0,0,0,0,0,0,0,0,0,0,0,0,0,0,0,0,0,0,0,0,0,0,0,0,0,0,0,0,0,0,0,0,0,0,0,0]
[{"$f":"IF(LSCheck2nd= \"y\",\"Prob 2nd instars\", \"\")","v":"Prob 2nd instars"},0,0,0,0,0,0,0,0,0,0,0,0,0,0,0,0,0,0,0,0,0,0,0,0,0,0,0,0,0,0,0,0,0,0,0,0,0,0,0,0,0,0,0,0,0,0,0,0,0,0,0,0,0,0,0,0,0,0,0,0]
[{"$f":"IF(LSCheck3rd= \"y\",\"Prob 3rd instars\", \"\")","v":"Prob 3rd instars"},0,0,0,0,0,0,0,0,0,0,0,0,0,0,0,0,0,0,0,0,0,0,0,0,0,0,0,0,0,0,0,0,0,0,0,0,0,0,0,0,0,0,0,0,0,0,0,0,0,0,0,0,0,0,0,0,0,0,0,0]
[{"$f":"IF(LSCheck4th= \"y\",\"Prob 4th instars\", \"\")","v":""},0,0,0,0,0,0,0,0,0,0,0,0,0,0,0,0,0,0,0,0,0,0,0,0,0,0,0,0,0,0,0,0,0,0,0,{"$f":"IF(SUM(AK$117:AK$124)=0,0,(AK121/SUM(AK$117:AK$124)))","v":0},0,0,0,0,0,0,0,0,0,0,0,0,0,0,0,0,0,0,0,0,0,0,0,0]
[{"$f":"IF(LSCheck5th= \"y\",\"Prob 5th instars\", \"\")","v":""},0,0,0,0,0,0,0,0,0,0,0,0,0,0,0,0,0,0,0,0,0,0,0,0,0,0,0,0,0,0,0,0,0,0,0,0,0,0,0,0,0,0,0,0,0,0,0,0,0,0,0,0,0,0,0,0,0,0,0,0]
[{"$f":"IF(LSCheckPupa= \"y\",\"Prob Pupae\", \"\")","v":"Prob Pupae"},0,0,0,0,0,0,0,0,0,0,0,0,0,0,0,0,0,0,0,0,0,0,0,0,0,0,0,0,0,0,0,0,0,0,0,0,0,0,0,0,0,0,0,0,0,0,0,0,0,0,0,0,0,0,0,0,0,0,0,0]
[{"$f":"IF(LSCheckAdult= \"y\",\"Prob Adults\", \"\")","v":"Prob Adults"},0,0,0,0,0,0,0,0,0,0,0,0,0,0,0,0,0,0,0,0,0,0,0,0,0,0,0,0,0,0,0,0,0,0,0,0,0,0,0,0,0,0,0,0,0,0,0,0,0,0,0,0,0,0,0,0,0,0,0,0]
[]
[{"$f":"IF(Comm10=\"\",\"No data\",Comm10)","v":"No data"}]
["Day  ",1,2,3,4,5,6,7,8,9,10,11,12,13,14,15,16,17,18,19,20,21,22,23,24,25,26,27,28,29,30,31,32,33,34,35,36,37,38,39,40,41,42,43,44,45,46,47,48,49,50,51,52,53,54,55,56,57,58,59,60]
[{"$f":"IF(LSCheckEggs= \"y\",\"Prob Eggs\", \"\")","v":"Prob Eggs"},{"$f":"IF(SUM(B$128:B$135)=0,0,(B128/SUM(B$128:B$135)))","v":0},{"$f":"IF(SUM(C$128:C$135)=0,0,(C128/SUM(C$128:C$135)))","v":0},0,0,0,0,0,0,0,0,0,0,0,0,0,0,0,0,0,0,0,0,0,0,0,0,0,0,0,0,0,0,0,0,0,0,0,0,0,0,0,0,0,0,0,0,0,0,0,0,0,0,0,0,0,0,0,0,0,0]
[{"$f":"IF(LSCheck1st= \"y\",\"Prob 1st instars\", \"\")","v":"Prob 1st instars"},{"$f":"IF(SUM(B$128:B$135)=0,0,(B129/SUM(B$128:B$135)))","v":0},0,0,0,0,0,0,0,0,0,0,0,0,0,0,0,0,0,0,0,0,0,0,0,0,0,0,0,0,0,0,0,0,0,0,0,0,0,0,0,0,0,0,0,0,0,0,0,0,0,0,0,0,0,0,0,0,0,0,0]
[{"$f":"IF(LSCheck2nd= \"y\",\"Prob 2nd instars\", \"\")","v":"Prob 2nd instars"},0,0,0,0,0,0,0,0,0,0,0,0,0,0,0,0,0,0,0,0,0,0,0,0,0,0,0,0,0,0,0,0,0,0,0,0,0,0,0,0,0,0,0,0,0,0,0,0,0,0,0,0,0,0,0,0,0,0,0,0]
[{"$f":"IF(LSCheck3rd= \"y\",\"Prob 3rd instars\", \"\")","v":"Prob 3rd instars"},0,0,0,0,0,0,0,0,0,0,0,0,0,0,0,0,0,0,0,0,0,0,0,0,0,0,0,0,0,0,0,0,0,0,0,0,0,0,0,0,0,0,0,0,0,0,0,0,0,0,0,0,0,0,0,0,0,0,0,0]
[{"$f":"IF(LSCheck4th= \"y\",\"Prob 4th instars\", \"\")","v":""},0,0,0,0,0,0,0,0,0,0,0,0,0,0,0,0,0,0,0,0,0,0,0,0,0,0,0,0,0,0,0,0,0,0,0,{"$f":"IF(SUM(AK$128:AK$135)=0,0,(AK132/SUM(AK$128:AK$135)))","v":0},0,0,0,0,0,0,0,0,0,0,0,0,0,0,0,0,0,0,0,0,0,0,0,0]
[{"$f":"IF(LSCheck5th= \"y\",\"Prob 5th instars\", \"\")","v":""},0,0,0,0,0,0,0,0,0,0,0,0,0,0,0,0,0,0,0,0,0,0,0,0,0,0,0,0,0,0,0,0,0,0,0,0,0,0,0,0,0,0,0,0,0,0,0,0,0,0,0,0,0,0,0,0,0,0,0,0]
[{"$f":"IF(LSCheckPupa= \"y\",\"Prob Pupae\", \"\")","v":"Prob Pupae"},0,0,0,0,0,0,0,0,0,0,0,0,0,0,0,0,0,0,0,0,0,0,0,0,0,0,0,0,0,0,0,0,0,0,0,0,0,0,0,0,0,0,0,0,0,0,0,0,0,0,0,0,0,0,0,0,0,0,0,0]
[{"$f":"IF(LSCheckAdult= \"y\",\"Prob Adults\", \"\")","v":"Prob Adults"},0,0,0,0,0,0,0,0,0,0,0,0,0,0,0,0,0,0,0,0,0,0,0,0,0,0,0,0,0,0,0,0,0,0,0,0,0,0,0,0,0,0,0,0,0,0,0,0,0,0,0,0,0,0,0,0,0,0,0,0]

{"sheet":"Sheet2","index":2,"n_rows":0,"n_cols":0,"rows_kept":0,"cut":false,"hidden":true,"merged":[]}

{"sheet":"Sheet3","index":3,"n_rows":0,"n_cols":0,"rows_kept":0,"cut":false,"hidden":true,"merged":[]}

{"sheet":"Step 1 - DTS Calculator","index":4,"n_rows":40,"n_cols":23,"rows_kept":40,"cut":false,"hidden":false,"merged":[[39,0,39,12],[27,0,27,2],[4,0,4,2],[3,0,3,2],[10,3,10,4],[10,5,10,6],[10,7,10,8],[10,9,10,10],[26,0,26,2],[21,0,21,12],[3,6,3,16],[0,0,0,20],[1,0,1,20],[23,0,23,20],[26,5,26,9],[30,0,31,0],[10,11,10,12],[10,0,11,0],[25,0,25,2],[10,1,10,2],[10,13,10,14],[10,15,10,16],[10,17,10,18],[10,19,10,20],[8,0,8,3],[24,0,24,4]]}
["The Developmental Timespan (DTS) Model ",null,null,null,null,null,null,null,null,null,null,null,null,null,null,null,null,null,null,null,null,null,{"$f":"IF(AND($E$4=\"\", $E$5=\"\"),1,0)","v":1}]
["Life Stage Probablity Distribution Calculator for Drosophila suzukii"]
[]
["Step 1: Enter Infestation time (d) >",null,null,1,{"$f":"IF(AND(ISNUMBER(LSIT), LSIT>0,LSIT<60),\"\",'Crunch sets II'!BJ3)","v":""},null,"Directions"]
["Step 2: Enter holding time (d) >",null,null,3,{"$f":"IF(AND(ISNUMBER(LSHT), LSHT>-1,LSHT+LSIT<61),\"\",'Crunch sets II'!BJ4)","v":""},null,"1.  Enter the time of exposure to ovipositing insects in days (1 day < t < 60 days). \n"]
["Minimum Age",{"$f":"LSHT","v":3},"day(s)",{"$f":"LSHT*24","v":72},"hours",null,"2.  Enter the time between removal of ovipositing insects and  observation/treatment in days (0 days < t < 59 days). \n"]
["Maximum Age",{"$f":"LSTOT","v":4},"day(s)",{"$f":"LSTOT*24","v":96},"hours",null,"3.  Click on the \"Data Refresh\" button.  This updates the DTS Calculator with raw data information input during Step 1."]
[null,null,null,null,null,null,"4.  If an adult emerges following a treatment, enter the time of development (initial infestation to emergence) in days "]
[null,null,null,null,null,null,"     (Max age or min observed adult emergence < T < max observed adult emergence days)."]
[]
["Life stage",{"$f":"Comm1","v":"Blackberry"},null,{"$f":"Comm2","v":"Blueberry"},null,{"$f":"Comm3","v":"Cherry"},null,{"$f":"Comm4","v":"Grape"},null,{"$f":"Comm5","v":"Raspberry"},null,{"$f":"Comm6","v":"Strawberry"},null,{"$f":"Comm7","v":0},null,{"$f":"Comm8","v":0},null,{"$f":"Comm9","v":0},null,{"$f":"Comm10","v":0}]
[null,"Pt(LS)","± 95% CI","Pt(LS)","± 95% CI","Pt(LS)","± 95% CI","Pt(LS)","± 95% CI","Pt(LS)","± 95% CI","Pt(LS)","± 95% CI","Pt(LS)","± 95% CI","Pt(LS)","± 95% CI","Pt(LS)","± 95% CI","Pt(LS)","± 95% CI"]
["Eggs",{"$f":"IF(Comm1=\"\",\"\",IF(LSCheckEggs=\"n\",\"N/A\",IF(Validity=1,LSComm1Eggs,\"N/A\")))","v":0},{"$f":"IF(Comm1=\"\",\"\",IF(LSCheckEggs=\"n\",\"N/A\",IF(B11=0,\"N/A\",CIEggsComm1)))","v":0},{"$f":"IF(Comm2=\"\",\"\",IF(LSCheckEggs=\"n\",\"N/A\",IF(Validity=1,LSComm2Eggs,\"N/A\")))","v":0},{"$f":"IF(Comm2=\"\",\"\",IF(LSCheckEggs=\"n\",\"N/A\",IF(D11=0,\"N/A\",CIEggsComm2)))","v":0},{"$f":"IF(Comm3=\"\",\"\",IF(LSCheckEggs=\"n\",\"N/A\",IF(Validity=1,LSComm3Eggs,\"N/A\")))","v":0},{"$f":"IF(Comm3=\"\",\"\",IF(LSCheckEggs=\"n\",\"N/A\",IF(F11=0,\"N/A\",CIEggsComm3)))","v":0},{"$f":"IF(Comm4=\"\",\"\",IF(LSCheckEggs=\"n\",\"N/A\",IF(Validity=1,LSComm4Eggs,\"N/A\")))","v":0},{"$f":"IF(Comm4=\"\",\"\",IF(LSCheckEggs=\"n\",\"N/A\",IF(H11=0,\"N/A\",CIEggsComm4)))","v":0},{"$f":"IF(Comm5=\"\",\"\",IF(LSCheckEggs=\"n\",\"N/A\",IF(Validity=1,LSComm5Eggs,\"N/A\")))","v":0},{"$f":"IF(Comm5=\"\",\"\",IF(LSCheckEggs=\"n\",\"N/A\",IF(J11=0,\"N/A\",CIEggsComm5)))","v":0},{"$f":"IF(Comm6=\"\",\"\",IF(LSCheckEggs=\"n\",\"N/A\",IF(Validity=1,LSComm6Eggs,\"N/A\")))","v":0},{"$f":"IF(Comm6=\"\",\"\",IF(LSCheckEggs=\"n\",\"N/A\",IF(L11=0,\"N/A\",CIEggsComm6)))","v":0},{"$f":"IF(Comm7=\"\",\"\",IF(LSCheckEggs=\"n\",\"N/A\",IF(Validity=1,LSComm7Eggs,\"N/A\")))","v":""},{"$f":"IF(Comm7=\"\",\"\",IF(LSCheckEggs=\"n\",\"N/A\",IF(N11=0,\"N/A\",CIEggsComm7)))","v":""},{"$f":"IF(Comm8=\"\",\"\",IF(LSCheckEggs=\"n\",\"N/A\",IF(Validity=1,LSComm8Eggs,\"N/A\")))","v":""},{"$f":"IF(Comm8=\"\",\"\",IF(LSCheckEggs=\"n\",\"N/A\",IF(P11=0,\"N/A\",CIEggsComm8)))","v":""},{"$f":"IF(Comm9=\"\",\"\",IF(LSCheckEggs=\"n\",\"N/A\",IF(Validity=1,LSComm9Eggs,\"N/A\")))","v":""},{"$f":"IF(Comm9=\"\",\"\",IF(LSCheckEggs=\"n\",\"N/A\",IF(R11=0,\"N/A\",CIEggsComm9)))","v":""},{"$f":"IF(Comm10=\"\",\"\",IF(LSCheckEggs=\"n\",\"N/A\",IF(Validity=1,LSComm10Eggs,\"N/A\")))","v":""},{"$f":"IF(Comm10=\"\",\"\",IF(LSCheckEggs=\"n\",\"N/A\",IF(T11=0,\"N/A\",CIEggsComm10)))","v":""}]
["1st Instar",{"$f":"IF(Comm1=\"\",\"\",IF(LSCheck1st=\"n\",\"N/A\",IF(Validity=1,LSComm11st,\"N/A\")))","v":0},{"$f":"IF(Comm1=\"\",\"\",IF(LSCheck1st=\"n\",\"N/A\",IF(B11=0,\"N/A\",CI1stComm1)))","v":0},{"$f":"IF(Comm2=\"\",\"\",IF(LSCheck1st=\"n\",\"N/A\",IF(Validity=1,LSComm21st,\"N/A\")))","v":4.4642857142857206E-2},{"$f":"IF(Comm2=\"\",\"\",IF(LSCheck1st=\"n\",\"N/A\",IF(D11=0,\"N/A\",CI1stComm2)))","v":3.4209830458510039E-2},{"$f":"IF(Comm3=\"\",\"\",IF(LSCheck1st=\"n\",\"N/A\",IF(Validity=1,LSComm31st,\"N/A\")))","v":0},{"$f":"IF(Comm3=\"\",\"\",IF(LSCheck1st=\"n\",\"N/A\",IF(F11=0,\"N/A\",CI1stComm3)))","v":0},{"$f":"IF(Comm4=\"\",\"\",IF(LSCheck1st=\"n\",\"N/A\",IF(Validity=1,LSComm41st,\"N/A\")))","v":2.0408163265306145E-2},{"$f":"IF(Comm4=\"\",\"\",IF(LSCheck1st=\"n\",\"N/A\",IF(H11=0,\"N/A\",CI1stComm4)))","v":1.5894388284780535E-2},{"$f":"IF(Comm5=\"\",\"\",IF(LSCheck1st=\"n\",\"N/A\",IF(Validity=1,LSComm51st,\"N/A\")))","v":0},{"$f":"IF(Comm5=\"\",\"\",IF(LSCheck1st=\"n\",\"N/A\",IF(J11=0,\"N/A\",CI1stComm5)))","v":0},{"$f":"IF(Comm6=\"\",\"\",IF(LSCheck1st=\"n\",\"N/A\",IF(Validity=1,LSComm61st,\"N/A\")))","v":7.8947368421052655E-2},{"$f":"IF(Comm6=\"\",\"\",IF(LSCheck1st=\"n\",\"N/A\",IF(L11=0,\"N/A\",CI1stComm6)))","v":3.4404172996645034E-2},{"$f":"IF(Comm7=\"\",\"\",IF(LSCheck1st=\"n\",\"N/A\",IF(Validity=1,LSComm71st,\"N/A\")))","v":""},{"$f":"IF(Comm7=\"\",\"\",IF(LSCheck1st=\"n\",\"N/A\",IF(N11=0,\"N/A\",CI1stComm7)))","v":""},{"$f":"IF(Comm8=\"\",\"\",IF(LSCheck1st=\"n\",\"N/A\",IF(Validity=1,LSComm81st,\"N/A\")))","v":""},{"$f":"IF(Comm8=\"\",\"\",IF(LSCheck1st=\"n\",\"N/A\",IF(P11=0,\"N/A\",CI1stComm8)))","v":""},{"$f":"IF(Comm9=\"\",\"\",IF(LSCheck1st=\"n\",\"N/A\",IF(Validity=1,LSComm91st,\"N/A\")))","v":""},{"$f":"IF(Comm9=\"\",\"\",IF(LSCheck1st=\"n\",\"N/A\",IF(R11=0,\"N/A\",CI1stComm9)))","v":""},{"$f":"IF(Comm10=\"\",\"\",IF(LSCheck1st=\"n\",\"N/A\",IF(Validity=1,LSComm101st,\"N/A\")))","v":""},{"$f":"IF(Comm10=\"\",\"\",IF(LSCheck1st=\"n\",\"N/A\",IF(T11=0,\"N/A\",CI1stComm10)))","v":""}]
["2nd Instar",{"$f":"IF(Comm1=\"\",\"\",IF(LSCheck2nd=\"n\",\"N/A\",IF(Validity=1,LSComm12nd,\"N/A\")))","v":8.9219330855018542E-2},{"$f":"IF(Comm1=\"\",\"\",IF(LSCheck2nd=\"n\",\"N/A\",IF(B11=0,\"N/A\",CI2ndComm1)))","v":3.4386699304816651E-2},{"$f":"IF(Comm2=\"\",\"\",IF(LSCheck2nd=\"n\",\"N/A\",IF(Validity=1,LSComm22nd,\"N/A\")))","v":0.77678571428571441},{"$f":"IF(Comm2=\"\",\"\",IF(LSCheck2nd=\"n\",\"N/A\",IF(D11=0,\"N/A\",CI2ndComm2)))","v":6.8976898306606971E-2},{"$f":"IF(Comm3=\"\",\"\",IF(LSCheck2nd=\"n\",\"N/A\",IF(Validity=1,LSComm32nd,\"N/A\")))","v":0.25531914893617014},{"$f":"IF(Comm3=\"\",\"\",IF(LSCheck2nd=\"n\",\"N/A\",IF(F11=0,\"N/A\",CI2ndComm3)))","v":6.5355900576169454E-2},{"$f":"IF(Comm4=\"\",\"\",IF(LSCheck2nd=\"n\",\"N/A\",IF(Validity=1,LSComm42nd,\"N/A\")))","v":0.25510204081632648},{"$f":"IF(Comm4=\"\",\"\",IF(LSCheck2nd=\"n\",\"N/A\",IF(H11=0,\"N/A\",CI2ndComm4)))","v":4.9003222235621237E-2},{"$f":"IF(Comm5=\"\",\"\",IF(LSCheck2nd=\"n\",\"N/A\",IF(Validity=1,LSComm52nd,\"N/A\")))","v":7.0707070707070718E-2},{"$f":"IF(Comm5=\"\",\"\",IF(LSCheck2nd=\"n\",\"N/A\",IF(J11=0,\"N/A\",CI2ndComm5)))","v":5.0494748464648416E-2},{"$f":"IF(Comm6=\"\",\"\",IF(LSCheck2nd=\"n\",\"N/A\",IF(Validity=1,LSComm62nd,\"N/A\")))","v":0.21710526315789469},{"$f":"IF(Comm6=\"\",\"\",IF(LSCheck2nd=\"n\",\"N/A\",IF(L11=0,\"N/A\",CI2ndComm6)))","v":5.2600143935406171E-2},{"$f":"IF(Comm7=\"\",\"\",IF(LSCheck2nd=\"n\",\"N/A\",IF(Validity=1,LSComm72nd,\"N/A\")))","v":""},{"$f":"IF(Comm7=\"\",\"\",IF(LSCheck2nd=\"n\",\"N/A\",IF(N11=0,\"N/A\",CI2ndComm7)))","v":""},{"$f":"IF(Comm8=\"\",\"\",IF(LSCheck2nd=\"n\",\"N/A\",IF(Validity=1,LSComm82nd,\"N/A\")))","v":""},{"$f":"IF(Comm8=\"\",\"\",IF(LSCheck2nd=\"n\",\"N/A\",IF(P11=0,\"N/A\",CI2ndComm8)))","v":""},{"$f":"IF(Comm9=\"\",\"\",IF(LSCheck2nd=\"n\",\"N/A\",IF(Validity=1,LSComm92nd,\"N/A\")))","v":""},{"$f":"IF(Comm9=\"\",\"\",IF(LSCheck2nd=\"n\",\"N/A\",IF(R11=0,\"N/A\",CI2ndComm9)))","v":""},{"$f":"IF(Comm10=\"\",\"\",IF(LSCheck2nd=\"n\",\"N/A\",IF(Validity=1,LSComm102nd,\"N/A\")))","v":""},{"$f":"IF(Comm10=\"\",\"\",IF(LSCheck2nd=\"n\",\"N/A\",IF(T11=0,\"N/A\",CI2ndComm10)))","v":""}]
["3rd Instar",{"$f":"IF(Comm1=\"\",\"\",IF(LSCheck3rd=\"n\",\"N/A\",IF(Validity=1,LSComm13rd,\"N/A\")))","v":0.91078066914498135},{"$f":"IF(Comm1=\"\",\"\",IF(LSCheck3rd=\"n\",\"N/A\",IF(B11=0,\"N/A\",CI3rdComm1)))","v":3.4386699304816672E-2},{"$f":"IF(Comm2=\"\",\"\",IF(LSCheck3rd=\"n\",\"N/A\",IF(Validity=1,LSComm23rd,\"N/A\")))","v":0.1785714285714286},{"$f":"IF(Comm2=\"\",\"\",IF(LSCheck3rd=\"n\",\"N/A\",IF(D11=0,\"N/A\",CI3rdComm2)))","v":6.3442887702247611E-2},{"$f":"IF(Comm3=\"\",\"\",IF(LSCheck3rd=\"n\",\"N/A\",IF(Validity=1,LSComm33rd,\"N/A\")))","v":0.74468085106382964},{"$f":"IF(Comm3=\"\",\"\",IF(LSCheck3rd=\"n\",\"N/A\",IF(F11=0,\"N/A\",CI3rdComm3)))","v":6.5355900576169468E-2},{"$f":"IF(Comm4=\"\",\"\",IF(LSCheck3rd=\"n\",\"N/A\",IF(Validity=1,LSComm43rd,\"N/A\")))","v":0.72448979591836737},{"$f":"IF(Comm4=\"\",\"\",IF(LSCheck3rd=\"n\",\"N/A\",IF(H11=0,\"N/A\",CI3rdComm4)))","v":5.0223186090217649E-2},{"$f":"IF(Comm5=\"\",\"\",IF(LSCheck3rd=\"n\",\"N/A\",IF(Validity=1,LSComm53rd,\"N/A\")))","v":0.90909090909090895},{"$f":"IF(Comm5=\"\",\"\",IF(LSCheck3rd=\"n\",\"N/A\",IF(J11=0,\"N/A\",CI3rdComm5)))","v":5.6629899240041276E-2},{"$f":"IF(Comm6=\"\",\"\",IF(LSCheck3rd=\"n\",\"N/A\",IF(Validity=1,LSComm63rd,\"N/A\")))","v":0.70394736842105265},{"$f":"IF(Comm6=\"\",\"\",IF(LSCheck3rd=\"n\",\"N/A\",IF(L11=0,\"N/A\",CI3rdComm6)))","v":5.8244460603115999E-2},{"$f":"IF(Comm7=\"\",\"\",IF(LSCheck3rd=\"n\",\"N/A\",IF(Validity=1,LSComm73rd,\"N/A\")))","v":""},{"$f":"IF(Comm7=\"\",\"\",IF(LSCheck3rd=\"n\",\"N/A\",IF(N11=0,\"N/A\",CI3rdComm7)))","v":""},{"$f":"IF(Comm8=\"\",\"\",IF(LSCheck3rd=\"n\",\"N/A\",IF(Validity=1,LSComm83rd,\"N/A\")))","v":""},{"$f":"IF(Comm8=\"\",\"\",IF(LSCheck3rd=\"n\",\"N/A\",IF(P11=0,\"N/A\",CI3rdComm8)))","v":""},{"$f":"IF(Comm9=\"\",\"\",IF(LSCheck3rd=\"n\",\"N/A\",IF(Validity=1,LSComm93rd,\"N/A\")))","v":""},{"$f":"IF(Comm9=\"\",\"\",IF(LSCheck3rd=\"n\",\"N/A\",IF(R11=0,\"N/A\",CI3rdComm9)))","v":""},{"$f":"IF(Comm10=\"\",\"\",IF(LSCheck3rd=\"n\",\"N/A\",IF(Validity=1,LSComm103rd,\"N/A\")))","v":""},{"$f":"IF(Comm10=\"\",\"\",IF(LSCheck3rd=\"n\",\"N/A\",IF(T11=0,\"N/A\",CI3rdComm10)))","v":""}]
["4th Instar",{"$f":"IF(Comm1=\"\",\"\",IF(LSCheck4th=\"n\",\"N/A\",IF(Validity=1,LSComm14th,\"N/A\")))","v":"N/A"},{"$f":"IF(Comm1=\"\",\"\",IF(LSCheck4th=\"n\",\"N/A\",IF(B11=0,\"N/A\",CI4thComm1)))","v":"N/A"},{"$f":"IF(Comm2=\"\",\"\",IF(LSCheck4th=\"n\",\"N/A\",IF(Validity=1,LSComm24th,\"N/A\")))","v":"N/A"},{"$f":"IF(Comm2=\"\",\"\",IF(LSCheck4th=\"n\",\"N/A\",IF(D11=0,\"N/A\",CI4thComm2)))","v":"N/A"},{"$f":"IF(Comm3=\"\",\"\",IF(LSCheck4th=\"n\",\"N/A\",IF(Validity=1,LSComm34th,\"N/A\")))","v":"N/A"},{"$f":"IF(Comm3=\"\",\"\",IF(LSCheck4th=\"n\",\"N/A\",IF(F11=0,\"N/A\",CI4thComm3)))","v":"N/A"},{"$f":"IF(Comm4=\"\",\"\",IF(LSCheck4th=\"n\",\"N/A\",IF(Validity=1,LSComm44th,\"N/A\")))","v":"N/A"},{"$f":"IF(Comm4=\"\",\"\",IF(LSCheck4th=\"n\",\"N/A\",IF(H11=0,\"N/A\",CI4thComm4)))","v":"N/A"},{"$f":"IF(Comm5=\"\",\"\",IF(LSCheck4th=\"n\",\"N/A\",IF(Validity=1,LSComm54th,\"N/A\")))","v":"N/A"},{"$f":"IF(Comm5=\"\",\"\",IF(LSCheck4th=\"n\",\"N/A\",IF(J11=0,\"N/A\",CI4thComm5)))","v":"N/A"},{"$f":"IF(Comm6=\"\",\"\",IF(LSCheck4th=\"n\",\"N/A\",IF(Validity=1,LSComm64th,\"N/A\")))","v":"N/A"},{"$f":"IF(Comm6=\"\",\"\",IF(LSCheck4th=\"n\",\"N/A\",IF(L11=0,\"N/A\",CI4thComm6)))","v":"N/A"},{"$f":"IF(Comm7=\"\",\"\",IF(LSCheck4th=\"n\",\"N/A\",IF(Validity=1,LSComm74th,\"N/A\")))","v":""},{"$f":"IF(Comm7=\"\",\"\",IF(LSCheck4th=\"n\",\"N/A\",IF(N11=0,\"N/A\",CI4thComm7)))","v":""},{"$f":"IF(Comm8=\"\",\"\",IF(LSCheck4th=\"n\",\"N/A\",IF(Validity=1,LSComm84th,\"N/A\")))","v":""},{"$f":"IF(Comm8=\"\",\"\",IF(LSCheck4th=\"n\",\"N/A\",IF(P11=0,\"N/A\",CI4thComm8)))","v":""},{"$f":"IF(Comm9=\"\",\"\",IF(LSCheck4th=\"n\",\"N/A\",IF(Validity=1,LSComm94th,\"N/A\")))","v":""},{"$f":"IF(Comm9=\"\",\"\",IF(LSCheck4th=\"n\",\"N/A\",IF(R11=0,\"N/A\",CI4thComm9)))","v":""},{"$f":"IF(Comm10=\"\",\"\",IF(LSCheck4th=\"n\",\"N/A\",IF(Validity=1,LSComm104th,\"N/A\")))","v":""},{"$f":"IF(Comm10=\"\",\"\",IF(LSCheck4th=\"n\",\"N/A\",IF(T11=0,\"N/A\",CI4thComm10)))","v":""}]
["5th Instar",{"$f":"IF(Comm1=\"\",\"\",IF(LSCheck5th=\"n\",\"N/A\",IF(Validity=1,LSComm15th,\"N/A\")))","v":"N/A"},{"$f":"IF(Comm1=\"\",\"\",IF(LSCheck5th=\"n\",\"N/A\",IF(B11=0,\"N/A\",CI5thComm1)))","v":"N/A"},{"$f":"IF(Comm2=\"\",\"\",IF(LSCheck5th=\"n\",\"N/A\",IF(Validity=1,LSComm25th,\"N/A\")))","v":"N/A"},{"$f":"IF(Comm2=\"\",\"\",IF(LSCheck5th=\"n\",\"N/A\",IF(D11=0,\"N/A\",CI5thComm2)))","v":"N/A"},{"$f":"IF(Comm3=\"\",\"\",IF(LSCheck5th=\"n\",\"N/A\",IF(Validity=1,LSComm35th,\"N/A\")))","v":"N/A"},{"$f":"IF(Comm3=\"\",\"\",IF(LSCheck5th=\"n\",\"N/A\",IF(F11=0,\"N/A\",CI5thComm3)))","v":"N/A"},{"$f":"IF(Comm4=\"\",\"\",IF(LSCheck5th=\"n\",\"N/A\",IF(Validity=1,LSComm45th,\"N/A\")))","v":"N/A"},{"$f":"IF(Comm4=\"\",\"\",IF(LSCheck5th=\"n\",\"N/A\",IF(H11=0,\"N/A\",CI5thComm4)))","v":"N/A"},{"$f":"IF(Comm5=\"\",\"\",IF(LSCheck5th=\"n\",\"N/A\",IF(Validity=1,LSComm55th,\"N/A\")))","v":"N/A"},{"$f":"IF(Comm5=\"\",\"\",IF(LSCheck5th=\"n\",\"N/A\",IF(J11=0,\"N/A\",CI5thComm5)))","v":"N/A"},{"$f":"IF(Comm6=\"\",\"\",IF(LSCheck5th=\"n\",\"N/A\",IF(Validity=1,LSComm65th,\"N/A\")))","v":"N/A"},{"$f":"IF(Comm6=\"\",\"\",IF(LSCheck5th=\"n\",\"N/A\",IF(L11=0,\"N/A\",CI5thComm6)))","v":"N/A"},{"$f":"IF(Comm7=\"\",\"\",IF(LSCheck5th=\"n\",\"N/A\",IF(Validity=1,LSComm75th,\"N/A\")))","v":""},{"$f":"IF(Comm7=\"\",\"\",IF(LSCheck5th=\"n\",\"N/A\",IF(N11=0,\"N/A\",CI5thComm7)))","v":""},{"$f":"IF(Comm8=\"\",\"\",IF(LSCheck5th=\"n\",\"N/A\",IF(Validity=1,LSComm85th,\"N/A\")))","v":""},{"$f":"IF(Comm8=\"\",\"\",IF(LSCheck5th=\"n\",\"N/A\",IF(P11=0,\"N/A\",CI5thComm8)))","v":""},{"$f":"IF(Comm9=\"\",\"\",IF(LSCheck5th=\"n\",\"N/A\",IF(Validity=1,LSComm95th,\"N/A\")))","v":""},{"$f":"IF(Comm9=\"\",\"\",IF(LSCheck5th=\"n\",\"N/A\",IF(R11=0,\"N/A\",CI5thComm9)))","v":""},{"$f":"IF(Comm10=\"\",\"\",IF(LSCheck5th=\"n\",\"N/A\",IF(Validity=1,LSComm105th,\"N/A\")))","v":""},{"$f":"IF(Comm10=\"\",\"\",IF(LSCheck5th=\"n\",\"N/A\",IF(T11=0,\"N/A\",CI5thComm10)))","v":""}]
["Pupae",{"$f":"IF(Comm1=\"\",\"\",IF(LSCheckPupa=\"n\",\"N/A\",IF(Validity=1,LSComm1Pupae,\"N/A\")))","v":0},{"$f":"IF(Comm1=\"\",\"\",IF(LSCheckPupa=\"n\",\"N/A\",IF(B11=0,\"N/A\",CIPupaeComm1)))","v":0},{"$f":"IF(Comm2=\"\",\"\",IF(LSCheckPupa=\"n\",\"N/A\",IF(Validity=1,LSComm2Pupae,\"N/A\")))","v":0},{"$f":"IF(Comm2=\"\",\"\",IF(LSCheckPupa=\"n\",\"N/A\",IF(D11=0,\"N/A\",CIPupaeComm2)))","v":0},{"$f":"IF(Comm3=\"\",\"\",IF(LSCheckPupa=\"n\",\"N/A\",IF(Validity=1,LSComm3Pupae,\"N/A\")))","v":0},{"$f":"IF(Comm3=\"\",\"\",IF(LSCheckPupa=\"n\",\"N/A\",IF(F11=0,\"N/A\",CIPupaeComm3)))","v":0},{"$f":"IF(Comm4=\"\",\"\",IF(LSCheckPupa=\"n\",\"N/A\",IF(Validity=1,LSComm4Pupae,\"N/A\")))","v":0},{"$f":"IF(Comm4=\"\",\"\",IF(LSCheckPupa=\"n\",\"N/A\",IF(H11=0,\"N/A\",CIPupaeComm4)))","v":0},{"$f":"IF(Comm5=\"\",\"\",IF(LSCheckPupa=\"n\",\"N/A\",IF(Validity=1,LSComm5Pupae,\"N/A\")))","v":2.0202020202020204E-2},{"$f":"IF(Comm5=\"\",\"\",IF(LSCheckPupa=\"n\",\"N/A\",IF(J11=0,\"N/A\",CIPupaeComm5)))","v":2.771431471858482E-2},{"$f":"IF(Comm6=\"\",\"\",IF(LSCheckPupa=\"n\",\"N/A\",IF(Validity=1,LSComm6Pupae,\"N/A\")))","v":0},{"$f":"IF(Comm6=\"\",\"\",IF(LSCheckPupa=\"n\",\"N/A\",IF(L11=0,\"N/A\",CIPupaeComm6)))","v":0},{"$f":"IF(Comm7=\"\",\"\",IF(LSCheckPupa=\"n\",\"N/A\",IF(Validity=1,LSComm7Pupae,\"N/A\")))","v":""},{"$f":"IF(Comm7=\"\",\"\",IF(LSCheckPupa=\"n\",\"N/A\",IF(N11=0,\"N/A\",CIPupaeComm7)))","v":""},{"$f":"IF(Comm8=\"\",\"\",IF(LSCheckPupa=\"n\",\"N/A\",IF(Validity=1,LSComm8Pupae,\"N/A\")))","v":""},{"$f":"IF(Comm8=\"\",\"\",IF(LSCheckPupa=\"n\",\"N/A\",IF(P11=0,\"N/A\",CIPupaeComm8)))","v":""},{"$f":"IF(Comm9=\"\",\"\",IF(LSCheckPupa=\"n\",\"N/A\",IF(Validity=1,LSComm9Pupae,\"N/A\")))","v":""},{"$f":"IF(Comm9=\"\",\"\",IF(LSCheckPupa=\"n\",\"N/A\",IF(R11=0,\"N/A\",CIPupaeComm9)))","v":""},{"$f":"IF(Comm10=\"\",\"\",IF(LSCheckPupa=\"n\",\"N/A\",IF(Validity=1,LSComm10Pupae,\"N/A\")))","v":""},{"$f":"IF(Comm10=\"\",\"\",IF(LSCheckPupa=\"n\",\"N/A\",IF(T11=0,\"N/A\",CIPupaeComm10)))","v":""}]
["Adults",{"$f":"IF(Comm1=\"\",\"\",IF(LSCheckAdult=\"n\",\"N/A\",IF(Validity=1,LSComm1Adults,\"N/A\")))","v":0},{"$f":"IF(Comm1=\"\",\"\",IF(LSCheckAdult=\"n\",\"N/A\",IF(B11=0,\"N/A\",CIAdultsComm1)))","v":0},{"$f":"IF(Comm2=\"\",\"\",IF(LSCheckAdult=\"n\",\"N/A\",IF(Validity=1,LSComm2Adults,\"N/A\")))","v":0},{"$f":"IF(Comm2=\"\",\"\",IF(LSCheckAdult=\"n\",\"N/A\",IF(D11=0,\"N/A\",CIAdultsComm2)))","v":0},{"$f":"IF(Comm3=\"\",\"\",IF(LSCheckAdult=\"n\",\"N/A\",IF(Validity=1,LSComm3Adults,\"N/A\")))","v":0},{"$f":"IF(Comm3=\"\",\"\",IF(LSCheckAdult=\"n\",\"N/A\",IF(F11=0,\"N/A\",CIAdultsComm3)))","v":0},{"$f":"IF(Comm4=\"\",\"\",IF(LSCheckAdult=\"n\",\"N/A\",IF(Validity=1,LSComm4Adults,\"N/A\")))","v":0},{"$f":"IF(Comm4=\"\",\"\",IF(LSCheckAdult=\"n\",\"N/A\",IF(H11=0,\"N/A\",CIAdultsComm4)))","v":0},{"$f":"IF(Comm5=\"\",\"\",IF(LSCheckAdult=\"n\",\"N/A\",IF(Validity=1,LSComm5Adults,\"N/A\")))","v":0},{"$f":"IF(Comm5=\"\",\"\",IF(LSCheckAdult=\"n\",\"N/A\",IF(J11=0,\"N/A\",CIAdultsComm5)))","v":0},{"$f":"IF(Comm6=\"\",\"\",IF(LSCheckAdult=\"n\",\"N/A\",IF(Validity=1,LSComm6Adults,\"N/A\")))","v":0},{"$f":"IF(Comm6=\"\",\"\",IF(LSCheckAdult=\"n\",\"N/A\",IF(L11=0,\"N/A\",CIAdultsComm6)))","v":0},{"$f":"IF(Comm7=\"\",\"\",IF(LSCheckAdult=\"n\",\"N/A\",IF(Validity=1,LSComm7Adults,\"N/A\")))","v":""},{"$f":"IF(Comm7=\"\",\"\",IF(LSCheckAdult=\"n\",\"N/A\",IF(N11=0,\"N/A\",CIAdultsComm7)))","v":""},{"$f":"IF(Comm8=\"\",\"\",IF(LSCheckAdult=\"n\",\"N/A\",IF(Validity=1,LSComm8Adults,\"N/A\")))","v":""},{"$f":"IF(Comm8=\"\",\"\",IF(LSCheckAdult=\"n\",\"N/A\",IF(P11=0,\"N/A\",CIAdultsComm8)))","v":""},{"$f":"IF(Comm9=\"\",\"\",IF(LSCheckAdult=\"n\",\"N/A\",IF(Validity=1,LSComm9Adults,\"N/A\")))","v":""},{"$f":"IF(Comm9=\"\",\"\",IF(LSCheckAdult=\"n\",\"N/A\",IF(R11=0,\"N/A\",CIAdultsComm9)))","v":""},{"$f":"IF(Comm10=\"\",\"\",IF(LSCheckAdult=\"n\",\"N/A\",IF(Validity=1,LSComm10Adults,\"N/A\")))","v":""},{"$f":"IF(Comm10=\"\",\"\",IF(LSCheckAdult=\"n\",\"N/A\",IF(T11=0,\"N/A\",CIAdultsComm10)))","v":""}]
[null,{"$f":"SUM(B13:B20)","v":0.99999999999999989},null,{"$f":"SUM(D13:D20)","v":1.0000000000000002},null,0.99999999999999978,null,1,null,0.99999999999999989,null,1,null,{"$f":"SUM(N13:N20)","v":0},null,{"$f":"SUM(P13:P20)","v":0},null,{"$f":"SUM(R13:R20)","v":0},null,{"$f":"SUM(T13:T20)","v":0}]
["Above table provides the likelihood of an specific life stage being present in each fruit at a specified time along with the associated 95% confidence intervals."]
[]
["Retrospective Life Stage Probability Distribution Calculator for Drosophila suzukii"]
["FOR OBSERVED ADULT EMERGENCE ONLY"]
["Infestation time (d)",null,null,{"$f":"LSIT","v":1},null,null,null,null,null,null,"Min (d)","Max (d)"]
["Time of treatment (= holding time) (d)",null,null,{"$f":"LSHT","v":3},null,"Maxiumum 95% confidence interval for ALL treatment adults =",null,null,null,null,{"$f":"MinAdultAge","v":3.8538606235006476},{"$f":"MaxAdultAge","v":20.146139376499352}]
["Enter time of adult emergence (T) (d) >>",null,null,9,{"$f":"IF(AND(ISNUMBER(RLSAdultAge), RLSAdultAge>MinAdultAge,RLSAdultAge<MaxAdultAge),\"\",'Crunch sets II'!BJ5)","v":""}]
[]
[]
["Life stage",{"$f":"Comm1","v":"Blackberry"},{"$f":"Comm2","v":"Blueberry"},{"$f":"Comm3","v":"Cherry"},{"$f":"Comm4","v":"Grape"},{"$f":"Comm5","v":"Raspberry"},{"$f":"Comm6","v":"Strawberry"},{"$f":"Comm7","v":0},{"$f":"Comm8","v":0},{"$f":"Comm9","v":0},{"$f":"Comm10","v":0}]
[null,"PLS(AT)","PLS(AT)","PLS(AT)","PLS(AT)","PLS(AT)","PLS(AT)","PLS(AT)","PLS(AT)","PLS(AT)","PLS(AT)"]
["Eggs",{"$f":"IF(Comm1=\"\",\"\",IF(LSCheckEggs=\"N\",\"\",(IF(RSProbCheckComm1=1,RSProbEggsComm1,(IF(RLSAdultAge>MaxAdultComm1,\"Too late\",(IF(RLSAdultAge<MinAdultComm1,\"Too early\",RSProbEggsComm1))))))))","v":0},{"$f":"IF(Comm2=\"\",\"\",IF(LSCheckEggs=\"N\",\"\",(IF(RSProbCheckComm2=1,RSProbEggsComm2,(IF(RLSAdultAge>MaxAdultComm2,\"Too late\",(IF(RLSAdultAge<MinAdultComm2,\"Too early\",RSProbEggsComm2))))))))","v":0},{"$f":"IF(Comm3=\"\",\"\",IF(LSCheckEggs=\"N\",\"\",(IF(RSProbCheckComm3=1,RSProbEggsComm3,(IF(RLSAdultAge>MaxAdultComm3,\"Too late\",(IF(RLSAdultAge<MinAdultComm3,\"Too early\",RSProbEggsComm3))))))))","v":0},{"$f":"IF(Comm4=\"\",\"\",IF(LSCheckEggs=\"N\",\"\",(IF(RSProbCheckComm4=1,RSProbEggsComm4,(IF(RLSAdultAge>MaxAdultComm4,\"Too late\",(IF(RLSAdultAge<MinAdultComm4,\"Too early\",RSProbEggsComm4))))))))","v":0},{"$f":"IF(Comm5=\"\",\"\",IF(LSCheckEggs=\"N\",\"\",(IF(RSProbCheckComm5=1,RSProbEggsComm5,(IF(RLSAdultAge>MaxAdultComm5,\"Too late\",(IF(RLSAdultAge<MinAdultComm5,\"Too early\",RSProbEggsComm5))))))))","v":0},{"$f":"IF(Comm6=\"\",\"\",IF(LSCheckEggs=\"N\",\"\",(IF(RSProbCheckComm6=1,RSProbEggsComm6,(IF(RLSAdultAge>MaxAdultComm6,\"Too late\",(IF(RLSAdultAge<MinAdultComm6,\"Too early\",RSProbEggsComm6))))))))","v":0},{"$f":"IF(Comm7=\"\",\"\",IF(LSCheckEggs=\"N\",\"\",(IF(RSProbCheckComm7=1,RSProbEggsComm7,(IF(RLSAdultAge>MaxAdultComm7,\"Too late\",(IF(RLSAdultAge<MinAdultComm7,\"Too early\",RSProbEggsComm7))))))))","v":""},{"$f":"IF(Comm8=\"\",\"\",IF(LSCheckEggs=\"N\",\"\",(IF(RSProbCheckComm8=1,RSProbEggsComm8,(IF(RLSAdultAge>MaxAdultComm8,\"Too late\",(IF(RLSAdultAge<MinAdultComm8,\"Too early\",RSProbEggsComm8))))))))","v":""},{"$f":"IF(Comm9=\"\",\"\",IF(LSCheckEggs=\"N\",\"\",(IF(RSProbCheckComm9=1,RSProbEggsComm9,(IF(RLSAdultAge>MaxAdultComm9,\"Too late\",(IF(RLSAdultAge<MinAdultComm9,\"Too early\",RSProbEggsComm9))))))))","v":""},{"$f":"IF(Comm10=\"\",\"\",IF(LSCheckEggs=\"N\",\"\",(IF(RSProbCheckComm10=1,RSProbEggsComm10,(IF(RLSAdultAge>MaxAdultComm10,\"Too late\",(IF(RLSAdultAge<MinAdultComm10,\"Too early\",RSProbEggsComm10))))))))","v":""}]
["1st Instar",{"$f":"IF(Comm1=\"\",\"\",IF(LSCheck1st=\"N\",\"\",(IF(RSProbCheckComm1=1,RSProb1stComm1,(IF(RLSAdultAge>MaxAdultComm1,\"Too late\",(IF(RLSAdultAge<MinAdultComm1,\"Too early\",RSProb1stComm1))))))))","v":0},{"$f":"IF(Comm2=\"\",\"\",IF(LSCheck1st=\"N\",\"\",(IF(RSProbCheckComm2=1,RSProb1stComm2,(IF(RLSAdultAge>MaxAdultComm2,\"Too late\",(IF(RLSAdultAge<MinAdultComm2,\"Too early\",RSProb1stComm2))))))))","v":0},{"$f":"IF(Comm3=\"\",\"\",IF(LSCheck1st=\"N\",\"\",(IF(RSProbCheckComm3=1,RSProb1stComm3,(IF(RLSAdultAge>MaxAdultComm3,\"Too late\",(IF(RLSAdultAge<MinAdultComm3,\"Too early\",RSProb1stComm3))))))))","v":0},{"$f":"IF(Comm4=\"\",\"\",IF(LSCheck1st=\"N\",\"\",(IF(RSProbCheckComm4=1,RSProb1stComm4,(IF(RLSAdultAge>MaxAdultComm4,\"Too late\",(IF(RLSAdultAge<MinAdultComm4,\"Too early\",RSProb1stComm4))))))))","v":0},{"$f":"IF(Comm5=\"\",\"\",IF(LSCheck1st=\"N\",\"\",(IF(RSProbCheckComm5=1,RSProb1stComm5,(IF(RLSAdultAge>MaxAdultComm5,\"Too late\",(IF(RLSAdultAge<MinAdultComm5,\"Too early\",RSProb1stComm5))))))))","v":0},{"$f":"IF(Comm6=\"\",\"\",IF(LSCheck1st=\"N\",\"\",(IF(RSProbCheckComm6=1,RSProb1stComm6,(IF(RLSAdultAge>MaxAdultComm6,\"Too late\",(IF(RLSAdultAge<MinAdultComm6,\"Too early\",RSProb1stComm6))))))))","v":0},{"$f":"IF(Comm7=\"\",\"\",IF(LSCheck1st=\"N\",\"\",(IF(RSProbCheckComm7=1,RSProb1stComm7,(IF(RLSAdultAge>MaxAdultComm7,\"Too late\",(IF(RLSAdultAge<MinAdultComm7,\"Too early\",RSProb1stComm7))))))))","v":""},{"$f":"IF(Comm8=\"\",\"\",IF(LSCheck1st=\"N\",\"\",(IF(RSProbCheckComm8=1,RSProb1stComm8,(IF(RLSAdultAge>MaxAdultComm8,\"Too late\",(IF(RLSAdultAge<MinAdultComm8,\"Too early\",RSProb1stComm8))))))))","v":""},{"$f":"IF(Comm9=\"\",\"\",IF(LSCheck1st=\"N\",\"\",(IF(RSProbCheckComm9=1,RSProb1stComm9,(IF(RLSAdultAge>MaxAdultComm9,\"Too late\",(IF(RLSAdultAge<MinAdultComm9,\"Too early\",RSProb1stComm9))))))))","v":""},{"$f":"IF(Comm10=\"\",\"\",IF(LSCheck1st=\"N\",\"\",(IF(RSProbCheckComm10=1,RSProb1stComm10,(IF(RLSAdultAge>MaxAdultComm10,\"Too late\",(IF(RLSAdultAge<MinAdultComm10,\"Too early\",RSProb1stComm10))))))))","v":""}]
["2nd Instar",{"$f":"IF(Comm1=\"\",\"\",IF(LSCheck2nd=\"N\",\"\",(IF(RSProbCheckComm1=1,RSProb2ndComm1,(IF(RLSAdultAge>MaxAdultComm1,\"Too late\",(IF(RLSAdultAge<MinAdultComm1,\"Too early\",RSProb2ndComm1))))))))","v":0},{"$f":"IF(Comm2=\"\",\"\",IF(LSCheck2nd=\"N\",\"\",(IF(RSProbCheckComm2=1,RSProb2ndComm2,(IF(RLSAdultAge>MaxAdultComm2,\"Too late\",(IF(RLSAdultAge<MinAdultComm2,\"Too early\",RSProb2ndComm2))))))))","v":0.55922865013774103},{"$f":"IF(Comm3=\"\",\"\",IF(LSCheck2nd=\"N\",\"\",(IF(RSProbCheckComm3=1,RSProb2ndComm3,(IF(RLSAdultAge>MaxAdultComm3,\"Too late\",(IF(RLSAdultAge<MinAdultComm3,\"Too early\",RSProb2ndComm3))))))))","v":0},{"$f":"IF(Comm4=\"\",\"\",IF(LSCheck2nd=\"N\",\"\",(IF(RSProbCheckComm4=1,RSProb2ndComm4,(IF(RLSAdultAge>MaxAdultComm4,\"Too late\",(IF(RLSAdultAge<MinAdultComm4,\"Too early\",RSProb2ndComm4))))))))","v":0.26041666666666641},{"$f":"IF(Comm5=\"\",\"\",IF(LSCheck2nd=\"N\",\"\",(IF(RSProbCheckComm5=1,RSProb2ndComm5,(IF(RLSAdultAge>MaxAdultComm5,\"Too late\",(IF(RLSAdultAge<MinAdultComm5,\"Too early\",RSProb2ndComm5))))))))","v":0},{"$f":"IF(Comm6=\"\",\"\",IF(LSCheck2nd=\"N\",\"\",(IF(RSProbCheckComm6=1,RSProb2ndComm6,(IF(RLSAdultAge>MaxAdultComm6,\"Too late\",(IF(RLSAdultAge<MinAdultComm6,\"Too early\",RSProb2ndComm6))))))))","v":0},{"$f":"IF(Comm7=\"\",\"\",IF(LSCheck2nd=\"N\",\"\",(IF(RSProbCheckComm7=1,RSProb2ndComm7,(IF(RLSAdultAge>MaxAdultComm7,\"Too late\",(IF(RLSAdultAge<MinAdultComm7,\"Too early\",RSProb2ndComm7))))))))","v":""},{"$f":"IF(Comm8=\"\",\"\",IF(LSCheck2nd=\"N\",\"\",(IF(RSProbCheckComm8=1,RSProb2ndComm8,(IF(RLSAdultAge>MaxAdultComm8,\"Too late\",(IF(RLSAdultAge<MinAdultComm8,\"Too early\",RSProb2ndComm8))))))))","v":""},{"$f":"IF(Comm9=\"\",\"\",IF(LSCheck2nd=\"N\",\"\",(IF(RSProbCheckComm9=1,RSProb2ndComm9,(IF(RLSAdultAge>MaxAdultComm9,\"Too late\",(IF(RLSAdultAge<MinAdultComm9,\"Too early\",RSProb2ndComm9))))))))","v":""},{"$f":"IF(Comm10=\"\",\"\",IF(LSCheck2nd=\"N\",\"\",(IF(RSProbCheckComm10=1,RSProb2ndComm10,(IF(RLSAdultAge>MaxAdultComm10,\"Too late\",(IF(RLSAdultAge<MinAdultComm10,\"Too early\",RSProb2ndComm10))))))))","v":""}]
["3rd Instar",{"$f":"IF(Comm1=\"\",\"\",IF(LSCheck3rd=\"N\",\"\",(IF(RSProbCheckComm1=1,RSProb3rdComm1,(IF(RLSAdultAge>MaxAdultComm1,\"Too late\",(IF(RLSAdultAge<MinAdultComm1,\"Too early\",RSProb3rdComm1))))))))","v":1},{"$f":"IF(Comm2=\"\",\"\",IF(LSCheck3rd=\"N\",\"\",(IF(RSProbCheckComm2=1,RSProb3rdComm2,(IF(RLSAdultAge>MaxAdultComm2,\"Too late\",(IF(RLSAdultAge<MinAdultComm2,\"Too early\",RSProb3rdComm2))))))))","v":0.44077134986225919},{"$f":"IF(Comm3=\"\",\"\",IF(LSCheck3rd=\"N\",\"\",(IF(RSProbCheckComm3=1,RSProb3rdComm3,(IF(RLSAdultAge>MaxAdultComm3,\"Too late\",(IF(RLSAdultAge<MinAdultComm3,\"Too early\",RSProb3rdComm3))))))))","v":1},{"$f":"IF(Comm4=\"\",\"\",IF(LSCheck3rd=\"N\",\"\",(IF(RSProbCheckComm4=1,RSProb3rdComm4,(IF(RLSAdultAge>MaxAdultComm4,\"Too late\",(IF(RLSAdultAge<MinAdultComm4,\"Too early\",RSProb3rdComm4))))))))","v":0.73958333333333337},{"$f":"IF(Comm5=\"\",\"\",IF(LSCheck3rd=\"N\",\"\",(IF(RSProbCheckComm5=1,RSProb3rdComm5,(IF(RLSAdultAge>MaxAdultComm5,\"Too late\",(IF(RLSAdultAge<MinAdultComm5,\"Too early\",RSProb3rdComm5))))))))","v":0.99539170506912444},{"$f":"IF(Comm6=\"\",\"\",IF(LSCheck3rd=\"N\",\"\",(IF(RSProbCheckComm6=1,RSProb3rdComm6,(IF(RLSAdultAge>MaxAdultComm6,\"Too late\",(IF(RLSAdultAge<MinAdultComm6,\"Too early\",RSProb3rdComm6))))))))","v":1},{"$f":"IF(Comm7=\"\",\"\",IF(LSCheck3rd=\"N\",\"\",(IF(RSProbCheckComm7=1,RSProb3rdComm7,(IF(RLSAdultAge>MaxAdultComm7,\"Too late\",(IF(RLSAdultAge<MinAdultComm7,\"Too early\",RSProb3rdComm7))))))))","v":""},{"$f":"IF(Comm8=\"\",\"\",IF(LSCheck3rd=\"N\",\"\",(IF(RSProbCheckComm8=1,RSProb3rdComm8,(IF(RLSAdultAge>MaxAdultComm8,\"Too late\",(IF(RLSAdultAge<MinAdultComm8,\"Too early\",RSProb3rdComm8))))))))","v":""},{"$f":"IF(Comm9=\"\",\"\",IF(LSCheck3rd=\"N\",\"\",(IF(RSProbCheckComm9=1,RSProb3rdComm9,(IF(RLSAdultAge>MaxAdultComm9,\"Too late\",(IF(RLSAdultAge<MinAdultComm9,\"Too early\",RSProb3rdComm9))))))))","v":""},{"$f":"IF(Comm10=\"\",\"\",IF(LSCheck3rd=\"N\",\"\",(IF(RSProbCheckComm10=1,RSProb3rdComm10,(IF(RLSAdultAge>MaxAdultComm10,\"Too late\",(IF(RLSAdultAge<MinAdultComm10,\"Too early\",RSProb3rdComm10))))))))","v":""}]
["4th Instar",{"$f":"IF(Comm1=\"\",\"\",IF(LSCheck4th=\"N\",\"\",(IF(RSProbCheckComm1=1,RSProb4thComm1,(IF(RLSAdultAge>MaxAdultComm1,\"Too late\",(IF(RLSAdultAge<MinAdultComm1,\"Too early\",RSProb4thComm1))))))))","v":""},{"$f":"IF(Comm2=\"\",\"\",IF(LSCheck4th=\"N\",\"\",(IF(RSProbCheckComm2=1,RSProb4thComm2,(IF(RLSAdultAge>MaxAdultComm2,\"Too late\",(IF(RLSAdultAge<MinAdultComm2,\"Too early\",RSProb4thComm2))))))))","v":""},{"$f":"IF(Comm3=\"\",\"\",IF(LSCheck4th=\"N\",\"\",(IF(RSProbCheckComm3=1,RSProb4thComm3,(IF(RLSAdultAge>MaxAdultComm3,\"Too late\",(IF(RLSAdultAge<MinAdultComm3,\"Too early\",RSProb4thComm3))))))))","v":""},{"$f":"IF(Comm4=\"\",\"\",IF(LSCheck4th=\"N\",\"\",(IF(RSProbCheckComm4=1,RSProb4thComm4,(IF(RLSAdultAge>MaxAdultComm4,\"Too late\",(IF(RLSAdultAge<MinAdultComm4,\"Too early\",RSProb4thComm4))))))))","v":""},{"$f":"IF(Comm5=\"\",\"\",IF(LSCheck4th=\"N\",\"\",(IF(RSProbCheckComm5=1,RSProb4thComm5,(IF(RLSAdultAge>MaxAdultComm5,\"Too late\",(IF(RLSAdultAge<MinAdultComm5,\"Too early\",RSProb4thComm5))))))))","v":""},{"$f":"IF(Comm6=\"\",\"\",IF(LSCheck4th=\"N\",\"\",(IF(RSProbCheckComm6=1,RSProb4thComm6,(IF(RLSAdultAge>MaxAdultComm6,\"Too late\",(IF(RLSAdultAge<MinAdultComm6,\"Too early\",RSProb4thComm6))))))))","v":""},{"$f":"IF(Comm7=\"\",\"\",IF(LSCheck4th=\"N\",\"\",(IF(RSProbCheckComm7=1,RSProb4thComm7,(IF(RLSAdultAge>MaxAdultComm7,\"Too late\",(IF(RLSAdultAge<MinAdultComm7,\"Too early\",RSProb4thComm7))))))))","v":""},{"$f":"IF(Comm8=\"\",\"\",IF(LSCheck4th=\"N\",\"\",(IF(RSProbCheckComm8=1,RSProb4thComm8,(IF(RLSAdultAge>MaxAdultComm8,\"Too late\",(IF(RLSAdultAge<MinAdultComm8,\"Too early\",RSProb4thComm8))))))))","v":""},{"$f":"IF(Comm9=\"\",\"\",IF(LSCheck4th=\"N\",\"\",(IF(RSProbCheckComm9=1,RSProb4thComm9,(IF(RLSAdultAge>MaxAdultComm9,\"Too late\",(IF(RLSAdultAge<MinAdultComm9,\"Too early\",RSProb4thComm9))))))))","v":""},{"$f":"IF(Comm10=\"\",\"\",IF(LSCheck4th=\"N\",\"\",(IF(RSProbCheckComm10=1,RSProb4thComm10,(IF(RLSAdultAge>MaxAdultComm10,\"Too late\",(IF(RLSAdultAge<MinAdultComm10,\"Too early\",RSProb4thComm10))))))))","v":""}]
["5th Instar",{"$f":"IF(Comm1=\"\",\"\",IF(LSCheck5th=\"N\",\"\",(IF(RSProbCheckComm1=1,RSProb5thComm1,(IF(RLSAdultAge>MaxAdultComm1,\"Too late\",(IF(RLSAdultAge<MinAdultComm1,\"Too early\",RSProb5thComm1))))))))","v":""},{"$f":"IF(Comm2=\"\",\"\",IF(LSCheck5th=\"N\",\"\",(IF(RSProbCheckComm2=1,RSProb5thComm2,(IF(RLSAdultAge>MaxAdultComm2,\"Too late\",(IF(RLSAdultAge<MinAdultComm2,\"Too early\",RSProb5thComm2))))))))","v":""},{"$f":"IF(Comm3=\"\",\"\",IF(LSCheck5th=\"N\",\"\",(IF(RSProbCheckComm3=1,RSProb5thComm3,(IF(RLSAdultAge>MaxAdultComm3,\"Too late\",(IF(RLSAdultAge<MinAdultComm3,\"Too early\",RSProb5thComm3))))))))","v":""},{"$f":"IF(Comm4=\"\",\"\",IF(LSCheck5th=\"N\",\"\",(IF(RSProbCheckComm4=1,RSProb5thComm4,(IF(RLSAdultAge>MaxAdultComm4,\"Too late\",(IF(RLSAdultAge<MinAdultComm4,\"Too early\",RSProb5thComm4))))))))","v":""},{"$f":"IF(Comm5=\"\",\"\",IF(LSCheck5th=\"N\",\"\",(IF(RSProbCheckComm5=1,RSProb5thComm5,(IF(RLSAdultAge>MaxAdultComm5,\"Too late\",(IF(RLSAdultAge<MinAdultComm5,\"Too early\",RSProb5thComm5))))))))","v":""},{"$f":"IF(Comm6=\"\",\"\",IF(LSCheck5th=\"N\",\"\",(IF(RSProbCheckComm6=1,RSProb5thComm6,(IF(RLSAdultAge>MaxAdultComm6,\"Too late\",(IF(RLSAdultAge<MinAdultComm6,\"Too early\",RSProb5thComm6))))))))","v":""},{"$f":"IF(Comm7=\"\",\"\",IF(LSCheck5th=\"N\",\"\",(IF(RSProbCheckComm7=1,RSProb5thComm7,(IF(RLSAdultAge>MaxAdultComm7,\"Too late\",(IF(RLSAdultAge<MinAdultComm7,\"Too early\",RSProb5thComm7))))))))","v":""},{"$f":"IF(Comm8=\"\",\"\",IF(LSCheck5th=\"N\",\"\",(IF(RSProbCheckComm8=1,RSProb5thComm8,(IF(RLSAdultAge>MaxAdultComm8,\"Too late\",(IF(RLSAdultAge<MinAdultComm8,\"Too early\",RSProb5thComm8))))))))","v":""},{"$f":"IF(Comm9=\"\",\"\",IF(LSCheck5th=\"N\",\"\",(IF(RSProbCheckComm9=1,RSProb5thComm9,(IF(RLSAdultAge>MaxAdultComm9,\"Too late\",(IF(RLSAdultAge<MinAdultComm9,\"Too early\",RSProb5thComm9))))))))","v":""},{"$f":"IF(Comm10=\"\",\"\",IF(LSCheck5th=\"N\",\"\",(IF(RSProbCheckComm10=1,RSProb5thComm10,(IF(RLSAdultAge>MaxAdultComm10,\"Too late\",(IF(RLSAdultAge<MinAdultComm10,\"Too early\",RSProb5thComm10))))))))","v":""}]
["Pupae",{"$f":"IF(Comm1=\"\",\"\",IF(LSCheckPupa=\"N\",\"\",(IF(RSProbCheckComm1=1,RSProbPupaeComm1,(IF(RLSAdultAge>MaxAdultComm1,\"Too late\",(IF(RLSAdultAge<MinAdultComm1,\"Too early\",RSProbPupaeComm1))))))))","v":0},{"$f":"IF(Comm2=\"\",\"\",IF(LSCheckPupa=\"N\",\"\",(IF(RSProbCheckComm2=1,RSProbPupaeComm2,(IF(RLSAdultAge>MaxAdultComm2,\"Too late\",(IF(RLSAdultAge<MinAdultComm2,\"Too early\",RSProbPupaeComm2))))))))","v":0},{"$f":"IF(Comm3=\"\",\"\",IF(LSCheckPupa=\"N\",\"\",(IF(RSProbCheckComm3=1,RSProbPupaeComm3,(IF(RLSAdultAge>MaxAdultComm3,\"Too late\",(IF(RLSAdultAge<MinAdultComm3,\"Too early\",RSProbPupaeComm3))))))))","v":0},{"$f":"IF(Comm4=\"\",\"\",IF(LSCheckPupa=\"N\",\"\",(IF(RSProbCheckComm4=1,RSProbPupaeComm4,(IF(RLSAdultAge>MaxAdultComm4,\"Too late\",(IF(RLSAdultAge<MinAdultComm4,\"Too early\",RSProbPupaeComm4))))))))","v":0},{"$f":"IF(Comm5=\"\",\"\",IF(LSCheckPupa=\"N\",\"\",(IF(RSProbCheckComm5=1,RSProbPupaeComm5,(IF(RLSAdultAge>MaxAdultComm5,\"Too late\",(IF(RLSAdultAge<MinAdultComm5,\"Too early\",RSProbPupaeComm5))))))))","v":4.6082949308755769E-3},{"$f":"IF(Comm6=\"\",\"\",IF(LSCheckPupa=\"N\",\"\",(IF(RSProbCheckComm6=1,RSProbPupaeComm6,(IF(RLSAdultAge>MaxAdultComm6,\"Too late\",(IF(RLSAdultAge<MinAdultComm6,\"Too early\",RSProbPupaeComm6))))))))","v":0},{"$f":"IF(Comm7=\"\",\"\",IF(LSCheckPupa=\"N\",\"\",(IF(RSProbCheckComm7=1,RSProbPupaeComm7,(IF(RLSAdultAge>MaxAdultComm7,\"Too late\",(IF(RLSAdultAge<MinAdultComm7,\"Too early\",RSProbPupaeComm7))))))))","v":""},{"$f":"IF(Comm8=\"\",\"\",IF(LSCheckPupa=\"N\",\"\",(IF(RSProbCheckComm8=1,RSProbPupaeComm8,(IF(RLSAdultAge>MaxAdultComm8,\"Too late\",(IF(RLSAdultAge<MinAdultComm8,\"Too early\",RSProbPupaeComm8))))))))","v":""},{"$f":"IF(Comm9=\"\",\"\",IF(LSCheckPupa=\"N\",\"\",(IF(RSProbCheckComm9=1,RSProbPupaeComm9,(IF(RLSAdultAge>MaxAdultComm9,\"Too late\",(IF(RLSAdultAge<MinAdultComm9,\"Too early\",RSProbPupaeComm9))))))))","v":""},{"$f":"IF(Comm10=\"\",\"\",IF(LSCheckPupa=\"N\",\"\",(IF(RSProbCheckComm10=1,RSProbPupaeComm10,(IF(RLSAdultAge>MaxAdultComm10,\"Too late\",(IF(RLSAdultAge<MinAdultComm10,\"Too early\",RSProbPupaeComm10))))))))","v":""}]
["Above table provides the retrospective probabilities that an emerging adult was in a particular life stage at a specified time of treatment."]

{"sheet":"Step 2 - Treatment Statistics","index":5,"n_rows":91,"n_cols":27,"rows_kept":91,"cut":false,"hidden":false,"merged":[[0,12,0,17]]}
["Treatment","Life Stage (LS)","nLS","mean time (d) of life stage distribution (LS)","1.96 s (d)","Kurtosis (g2)","First observation (d)","Last observation (d)","Life stage duration (d)","*Relative time spent in life stage (% of total)","Mean time (d) to adult emergence (LS)","1.96 s (d)","Linear Regression of developmental time (LS) vs life stage (1=eggs, 2 = 1st instars, …, 7 = pupae, and 8 = Adults).  Linear equation provided y = mx+b where m = rate of development.  Steeper slopes indicate slower devlopment. R2 provided.",null,null,null,null,null,null,null,null,null,null,null,null,null,"DCommXLS (h)"]
[{"$f":"IF(Comm1=\"\",\"No treatment\",Comm1)","v":"Blackberry"},"Eggs",{"$f":"IF(LSCheckEggs=\"n\",\"N/A\",SUM('Step 1 - Enter Raw Data'!B29:BI29))","v":235},{"$f":"IF(Comm1=\"\",\"\",IF(LSCheckEggs=\"n\",NA(),T1EXLS))","v":1},{"$f":"IF(Comm1=\"\",\"\",IF(LSCheckEggs=\"n\",\"\",'Step 1 - Enter Raw Data'!BK29))","v":0},{"$f":"IF(Comm1=\"\",\"\",IF(LSCheckEggs=\"n\",\"\",KURT('Step 1 - Enter Raw Data'!B29:BI29)))","v":59.999999999999453},{"$f":"IF(Comm1=\"\",\"\",IF(LSCheckEggs=\"n\",\"\",'Step 1 - Enter Raw Data'!BQ29))","v":1},{"$f":"IF(Comm1=\"\",\"\",IF(LSCheckEggs=\"n\",\"\",'Step 1 - Enter Raw Data'!BR29))","v":1},{"$f":"IF(Comm1=\"\",\"\",IF(LSCheckEggs=\"n\",\"\",(H2-G2)+1))","v":1},{"$f":"IF(Comm1=\"\",\"\",IF(LSCheckEggs=\"n\",\"\",I2/I$10))","v":6.25E-2},{"$f":"IF(Comm1=\"\",\"\",IF(LSCheckEggs=\"n\",\"\",T1AXLS-T1EXLS))","v":8.7566265060240962},{"$f":"IF(Comm1=\"\",\"\",IF(LSCheckEggs=\"n\",\"\",DSTDEggsComm1/24))","v":0.93657788305278933},null,null,null,null,null,null,null,null,null,null,null,null,{"$f":"Comm1","v":"Blackberry"},"E",{"$f":"IF(Comm1=\"\",\"\",IF(LSCheckEggs=\"n\",\"\",K2*24))","v":210.15903614457829}]
[null,"1st instar",{"$f":"IF(LSCheck1st=\"n\",\"N/A\",SUM('Step 1 - Enter Raw Data'!B30:BI30))","v":221},{"$f":"IF(Comm1=\"\",\"\",IF(LSCheck1st=\"n\",NA(),T11XLS))","v":1.909502262443439},{"$f":"IF(Comm1=\"\",\"\",IF(LSCheck1st=\"n\",\"\",'Step 1 - Enter Raw Data'!BK30))","v":0.40558624936833848},{"$f":"IF(Comm1=\"\",\"\",IF(LSCheck1st=\"n\",\"\",KURT('Step 1 - Enter Raw Data'!B30:BI30)))","v":56.694700393054646},{"$f":"IF(Comm1=\"\",\"\",IF(LSCheck1st=\"n\",\"\",'Step 1 - Enter Raw Data'!BQ30))","v":1},{"$f":"IF(Comm1=\"\",\"\",IF(LSCheck1st=\"n\",\"\",'Step 1 - Enter Raw Data'!BR30))","v":3},{"$f":"IF(Comm1=\"\",\"\",IF(LSCheck1st=\"n\",\"\",(H3-G3)+1))","v":3},{"$f":"IF(Comm1=\"\",\"\",IF(LSCheck1st=\"n\",\"\",I3/I$10))","v":0.1875},{"$f":"IF(Comm1=\"\",\"\",IF(LSCheck1st=\"n\",\"\",T1AXLS-T11XLS))","v":7.847124243580657},{"$f":"IF(Comm1=\"\",\"\",IF(LSCheck1st=\"n\",\"\",DSTD1stComm1/24))","v":1.0206264432691916},null,null,null,null,null,null,null,null,null,null,null,null,null,1,{"$f":"IF(Comm1=\"\",\"\",IF(LSCheck1st=\"n\",\"\",K3*24))","v":188.33098184593575}]
[null,"2nd instar",{"$f":"IF(LSCheck2nd=\"n\",\"N/A\",SUM('Step 1 - Enter Raw Data'!B31:BI31))","v":267},{"$f":"IF(Comm1=\"\",\"\",IF(LSCheck2nd=\"n\",NA(),T12XLS))","v":3.0936329588014981},{"$f":"IF(Comm1=\"\",\"\",IF(LSCheck2nd=\"n\",\"\",'Step 1 - Enter Raw Data'!BK31))","v":0.46152402013900923},{"$f":"IF(Comm1=\"\",\"\",IF(LSCheck2nd=\"n\",\"\",KURT('Step 1 - Enter Raw Data'!B31:BI31)))","v":58.37757181559229},{"$f":"IF(Comm1=\"\",\"\",IF(LSCheck2nd=\"n\",\"\",'Step 1 - Enter Raw Data'!BQ31))","v":2},{"$f":"IF(Comm1=\"\",\"\",IF(LSCheck2nd=\"n\",\"\",'Step 1 - Enter Raw Data'!BR31))","v":6},{"$f":"IF(Comm1=\"\",\"\",IF(LSCheck2nd=\"n\",\"\",(H4-G4)+1))","v":5},{"$f":"IF(Comm1=\"\",\"\",IF(LSCheck2nd=\"n\",\"\",I4/I$10))","v":0.3125},{"$f":"IF(Comm1=\"\",\"\",IF(LSCheck2nd=\"n\",\"\",T1AXLS-T12XLS))","v":6.6629935472225981},{"$f":"IF(Comm1=\"\",\"\",IF(LSCheck2nd=\"n\",\"\",DSTD2ndComm1/24))","v":1.0441180738733129},null,null,null,null,null,null,null,null,null,null,null,null,null,2,{"$f":"IF(Comm1=\"\",\"\",IF(LSCheck2nd=\"n\",\"\",K4*24))","v":159.91184513334235}]
[null,"3rd instar",{"$f":"IF(LSCheck3rd=\"n\",\"N/A\",SUM('Step 1 - Enter Raw Data'!B32:BI32))","v":1068},{"$f":"IF(Comm1=\"\",\"\",IF(LSCheck3rd=\"n\",NA(),T13XLS))","v":5.3970037453183517},{"$f":"IF(Comm1=\"\",\"\",IF(LSCheck3rd=\"n\",\"\",'Step 1 - Enter Raw Data'!BK32))","v":1.1329893494492085},{"$f":"IF(Comm1=\"\",\"\",IF(LSCheck3rd=\"n\",\"\",KURT('Step 1 - Enter Raw Data'!B32:BI32)))","v":12.110534505950573},{"$f":"IF(Comm1=\"\",\"\",IF(LSCheck3rd=\"n\",\"\",'Step 1 - Enter Raw Data'!BQ32))","v":3},{"$f":"IF(Comm1=\"\",\"\",IF(LSCheck3rd=\"n\",\"\",'Step 1 - Enter Raw Data'!BR32))","v":8},{"$f":"IF(Comm1=\"\",\"\",IF(LSCheck3rd=\"n\",\"\",(H5-G5)+1))","v":6},{"$f":"IF(Comm1=\"\",\"\",IF(LSCheck3rd=\"n\",\"\",I5/I$10))","v":0.375},{"$f":"IF(Comm1=\"\",\"\",IF(LSCheck3rd=\"n\",\"\",T1AXLS-T13XLS))","v":4.3596227607057445},{"$f":"IF(Comm1=\"\",\"\",IF(LSCheck3rd=\"n\",\"\",DSTD3rdComm1/24))","v":1.4699806110928761},null,null,null,null,null,null,null,null,null,null,null,null,null,3,{"$f":"IF(Comm1=\"\",\"\",IF(LSCheck3rd=\"n\",\"\",K5*24))","v":104.63094625693788}]
[null,"4th instar",{"$f":"IF(LSCheck4th=\"n\",\"N/A\",SUM('Step 1 - Enter Raw Data'!B33:BI33))","v":"N/A"},{"$f":"IF(Comm1=\"\",\"\",IF(LSCheck4th=\"n\",NA(),T14XLS))","v":{"$error":"#N/A"}},{"$f":"IF(Comm1=\"\",\"\",IF(LSCheck4th=\"n\",\"\",'Step 1 - Enter Raw Data'!BK33))","v":""},{"$f":"IF(Comm1=\"\",\"\",IF(LSCheck4th=\"n\",\"\",KURT('Step 1 - Enter Raw Data'!B33:BI33)))","v":""},{"$f":"IF(Comm1=\"\",\"\",IF(LSCheck4th=\"n\",\"\",'Step 1 - Enter Raw Data'!BQ33))","v":""},{"$f":"IF(Comm1=\"\",\"\",IF(LSCheck4th=\"n\",\"\",'Step 1 - Enter Raw Data'!BR33))","v":""},{"$f":"IF(Comm1=\"\",\"\",IF(LSCheck4th=\"n\",\"\",(H6-G6)+1))","v":""},{"$f":"IF(Comm1=\"\",\"\",IF(LSCheck4th=\"n\",\"\",I6/I$10))","v":""},{"$f":"IF(Comm1=\"\",\"\",IF(LSCheck4th=\"n\",\"\",T1AXLS-T14XLS))","v":""},{"$f":"IF(Comm1=\"\",\"\",IF(LSCheck4th=\"n\",\"\",DSTD4thComm1/24))","v":""},null,null,null,null,null,null,null,null,null,null,null,null,null,4,{"$f":"IF(Comm1=\"\",\"\",IF(LSCheck4th=\"n\",\"\",K6*24))","v":""}]
[null,"5th instar",{"$f":"IF(LSCheck5th=\"n\",\"N/A\",SUM('Step 1 - Enter Raw Data'!B34:BI34))","v":"N/A"},{"$f":"IF(Comm1=\"\",\"\",IF(LSCheck5th=\"n\",NA(),T15XLS))","v":{"$error":"#N/A"}},{"$f":"IF(Comm1=\"\",\"\",IF(LSCheck5th=\"n\",\"\",'Step 1 - Enter Raw Data'!BK34))","v":""},{"$f":"IF(Comm1=\"\",\"\",IF(LSCheck5th=\"n\",\"\",KURT('Step 1 - Enter Raw Data'!B34:BI34)))","v":""},{"$f":"IF(Comm1=\"\",\"\",IF(LSCheck5th=\"n\",\"\",'Step 1 - Enter Raw Data'!BQ34))","v":""},{"$f":"IF(Comm1=\"\",\"\",IF(LSCheck5th=\"n\",\"\",'Step 1 - Enter Raw Data'!BR34))","v":""},{"$f":"IF(Comm1=\"\",\"\",IF(LSCheck5th=\"n\",\"\",(H7-G7)+1))","v":""},{"$f":"IF(Comm1=\"\",\"\",IF(LSCheck5th=\"n\",\"\",I7/I$10))","v":""},{"$f":"IF(Comm1=\"\",\"\",IF(LSCheck5th=\"n\",\"\",T1AXLS-T15XLS))","v":""},{"$f":"IF(Comm1=\"\",\"\",IF(LSCheck5th=\"n\",\"\",DSTD5thComm1/24))","v":""},null,null,null,null,null,null,null,null,null,null,null,null,null,5,{"$f":"IF(Comm1=\"\",\"\",IF(LSCheck5th=\"n\",\"\",K7*24))","v":""}]
[null,"Pupae",{"$f":"IF(LSCheckPupa=\"n\",\"N/A\",SUM('Step 1 - Enter Raw Data'!B35:BI35))","v":827},{"$f":"IF(Comm1=\"\",\"\",IF(LSCheckPupa=\"n\",NA(),T1PXLS))","v":7.7811366384522369},{"$f":"IF(Comm1=\"\",\"\",IF(LSCheckPupa=\"n\",\"\",'Step 1 - Enter Raw Data'!BK35))","v":0.94098612148270955},{"$f":"IF(Comm1=\"\",\"\",IF(LSCheckPupa=\"n\",\"\",KURT('Step 1 - Enter Raw Data'!B35:BI35)))","v":16.661108554506146},{"$f":"IF(Comm1=\"\",\"\",IF(LSCheckPupa=\"n\",\"\",'Step 1 - Enter Raw Data'!BQ35))","v":5},{"$f":"IF(Comm1=\"\",\"\",IF(LSCheckPupa=\"n\",\"\",'Step 1 - Enter Raw Data'!BR35))","v":9},{"$f":"IF(Comm1=\"\",\"\",IF(LSCheckPupa=\"n\",\"\",(H8-G8)+1))","v":5},{"$f":"IF(Comm1=\"\",\"\",IF(LSCheckPupa=\"n\",\"\",I8/I$10))","v":0.3125},{"$f":"IF(Comm1=\"\",\"\",IF(LSCheckPupa=\"n\",\"\",T1AXLS-T1PXLS))","v":1.9754898675718593},{"$f":"IF(Comm1=\"\",\"\",IF(LSCheckPupa=\"n\",\"\",DSTDPupaeComm1/24))","v":1.3276418989496817},null,null,null,null,null,null,null,null,null,null,null,null,null,"P",{"$f":"IF(Comm1=\"\",\"\",IF(LSCheckPupa=\"n\",\"\",K8*24))","v":47.411756821724623}]
[null,"Adults",{"$f":"IF(LSCheckAdult=\"n\",\"N/A\",SUM('Step 1 - Enter Raw Data'!B36:BI36))","v":3320},{"$f":"IF(Comm1=\"\",\"\",IF(LSCheckAdult=\"n\",NA(),T1AXLS))","v":9.7566265060240962},{"$f":"IF(Comm1=\"\",\"\",IF(LSCheckAdult=\"n\",\"\",'Step 1 - Enter Raw Data'!BK36))","v":0.93657788305278933},{"$f":"IF(Comm1=\"\",\"\",IF(LSCheckAdult=\"n\",\"\",KURT('Step 1 - Enter Raw Data'!B36:BI36)))","v":26.957897256922784},{"$f":"IF(Comm1=\"\",\"\",IF(LSCheckAdult=\"n\",\"\",'Step 1 - Enter Raw Data'!BQ36))","v":7},{"$f":"IF(Comm1=\"\",\"\",IF(LSCheckAdult=\"n\",\"\",'Step 1 - Enter Raw Data'!BR36))","v":16},{"$f":"IF(Comm1=\"\",\"\",IF(LSCheckAdult=\"n\",\"\",(H9-G9)+1))","v":10},{"$f":"IF(Comm1=\"\",\"\",IF(LSCheckAdult=\"n\",\"\",I9/I$10))","v":0.625}]
[null,"Treatment",{"$f":"IF(Comm1=\"\",\"\",SUM(C2:C9))","v":5938},null,null,{"$f":"IF(Comm1=\"\",\"\",KURT('Step 1 - Enter Raw Data'!B37:BI37))","v":19.40958060979975},{"$f":"IF(Comm1=\"\",\"\",'Step 1 - Enter Raw Data'!BQ37)","v":1},{"$f":"IF(Comm1=\"\",\"\",'Step 1 - Enter Raw Data'!BR37)","v":16},{"$f":"IF(Comm1=\"\",\"\",(H10-G10)+1)","v":16},{"$f":"IF(Comm1=\"\",\"\",I10/I$10)","v":1}]
[{"$f":"IF(Comm2=\"\",\"No treatment\",Comm2)","v":"Blueberry"},"Eggs",{"$f":"IF(LSCheckEggs=\"n\",\"N/A\",SUM('Step 1 - Enter Raw Data'!B40:BI40))","v":136},{"$f":"IF(Comm2=\"\",\"\",IF(LSCheckEggs=\"n\",NA(),T2EXLS))","v":1.0514705882352942},{"$f":"IF(Comm2=\"\",\"\",IF(LSCheckEggs=\"n\",\"\",'Step 1 - Enter Raw Data'!BK40))","v":0.22177242059360674},{"$f":"IF(Comm2=\"\",\"\",IF(LSCheckEggs=\"n\",\"\",KURT('Step 1 - Enter Raw Data'!B40:BI40)))","v":59.629305939840215},{"$f":"IF(Comm2=\"\",\"\",IF(LSCheckEggs=\"n\",\"\",'Step 1 - Enter Raw Data'!BQ40))","v":1},{"$f":"IF(Comm2=\"\",\"\",IF(LSCheckEggs=\"n\",\"\",'Step 1 - Enter Raw Data'!BR40))","v":2},{"$f":"IF(Comm2=\"\",\"\",IF(LSCheckEggs=\"n\",\"\",(H11-G11)+1))","v":2},{"$f":"IF(Comm2=\"\",\"\",IF(LSCheckEggs=\"n\",\"\",I11/I$19))","v":0.125},{"$f":"IF(Comm2=\"\",\"\",IF(LSCheckEggs=\"n\",\"\",T2AXLS-T2EXLS))","v":9.4274704466624204},{"$f":"IF(Comm2=\"\",\"\",IF(LSCheckEggs=\"n\",\"\",DSTDEggsComm2/24))","v":1.0911491475004742},null,null,null,null,null,null,null,null,null,null,null,null,{"$f":"Comm2","v":"Blueberry"},"E",{"$f":"IF(Comm2=\"\",\"\",IF(LSCheckEggs=\"n\",\"\",K11*24))","v":226.2592907198981}]
[null,"1st instar",{"$f":"IF(LSCheck1st=\"n\",\"N/A\",SUM('Step 1 - Enter Raw Data'!B41:BI41))","v":141},{"$f":"IF(Comm2=\"\",\"\",IF(LSCheck1st=\"n\",NA(),T21XLS))","v":2.4468085106382977},{"$f":"IF(Comm2=\"\",\"\",IF(LSCheck1st=\"n\",\"\",'Step 1 - Enter Raw Data'!BK41))","v":1.1365708570387985},{"$f":"IF(Comm2=\"\",\"\",IF(LSCheck1st=\"n\",\"\",KURT('Step 1 - Enter Raw Data'!B41:BI41)))","v":54.063577559143098},{"$f":"IF(Comm2=\"\",\"\",IF(LSCheck1st=\"n\",\"\",'Step 1 - Enter Raw Data'!BQ41))","v":1},{"$f":"IF(Comm2=\"\",\"\",IF(LSCheck1st=\"n\",\"\",'Step 1 - Enter Raw Data'!BR41))","v":6},{"$f":"IF(Comm2=\"\",\"\",IF(LSCheck1st=\"n\",\"\",(H12-G12)+1))","v":6},{"$f":"IF(Comm2=\"\",\"\",IF(LSCheck1st=\"n\",\"\",I12/I$19))","v":0.375},{"$f":"IF(Comm2=\"\",\"\",IF(LSCheck1st=\"n\",\"\",T2AXLS-T21XLS))","v":8.032132524259417},{"$f":"IF(Comm2=\"\",\"\",IF(LSCheck1st=\"n\",\"\",DSTD1stComm2/24))","v":1.5598771645950116},null,null,null,null,null,null,null,null,null,null,null,null,null,1,{"$f":"IF(Comm2=\"\",\"\",IF(LSCheck1st=\"n\",\"\",K12*24))","v":192.77118058222601}]
[null,"2nd instar",{"$f":"IF(LSCheck2nd=\"n\",\"N/A\",SUM('Step 1 - Enter Raw Data'!B42:BI42))","v":215},{"$f":"IF(Comm2=\"\",\"\",IF(LSCheck2nd=\"n\",NA(),T22XLS))","v":4.1674418604651162},{"$f":"IF(Comm2=\"\",\"\",IF(LSCheck2nd=\"n\",\"\",'Step 1 - Enter Raw Data'!BK42))","v":1.1600275798833317},{"$f":"IF(Comm2=\"\",\"\",IF(LSCheck2nd=\"n\",\"\",KURT('Step 1 - Enter Raw Data'!B42:BI42)))","v":24.597777075333159},{"$f":"IF(Comm2=\"\",\"\",IF(LSCheck2nd=\"n\",\"\",'Step 1 - Enter Raw Data'!BQ42))","v":2},{"$f":"IF(Comm2=\"\",\"\",IF(LSCheck2nd=\"n\",\"\",'Step 1 - Enter Raw Data'!BR42))","v":7},{"$f":"IF(Comm2=\"\",\"\",IF(LSCheck2nd=\"n\",\"\",(H13-G13)+1))","v":6},{"$f":"IF(Comm2=\"\",\"\",IF(LSCheck2nd=\"n\",\"\",I13/I$19))","v":0.375},{"$f":"IF(Comm2=\"\",\"\",IF(LSCheck2nd=\"n\",\"\",T2AXLS-T22XLS))","v":6.3114991744325977},{"$f":"IF(Comm2=\"\",\"\",IF(LSCheck2nd=\"n\",\"\",DSTD2ndComm2/24))","v":1.5770502343441832},null,null,null,null,null,null,null,null,null,null,null,null,null,2,{"$f":"IF(Comm2=\"\",\"\",IF(LSCheck2nd=\"n\",\"\",K13*24))","v":151.47598018638234}]
[null,"3rd instar",{"$f":"IF(LSCheck3rd=\"n\",\"N/A\",SUM('Step 1 - Enter Raw Data'!B43:BI43))","v":255},{"$f":"IF(Comm2=\"\",\"\",IF(LSCheck3rd=\"n\",NA(),T23XLS))","v":6.1294117647058828},{"$f":"IF(Comm2=\"\",\"\",IF(LSCheck3rd=\"n\",\"\",'Step 1 - Enter Raw Data'!BK43))","v":1.4989883882305495},{"$f":"IF(Comm2=\"\",\"\",IF(LSCheck3rd=\"n\",\"\",KURT('Step 1 - Enter Raw Data'!B43:BI43)))","v":9.7713872605684191},{"$f":"IF(Comm2=\"\",\"\",IF(LSCheck3rd=\"n\",\"\",'Step 1 - Enter Raw Data'!BQ43))","v":3},{"$f":"IF(Comm2=\"\",\"\",IF(LSCheck3rd=\"n\",\"\",'Step 1 - Enter Raw Data'!BR43))","v":9},{"$f":"IF(Comm2=\"\",\"\",IF(LSCheck3rd=\"n\",\"\",(H14-G14)+1))","v":7},{"$f":"IF(Comm2=\"\",\"\",IF(LSCheck3rd=\"n\",\"\",I14/I$19))","v":0.4375},{"$f":"IF(Comm2=\"\",\"\",IF(LSCheck3rd=\"n\",\"\",T2AXLS-T23XLS))","v":4.3495292701918311},{"$f":"IF(Comm2=\"\",\"\",IF(LSCheck3rd=\"n\",\"\",DSTD3rdComm2/24))","v":1.840757899237454},null,null,null,null,null,null,null,null,null,null,null,null,null,3,{"$f":"IF(Comm2=\"\",\"\",IF(LSCheck3rd=\"n\",\"\",K14*24))","v":104.38870248460395}]
[null,"4th instar",{"$f":"IF(LSCheck4th=\"n\",\"N/A\",SUM('Step 1 - Enter Raw Data'!B44:BI44))","v":"N/A"},{"$f":"IF(Comm2=\"\",\"\",IF(LSCheck4th=\"n\",NA(),T24XLS))","v":{"$error":"#N/A"}},{"$f":"IF(Comm2=\"\",\"\",IF(LSCheck4th=\"n\",\"\",'Step 1 - Enter Raw Data'!BK44))","v":""},{"$f":"IF(Comm2=\"\",\"\",IF(LSCheck4th=\"n\",\"\",KURT('Step 1 - Enter Raw Data'!B44:BI44)))","v":""},{"$f":"IF(Comm2=\"\",\"\",IF(LSCheck4th=\"n\",\"\",'Step 1 - Enter Raw Data'!BQ44))","v":""},{"$f":"IF(Comm2=\"\",\"\",IF(LSCheck4th=\"n\",\"\",'Step 1 - Enter Raw Data'!BR44))","v":""},{"$f":"IF(Comm2=\"\",\"\",IF(LSCheck4th=\"n\",\"\",(H15-G15)+1))","v":""},{"$f":"IF(Comm2=\"\",\"\",IF(LSCheck4th=\"n\",\"\",I15/I$19))","v":""},{"$f":"IF(Comm2=\"\",\"\",IF(LSCheck4th=\"n\",\"\",T2AXLS-T24XLS))","v":""},{"$f":"IF(Comm2=\"\",\"\",IF(LSCheck4th=\"n\",\"\",DSTD4thComm2/24))","v":""},null,null,null,null,null,null,null,null,null,null,null,null,null,4,{"$f":"IF(Comm2=\"\",\"\",IF(LSCheck4th=\"n\",\"\",K15*24))","v":""}]
[null,"5th instar",{"$f":"IF(LSCheck5th=\"n\",\"N/A\",SUM('Step 1 - Enter Raw Data'!B45:BI45))","v":"N/A"},{"$f":"IF(Comm2=\"\",\"\",IF(LSCheck5th=\"n\",NA(),T25XLS))","v":{"$error":"#N/A"}},{"$f":"IF(Comm2=\"\",\"\",IF(LSCheck5th=\"n\",\"\",'Step 1 - Enter Raw Data'!BK45))","v":""},{"$f":"IF(Comm2=\"\",\"\",IF(LSCheck5th=\"n\",\"\",KURT('Step 1 - Enter Raw Data'!B45:BI45)))","v":""},{"$f":"IF(Comm2=\"\",\"\",IF(LSCheck5th=\"n\",\"\",'Step 1 - Enter Raw Data'!BQ45))","v":""},{"$f":"IF(Comm2=\"\",\"\",IF(LSCheck5th=\"n\",\"\",'Step 1 - Enter Raw Data'!BR45))","v":""},{"$f":"IF(Comm2=\"\",\"\",IF(LSCheck5th=\"n\",\"\",(H16-G16)+1))","v":""},{"$f":"IF(Comm2=\"\",\"\",IF(LSCheck5th=\"n\",\"\",I16/I$19))","v":""},{"$f":"IF(Comm2=\"\",\"\",IF(LSCheck5th=\"n\",\"\",T2AXLS-T25XLS))","v":""},{"$f":"IF(Comm2=\"\",\"\",IF(LSCheck5th=\"n\",\"\",DSTD5thComm2/24))","v":""},null,null,null,null,null,null,null,null,null,null,null,null,null,5,{"$f":"IF(Comm2=\"\",\"\",IF(LSCheck5th=\"n\",\"\",K16*24))","v":""}]
[null,"Pupae",{"$f":"IF(LSCheckPupa=\"n\",\"N/A\",SUM('Step 1 - Enter Raw Data'!B46:BI46))","v":175},{"$f":"IF(Comm2=\"\",\"\",IF(LSCheckPupa=\"n\",NA(),T2PXLS))","v":9.2342857142857149},{"$f":"IF(Comm2=\"\",\"\",IF(LSCheckPupa=\"n\",\"\",'Step 1 - Enter Raw Data'!BK46))","v":0.89505116309899579},{"$f":"IF(Comm2=\"\",\"\",IF(LSCheckPupa=\"n\",\"\",KURT('Step 1 - Enter Raw Data'!B46:BI46)))","v":26.234752612885114},{"$f":"IF(Comm2=\"\",\"\",IF(LSCheckPupa=\"n\",\"\",'Step 1 - Enter Raw Data'!BQ46))","v":7},{"$f":"IF(Comm2=\"\",\"\",IF(LSCheckPupa=\"n\",\"\",'Step 1 - Enter Raw Data'!BR46))","v":10},{"$f":"IF(Comm2=\"\",\"\",IF(LSCheckPupa=\"n\",\"\",(H17-G17)+1))","v":4},{"$f":"IF(Comm2=\"\",\"\",IF(LSCheckPupa=\"n\",\"\",I17/I$19))","v":0.25},{"$f":"IF(Comm2=\"\",\"\",IF(LSCheckPupa=\"n\",\"\",T2AXLS-T2PXLS))","v":1.244655320611999},{"$f":"IF(Comm2=\"\",\"\",IF(LSCheckPupa=\"n\",\"\",DSTDPupaeComm2/24))","v":1.3937503507156255},null,null,null,null,null,null,null,null,null,null,null,null,null,"P",{"$f":"IF(Comm2=\"\",\"\",IF(LSCheckPupa=\"n\",\"\",K17*24))","v":29.871727694687976}]
[null,"Adults",{"$f":"IF(LSCheckAdult=\"n\",\"N/A\",SUM('Step 1 - Enter Raw Data'!B47:BI47))","v":831},{"$f":"IF(Comm2=\"\",\"\",IF(LSCheckAdult=\"n\",NA(),T2AXLS))","v":10.478941034897714},{"$f":"IF(Comm2=\"\",\"\",IF(LSCheckAdult=\"n\",\"\",'Step 1 - Enter Raw Data'!BK47))","v":1.0683742113861903},{"$f":"IF(Comm2=\"\",\"\",IF(LSCheckAdult=\"n\",\"\",KURT('Step 1 - Enter Raw Data'!B47:BI47)))","v":33.882720589338163},{"$f":"IF(Comm2=\"\",\"\",IF(LSCheckAdult=\"n\",\"\",'Step 1 - Enter Raw Data'!BQ47))","v":8},{"$f":"IF(Comm2=\"\",\"\",IF(LSCheckAdult=\"n\",\"\",'Step 1 - Enter Raw Data'!BR47))","v":16},{"$f":"IF(Comm2=\"\",\"\",IF(LSCheckAdult=\"n\",\"\",(H18-G18)+1))","v":9},{"$f":"IF(Comm2=\"\",\"\",IF(LSCheckAdult=\"n\",\"\",I18/I$19))","v":0.5625}]
[null,"Treatment",{"$f":"IF(Comm2=\"\",\"\",SUM(C11:C18))","v":1753},null,null,{"$f":"IF(Comm2=\"\",\"\",KURT('Step 1 - Enter Raw Data'!B48:BI48))","v":22.207964715161943},{"$f":"IF(Comm2=\"\",\"\",'Step 1 - Enter Raw Data'!BQ48)","v":1},{"$f":"IF(Comm2=\"\",\"\",'Step 1 - Enter Raw Data'!BR48)","v":16},{"$f":"IF(Comm2=\"\",\"\",(H19-G19)+1)","v":16},{"$f":"IF(Comm2=\"\",\"\",I19/I$19)","v":1}]
[{"$f":"IF(Comm3=\"\",\"No treatment\",Comm3)","v":"Cherry"},"Eggs",{"$f":"IF(LSCheckEggs=\"n\",\"N/A\",SUM('Step 1 - Enter Raw Data'!B51:BI51))","v":167},{"$f":"IF(Comm3=\"\",\"\",IF(LSCheckEggs=\"n\",NA(),T3EXLS))","v":1.0598802395209581},{"$f":"IF(Comm3=\"\",\"\",IF(LSCheckEggs=\"n\",\"\",'Step 1 - Enter Raw Data'!BK51))","v":0.237978403454569},{"$f":"IF(Comm3=\"\",\"\",IF(LSCheckEggs=\"n\",\"\",KURT('Step 1 - Enter Raw Data'!B51:BI51)))","v":59.490068160447422},{"$f":"IF(Comm3=\"\",\"\",IF(LSCheckEggs=\"n\",\"\",'Step 1 - Enter Raw Data'!BQ51))","v":1},{"$f":"IF(Comm3=\"\",\"\",IF(LSCheckEggs=\"n\",\"\",'Step 1 - Enter Raw Data'!BR51))","v":2},{"$f":"IF(Comm3=\"\",\"\",IF(LSCheckEggs=\"n\",\"\",(H20-G20)+1))","v":2},{"$f":"IF(Comm3=\"\",\"\",IF(LSCheckEggs=\"n\",\"\",I20/I$28))","v":0.15384615384615385},{"$f":"IF(Comm3=\"\",\"\",IF(LSCheckEggs=\"n\",\"\",T3AXLS-T3EXLS))","v":9.6727238321897691},{"$f":"IF(Comm3=\"\",\"\",IF(LSCheckEggs=\"n\",\"\",DSTDEggsComm3/24))","v":0.85924553807800619},null,null,null,null,null,null,null,null,null,null,null,null,{"$f":"Comm3","v":"Cherry"},"E",{"$f":"IF(Comm3=\"\",\"\",IF(LSCheckEggs=\"n\",\"\",K20*24))","v":232.14537197255447}]
[null,"1st instar",{"$f":"IF(LSCheck1st=\"n\",\"N/A\",SUM('Step 1 - Enter Raw Data'!B52:BI52))","v":50},{"$f":"IF(Comm3=\"\",\"\",IF(LSCheck1st=\"n\",NA(),T31XLS))","v":1.76},{"$f":"IF(Comm3=\"\",\"\",IF(LSCheck1st=\"n\",\"\",'Step 1 - Enter Raw Data'!BK52))","v":0.51745057932213823},{"$f":"IF(Comm3=\"\",\"\",IF(LSCheck1st=\"n\",\"\",KURT('Step 1 - Enter Raw Data'!B52:BI52)))","v":43.732414813885519},{"$f":"IF(Comm3=\"\",\"\",IF(LSCheck1st=\"n\",\"\",'Step 1 - Enter Raw Data'!BQ52))","v":1},{"$f":"IF(Comm3=\"\",\"\",IF(LSCheck1st=\"n\",\"\",'Step 1 - Enter Raw Data'!BR52))","v":3},{"$f":"IF(Comm3=\"\",\"\",IF(LSCheck1st=\"n\",\"\",(H21-G21)+1))","v":3},{"$f":"IF(Comm3=\"\",\"\",IF(LSCheck1st=\"n\",\"\",I21/I$28))","v":0.23076923076923078},{"$f":"IF(Comm3=\"\",\"\",IF(LSCheck1st=\"n\",\"\",T3AXLS-T31XLS))","v":8.9726040717107267},{"$f":"IF(Comm3=\"\",\"\",IF(LSCheck1st=\"n\",\"\",DSTD1stComm3/24))","v":0.9743840496626538},null,null,null,null,null,null,null,null,null,null,null,null,null,1,{"$f":"IF(Comm3=\"\",\"\",IF(LSCheck1st=\"n\",\"\",K21*24))","v":215.34249772105744}]
[null,"2nd instar",{"$f":"IF(LSCheck2nd=\"n\",\"N/A\",SUM('Step 1 - Enter Raw Data'!B53:BI53))","v":91},{"$f":"IF(Comm3=\"\",\"\",IF(LSCheck2nd=\"n\",NA(),T32XLS))","v":3.2967032967032965},{"$f":"IF(Comm3=\"\",\"\",IF(LSCheck2nd=\"n\",\"\",'Step 1 - Enter Raw Data'!BK53))","v":0.82319844366694361},{"$f":"IF(Comm3=\"\",\"\",IF(LSCheck2nd=\"n\",\"\",KURT('Step 1 - Enter Raw Data'!B53:BI53)))","v":32.08051395870126},{"$f":"IF(Comm3=\"\",\"\",IF(LSCheck2nd=\"n\",\"\",'Step 1 - Enter Raw Data'!BQ53))","v":2},{"$f":"IF(Comm3=\"\",\"\",IF(LSCheck2nd=\"n\",\"\",'Step 1 - Enter Raw Data'!BR53))","v":5},{"$f":"IF(Comm3=\"\",\"\",IF(LSCheck2nd=\"n\",\"\",(H22-G22)+1))","v":4},{"$f":"IF(Comm3=\"\",\"\",IF(LSCheck2nd=\"n\",\"\",I22/I$28))","v":0.30769230769230771},{"$f":"IF(Comm3=\"\",\"\",IF(LSCheck2nd=\"n\",\"\",T3AXLS-T32XLS))","v":7.43590077500743},{"$f":"IF(Comm3=\"\",\"\",IF(LSCheck2nd=\"n\",\"\",DSTD2ndComm3/24))","v":1.1659008756544678},null,null,null,null,null,null,null,null,null,null,null,null,null,2,{"$f":"IF(Comm3=\"\",\"\",IF(LSCheck2nd=\"n\",\"\",K22*24))","v":178.46161860017833}]
[null,"3rd instar",{"$f":"IF(LSCheck3rd=\"n\",\"N/A\",SUM('Step 1 - Enter Raw Data'!B54:BI54))","v":381},{"$f":"IF(Comm3=\"\",\"\",IF(LSCheck3rd=\"n\",NA(),T33XLS))","v":5.5196850393700787},{"$f":"IF(Comm3=\"\",\"\",IF(LSCheck3rd=\"n\",\"\",'Step 1 - Enter Raw Data'!BK54))","v":1.2237801253802059},{"$f":"IF(Comm3=\"\",\"\",IF(LSCheck3rd=\"n\",\"\",KURT('Step 1 - Enter Raw Data'!B54:BI54)))","v":20.930956128040982},{"$f":"IF(Comm3=\"\",\"\",IF(LSCheck3rd=\"n\",\"\",'Step 1 - Enter Raw Data'!BQ54))","v":3},{"$f":"IF(Comm3=\"\",\"\",IF(LSCheck3rd=\"n\",\"\",'Step 1 - Enter Raw Data'!BR54))","v":8},{"$f":"IF(Comm3=\"\",\"\",IF(LSCheck3rd=\"n\",\"\",(H23-G23)+1))","v":6},{"$f":"IF(Comm3=\"\",\"\",IF(LSCheck3rd=\"n\",\"\",I23/I$28))","v":0.46153846153846156},{"$f":"IF(Comm3=\"\",\"\",IF(LSCheck3rd=\"n\",\"\",T3AXLS-T33XLS))","v":5.2129190323406478},{"$f":"IF(Comm3=\"\",\"\",IF(LSCheck3rd=\"n\",\"\",DSTD3rdComm3/24))","v":1.4762475976176113},null,null,null,null,null,null,null,null,null,null,null,null,null,3,{"$f":"IF(Comm3=\"\",\"\",IF(LSCheck3rd=\"n\",\"\",K23*24))","v":125.11005677617555}]
[null,"4th instar",{"$f":"IF(LSCheck4th=\"n\",\"N/A\",SUM('Step 1 - Enter Raw Data'!B55:BI55))","v":"N/A"},{"$f":"IF(Comm3=\"\",\"\",IF(LSCheck4th=\"n\",NA(),T34XLS))","v":{"$error":"#N/A"}},{"$f":"IF(Comm3=\"\",\"\",IF(LSCheck4th=\"n\",\"\",'Step 1 - Enter Raw Data'!BK55))","v":""},{"$f":"IF(Comm3=\"\",\"\",IF(LSCheck4th=\"n\",\"\",KURT('Step 1 - Enter Raw Data'!B55:BI55)))","v":""},{"$f":"IF(Comm3=\"\",\"\",IF(LSCheck4th=\"n\",\"\",'Step 1 - Enter Raw Data'!BQ55))","v":""},{"$f":"IF(Comm3=\"\",\"\",IF(LSCheck4th=\"n\",\"\",'Step 1 - Enter Raw Data'!BR55))","v":""},{"$f":"IF(Comm3=\"\",\"\",IF(LSCheck4th=\"n\",\"\",(H24-G24)+1))","v":""},{"$f":"IF(Comm3=\"\",\"\",IF(LSCheck4th=\"n\",\"\",I24/I$28))","v":""},{"$f":"IF(Comm3=\"\",\"\",IF(LSCheck4th=\"n\",\"\",T3AXLS-T34XLS))","v":""},{"$f":"IF(Comm3=\"\",\"\",IF(LSCheck4th=\"n\",\"\",DSTD4thComm3/24))","v":""},null,null,null,null,null,null,null,null,null,null,null,null,null,4,{"$f":"IF(Comm3=\"\",\"\",IF(LSCheck4th=\"n\",\"\",K24*24))","v":""}]
[null,"5th instar",{"$f":"IF(LSCheck5th=\"n\",\"N/A\",SUM('Step 1 - Enter Raw Data'!B56:BI56))","v":"N/A"},{"$f":"IF(Comm3=\"\",\"\",IF(LSCheck5th=\"n\",NA(),T35XLS))","v":{"$error":"#N/A"}},{"$f":"IF(Comm3=\"\",\"\",IF(LSCheck5th=\"n\",\"\",'Step 1 - Enter Raw Data'!BK56))","v":""},{"$f":"IF(Comm3=\"\",\"\",IF(LSCheck5th=\"n\",\"\",KURT('Step 1 - Enter Raw Data'!B56:BI56)))","v":""},{"$f":"IF(Comm3=\"\",\"\",IF(LSCheck5th=\"n\",\"\",'Step 1 - Enter Raw Data'!BQ56))","v":""},{"$f":"IF(Comm3=\"\",\"\",IF(LSCheck5th=\"n\",\"\",'Step 1 - Enter Raw Data'!BR56))","v":""},{"$f":"IF(Comm3=\"\",\"\",IF(LSCheck5th=\"n\",\"\",(H25-G25)+1))","v":""},{"$f":"IF(Comm3=\"\",\"\",IF(LSCheck5th=\"n\",\"\",I25/I$28))","v":""},{"$f":"IF(Comm3=\"\",\"\",IF(LSCheck5th=\"n\",\"\",T3AXLS-T35XLS))","v":""},{"$f":"IF(Comm3=\"\",\"\",IF(LSCheck5th=\"n\",\"\",DSTD5thComm3/24))","v":""},null,null,null,null,null,null,null,null,null,null,null,null,null,5,{"$f":"IF(Comm3=\"\",\"\",IF(LSCheck5th=\"n\",\"\",K25*24))","v":""}]
[null,"Pupae",{"$f":"IF(LSCheckPupa=\"n\",\"N/A\",SUM('Step 1 - Enter Raw Data'!B57:BI57))","v":127},{"$f":"IF(Comm3=\"\",\"\",IF(LSCheckPupa=\"n\",NA(),T3PXLS))","v":7.4251968503937009},{"$f":"IF(Comm3=\"\",\"\",IF(LSCheckPupa=\"n\",\"\",'Step 1 - Enter Raw Data'!BK57))","v":0.74022395838112931},{"$f":"IF(Comm3=\"\",\"\",IF(LSCheckPupa=\"n\",\"\",KURT('Step 1 - Enter Raw Data'!B57:BI57)))","v":32.477166348802498},{"$f":"IF(Comm3=\"\",\"\",IF(LSCheckPupa=\"n\",\"\",'Step 1 - Enter Raw Data'!BQ57))","v":5},{"$f":"IF(Comm3=\"\",\"\",IF(LSCheckPupa=\"n\",\"\",'Step 1 - Enter Raw Data'!BR57))","v":8},{"$f":"IF(Comm3=\"\",\"\",IF(LSCheckPupa=\"n\",\"\",(H26-G26)+1))","v":4},{"$f":"IF(Comm3=\"\",\"\",IF(LSCheckPupa=\"n\",\"\",I26/I$28))","v":0.30769230769230771},{"$f":"IF(Comm3=\"\",\"\",IF(LSCheckPupa=\"n\",\"\",T3AXLS-T3PXLS))","v":3.3074072213170256},{"$f":"IF(Comm3=\"\",\"\",IF(LSCheckPupa=\"n\",\"\",DSTDPupaeComm3/24))","v":1.1088736099112488},null,null,null,null,null,null,null,null,null,null,null,null,null,"P",{"$f":"IF(Comm3=\"\",\"\",IF(LSCheckPupa=\"n\",\"\",K26*24))","v":79.377773311608621}]
[null,"Adults",{"$f":"IF(LSCheckAdult=\"n\",\"N/A\",SUM('Step 1 - Enter Raw Data'!B58:BI58))","v":3291},{"$f":"IF(Comm3=\"\",\"\",IF(LSCheckAdult=\"n\",NA(),T3AXLS))","v":10.732604071710727},{"$f":"IF(Comm3=\"\",\"\",IF(LSCheckAdult=\"n\",\"\",'Step 1 - Enter Raw Data'!BK58))","v":0.82563259031858516},{"$f":"IF(Comm3=\"\",\"\",IF(LSCheckAdult=\"n\",\"\",KURT('Step 1 - Enter Raw Data'!B58:BI58)))","v":28.420932753503159},{"$f":"IF(Comm3=\"\",\"\",IF(LSCheckAdult=\"n\",\"\",'Step 1 - Enter Raw Data'!BQ58))","v":8},{"$f":"IF(Comm3=\"\",\"\",IF(LSCheckAdult=\"n\",\"\",'Step 1 - Enter Raw Data'!BR58))","v":13},{"$f":"IF(Comm3=\"\",\"\",IF(LSCheckAdult=\"n\",\"\",(H27-G27)+1))","v":6},{"$f":"IF(Comm3=\"\",\"\",IF(LSCheckAdult=\"n\",\"\",I27/I$28))","v":0.46153846153846156}]
[null,"Treatment",{"$f":"IF(Comm3=\"\",\"\",SUM(C20:C27))","v":4107},null,null,{"$f":"IF(Comm3=\"\",\"\",KURT('Step 1 - Enter Raw Data'!B59:BI59))","v":27.296982722229824},{"$f":"IF(Comm3=\"\",\"\",'Step 1 - Enter Raw Data'!BQ59)","v":1},{"$f":"IF(Comm3=\"\",\"\",'Step 1 - Enter Raw Data'!BR59)","v":13},{"$f":"IF(Comm3=\"\",\"\",(H28-G28)+1)","v":13},{"$f":"IF(Comm3=\"\",\"\",I28/I$28)","v":1}]
[{"$f":"IF(Comm4=\"\",\"No treatment\",Comm4)","v":"Grape"},"Eggs",{"$f":"IF(LSCheckEggs=\"n\",\"N/A\",SUM('Step 1 - Enter Raw Data'!B62:BI62))","v":293},{"$f":"IF(Comm4=\"\",\"\",IF(LSCheckEggs=\"n\",NA(),T4EXLS))","v":1.1399317406143346},{"$f":"IF(Comm4=\"\",\"\",IF(LSCheckEggs=\"n\",\"\",'Step 1 - Enter Raw Data'!BK62))","v":0.34750972507734179},{"$f":"IF(Comm4=\"\",\"\",IF(LSCheckEggs=\"n\",\"\",KURT('Step 1 - Enter Raw Data'!B62:BI62)))","v":56.795861711116572},{"$f":"IF(Comm4=\"\",\"\",IF(LSCheckEggs=\"n\",\"\",'Step 1 - Enter Raw Data'!BQ62))","v":1},{"$f":"IF(Comm4=\"\",\"\",IF(LSCheckEggs=\"n\",\"\",'Step 1 - Enter Raw Data'!BR62))","v":2},{"$f":"IF(Comm4=\"\",\"\",IF(LSCheckEggs=\"n\",\"\",(H29-G29)+1))","v":2},{"$f":"IF(Comm4=\"\",\"\",IF(LSCheckEggs=\"n\",\"\",I29/I$37))","v":0.11764705882352941},{"$f":"IF(Comm4=\"\",\"\",IF(LSCheckEggs=\"n\",\"\",T4AXLS-T4EXLS))","v":9.8805810798984854},{"$f":"IF(Comm4=\"\",\"\",IF(LSCheckEggs=\"n\",\"\",DSTDEggsComm4/24))","v":1.6423592343327391},null,null,null,null,null,null,null,null,null,null,null,null,{"$f":"Comm4","v":"Grape"},"E",{"$f":"IF(Comm4=\"\",\"\",IF(LSCheckEggs=\"n\",\"\",K29*24))","v":237.13394591756366}]
[null,"1st instar",{"$f":"IF(LSCheck1st=\"n\",\"N/A\",SUM('Step 1 - Enter Raw Data'!B63:BI63))","v":152},{"$f":"IF(Comm4=\"\",\"\",IF(LSCheck1st=\"n\",NA(),T41XLS))","v":1.8552631578947369},{"$f":"IF(Comm4=\"\",\"\",IF(LSCheck1st=\"n\",\"\",'Step 1 - Enter Raw Data'!BK63))","v":0.74057338388023075},{"$f":"IF(Comm4=\"\",\"\",IF(LSCheck1st=\"n\",\"\",KURT('Step 1 - Enter Raw Data'!B63:BI63)))","v":25.695211354272342},{"$f":"IF(Comm4=\"\",\"\",IF(LSCheck1st=\"n\",\"\",'Step 1 - Enter Raw Data'!BQ63))","v":1},{"$f":"IF(Comm4=\"\",\"\",IF(LSCheck1st=\"n\",\"\",'Step 1 - Enter Raw Data'!BR63))","v":4},{"$f":"IF(Comm4=\"\",\"\",IF(LSCheck1st=\"n\",\"\",(H30-G30)+1))","v":4},{"$f":"IF(Comm4=\"\",\"\",IF(LSCheck1st=\"n\",\"\",I30/I$37))","v":0.23529411764705882},{"$f":"IF(Comm4=\"\",\"\",IF(LSCheck1st=\"n\",\"\",T4AXLS-T41XLS))","v":9.1652496626180842},{"$f":"IF(Comm4=\"\",\"\",IF(LSCheck1st=\"n\",\"\",DSTD1stComm4/24))","v":1.7677753767055664},null,null,null,null,null,null,null,null,null,null,null,null,null,1,{"$f":"IF(Comm4=\"\",\"\",IF(LSCheck1st=\"n\",\"\",K30*24))","v":219.96599190283402}]
[null,"2nd instar",{"$f":"IF(LSCheck2nd=\"n\",\"N/A\",SUM('Step 1 - Enter Raw Data'!B64:BI64))","v":177},{"$f":"IF(Comm4=\"\",\"\",IF(LSCheck2nd=\"n\",NA(),T42XLS))","v":4.4406779661016946},{"$f":"IF(Comm4=\"\",\"\",IF(LSCheck2nd=\"n\",\"\",'Step 1 - Enter Raw Data'!BK64))","v":2.0527519204329816},{"$f":"IF(Comm4=\"\",\"\",IF(LSCheck2nd=\"n\",\"\",KURT('Step 1 - Enter Raw Data'!B64:BI64)))","v":25.5819703800864},{"$f":"IF(Comm4=\"\",\"\",IF(LSCheck2nd=\"n\",\"\",'Step 1 - Enter Raw Data'!BQ64))","v":2},{"$f":"IF(Comm4=\"\",\"\",IF(LSCheck2nd=\"n\",\"\",'Step 1 - Enter Raw Data'!BR64))","v":9},{"$f":"IF(Comm4=\"\",\"\",IF(LSCheck2nd=\"n\",\"\",(H31-G31)+1))","v":8},{"$f":"IF(Comm4=\"\",\"\",IF(LSCheck2nd=\"n\",\"\",I31/I$37))","v":0.47058823529411764},{"$f":"IF(Comm4=\"\",\"\",IF(LSCheck2nd=\"n\",\"\",T4AXLS-T42XLS))","v":6.5798348544111258},{"$f":"IF(Comm4=\"\",\"\",IF(LSCheck2nd=\"n\",\"\",DSTD2ndComm4/24))","v":2.6058340876609902},null,null,null,null,null,null,null,null,null,null,null,null,null,2,{"$f":"IF(Comm4=\"\",\"\",IF(LSCheck2nd=\"n\",\"\",K31*24))","v":157.91603650586703}]
[null,"3rd instar",{"$f":"IF(LSCheck3rd=\"n\",\"N/A\",SUM('Step 1 - Enter Raw Data'!B65:BI65))","v":425},{"$f":"IF(Comm4=\"\",\"\",IF(LSCheck3rd=\"n\",NA(),T43XLS))","v":6.4282352941176475},{"$f":"IF(Comm4=\"\",\"\",IF(LSCheck3rd=\"n\",\"\",'Step 1 - Enter Raw Data'!BK65))","v":1.7631321136450568},{"$f":"IF(Comm4=\"\",\"\",IF(LSCheck3rd=\"n\",\"\",KURT('Step 1 - Enter Raw Data'!B65:BI65)))","v":9.0126187352462175},{"$f":"IF(Comm4=\"\",\"\",IF(LSCheck3rd=\"n\",\"\",'Step 1 - Enter Raw Data'!BQ65))","v":3},{"$f":"IF(Comm4=\"\",\"\",IF(LSCheck3rd=\"n\",\"\",'Step 1 - Enter Raw Data'!BR65))","v":10},{"$f":"IF(Comm4=\"\",\"\",IF(LSCheck3rd=\"n\",\"\",(H32-G32)+1))","v":8},{"$f":"IF(Comm4=\"\",\"\",IF(LSCheck3rd=\"n\",\"\",I32/I$37))","v":0.47058823529411764},{"$f":"IF(Comm4=\"\",\"\",IF(LSCheck3rd=\"n\",\"\",T4AXLS-T43XLS))","v":4.5922775263951729},{"$f":"IF(Comm4=\"\",\"\",IF(LSCheck3rd=\"n\",\"\",DSTD3rdComm4/24))","v":2.3843690351414097},null,null,null,null,null,null,null,null,null,null,null,null,null,3,{"$f":"IF(Comm4=\"\",\"\",IF(LSCheck3rd=\"n\",\"\",K32*24))","v":110.21466063348416}]
[null,"4th instar",{"$f":"IF(LSCheck4th=\"n\",\"N/A\",SUM('Step 1 - Enter Raw Data'!B66:BI66))","v":"N/A"},{"$f":"IF(Comm4=\"\",\"\",IF(LSCheck4th=\"n\",NA(),T44XLS))","v":{"$error":"#N/A"}},{"$f":"IF(Comm4=\"\",\"\",IF(LSCheck4th=\"n\",\"\",'Step 1 - Enter Raw Data'!BK66))","v":""},{"$f":"IF(Comm4=\"\",\"\",IF(LSCheck4th=\"n\",\"\",KURT('Step 1 - Enter Raw Data'!B66:BI66)))","v":""},{"$f":"IF(Comm4=\"\",\"\",IF(LSCheck4th=\"n\",\"\",'Step 1 - Enter Raw Data'!BQ66))","v":""},{"$f":"IF(Comm4=\"\",\"\",IF(LSCheck4th=\"n\",\"\",'Step 1 - Enter Raw Data'!BR66))","v":""},{"$f":"IF(Comm4=\"\",\"\",IF(LSCheck4th=\"n\",\"\",(H33-G33)+1))","v":""},{"$f":"IF(Comm4=\"\",\"\",IF(LSCheck4th=\"n\",\"\",I33/I$37))","v":""},{"$f":"IF(Comm4=\"\",\"\",IF(LSCheck4th=\"n\",\"\",T4AXLS-T44XLS))","v":""},{"$f":"IF(Comm4=\"\",\"\",IF(LSCheck4th=\"n\",\"\",DSTD4thComm4/24))","v":""},null,null,null,null,null,null,null,null,null,null,null,null,null,4,{"$f":"IF(Comm4=\"\",\"\",IF(LSCheck4th=\"n\",\"\",K33*24))","v":""}]
[null,"5th instar",{"$f":"IF(LSCheck5th=\"n\",\"N/A\",SUM('Step 1 - Enter Raw Data'!B67:BI67))","v":"N/A"},{"$f":"IF(Comm4=\"\",\"\",IF(LSCheck5th=\"n\",NA(),T45XLS))","v":{"$error":"#N/A"}},{"$f":"IF(Comm4=\"\",\"\",IF(LSCheck5th=\"n\",\"\",'Step 1 - Enter Raw Data'!BK67))","v":""},{"$f":"IF(Comm4=\"\",\"\",IF(LSCheck5th=\"n\",\"\",KURT('Step 1 - Enter Raw Data'!B67:BI67)))","v":""},{"$f":"IF(Comm4=\"\",\"\",IF(LSCheck5th=\"n\",\"\",'Step 1 - Enter Raw Data'!BQ67))","v":""},{"$f":"IF(Comm4=\"\",\"\",IF(LSCheck5th=\"n\",\"\",'Step 1 - Enter Raw Data'!BR67))","v":""},{"$f":"IF(Comm4=\"\",\"\",IF(LSCheck5th=\"n\",\"\",(H34-G34)+1))","v":""},{"$f":"IF(Comm4=\"\",\"\",IF(LSCheck5th=\"n\",\"\",I34/I$37))","v":""},{"$f":"IF(Comm4=\"\",\"\",IF(LSCheck5th=\"n\",\"\",T4AXLS-T45XLS))","v":""},{"$f":"IF(Comm4=\"\",\"\",IF(LSCheck5th=\"n\",\"\",DSTD5thComm4/24))","v":""},null,null,null,null,null,null,null,null,null,null,null,null,null,5,{"$f":"IF(Comm4=\"\",\"\",IF(LSCheck5th=\"n\",\"\",K34*24))","v":""}]
[null,"Pupae",{"$f":"IF(LSCheckPupa=\"n\",\"N/A\",SUM('Step 1 - Enter Raw Data'!B68:BI68))","v":204},{"$f":"IF(Comm4=\"\",\"\",IF(LSCheckPupa=\"n\",NA(),T4PXLS))","v":8.9509803921568629},{"$f":"IF(Comm4=\"\",\"\",IF(LSCheckPupa=\"n\",\"\",'Step 1 - Enter Raw Data'!BK68))","v":1.0012548873125817},{"$f":"IF(Comm4=\"\",\"\",IF(LSCheckPupa=\"n\",\"\",KURT('Step 1 - Enter Raw Data'!B68:BI68)))","v":18.00208984940846},{"$f":"IF(Comm4=\"\",\"\",IF(LSCheckPupa=\"n\",\"\",'Step 1 - Enter Raw Data'!BQ68))","v":6},{"$f":"IF(Comm4=\"\",\"\",IF(LSCheckPupa=\"n\",\"\",'Step 1 - Enter Raw Data'!BR68))","v":10},{"$f":"IF(Comm4=\"\",\"\",IF(LSCheckPupa=\"n\",\"\",(H35-G35)+1))","v":5},{"$f":"IF(Comm4=\"\",\"\",IF(LSCheckPupa=\"n\",\"\",I35/I$37))","v":0.29411764705882354},{"$f":"IF(Comm4=\"\",\"\",IF(LSCheckPupa=\"n\",\"\",T4AXLS-T4PXLS))","v":2.0695324283559575},{"$f":"IF(Comm4=\"\",\"\",IF(LSCheckPupa=\"n\",\"\",DSTDPupaeComm4/24))","v":1.8918488826917501},null,null,null,null,null,null,null,null,null,null,null,null,null,"P",{"$f":"IF(Comm4=\"\",\"\",IF(LSCheckPupa=\"n\",\"\",K35*24))","v":49.66877828054298}]
[null,"Adults",{"$f":"IF(LSCheckAdult=\"n\",\"N/A\",SUM('Step 1 - Enter Raw Data'!B69:BI69))","v":975},{"$f":"IF(Comm4=\"\",\"\",IF(LSCheckAdult=\"n\",NA(),T4AXLS))","v":11.02051282051282},{"$f":"IF(Comm4=\"\",\"\",IF(LSCheckAdult=\"n\",\"\",'Step 1 - Enter Raw Data'!BK69))","v":1.6051731512751799},{"$f":"IF(Comm4=\"\",\"\",IF(LSCheckAdult=\"n\",\"\",KURT('Step 1 - Enter Raw Data'!B69:BI69)))","v":24.283611439812642},{"$f":"IF(Comm4=\"\",\"\",IF(LSCheckAdult=\"n\",\"\",'Step 1 - Enter Raw Data'!BQ69))","v":8},{"$f":"IF(Comm4=\"\",\"\",IF(LSCheckAdult=\"n\",\"\",'Step 1 - Enter Raw Data'!BR69))","v":17},{"$f":"IF(Comm4=\"\",\"\",IF(LSCheckAdult=\"n\",\"\",(H36-G36)+1))","v":10},{"$f":"IF(Comm4=\"\",\"\",IF(LSCheckAdult=\"n\",\"\",I36/I$37))","v":0.58823529411764708}]
[null,"Treatment",{"$f":"IF(Comm4=\"\",\"\",SUM(C29:C36))","v":2226},null,null,{"$f":"IF(Comm4=\"\",\"\",KURT('Step 1 - Enter Raw Data'!B70:BI70))","v":10.642330537762906},{"$f":"IF(Comm4=\"\",\"\",'Step 1 - Enter Raw Data'!BQ70)","v":1},{"$f":"IF(Comm4=\"\",\"\",'Step 1 - Enter Raw Data'!BR70)","v":17},{"$f":"IF(Comm4=\"\",\"\",(H37-G37)+1)","v":17},{"$f":"IF(Comm4=\"\",\"\",I37/I$37)","v":1}]
[{"$f":"IF(Comm5=\"\",\"No treatment\",Comm5)","v":"Raspberry"},"Eggs",{"$f":"IF(LSCheckEggs=\"n\",\"N/A\",SUM('Step 1 - Enter Raw Data'!B73:BI73))","v":93},{"$f":"IF(Comm5=\"\",\"\",IF(LSCheckEggs=\"n\",NA(),T5EXLS))","v":1.053763440860215},{"$f":"IF(Comm5=\"\",\"\",IF(LSCheckEggs=\"n\",\"\",'Step 1 - Enter Raw Data'!BK73))","v":0.30806518924217069},{"$f":"IF(Comm5=\"\",\"\",IF(LSCheckEggs=\"n\",\"\",KURT('Step 1 - Enter Raw Data'!B73:BI73)))","v":59.92313918184486},{"$f":"IF(Comm5=\"\",\"\",IF(LSCheckEggs=\"n\",\"\",'Step 1 - Enter Raw Data'!BQ73))","v":1},{"$f":"IF(Comm5=\"\",\"\",IF(LSCheckEggs=\"n\",\"\",'Step 1 - Enter Raw Data'!BR73))","v":3},{"$f":"IF(Comm5=\"\",\"\",IF(LSCheckEggs=\"n\",\"\",(H38-G38)+1))","v":3},{"$f":"IF(Comm5=\"\",\"\",IF(LSCheckEggs=\"n\",\"\",I38/I$46))","v":0.17647058823529413},{"$f":"IF(Comm5=\"\",\"\",IF(LSCheckEggs=\"n\",\"\",T5AXLS-T5EXLS))","v":8.4062253671979832},{"$f":"IF(Comm5=\"\",\"\",IF(LSCheckEggs=\"n\",\"\",DSTDEggsComm5/24))","v":0.95044871556620691},null,null,null,null,null,null,null,null,null,null,null,null,{"$f":"Comm5","v":"Raspberry"},"E",{"$f":"IF(Comm5=\"\",\"\",IF(LSCheckEggs=\"n\",\"\",K38*24))","v":201.7494088127516}]
[null,"1st instar",{"$f":"IF(LSCheck1st=\"n\",\"N/A\",SUM('Step 1 - Enter Raw Data'!B74:BI74))","v":65},{"$f":"IF(Comm5=\"\",\"\",IF(LSCheck1st=\"n\",NA(),T51XLS))","v":2.2153846153846155},{"$f":"IF(Comm5=\"\",\"\",IF(LSCheck1st=\"n\",\"\",'Step 1 - Enter Raw Data'!BK74))","v":0.48387458642153891},{"$f":"IF(Comm5=\"\",\"\",IF(LSCheck1st=\"n\",\"\",KURT('Step 1 - Enter Raw Data'!B74:BI74)))","v":47.870555960163657},{"$f":"IF(Comm5=\"\",\"\",IF(LSCheck1st=\"n\",\"\",'Step 1 - Enter Raw Data'!BQ74))","v":1},{"$f":"IF(Comm5=\"\",\"\",IF(LSCheck1st=\"n\",\"\",'Step 1 - Enter Raw Data'!BR74))","v":3},{"$f":"IF(Comm5=\"\",\"\",IF(LSCheck1st=\"n\",\"\",(H39-G39)+1))","v":3},{"$f":"IF(Comm5=\"\",\"\",IF(LSCheck1st=\"n\",\"\",I39/I$46))","v":0.17647058823529413},{"$f":"IF(Comm5=\"\",\"\",IF(LSCheck1st=\"n\",\"\",T5AXLS-T51XLS))","v":7.2446041926735818},{"$f":"IF(Comm5=\"\",\"\",IF(LSCheck1st=\"n\",\"\",DSTD1stComm5/24))","v":1.0210696428174002},null,null,null,null,null,null,null,null,null,null,null,null,null,1,{"$f":"IF(Comm5=\"\",\"\",IF(LSCheck1st=\"n\",\"\",K39*24))","v":173.87050062416597}]
[null,"2nd instar",{"$f":"IF(LSCheck2nd=\"n\",\"N/A\",SUM('Step 1 - Enter Raw Data'!B75:BI75))","v":138},{"$f":"IF(Comm5=\"\",\"\",IF(LSCheck2nd=\"n\",NA(),T52XLS))","v":2.6884057971014492},{"$f":"IF(Comm5=\"\",\"\",IF(LSCheck2nd=\"n\",\"\",'Step 1 - Enter Raw Data'!BK75))","v":0.68135464722464156},{"$f":"IF(Comm5=\"\",\"\",IF(LSCheck2nd=\"n\",\"\",KURT('Step 1 - Enter Raw Data'!B75:BI75)))","v":41.112777431719245},{"$f":"IF(Comm5=\"\",\"\",IF(LSCheck2nd=\"n\",\"\",'Step 1 - Enter Raw Data'!BQ75))","v":1},{"$f":"IF(Comm5=\"\",\"\",IF(LSCheck2nd=\"n\",\"\",'Step 1 - Enter Raw Data'!BR75))","v":5},{"$f":"IF(Comm5=\"\",\"\",IF(LSCheck2nd=\"n\",\"\",(H40-G40)+1))","v":5},{"$f":"IF(Comm5=\"\",\"\",IF(LSCheck2nd=\"n\",\"\",I40/I$46))","v":0.29411764705882354},{"$f":"IF(Comm5=\"\",\"\",IF(LSCheck2nd=\"n\",\"\",T5AXLS-T52XLS))","v":6.7715830109567481},{"$f":"IF(Comm5=\"\",\"\",IF(LSCheck2nd=\"n\",\"\",DSTD2ndComm5/24))","v":1.1281368513585812},null,null,null,null,null,null,null,null,null,null,null,null,null,2,{"$f":"IF(Comm5=\"\",\"\",IF(LSCheck2nd=\"n\",\"\",K40*24))","v":162.51799226296197}]
[null,"3rd instar",{"$f":"IF(LSCheck3rd=\"n\",\"N/A\",SUM('Step 1 - Enter Raw Data'!B76:BI76))","v":278},{"$f":"IF(Comm5=\"\",\"\",IF(LSCheck3rd=\"n\",NA(),T53XLS))","v":4.8201438848920866},{"$f":"IF(Comm5=\"\",\"\",IF(LSCheck3rd=\"n\",\"\",'Step 1 - Enter Raw Data'!BK76))","v":0.92108708777494064},{"$f":"IF(Comm5=\"\",\"\",IF(LSCheck3rd=\"n\",\"\",KURT('Step 1 - Enter Raw Data'!B76:BI76)))","v":16.242675887143971},{"$f":"IF(Comm5=\"\",\"\",IF(LSCheck3rd=\"n\",\"\",'Step 1 - Enter Raw Data'!BQ76))","v":3},{"$f":"IF(Comm5=\"\",\"\",IF(LSCheck3rd=\"n\",\"\",'Step 1 - Enter Raw Data'!BR76))","v":6},{"$f":"IF(Comm5=\"\",\"\",IF(LSCheck3rd=\"n\",\"\",(H41-G41)+1))","v":4},{"$f":"IF(Comm5=\"\",\"\",IF(LSCheck3rd=\"n\",\"\",I41/I$46))","v":0.23529411764705882},{"$f":"IF(Comm5=\"\",\"\",IF(LSCheck3rd=\"n\",\"\",T5AXLS-T53XLS))","v":4.6398449231661107},{"$f":"IF(Comm5=\"\",\"\",IF(LSCheck3rd=\"n\",\"\",DSTD3rdComm5/24))","v":1.2871868641981861},null,null,null,null,null,null,null,null,null,null,null,null,null,3,{"$f":"IF(Comm5=\"\",\"\",IF(LSCheck3rd=\"n\",\"\",K41*24))","v":111.35627815598666}]
[null,"4th instar",{"$f":"IF(LSCheck4th=\"n\",\"N/A\",SUM('Step 1 - Enter Raw Data'!B77:BI77))","v":"N/A"},{"$f":"IF(Comm5=\"\",\"\",IF(LSCheck4th=\"n\",NA(),T54XLS))","v":{"$error":"#N/A"}},{"$f":"IF(Comm5=\"\",\"\",IF(LSCheck4th=\"n\",\"\",'Step 1 - Enter Raw Data'!BK77))","v":""},{"$f":"IF(Comm5=\"\",\"\",IF(LSCheck4th=\"n\",\"\",KURT('Step 1 - Enter Raw Data'!B77:BI77)))","v":""},{"$f":"IF(Comm5=\"\",\"\",IF(LSCheck4th=\"n\",\"\",'Step 1 - Enter Raw Data'!BQ77))","v":""},{"$f":"IF(Comm5=\"\",\"\",IF(LSCheck4th=\"n\",\"\",'Step 1 - Enter Raw Data'!BR77))","v":""},{"$f":"IF(Comm5=\"\",\"\",IF(LSCheck4th=\"n\",\"\",(H42-G42)+1))","v":""},{"$f":"IF(Comm5=\"\",\"\",IF(LSCheck4th=\"n\",\"\",I42/I$46))","v":""},{"$f":"IF(Comm5=\"\",\"\",IF(LSCheck4th=\"n\",\"\",T5AXLS-T54XLS))","v":""},{"$f":"IF(Comm5=\"\",\"\",IF(LSCheck4th=\"n\",\"\",DSTD4thComm5/24))","v":""},null,null,null,null,null,null,null,null,null,null,null,null,null,4,{"$f":"IF(Comm5=\"\",\"\",IF(LSCheck4th=\"n\",\"\",K42*24))","v":""}]
[null,"5th instar",{"$f":"IF(LSCheck5th=\"n\",\"N/A\",SUM('Step 1 - Enter Raw Data'!B78:BI78))","v":"N/A"},{"$f":"IF(Comm5=\"\",\"\",IF(LSCheck5th=\"n\",NA(),T55XLS))","v":{"$error":"#N/A"}},{"$f":"IF(Comm5=\"\",\"\",IF(LSCheck5th=\"n\",\"\",'Step 1 - Enter Raw Data'!BK78))","v":""},{"$f":"IF(Comm5=\"\",\"\",IF(LSCheck5th=\"n\",\"\",KURT('Step 1 - Enter Raw Data'!B78:BI78)))","v":""},{"$f":"IF(Comm5=\"\",\"\",IF(LSCheck5th=\"n\",\"\",'Step 1 - Enter Raw Data'!BQ78))","v":""},{"$f":"IF(Comm5=\"\",\"\",IF(LSCheck5th=\"n\",\"\",'Step 1 - Enter Raw Data'!BR78))","v":""},{"$f":"IF(Comm5=\"\",\"\",IF(LSCheck5th=\"n\",\"\",(H43-G43)+1))","v":""},{"$f":"IF(Comm5=\"\",\"\",IF(LSCheck5th=\"n\",\"\",I43/I$46))","v":""},{"$f":"IF(Comm5=\"\",\"\",IF(LSCheck5th=\"n\",\"\",T5AXLS-T55XLS))","v":""},{"$f":"IF(Comm5=\"\",\"\",IF(LSCheck5th=\"n\",\"\",DSTD5thComm5/24))","v":""},null,null,null,null,null,null,null,null,null,null,null,null,null,5,{"$f":"IF(Comm5=\"\",\"\",IF(LSCheck5th=\"n\",\"\",K43*24))","v":""}]
[null,"Pupae",{"$f":"IF(LSCheckPupa=\"n\",\"N/A\",SUM('Step 1 - Enter Raw Data'!B79:BI79))","v":109},{"$f":"IF(Comm5=\"\",\"\",IF(LSCheckPupa=\"n\",NA(),T5PXLS))","v":6.3119266055045875},{"$f":"IF(Comm5=\"\",\"\",IF(LSCheckPupa=\"n\",\"\",'Step 1 - Enter Raw Data'!BK79))","v":0.58842614481063082},{"$f":"IF(Comm5=\"\",\"\",IF(LSCheckPupa=\"n\",\"\",KURT('Step 1 - Enter Raw Data'!B79:BI79)))","v":35.380630786189364},{"$f":"IF(Comm5=\"\",\"\",IF(LSCheckPupa=\"n\",\"\",'Step 1 - Enter Raw Data'!BQ79))","v":4},{"$f":"IF(Comm5=\"\",\"\",IF(LSCheckPupa=\"n\",\"\",'Step 1 - Enter Raw Data'!BR79))","v":7},{"$f":"IF(Comm5=\"\",\"\",IF(LSCheckPupa=\"n\",\"\",(H44-G44)+1))","v":4},{"$f":"IF(Comm5=\"\",\"\",IF(LSCheckPupa=\"n\",\"\",I44/I$46))","v":0.23529411764705882},{"$f":"IF(Comm5=\"\",\"\",IF(LSCheckPupa=\"n\",\"\",T5AXLS-T5PXLS))","v":3.1480622025536098},{"$f":"IF(Comm5=\"\",\"\",IF(LSCheckPupa=\"n\",\"\",DSTDPupaeComm5/24))","v":1.0745668559914454},null,null,null,null,null,null,null,null,null,null,null,null,null,"P",{"$f":"IF(Comm5=\"\",\"\",IF(LSCheckPupa=\"n\",\"\",K44*24))","v":75.553492861286628}]
[null,"Adults",{"$f":"IF(LSCheckAdult=\"n\",\"N/A\",SUM('Step 1 - Enter Raw Data'!B80:BI80))","v":1787},{"$f":"IF(Comm5=\"\",\"\",IF(LSCheckAdult=\"n\",NA(),T5AXLS))","v":9.4599888080581973},{"$f":"IF(Comm5=\"\",\"\",IF(LSCheckAdult=\"n\",\"\",'Step 1 - Enter Raw Data'!BK80))","v":0.89913769807445965},{"$f":"IF(Comm5=\"\",\"\",IF(LSCheckAdult=\"n\",\"\",KURT('Step 1 - Enter Raw Data'!B80:BI80)))","v":34.95295688064774},{"$f":"IF(Comm5=\"\",\"\",IF(LSCheckAdult=\"n\",\"\",'Step 1 - Enter Raw Data'!BQ80))","v":8},{"$f":"IF(Comm5=\"\",\"\",IF(LSCheckAdult=\"n\",\"\",'Step 1 - Enter Raw Data'!BR80))","v":17},{"$f":"IF(Comm5=\"\",\"\",IF(LSCheckAdult=\"n\",\"\",(H45-G45)+1))","v":10},{"$f":"IF(Comm5=\"\",\"\",IF(LSCheckAdult=\"n\",\"\",I45/I$46))","v":0.58823529411764708}]
[null,"Treatment",{"$f":"IF(Comm5=\"\",\"\",SUM(C38:C45))","v":2470},null,null,{"$f":"IF(Comm5=\"\",\"\",KURT('Step 1 - Enter Raw Data'!B81:BI81))","v":31.669531790502191},{"$f":"IF(Comm5=\"\",\"\",'Step 1 - Enter Raw Data'!BQ81)","v":1},{"$f":"IF(Comm5=\"\",\"\",'Step 1 - Enter Raw Data'!BR81)","v":17},{"$f":"IF(Comm5=\"\",\"\",(H46-G46)+1)","v":17},{"$f":"IF(Comm5=\"\",\"\",I46/I$46)","v":1}]
[{"$f":"IF(Comm6=\"\",\"No treatment\",Comm6)","v":"Strawberry"},"Eggs",{"$f":"IF(LSCheckEggs=\"n\",\"N/A\",SUM('Step 1 - Enter Raw Data'!B84:BI84))","v":261},{"$f":"IF(Comm6=\"\",\"\",IF(LSCheckEggs=\"n\",NA(),T6EXLS))","v":1.0957854406130267},{"$f":"IF(Comm6=\"\",\"\",IF(LSCheckEggs=\"n\",\"\",'Step 1 - Enter Raw Data'!BK84))","v":0.29486218413584819},{"$f":"IF(Comm6=\"\",\"\",IF(LSCheckEggs=\"n\",\"\",KURT('Step 1 - Enter Raw Data'!B84:BI84)))","v":58.605522441459897},{"$f":"IF(Comm6=\"\",\"\",IF(LSCheckEggs=\"n\",\"\",'Step 1 - Enter Raw Data'!BQ84))","v":1},{"$f":"IF(Comm6=\"\",\"\",IF(LSCheckEggs=\"n\",\"\",'Step 1 - Enter Raw Data'!BR84))","v":2},{"$f":"IF(Comm6=\"\",\"\",IF(LSCheckEggs=\"n\",\"\",(H47-G47)+1))","v":2},{"$f":"IF(Comm6=\"\",\"\",IF(LSCheckEggs=\"n\",\"\",I47/I$55))","v":0.13333333333333333},{"$f":"IF(Comm6=\"\",\"\",IF(LSCheckEggs=\"n\",\"\",T6AXLS-T6EXLS))","v":9.3644938083036813},{"$f":"IF(Comm6=\"\",\"\",IF(LSCheckEggs=\"n\",\"\",DSTDEggsComm6/24))","v":1.0586072973311016},null,null,null,null,null,null,null,null,null,null,null,null,{"$f":"Comm6","v":"Strawberry"},"E",{"$f":"IF(Comm6=\"\",\"\",IF(LSCheckEggs=\"n\",\"\",K47*24))","v":224.74785139928835}]
[null,"1st instar",{"$f":"IF(LSCheck1st=\"n\",\"N/A\",SUM('Step 1 - Enter Raw Data'!B85:BI85))","v":310},{"$f":"IF(Comm6=\"\",\"\",IF(LSCheck1st=\"n\",NA(),T61XLS))","v":2.4161290322580644},{"$f":"IF(Comm6=\"\",\"\",IF(LSCheck1st=\"n\",\"\",'Step 1 - Enter Raw Data'!BK85))","v":0.74460161768378719},{"$f":"IF(Comm6=\"\",\"\",IF(LSCheck1st=\"n\",\"\",KURT('Step 1 - Enter Raw Data'!B85:BI85)))","v":51.248390019029081},{"$f":"IF(Comm6=\"\",\"\",IF(LSCheck1st=\"n\",\"\",'Step 1 - Enter Raw Data'!BQ85))","v":2},{"$f":"IF(Comm6=\"\",\"\",IF(LSCheck1st=\"n\",\"\",'Step 1 - Enter Raw Data'!BR85))","v":5},{"$f":"IF(Comm6=\"\",\"\",IF(LSCheck1st=\"n\",\"\",(H48-G48)+1))","v":4},{"$f":"IF(Comm6=\"\",\"\",IF(LSCheck1st=\"n\",\"\",I48/I$55))","v":0.26666666666666666},{"$f":"IF(Comm6=\"\",\"\",IF(LSCheck1st=\"n\",\"\",T6AXLS-T61XLS))","v":8.0441502166586432},{"$f":"IF(Comm6=\"\",\"\",IF(LSCheck1st=\"n\",\"\",DSTD1stComm6/24))","v":1.2602131848963529},null,null,null,null,null,null,null,null,null,null,null,null,null,1,{"$f":"IF(Comm6=\"\",\"\",IF(LSCheck1st=\"n\",\"\",K48*24))","v":193.05960519980744}]
[null,"2nd instar",{"$f":"IF(LSCheck2nd=\"n\",\"N/A\",SUM('Step 1 - Enter Raw Data'!B86:BI86))","v":334},{"$f":"IF(Comm6=\"\",\"\",IF(LSCheck2nd=\"n\",NA(),T62XLS))","v":3.2874251497005988},{"$f":"IF(Comm6=\"\",\"\",IF(LSCheck2nd=\"n\",\"\",'Step 1 - Enter Raw Data'!BK86))","v":0.60629130459891911},{"$f":"IF(Comm6=\"\",\"\",IF(LSCheck2nd=\"n\",\"\",KURT('Step 1 - Enter Raw Data'!B86:BI86)))","v":51.273719229977047},{"$f":"IF(Comm6=\"\",\"\",IF(LSCheck2nd=\"n\",\"\",'Step 1 - Enter Raw Data'!BQ86))","v":2},{"$f":"IF(Comm6=\"\",\"\",IF(LSCheck2nd=\"n\",\"\",'Step 1 - Enter Raw Data'!BR86))","v":6},{"$f":"IF(Comm6=\"\",\"\",IF(LSCheck2nd=\"n\",\"\",(H49-G49)+1))","v":5},{"$f":"IF(Comm6=\"\",\"\",IF(LSCheck2nd=\"n\",\"\",I49/I$55))","v":0.33333333333333331},{"$f":"IF(Comm6=\"\",\"\",IF(LSCheck2nd=\"n\",\"\",T6AXLS-T62XLS))","v":7.1728540992161083},{"$f":"IF(Comm6=\"\",\"\",IF(LSCheck2nd=\"n\",\"\",DSTD2ndComm6/24))","v":1.1837630034603868},null,null,null,null,null,null,null,null,null,null,null,null,null,2,{"$f":"IF(Comm6=\"\",\"\",IF(LSCheck2nd=\"n\",\"\",K49*24))","v":172.14849838118658}]
[null,"3rd instar",{"$f":"IF(LSCheck3rd=\"n\",\"N/A\",SUM('Step 1 - Enter Raw Data'!B87:BI87))","v":653},{"$f":"IF(Comm6=\"\",\"\",IF(LSCheck3rd=\"n\",NA(),T63XLS))","v":5.0076569678407354},{"$f":"IF(Comm6=\"\",\"\",IF(LSCheck3rd=\"n\",\"\",'Step 1 - Enter Raw Data'!BK87))","v":0.89216228953039534},{"$f":"IF(Comm6=\"\",\"\",IF(LSCheck3rd=\"n\",\"\",KURT('Step 1 - Enter Raw Data'!B87:BI87)))","v":16.699772131591516},{"$f":"IF(Comm6=\"\",\"\",IF(LSCheck3rd=\"n\",\"\",'Step 1 - Enter Raw Data'!BQ87))","v":3},{"$f":"IF(Comm6=\"\",\"\",IF(LSCheck3rd=\"n\",\"\",'Step 1 - Enter Raw Data'!BR87))","v":7},{"$f":"IF(Comm6=\"\",\"\",IF(LSCheck3rd=\"n\",\"\",(H50-G50)+1))","v":5},{"$f":"IF(Comm6=\"\",\"\",IF(LSCheck3rd=\"n\",\"\",I50/I$55))","v":0.33333333333333331},{"$f":"IF(Comm6=\"\",\"\",IF(LSCheck3rd=\"n\",\"\",T6AXLS-T63XLS))","v":5.4526222810759721},{"$f":"IF(Comm6=\"\",\"\",IF(LSCheck3rd=\"n\",\"\",DSTD3rdComm6/24))","v":1.3526489763384342},null,null,null,null,null,null,null,null,null,null,null,null,null,3,{"$f":"IF(Comm6=\"\",\"\",IF(LSCheck3rd=\"n\",\"\",K50*24))","v":130.86293474582334}]
[null,"4th instar",{"$f":"IF(LSCheck4th=\"n\",\"N/A\",SUM('Step 1 - Enter Raw Data'!B88:BI88))","v":"N/A"},{"$f":"IF(Comm6=\"\",\"\",IF(LSCheck4th=\"n\",NA(),T64XLS))","v":{"$error":"#N/A"}},{"$f":"IF(Comm6=\"\",\"\",IF(LSCheck4th=\"n\",\"\",'Step 1 - Enter Raw Data'!BK88))","v":""},{"$f":"IF(Comm6=\"\",\"\",IF(LSCheck4th=\"n\",\"\",KURT('Step 1 - Enter Raw Data'!B88:BI88)))","v":""},{"$f":"IF(Comm6=\"\",\"\",IF(LSCheck4th=\"n\",\"\",'Step 1 - Enter Raw Data'!BQ88))","v":""},{"$f":"IF(Comm6=\"\",\"\",IF(LSCheck4th=\"n\",\"\",'Step 1 - Enter Raw Data'!BR88))","v":""},{"$f":"IF(Comm6=\"\",\"\",IF(LSCheck4th=\"n\",\"\",(H51-G51)+1))","v":""},{"$f":"IF(Comm6=\"\",\"\",IF(LSCheck4th=\"n\",\"\",I51/I$55))","v":""},{"$f":"IF(Comm6=\"\",\"\",IF(LSCheck4th=\"n\",\"\",T6AXLS-T64XLS))","v":""},{"$f":"IF(Comm6=\"\",\"\",IF(LSCheck4th=\"n\",\"\",DSTD4thComm6/24))","v":""},null,null,null,null,null,null,null,null,null,null,null,null,null,4,{"$f":"IF(Comm6=\"\",\"\",IF(LSCheck4th=\"n\",\"\",K51*24))","v":""}]
[null,"5th instar",{"$f":"IF(LSCheck5th=\"n\",\"N/A\",SUM('Step 1 - Enter Raw Data'!B89:BI89))","v":"N/A"},{"$f":"IF(Comm6=\"\",\"\",IF(LSCheck5th=\"n\",NA(),T65XLS))","v":{"$error":"#N/A"}},{"$f":"IF(Comm6=\"\",\"\",IF(LSCheck5th=\"n\",\"\",'Step 1 - Enter Raw Data'!BK89))","v":""},{"$f":"IF(Comm6=\"\",\"\",IF(LSCheck5th=\"n\",\"\",KURT('Step 1 - Enter Raw Data'!B89:BI89)))","v":""},{"$f":"IF(Comm6=\"\",\"\",IF(LSCheck5th=\"n\",\"\",'Step 1 - Enter Raw Data'!BQ89))","v":""},{"$f":"IF(Comm6=\"\",\"\",IF(LSCheck5th=\"n\",\"\",'Step 1 - Enter Raw Data'!BR89))","v":""},{"$f":"IF(Comm6=\"\",\"\",IF(LSCheck5th=\"n\",\"\",(H52-G52)+1))","v":""},{"$f":"IF(Comm6=\"\",\"\",IF(LSCheck5th=\"n\",\"\",I52/I$55))","v":""},{"$f":"IF(Comm6=\"\",\"\",IF(LSCheck5th=\"n\",\"\",T6AXLS-T65XLS))","v":""},{"$f":"IF(Comm6=\"\",\"\",IF(LSCheck5th=\"n\",\"\",DSTD5thComm6/24))","v":""},null,null,null,null,null,null,null,null,null,null,null,null,null,5,{"$f":"IF(Comm6=\"\",\"\",IF(LSCheck5th=\"n\",\"\",K52*24))","v":""}]
[null,"Pupae",{"$f":"IF(LSCheckPupa=\"n\",\"N/A\",SUM('Step 1 - Enter Raw Data'!B90:BI90))","v":471},{"$f":"IF(Comm6=\"\",\"\",IF(LSCheckPupa=\"n\",NA(),T6PXLS))","v":7.3481953290870488},{"$f":"IF(Comm6=\"\",\"\",IF(LSCheckPupa=\"n\",\"\",'Step 1 - Enter Raw Data'!BK90))","v":0.62721262136827616},{"$f":"IF(Comm6=\"\",\"\",IF(LSCheckPupa=\"n\",\"\",KURT('Step 1 - Enter Raw Data'!B90:BI90)))","v":26.843750468999247},{"$f":"IF(Comm6=\"\",\"\",IF(LSCheckPupa=\"n\",\"\",'Step 1 - Enter Raw Data'!BQ90))","v":6},{"$f":"IF(Comm6=\"\",\"\",IF(LSCheckPupa=\"n\",\"\",'Step 1 - Enter Raw Data'!BR90))","v":8},{"$f":"IF(Comm6=\"\",\"\",IF(LSCheckPupa=\"n\",\"\",(H53-G53)+1))","v":3},{"$f":"IF(Comm6=\"\",\"\",IF(LSCheckPupa=\"n\",\"\",I53/I$55))","v":0.2},{"$f":"IF(Comm6=\"\",\"\",IF(LSCheckPupa=\"n\",\"\",T6AXLS-T6PXLS))","v":3.1120839198296588},{"$f":"IF(Comm6=\"\",\"\",IF(LSCheckPupa=\"n\",\"\",DSTDPupaeComm6/24))","v":1.194613483404972},null,null,null,null,null,null,null,null,null,null,null,null,null,"P",{"$f":"IF(Comm6=\"\",\"\",IF(LSCheckPupa=\"n\",\"\",K53*24))","v":74.690014075911819}]
[null,"Adults",{"$f":"IF(LSCheckAdult=\"n\",\"N/A\",SUM('Step 1 - Enter Raw Data'!B91:BI91))","v":2077},{"$f":"IF(Comm6=\"\",\"\",IF(LSCheckAdult=\"n\",NA(),T6AXLS))","v":10.460279248916708},{"$f":"IF(Comm6=\"\",\"\",IF(LSCheckAdult=\"n\",\"\",'Step 1 - Enter Raw Data'!BK91))","v":1.0167131858736251},{"$f":"IF(Comm6=\"\",\"\",IF(LSCheckAdult=\"n\",\"\",KURT('Step 1 - Enter Raw Data'!B91:BI91)))","v":35.323178151995265},{"$f":"IF(Comm6=\"\",\"\",IF(LSCheckAdult=\"n\",\"\",'Step 1 - Enter Raw Data'!BQ91))","v":8},{"$f":"IF(Comm6=\"\",\"\",IF(LSCheckAdult=\"n\",\"\",'Step 1 - Enter Raw Data'!BR91))","v":15},{"$f":"IF(Comm6=\"\",\"\",IF(LSCheckAdult=\"n\",\"\",(H54-G54)+1))","v":8},{"$f":"IF(Comm6=\"\",\"\",IF(LSCheckAdult=\"n\",\"\",I54/I$55))","v":0.53333333333333333}]
[null,"Treatment",{"$f":"IF(Comm6=\"\",\"\",SUM(C47:C54))","v":4106},null,null,{"$f":"IF(Comm6=\"\",\"\",KURT('Step 1 - Enter Raw Data'!B92:BI92))","v":19.091263241057522},{"$f":"IF(Comm6=\"\",\"\",'Step 1 - Enter Raw Data'!BQ92)","v":1},{"$f":"IF(Comm6=\"\",\"\",'Step 1 - Enter Raw Data'!BR92)","v":15},{"$f":"IF(Comm6=\"\",\"\",(H55-G55)+1)","v":15},{"$f":"IF(Comm6=\"\",\"\",I55/I$55)","v":1}]
[{"$f":"IF(Comm7=\"\",\"No treatment\",Comm7)","v":"No treatment"},"Eggs",{"$f":"IF(LSCheckEggs=\"n\",\"N/A\",SUM('Step 1 - Enter Raw Data'!B95:BI95))","v":0},{"$f":"IF(Comm7=\"\",\"\",IF(LSCheckEggs=\"n\",NA(),T7EXLS))","v":""},{"$f":"IF(Comm7=\"\",\"\",IF(LSCheckEggs=\"n\",\"\",'Step 1 - Enter Raw Data'!BK95))","v":""},{"$f":"IF(Comm7=\"\",\"\",IF(LSCheckEggs=\"n\",\"\",KURT('Step 1 - Enter Raw Data'!B95:BI95)))","v":""},{"$f":"IF(Comm7=\"\",\"\",IF(LSCheckEggs=\"n\",\"\",'Step 1 - Enter Raw Data'!BQ95))","v":""},{"$f":"IF(Comm7=\"\",\"\",IF(LSCheckEggs=\"n\",\"\",'Step 1 - Enter Raw Data'!BR95))","v":""},{"$f":"IF(Comm7=\"\",\"\",IF(LSCheckEggs=\"n\",\"\",(H56-G56)+1))","v":""},{"$f":"IF(Comm7=\"\",\"\",IF(LSCheckEggs=\"n\",\"\",I56/I$64))","v":""},{"$f":"IF(Comm7=\"\",\"\",IF(LSCheckEggs=\"n\",\"\",T7AXLS-T7EXLS))","v":""},{"$f":"IF(Comm7=\"\",\"\",IF(LSCheckEggs=\"n\",\"\",DSTDEggsComm7/24))","v":""},null,null,null,null,null,null,null,null,null,null,null,null,{"$f":"Comm7","v":0},"E",{"$f":"IF(Comm7=\"\",\"\",IF(LSCheckEggs=\"n\",\"\",K56*24))","v":""}]
[null,"1st instar",{"$f":"IF(LSCheck1st=\"n\",\"N/A\",SUM('Step 1 - Enter Raw Data'!B96:BI96))","v":0},{"$f":"IF(Comm7=\"\",\"\",IF(LSCheck1st=\"n\",NA(),T71XLS))","v":""},{"$f":"IF(Comm7=\"\",\"\",IF(LSCheck1st=\"n\",\"\",'Step 1 - Enter Raw Data'!BK96))","v":""},{"$f":"IF(Comm7=\"\",\"\",IF(LSCheck1st=\"n\",\"\",KURT('Step 1 - Enter Raw Data'!B96:BI96)))","v":""},{"$f":"IF(Comm7=\"\",\"\",IF(LSCheck1st=\"n\",\"\",'Step 1 - Enter Raw Data'!BQ96))","v":""},{"$f":"IF(Comm7=\"\",\"\",IF(LSCheck1st=\"n\",\"\",'Step 1 - Enter Raw Data'!BR96))","v":""},{"$f":"IF(Comm7=\"\",\"\",IF(LSCheck1st=\"n\",\"\",(H57-G57)+1))","v":""},{"$f":"IF(Comm7=\"\",\"\",IF(LSCheck1st=\"n\",\"\",I57/I$64))","v":""},{"$f":"IF(Comm7=\"\",\"\",IF(LSCheck1st=\"n\",\"\",T7AXLS-T71XLS))","v":""},{"$f":"IF(Comm7=\"\",\"\",IF(LSCheck1st=\"n\",\"\",DSTD1stComm7/24))","v":""},null,null,null,null,null,null,null,null,null,null,null,null,null,1,{"$f":"IF(Comm7=\"\",\"\",IF(LSCheck1st=\"n\",\"\",K57*24))","v":""}]
[null,"2nd instar",{"$f":"IF(LSCheck2nd=\"n\",\"N/A\",SUM('Step 1 - Enter Raw Data'!B97:BI97))","v":0},{"$f":"IF(Comm7=\"\",\"\",IF(LSCheck2nd=\"n\",NA(),T72XLS))","v":""},{"$f":"IF(Comm7=\"\",\"\",IF(LSCheck2nd=\"n\",\"\",'Step 1 - Enter Raw Data'!BK97))","v":""},{"$f":"IF(Comm7=\"\",\"\",IF(LSCheck2nd=\"n\",\"\",KURT('Step 1 - Enter Raw Data'!B97:BI97)))","v":""},{"$f":"IF(Comm7=\"\",\"\",IF(LSCheck2nd=\"n\",\"\",'Step 1 - Enter Raw Data'!BQ97))","v":""},{"$f":"IF(Comm7=\"\",\"\",IF(LSCheck2nd=\"n\",\"\",'Step 1 - Enter Raw Data'!BR97))","v":""},{"$f":"IF(Comm7=\"\",\"\",IF(LSCheck2nd=\"n\",\"\",(H58-G58)+1))","v":""},{"$f":"IF(Comm7=\"\",\"\",IF(LSCheck2nd=\"n\",\"\",I58/I$64))","v":""},{"$f":"IF(Comm7=\"\",\"\",IF(LSCheck2nd=\"n\",\"\",T7AXLS-T72XLS))","v":""},{"$f":"IF(Comm7=\"\",\"\",IF(LSCheck2nd=\"n\",\"\",DSTD2ndComm7/24))","v":""},null,null,null,null,null,null,null,null,null,null,null,null,null,2,{"$f":"IF(Comm7=\"\",\"\",IF(LSCheck2nd=\"n\",\"\",K58*24))","v":""}]
[null,"3rd instar",{"$f":"IF(LSCheck3rd=\"n\",\"N/A\",SUM('Step 1 - Enter Raw Data'!B98:BI98))","v":0},{"$f":"IF(Comm7=\"\",\"\",IF(LSCheck3rd=\"n\",NA(),T73XLS))","v":""},{"$f":"IF(Comm7=\"\",\"\",IF(LSCheck3rd=\"n\",\"\",'Step 1 - Enter Raw Data'!BK98))","v":""},{"$f":"IF(Comm7=\"\",\"\",IF(LSCheck3rd=\"n\",\"\",KURT('Step 1 - Enter Raw Data'!B98:BI98)))","v":""},{"$f":"IF(Comm7=\"\",\"\",IF(LSCheck3rd=\"n\",\"\",'Step 1 - Enter Raw Data'!BQ98))","v":""},{"$f":"IF(Comm7=\"\",\"\",IF(LSCheck3rd=\"n\",\"\",'Step 1 - Enter Raw Data'!BR98))","v":""},{"$f":"IF(Comm7=\"\",\"\",IF(LSCheck3rd=\"n\",\"\",(H59-G59)+1))","v":""},{"$f":"IF(Comm7=\"\",\"\",IF(LSCheck3rd=\"n\",\"\",I59/I$64))","v":""},{"$f":"IF(Comm7=\"\",\"\",IF(LSCheck3rd=\"n\",\"\",T7AXLS-T73XLS))","v":""},{"$f":"IF(Comm7=\"\",\"\",IF(LSCheck3rd=\"n\",\"\",DSTD3rdComm7/24))","v":""},null,null,null,null,null,null,null,null,null,null,null,null,null,3,{"$f":"IF(Comm7=\"\",\"\",IF(LSCheck3rd=\"n\",\"\",K59*24))","v":""}]
[null,"4th instar",{"$f":"IF(LSCheck4th=\"n\",\"N/A\",SUM('Step 1 - Enter Raw Data'!B99:BI99))","v":"N/A"},{"$f":"IF(Comm7=\"\",\"\",IF(LSCheck4th=\"n\",NA(),T74XLS))","v":""},{"$f":"IF(Comm7=\"\",\"\",IF(LSCheck4th=\"n\",\"\",'Step 1 - Enter Raw Data'!BK99))","v":""},{"$f":"IF(Comm7=\"\",\"\",IF(LSCheck4th=\"n\",\"\",KURT('Step 1 - Enter Raw Data'!B99:BI99)))","v":""},{"$f":"IF(Comm7=\"\",\"\",IF(LSCheck4th=\"n\",\"\",'Step 1 - Enter Raw Data'!BQ99))","v":""},{"$f":"IF(Comm7=\"\",\"\",IF(LSCheck4th=\"n\",\"\",'Step 1 - Enter Raw Data'!BR99))","v":""},{"$f":"IF(Comm7=\"\",\"\",IF(LSCheck4th=\"n\",\"\",(H60-G60)+1))","v":""},{"$f":"IF(Comm7=\"\",\"\",IF(LSCheck4th=\"n\",\"\",I60/I$64))","v":""},{"$f":"IF(Comm7=\"\",\"\",IF(LSCheck4th=\"n\",\"\",T7AXLS-T74XLS))","v":""},{"$f":"IF(Comm7=\"\",\"\",IF(LSCheck4th=\"n\",\"\",DSTD4thComm7/24))","v":""},null,null,null,null,null,null,null,null,null,null,null,null,null,4,{"$f":"IF(Comm7=\"\",\"\",IF(LSCheck4th=\"n\",\"\",K60*24))","v":""}]
[null,"5th instar",{"$f":"IF(LSCheck5th=\"n\",\"N/A\",SUM('Step 1 - Enter Raw Data'!B100:BI100))","v":"N/A"},{"$f":"IF(Comm7=\"\",\"\",IF(LSCheck5th=\"n\",NA(),T75XLS))","v":""},{"$f":"IF(Comm7=\"\",\"\",IF(LSCheck5th=\"n\",\"\",'Step 1 - Enter Raw Data'!BK100))","v":""},{"$f":"IF(Comm7=\"\",\"\",IF(LSCheck5th=\"n\",\"\",KURT('Step 1 - Enter Raw Data'!B100:BI100)))","v":""},{"$f":"IF(Comm7=\"\",\"\",IF(LSCheck5th=\"n\",\"\",'Step 1 - Enter Raw Data'!BQ100))","v":""},{"$f":"IF(Comm7=\"\",\"\",IF(LSCheck5th=\"n\",\"\",'Step 1 - Enter Raw Data'!BR100))","v":""},{"$f":"IF(Comm7=\"\",\"\",IF(LSCheck5th=\"n\",\"\",(H61-G61)+1))","v":""},{"$f":"IF(Comm7=\"\",\"\",IF(LSCheck5th=\"n\",\"\",I61/I$64))","v":""},{"$f":"IF(Comm7=\"\",\"\",IF(LSCheck5th=\"n\",\"\",T7AXLS-T75XLS))","v":""},{"$f":"IF(Comm7=\"\",\"\",IF(LSCheck5th=\"n\",\"\",DSTD5thComm7/24))","v":""},null,null,null,null,null,null,null,null,null,null,null,null,null,5,{"$f":"IF(Comm7=\"\",\"\",IF(LSCheck5th=\"n\",\"\",K61*24))","v":""}]
[null,"Pupae",{"$f":"IF(LSCheckPupa=\"n\",\"N/A\",SUM('Step 1 - Enter Raw Data'!B101:BI101))","v":0},{"$f":"IF(Comm7=\"\",\"\",IF(LSCheckPupa=\"n\",NA(),T7PXLS))","v":""},{"$f":"IF(Comm7=\"\",\"\",IF(LSCheckPupa=\"n\",\"\",'Step 1 - Enter Raw Data'!BK101))","v":""},{"$f":"IF(Comm7=\"\",\"\",IF(LSCheckPupa=\"n\",\"\",KURT('Step 1 - Enter Raw Data'!B101:BI101)))","v":""},{"$f":"IF(Comm7=\"\",\"\",IF(LSCheckPupa=\"n\",\"\",'Step 1 - Enter Raw Data'!BQ101))","v":""},{"$f":"IF(Comm7=\"\",\"\",IF(LSCheckPupa=\"n\",\"\",'Step 1 - Enter Raw Data'!BR101))","v":""},{"$f":"IF(Comm7=\"\",\"\",IF(LSCheckPupa=\"n\",\"\",(H62-G62)+1))","v":""},{"$f":"IF(Comm7=\"\",\"\",IF(LSCheckPupa=\"n\",\"\",I62/I$64))","v":""},{"$f":"IF(Comm7=\"\",\"\",IF(LSCheckPupa=\"n\",\"\",T7AXLS-T7PXLS))","v":""},{"$f":"IF(Comm7=\"\",\"\",IF(LSCheckPupa=\"n\",\"\",DSTDPupaeComm7/24))","v":""},null,null,null,null,null,null,null,null,null,null,null,null,null,"P",{"$f":"IF(Comm7=\"\",\"\",IF(LSCheckPupa=\"n\",\"\",K62*24))","v":""}]
[null,"Adults",{"$f":"IF(LSCheckAdult=\"n\",\"N/A\",SUM('Step 1 - Enter Raw Data'!B102:BI102))","v":0},{"$f":"IF(Comm7=\"\",\"\",IF(LSCheckAdult=\"n\",NA(),T7AXLS))","v":""},{"$f":"IF(Comm7=\"\",\"\",IF(LSCheckAdult=\"n\",\"\",'Step 1 - Enter Raw Data'!BK102))","v":""},{"$f":"IF(Comm7=\"\",\"\",IF(LSCheckAdult=\"n\",\"\",KURT('Step 1 - Enter Raw Data'!B102:BI102)))","v":""},{"$f":"IF(Comm7=\"\",\"\",IF(LSCheckAdult=\"n\",\"\",'Step 1 - Enter Raw Data'!BQ102))","v":""},{"$f":"IF(Comm7=\"\",\"\",IF(LSCheckAdult=\"n\",\"\",'Step 1 - Enter Raw Data'!BR102))","v":""},{"$f":"IF(Comm7=\"\",\"\",IF(LSCheckAdult=\"n\",\"\",(H63-G63)+1))","v":""},{"$f":"IF(Comm7=\"\",\"\",IF(LSCheckAdult=\"n\",\"\",I63/I$64))","v":""}]
[null,"Treatment",{"$f":"IF(Comm7=\"\",\"\",SUM(C56:C63))","v":""},null,null,{"$f":"IF(Comm7=\"\",\"\",KURT('Step 1 - Enter Raw Data'!B103:BI103))","v":""},{"$f":"IF(Comm7=\"\",\"\",'Step 1 - Enter Raw Data'!BQ103)","v":""},{"$f":"IF(Comm7=\"\",\"\",'Step 1 - Enter Raw Data'!BR103)","v":""},{"$f":"IF(Comm7=\"\",\"\",(H64-G64)+1)","v":""},{"$f":"IF(Comm7=\"\",\"\",I64/I$64)","v":""}]
[{"$f":"IF(Comm8=\"\",\"No treatment\",Comm8)","v":"No treatment"},"Eggs",{"$f":"IF(LSCheckEggs=\"n\",\"N/A\",SUM('Step 1 - Enter Raw Data'!B106:BI106))","v":0},{"$f":"IF(Comm8=\"\",\"\",IF(LSCheckEggs=\"n\",NA(),T8EXLS))","v":""},{"$f":"IF(Comm8=\"\",\"\",IF(LSCheckEggs=\"n\",\"\",'Step 1 - Enter Raw Data'!BK106))","v":""},{"$f":"IF(Comm8=\"\",\"\",IF(LSCheckEggs=\"n\",\"\",KURT('Step 1 - Enter Raw Data'!B106:BI106)))","v":""},{"$f":"IF(Comm8=\"\",\"\",IF(LSCheckEggs=\"n\",\"\",'Step 1 - Enter Raw Data'!BQ106))","v":""},{"$f":"IF(Comm8=\"\",\"\",IF(LSCheckEggs=\"n\",\"\",'Step 1 - Enter Raw Data'!BR106))","v":""},{"$f":"IF(Comm8=\"\",\"\",IF(LSCheckEggs=\"n\",\"\",(H65-G65)+1))","v":""},{"$f":"IF(Comm8=\"\",\"\",IF(LSCheckEggs=\"n\",\"\",I65/I73))","v":""},{"$f":"IF(Comm8=\"\",\"\",IF(LSCheckEggs=\"n\",\"\",T8AXLS-T8EXLS))","v":""},{"$f":"IF(Comm8=\"\",\"\",IF(LSCheckEggs=\"n\",\"\",DSTDEggsComm8/24))","v":""},null,null,null,null,null,null,null,null,null,null,null,null,{"$f":"Comm8","v":0},"E",{"$f":"IF(Comm8=\"\",\"\",IF(LSCheckEggs=\"n\",\"\",K65*24))","v":""}]
[null,"1st instar",{"$f":"IF(LSCheck1st=\"n\",\"N/A\",SUM('Step 1 - Enter Raw Data'!B107:BI107))","v":0},{"$f":"IF(Comm8=\"\",\"\",IF(LSCheck1st=\"n\",NA(),T81XLS))","v":""},{"$f":"IF(Comm8=\"\",\"\",IF(LSCheck1st=\"n\",\"\",'Step 1 - Enter Raw Data'!BK107))","v":""},{"$f":"IF(Comm8=\"\",\"\",IF(LSCheck1st=\"n\",\"\",KURT('Step 1 - Enter Raw Data'!B107:BI107)))","v":""},{"$f":"IF(Comm8=\"\",\"\",IF(LSCheck1st=\"n\",\"\",'Step 1 - Enter Raw Data'!BQ107))","v":""},{"$f":"IF(Comm8=\"\",\"\",IF(LSCheck1st=\"n\",\"\",'Step 1 - Enter Raw Data'!BR107))","v":""},{"$f":"IF(Comm8=\"\",\"\",IF(LSCheck1st=\"n\",\"\",(H66-G66)+1))","v":""},{"$f":"IF(Comm8=\"\",\"\",IF(LSCheck1st=\"n\",\"\",I66/I74))","v":""},{"$f":"IF(Comm8=\"\",\"\",IF(LSCheck1st=\"n\",\"\",T8AXLS-T81XLS))","v":""},{"$f":"IF(Comm8=\"\",\"\",IF(LSCheck1st=\"n\",\"\",DSTD1stComm8/24))","v":""},null,null,null,null,null,null,null,null,null,null,null,null,null,1,{"$f":"IF(Comm8=\"\",\"\",IF(LSCheck1st=\"n\",\"\",K66*24))","v":""}]
[null,"2nd instar",{"$f":"IF(LSCheck2nd=\"n\",\"N/A\",SUM('Step 1 - Enter Raw Data'!B108:BI108))","v":0},{"$f":"IF(Comm8=\"\",\"\",IF(LSCheck2nd=\"n\",NA(),T82XLS))","v":""},{"$f":"IF(Comm8=\"\",\"\",IF(LSCheck2nd=\"n\",\"\",'Step 1 - Enter Raw Data'!BK108))","v":""},{"$f":"IF(Comm8=\"\",\"\",IF(LSCheck2nd=\"n\",\"\",KURT('Step 1 - Enter Raw Data'!B108:BI108)))","v":""},{"$f":"IF(Comm8=\"\",\"\",IF(LSCheck2nd=\"n\",\"\",'Step 1 - Enter Raw Data'!BQ108))","v":""},{"$f":"IF(Comm8=\"\",\"\",IF(LSCheck2nd=\"n\",\"\",'Step 1 - Enter Raw Data'!BR108))","v":""},{"$f":"IF(Comm8=\"\",\"\",IF(LSCheck2nd=\"n\",\"\",(H67-G67)+1))","v":""},{"$f":"IF(Comm8=\"\",\"\",IF(LSCheck2nd=\"n\",\"\",I67/I75))","v":""},{"$f":"IF(Comm8=\"\",\"\",IF(LSCheck2nd=\"n\",\"\",T8AXLS-T82XLS))","v":""},{"$f":"IF(Comm8=\"\",\"\",IF(LSCheck2nd=\"n\",\"\",DSTD2ndComm8/24))","v":""},null,null,null,null,null,null,null,null,null,null,null,null,null,2,{"$f":"IF(Comm8=\"\",\"\",IF(LSCheck2nd=\"n\",\"\",K67*24))","v":""}]
[null,"3rd instar",{"$f":"IF(LSCheck3rd=\"n\",\"N/A\",SUM('Step 1 - Enter Raw Data'!B109:BI109))","v":0},{"$f":"IF(Comm8=\"\",\"\",IF(LSCheck3rd=\"n\",NA(),T83XLS))","v":""},{"$f":"IF(Comm8=\"\",\"\",IF(LSCheck3rd=\"n\",\"\",'Step 1 - Enter Raw Data'!BK109))","v":""},{"$f":"IF(Comm8=\"\",\"\",IF(LSCheck3rd=\"n\",\"\",KURT('Step 1 - Enter Raw Data'!B109:BI109)))","v":""},{"$f":"IF(Comm8=\"\",\"\",IF(LSCheck3rd=\"n\",\"\",'Step 1 - Enter Raw Data'!BQ109))","v":""},{"$f":"IF(Comm8=\"\",\"\",IF(LSCheck3rd=\"n\",\"\",'Step 1 - Enter Raw Data'!BR109))","v":""},{"$f":"IF(Comm8=\"\",\"\",IF(LSCheck3rd=\"n\",\"\",(H68-G68)+1))","v":""},{"$f":"IF(Comm8=\"\",\"\",IF(LSCheck3rd=\"n\",\"\",I68/I76))","v":""},{"$f":"IF(Comm8=\"\",\"\",IF(LSCheck3rd=\"n\",\"\",T8AXLS-T83XLS))","v":""},{"$f":"IF(Comm8=\"\",\"\",IF(LSCheck3rd=\"n\",\"\",DSTD3rdComm8/24))","v":""},null,null,null,null,null,null,null,null,null,null,null,null,null,3,{"$f":"IF(Comm8=\"\",\"\",IF(LSCheck3rd=\"n\",\"\",K68*24))","v":""}]
[null,"4th instar",{"$f":"IF(LSCheck4th=\"n\",\"N/A\",SUM('Step 1 - Enter Raw Data'!B110:BI110))","v":"N/A"},{"$f":"IF(Comm8=\"\",\"\",IF(LSCheck4th=\"n\",NA(),T84XLS))","v":""},{"$f":"IF(Comm8=\"\",\"\",IF(LSCheck4th=\"n\",\"\",'Step 1 - Enter Raw Data'!BK110))","v":""},{"$f":"IF(Comm8=\"\",\"\",IF(LSCheck4th=\"n\",\"\",KURT('Step 1 - Enter Raw Data'!B110:BI110)))","v":""},{"$f":"IF(Comm8=\"\",\"\",IF(LSCheck4th=\"n\",\"\",'Step 1 - Enter Raw Data'!BQ110))","v":""},{"$f":"IF(Comm8=\"\",\"\",IF(LSCheck4th=\"n\",\"\",'Step 1 - Enter Raw Data'!BR110))","v":""},{"$f":"IF(Comm8=\"\",\"\",IF(LSCheck4th=\"n\",\"\",(H69-G69)+1))","v":""},{"$f":"IF(Comm8=\"\",\"\",IF(LSCheck4th=\"n\",\"\",I69/I77))","v":""},{"$f":"IF(Comm8=\"\",\"\",IF(LSCheck4th=\"n\",\"\",T8AXLS-T84XLS))","v":""},{"$f":"IF(Comm8=\"\",\"\",IF(LSCheck4th=\"n\",\"\",DSTD4thComm8/24))","v":""},null,null,null,null,null,null,null,null,null,null,null,null,null,4,{"$f":"IF(Comm8=\"\",\"\",IF(LSCheck4th=\"n\",\"\",K69*24))","v":""}]
[null,"5th instar",{"$f":"IF(LSCheck5th=\"n\",\"N/A\",SUM('Step 1 - Enter Raw Data'!B111:BI111))","v":"N/A"},{"$f":"IF(Comm8=\"\",\"\",IF(LSCheck5th=\"n\",NA(),T85XLS))","v":""},{"$f":"IF(Comm8=\"\",\"\",IF(LSCheck5th=\"n\",\"\",'Step 1 - Enter Raw Data'!BK111))","v":""},{"$f":"IF(Comm8=\"\",\"\",IF(LSCheck5th=\"n\",\"\",KURT('Step 1 - Enter Raw Data'!B111:BI111)))","v":""},{"$f":"IF(Comm8=\"\",\"\",IF(LSCheck5th=\"n\",\"\",'Step 1 - Enter Raw Data'!BQ111))","v":""},{"$f":"IF(Comm8=\"\",\"\",IF(LSCheck5th=\"n\",\"\",'Step 1 - Enter Raw Data'!BR111))","v":""},{"$f":"IF(Comm8=\"\",\"\",IF(LSCheck5th=\"n\",\"\",(H70-G70)+1))","v":""},{"$f":"IF(Comm8=\"\",\"\",IF(LSCheck5th=\"n\",\"\",I70/I78))","v":""},{"$f":"IF(Comm8=\"\",\"\",IF(LSCheck5th=\"n\",\"\",T8AXLS-T85XLS))","v":""},{"$f":"IF(Comm8=\"\",\"\",IF(LSCheck5th=\"n\",\"\",DSTD5thComm8/24))","v":""},null,null,null,null,null,null,null,null,null,null,null,null,null,5,{"$f":"IF(Comm8=\"\",\"\",IF(LSCheck5th=\"n\",\"\",K70*24))","v":""}]
[null,"Pupae",{"$f":"IF(LSCheckPupa=\"n\",\"N/A\",SUM('Step 1 - Enter Raw Data'!B112:BI112))","v":0},{"$f":"IF(Comm8=\"\",\"\",IF(LSCheckPupa=\"n\",NA(),T8PXLS))","v":""},{"$f":"IF(Comm8=\"\",\"\",IF(LSCheckPupa=\"n\",\"\",'Step 1 - Enter Raw Data'!BK112))","v":""},{"$f":"IF(Comm8=\"\",\"\",IF(LSCheckPupa=\"n\",\"\",KURT('Step 1 - Enter Raw Data'!B112:BI112)))","v":""},{"$f":"IF(Comm8=\"\",\"\",IF(LSCheckPupa=\"n\",\"\",'Step 1 - Enter Raw Data'!BQ112))","v":""},{"$f":"IF(Comm8=\"\",\"\",IF(LSCheckPupa=\"n\",\"\",'Step 1 - Enter Raw Data'!BR112))","v":""},{"$f":"IF(Comm8=\"\",\"\",IF(LSCheckPupa=\"n\",\"\",(H71-G71)+1))","v":""},{"$f":"IF(Comm8=\"\",\"\",IF(LSCheckPupa=\"n\",\"\",I71/I79))","v":""},{"$f":"IF(Comm8=\"\",\"\",IF(LSCheckPupa=\"n\",\"\",T8AXLS-T8PXLS))","v":""},{"$f":"IF(Comm8=\"\",\"\",IF(LSCheckPupa=\"n\",\"\",DSTDPupaeComm8/24))","v":""},null,null,null,null,null,null,null,null,null,null,null,null,null,"P",{"$f":"IF(Comm8=\"\",\"\",IF(LSCheckPupa=\"n\",\"\",K71*24))","v":""}]
[null,"Adults",{"$f":"IF(LSCheckAdult=\"n\",\"N/A\",SUM('Step 1 - Enter Raw Data'!B113:BI113))","v":0},{"$f":"IF(Comm8=\"\",\"\",IF(LSCheckAdult=\"n\",NA(),T8AXLS))","v":""},{"$f":"IF(Comm8=\"\",\"\",IF(LSCheckAdult=\"n\",\"\",'Step 1 - Enter Raw Data'!BK113))","v":""},{"$f":"IF(Comm8=\"\",\"\",IF(LSCheckAdult=\"n\",\"\",KURT('Step 1 - Enter Raw Data'!B113:BI113)))","v":""},{"$f":"IF(Comm8=\"\",\"\",IF(LSCheckAdult=\"n\",\"\",'Step 1 - Enter Raw Data'!BQ113))","v":""},{"$f":"IF(Comm8=\"\",\"\",IF(LSCheckAdult=\"n\",\"\",'Step 1 - Enter Raw Data'!BR113))","v":""},{"$f":"IF(Comm8=\"\",\"\",IF(LSCheckAdult=\"n\",\"\",(H72-G72)+1))","v":""},{"$f":"IF(Comm8=\"\",\"\",IF(LSCheckAdult=\"n\",\"\",I72/I80))","v":""}]
[null,"Treatment",{"$f":"IF(Comm8=\"\",\"\",SUM(C65:C72))","v":""},null,null,{"$f":"IF(Comm8=\"\",\"\",KURT('Step 1 - Enter Raw Data'!B114:BI114))","v":""},{"$f":"IF(Comm8=\"\",\"\",'Step 1 - Enter Raw Data'!BQ114)","v":""},{"$f":"IF(Comm8=\"\",\"\",'Step 1 - Enter Raw Data'!BR114)","v":""},{"$f":"IF(Comm8=\"\",\"\",(H73-G73)+1)","v":""},{"$f":"IF(Comm8=\"\",\"\",I73/I$73)","v":""}]
[{"$f":"IF(Comm9=\"\",\"No treatment\",Comm9)","v":"No treatment"},"Eggs",{"$f":"IF(LSCheckEggs=\"n\",\"N/A\",SUM('Step 1 - Enter Raw Data'!B117:BI117))","v":0},{"$f":"IF(Comm9=\"\",\"\",IF(LSCheckEggs=\"n\",NA(),T9EXLS))","v":""},{"$f":"IF(Comm8=\"\",\"\",IF(LSCheckEggs=\"n\",\"\",'Step 1 - Enter Raw Data'!BK117))","v":""},{"$f":"IF(Comm8=\"\",\"\",IF(LSCheckEggs=\"n\",\"\",KURT('Step 1 - Enter Raw Data'!B117:BI117)))","v":""},{"$f":"IF(Comm9=\"\",\"\",IF(LSCheckEggs=\"n\",\"\",'Step 1 - Enter Raw Data'!BQ117))","v":""},{"$f":"IF(Comm9=\"\",\"\",IF(LSCheckEggs=\"n\",\"\",'Step 1 - Enter Raw Data'!BR117))","v":""},{"$f":"IF(Comm9=\"\",\"\",IF(LSCheckEggs=\"n\",\"\",(H74-G74)+1))","v":""},{"$f":"IF(Comm9=\"\",\"\",IF(LSCheckEggs=\"n\",\"\",I74/I$82))","v":""},{"$f":"IF(Comm9=\"\",\"\",IF(LSCheckEggs=\"n\",\"\",T9AXLS-T9EXLS))","v":""},{"$f":"IF(Comm9=\"\",\"\",IF(LSCheckEggs=\"n\",\"\",DSTDEggsComm9/24))","v":""},null,null,null,null,null,null,null,null,null,null,null,null,{"$f":"Comm9","v":0},"E",{"$f":"IF(Comm9=\"\",\"\",IF(LSCheckEggs=\"n\",\"\",K74*24))","v":""}]
[null,"1st instar",{"$f":"IF(LSCheck1st=\"n\",\"N/A\",SUM('Step 1 - Enter Raw Data'!B118:BI118))","v":0},{"$f":"IF(Comm9=\"\",\"\",IF(LSCheck1st=\"n\",NA(),T91XLS))","v":""},{"$f":"IF(Comm8=\"\",\"\",IF(LSCheck1st=\"n\",\"\",'Step 1 - Enter Raw Data'!BK118))","v":""},{"$f":"IF(Comm8=\"\",\"\",IF(LSCheck1st=\"n\",\"\",KURT('Step 1 - Enter Raw Data'!B118:BI118)))","v":""},{"$f":"IF(Comm9=\"\",\"\",IF(LSCheck1st=\"n\",\"\",'Step 1 - Enter Raw Data'!BQ118))","v":""},{"$f":"IF(Comm9=\"\",\"\",IF(LSCheck1st=\"n\",\"\",'Step 1 - Enter Raw Data'!BR118))","v":""},{"$f":"IF(Comm9=\"\",\"\",IF(LSCheck1st=\"n\",\"\",(H75-G75)+1))","v":""},{"$f":"IF(Comm9=\"\",\"\",IF(LSCheck1st=\"n\",\"\",I75/I$82))","v":""},{"$f":"IF(Comm9=\"\",\"\",IF(LSCheck1st=\"n\",\"\",T9AXLS-T91XLS))","v":""},{"$f":"IF(Comm9=\"\",\"\",IF(LSCheck1st=\"n\",\"\",DSTD1stComm9/24))","v":""},null,null,null,null,null,null,null,null,null,null,null,null,null,1,{"$f":"IF(Comm9=\"\",\"\",IF(LSCheck1st=\"n\",\"\",K75*24))","v":""}]
[null,"2nd instar",{"$f":"IF(LSCheck2nd=\"n\",\"N/A\",SUM('Step 1 - Enter Raw Data'!B119:BI119))","v":0},{"$f":"IF(Comm9=\"\",\"\",IF(LSCheck2nd=\"n\",NA(),T92XLS))","v":""},{"$f":"IF(Comm8=\"\",\"\",IF(LSCheck2nd=\"n\",\"\",'Step 1 - Enter Raw Data'!BK119))","v":""},{"$f":"IF(Comm8=\"\",\"\",IF(LSCheck2nd=\"n\",\"\",KURT('Step 1 - Enter Raw Data'!B119:BI119)))","v":""},{"$f":"IF(Comm9=\"\",\"\",IF(LSCheck2nd=\"n\",\"\",'Step 1 - Enter Raw Data'!BQ119))","v":""},{"$f":"IF(Comm9=\"\",\"\",IF(LSCheck2nd=\"n\",\"\",'Step 1 - Enter Raw Data'!BR119))","v":""},{"$f":"IF(Comm9=\"\",\"\",IF(LSCheck2nd=\"n\",\"\",(H76-G76)+1))","v":""},{"$f":"IF(Comm9=\"\",\"\",IF(LSCheck2nd=\"n\",\"\",I76/I$82))","v":""},{"$f":"IF(Comm9=\"\",\"\",IF(LSCheck2nd=\"n\",\"\",T9AXLS-T92XLS))","v":""},{"$f":"IF(Comm9=\"\",\"\",IF(LSCheck2nd=\"n\",\"\",DSTD2ndComm9/24))","v":""},null,null,null,null,null,null,null,null,null,null,null,null,null,2,{"$f":"IF(Comm9=\"\",\"\",IF(LSCheck2nd=\"n\",\"\",K76*24))","v":""}]
[null,"3rd instar",{"$f":"IF(LSCheck3rd=\"n\",\"N/A\",SUM('Step 1 - Enter Raw Data'!B120:BI120))","v":0},{"$f":"IF(Comm9=\"\",\"\",IF(LSCheck3rd=\"n\",NA(),T93XLS))","v":""},{"$f":"IF(Comm8=\"\",\"\",IF(LSCheck3rd=\"n\",\"\",'Step 1 - Enter Raw Data'!BK120))","v":""},{"$f":"IF(Comm8=\"\",\"\",IF(LSCheck3rd=\"n\",\"\",KURT('Step 1 - Enter Raw Data'!B120:BI120)))","v":""},{"$f":"IF(Comm9=\"\",\"\",IF(LSCheck3rd=\"n\",\"\",'Step 1 - Enter Raw Data'!BQ120))","v":""},{"$f":"IF(Comm9=\"\",\"\",IF(LSCheck3rd=\"n\",\"\",'Step 1 - Enter Raw Data'!BR120))","v":""},{"$f":"IF(Comm9=\"\",\"\",IF(LSCheck3rd=\"n\",\"\",(H77-G77)+1))","v":""},{"$f":"IF(Comm9=\"\",\"\",IF(LSCheck3rd=\"n\",\"\",I77/I$82))","v":""},{"$f":"IF(Comm9=\"\",\"\",IF(LSCheck3rd=\"n\",\"\",T9AXLS-T93XLS))","v":""},{"$f":"IF(Comm9=\"\",\"\",IF(LSCheck3rd=\"n\",\"\",DSTD3rdComm9/24))","v":""},null,null,null,null,null,null,null,null,null,null,null,null,null,3,{"$f":"IF(Comm9=\"\",\"\",IF(LSCheck3rd=\"n\",\"\",K77*24))","v":""}]
[null,"4th instar",{"$f":"IF(LSCheck4th=\"n\",\"N/A\",SUM('Step 1 - Enter Raw Data'!B121:BI121))","v":"N/A"},{"$f":"IF(Comm9=\"\",\"\",IF(LSCheck4th=\"n\",NA(),T94XLS))","v":""},{"$f":"IF(Comm8=\"\",\"\",IF(LSCheck4th=\"n\",\"\",'Step 1 - Enter Raw Data'!BK121))","v":""},{"$f":"IF(Comm8=\"\",\"\",IF(LSCheck4th=\"n\",\"\",KURT('Step 1 - Enter Raw Data'!B121:BI121)))","v":""},{"$f":"IF(Comm9=\"\",\"\",IF(LSCheck4th=\"n\",\"\",'Step 1 - Enter Raw Data'!BQ121))","v":""},{"$f":"IF(Comm9=\"\",\"\",IF(LSCheck4th=\"n\",\"\",'Step 1 - Enter Raw Data'!BR121))","v":""},{"$f":"IF(Comm9=\"\",\"\",IF(LSCheck4th=\"n\",\"\",(H78-G78)+1))","v":""},{"$f":"IF(Comm9=\"\",\"\",IF(LSCheck4th=\"n\",\"\",I78/I$82))","v":""},{"$f":"IF(Comm9=\"\",\"\",IF(LSCheck4th=\"n\",\"\",T9AXLS-T94XLS))","v":""},{"$f":"IF(Comm9=\"\",\"\",IF(LSCheck4th=\"n\",\"\",DSTD4thComm9/24))","v":""},null,null,null,null,null,null,null,null,null,null,null,null,null,4,{"$f":"IF(Comm9=\"\",\"\",IF(LSCheck4th=\"n\",\"\",K78*24))","v":""}]
[null,"5th instar",{"$f":"IF(LSCheck5th=\"n\",\"N/A\",SUM('Step 1 - Enter Raw Data'!B122:BI122))","v":"N/A"},{"$f":"IF(Comm9=\"\",\"\",IF(LSCheck5th=\"n\",NA(),T95XLS))","v":""},{"$f":"IF(Comm8=\"\",\"\",IF(LSCheck5th=\"n\",\"\",'Step 1 - Enter Raw Data'!BK122))","v":""},{"$f":"IF(Comm8=\"\",\"\",IF(LSCheck5th=\"n\",\"\",KURT('Step 1 - Enter Raw Data'!B122:BI122)))","v":""},{"$f":"IF(Comm9=\"\",\"\",IF(LSCheck5th=\"n\",\"\",'Step 1 - Enter Raw Data'!BQ122))","v":""},{"$f":"IF(Comm9=\"\",\"\",IF(LSCheck5th=\"n\",\"\",'Step 1 - Enter Raw Data'!BR122))","v":""},{"$f":"IF(Comm9=\"\",\"\",IF(LSCheck5th=\"n\",\"\",(H79-G79)+1))","v":""},{"$f":"IF(Comm9=\"\",\"\",IF(LSCheck5th=\"n\",\"\",I79/I$82))","v":""},{"$f":"IF(Comm9=\"\",\"\",IF(LSCheck5th=\"n\",\"\",T9AXLS-T95XLS))","v":""},{"$f":"IF(Comm9=\"\",\"\",IF(LSCheck5th=\"n\",\"\",DSTD5thComm9/24))","v":""},null,null,null,null,null,null,null,null,null,null,null,null,null,5,{"$f":"IF(Comm9=\"\",\"\",IF(LSCheck5th=\"n\",\"\",K79*24))","v":""}]
[null,"Pupae",{"$f":"IF(LSCheckPupa=\"n\",\"N/A\",SUM('Step 1 - Enter Raw Data'!B123:BI123))","v":0},{"$f":"IF(Comm9=\"\",\"\",IF(LSCheckPupa=\"n\",NA(),T9PXLS))","v":""},{"$f":"IF(Comm8=\"\",\"\",IF(LSCheckPupa=\"n\",\"\",'Step 1 - Enter Raw Data'!BK123))","v":""},{"$f":"IF(Comm8=\"\",\"\",IF(LSCheckPupa=\"n\",\"\",KURT('Step 1 - Enter Raw Data'!B123:BI123)))","v":""},{"$f":"IF(Comm9=\"\",\"\",IF(LSCheckPupa=\"n\",\"\",'Step 1 - Enter Raw Data'!BQ123))","v":""},{"$f":"IF(Comm9=\"\",\"\",IF(LSCheckPupa=\"n\",\"\",'Step 1 - Enter Raw Data'!BR123))","v":""},{"$f":"IF(Comm9=\"\",\"\",IF(LSCheckPupa=\"n\",\"\",(H80-G80)+1))","v":""},{"$f":"IF(Comm9=\"\",\"\",IF(LSCheckPupa=\"n\",\"\",I80/I$82))","v":""},{"$f":"IF(Comm9=\"\",\"\",IF(LSCheckPupa=\"n\",\"\",T9AXLS-T9PXLS))","v":""},{"$f":"IF(Comm9=\"\",\"\",IF(LSCheckPupa=\"n\",\"\",DSTDPupaeComm9/24))","v":""},null,null,null,null,null,null,null,null,null,null,null,null,null,"P",{"$f":"IF(Comm9=\"\",\"\",IF(LSCheckPupa=\"n\",\"\",K80*24))","v":""}]
[null,"Adults",{"$f":"IF(LSCheckAdult=\"n\",\"N/A\",SUM('Step 1 - Enter Raw Data'!B124:BI124))","v":0},{"$f":"IF(Comm9=\"\",\"\",IF(LSCheckAdult=\"n\",NA(),T9AXLS))","v":""},{"$f":"IF(Comm8=\"\",\"\",IF(LSCheckAdult=\"n\",\"\",'Step 1 - Enter Raw Data'!BK124))","v":""},{"$f":"IF(Comm8=\"\",\"\",IF(LSCheckAdult=\"n\",\"\",KURT('Step 1 - Enter Raw Data'!B124:BI124)))","v":""},{"$f":"IF(Comm9=\"\",\"\",IF(LSCheckAdult=\"n\",\"\",'Step 1 - Enter Raw Data'!BQ124))","v":""},{"$f":"IF(Comm9=\"\",\"\",IF(LSCheckAdult=\"n\",\"\",'Step 1 - Enter Raw Data'!BR124))","v":""},{"$f":"IF(Comm9=\"\",\"\",IF(LSCheckAdult=\"n\",\"\",(H81-G81)+1))","v":""},{"$f":"IF(Comm9=\"\",\"\",IF(LSCheckAdult=\"n\",\"\",I81/I$82))","v":""}]
[null,"Treatment",{"$f":"IF(Comm9=\"\",\"\",SUM(C74:C81))","v":""},null,null,{"$f":"IF(Comm9=\"\",\"\",KURT('Step 1 - Enter Raw Data'!B125:BI125))","v":""},{"$f":"IF(Comm9=\"\",\"\",'Step 1 - Enter Raw Data'!BQ125)","v":""},{"$f":"IF(Comm9=\"\",\"\",'Step 1 - Enter Raw Data'!BR125)","v":""},{"$f":"IF(Comm9=\"\",\"\",(H82-G82)+1)","v":""},{"$f":"IF(Comm9=\"\",\"\",I82/I$82)","v":""}]
[{"$f":"IF(Comm10=\"\",\"No treatment\",Comm10)","v":"No treatment"},"Eggs",{"$f":"IF(LSCheckEggs=\"n\",\"N/A\",SUM('Step 1 - Enter Raw Data'!B128:BI128))","v":0},{"$f":"IF(Comm10=\"\",\"\",IF(LSCheckEggs=\"n\",NA(),T10EXLS))","v":""},{"$f":"IF(Comm10=\"\",\"\",IF(LSCheckEggs=\"n\",\"\",'Step 1 - Enter Raw Data'!BK128))","v":""},{"$f":"IF(Comm10=\"\",\"\",IF(LSCheckEggs=\"n\",\"\",KURT('Step 1 - Enter Raw Data'!B128:BI128)))","v":""},{"$f":"IF(Comm10=\"\",\"\",IF(LSCheckEggs=\"n\",\"\",'Step 1 - Enter Raw Data'!BQ128))","v":""},{"$f":"IF(Comm10=\"\",\"\",IF(LSCheckEggs=\"n\",\"\",'Step 1 - Enter Raw Data'!BR128))","v":""},{"$f":"IF(Comm10=\"\",\"\",IF(LSCheckEggs=\"n\",\"\",(H83-G83)+1))","v":""},{"$f":"IF(Comm10=\"\",\"\",IF(LSCheckEggs=\"n\",\"\",I83/I$91))","v":""},{"$f":"IF(Comm10=\"\",\"\",IF(LSCheckEggs=\"n\",\"\",T10AXLS-T10EXLS))","v":""},{"$f":"IF(Comm10=\"\",\"\",IF(LSCheckEggs=\"n\",\"\",DSTDEggsComm10/24))","v":""},null,null,null,null,null,null,null,null,null,null,null,null,{"$f":"Comm10","v":0},"E",{"$f":"IF(Comm10=\"\",\"\",IF(LSCheckEggs=\"n\",\"\",K83*24))","v":""}]
[null,"1st instar",{"$f":"IF(LSCheck1st=\"n\",\"N/A\",SUM('Step 1 - Enter Raw Data'!B129:BI129))","v":0},{"$f":"IF(Comm10=\"\",\"\",IF(LSCheck1st=\"n\",NA(),T101XLS))","v":""},{"$f":"IF(Comm10=\"\",\"\",IF(LSCheck1st=\"n\",\"\",'Step 1 - Enter Raw Data'!BK129))","v":""},{"$f":"IF(Comm10=\"\",\"\",IF(LSCheck1st=\"n\",\"\",KURT('Step 1 - Enter Raw Data'!B129:BI129)))","v":""},{"$f":"IF(Comm10=\"\",\"\",IF(LSCheck1st=\"n\",\"\",'Step 1 - Enter Raw Data'!BQ129))","v":""},{"$f":"IF(Comm10=\"\",\"\",IF(LSCheck1st=\"n\",\"\",'Step 1 - Enter Raw Data'!BR129))","v":""},{"$f":"IF(Comm10=\"\",\"\",IF(LSCheck1st=\"n\",\"\",(H84-G84)+1))","v":""},{"$f":"IF(Comm10=\"\",\"\",IF(LSCheck1st=\"n\",\"\",I84/I$91))","v":""},{"$f":"IF(Comm10=\"\",\"\",IF(LSCheck1st=\"n\",\"\",T10AXLS-T101XLS))","v":""},{"$f":"IF(Comm10=\"\",\"\",IF(LSCheck1st=\"n\",\"\",DSTD1stComm10/24))","v":""},null,null,null,null,null,null,null,null,null,null,null,null,null,1,{"$f":"IF(Comm10=\"\",\"\",IF(LSCheck1st=\"n\",\"\",K84*24))","v":""}]
[null,"2nd instar",{"$f":"IF(LSCheck2nd=\"n\",\"N/A\",SUM('Step 1 - Enter Raw Data'!B130:BI130))","v":0},{"$f":"IF(Comm10=\"\",\"\",IF(LSCheck2nd=\"n\",NA(),T102XLS))","v":""},{"$f":"IF(Comm10=\"\",\"\",IF(LSCheck2nd=\"n\",\"\",'Step 1 - Enter Raw Data'!BK130))","v":""},{"$f":"IF(Comm10=\"\",\"\",IF(LSCheck2nd=\"n\",\"\",KURT('Step 1 - Enter Raw Data'!B130:BI130)))","v":""},{"$f":"IF(Comm10=\"\",\"\",IF(LSCheck2nd=\"n\",\"\",'Step 1 - Enter Raw Data'!BQ130))","v":""},{"$f":"IF(Comm10=\"\",\"\",IF(LSCheck2nd=\"n\",\"\",'Step 1 - Enter Raw Data'!BR130))","v":""},{"$f":"IF(Comm10=\"\",\"\",IF(LSCheck2nd=\"n\",\"\",(H85-G85)+1))","v":""},{"$f":"IF(Comm10=\"\",\"\",IF(LSCheck2nd=\"n\",\"\",I85/I$91))","v":""},{"$f":"IF(Comm10=\"\",\"\",IF(LSCheck2nd=\"n\",\"\",T10AXLS-T102XLS))","v":""},{"$f":"IF(Comm10=\"\",\"\",IF(LSCheck2nd=\"n\",\"\",DSTD2ndComm10/24))","v":""},null,null,null,null,null,null,null,null,null,null,null,null,null,2,{"$f":"IF(Comm10=\"\",\"\",IF(LSCheck2nd=\"n\",\"\",K85*24))","v":""}]
[null,"3rd instar",{"$f":"IF(LSCheck3rd=\"n\",\"N/A\",SUM('Step 1 - Enter Raw Data'!B131:BI131))","v":0},{"$f":"IF(Comm10=\"\",\"\",IF(LSCheck3rd=\"n\",NA(),T103XLS))","v":""},{"$f":"IF(Comm10=\"\",\"\",IF(LSCheck3rd=\"n\",\"\",'Step 1 - Enter Raw Data'!BK131))","v":""},{"$f":"IF(Comm10=\"\",\"\",IF(LSCheck3rd=\"n\",\"\",KURT('Step 1 - Enter Raw Data'!B131:BI131)))","v":""},{"$f":"IF(Comm10=\"\",\"\",IF(LSCheck3rd=\"n\",\"\",'Step 1 - Enter Raw Data'!BQ131))","v":""},{"$f":"IF(Comm10=\"\",\"\",IF(LSCheck3rd=\"n\",\"\",'Step 1 - Enter Raw Data'!BR131))","v":""},{"$f":"IF(Comm10=\"\",\"\",IF(LSCheck3rd=\"n\",\"\",(H86-G86)+1))","v":""},{"$f":"IF(Comm10=\"\",\"\",IF(LSCheck3rd=\"n\",\"\",I86/I$91))","v":""},{"$f":"IF(Comm10=\"\",\"\",IF(LSCheck3rd=\"n\",\"\",T10AXLS-T103XLS))","v":""},{"$f":"IF(Comm10=\"\",\"\",IF(LSCheck3rd=\"n\",\"\",DSTD3rdComm10/24))","v":""},null,null,null,null,null,null,null,null,null,null,null,null,null,3,{"$f":"IF(Comm10=\"\",\"\",IF(LSCheck3rd=\"n\",\"\",K86*24))","v":""}]
[null,"4th instar",{"$f":"IF(LSCheck4th=\"n\",\"N/A\",SUM('Step 1 - Enter Raw Data'!B132:BI132))","v":"N/A"},{"$f":"IF(Comm10=\"\",\"\",IF(LSCheck4th=\"n\",NA(),T104XLS))","v":""},{"$f":"IF(Comm10=\"\",\"\",IF(LSCheck4th=\"n\",\"\",'Step 1 - Enter Raw Data'!BK132))","v":""},{"$f":"IF(Comm10=\"\",\"\",IF(LSCheck4th=\"n\",\"\",KURT('Step 1 - Enter Raw Data'!B132:BI132)))","v":""},{"$f":"IF(Comm10=\"\",\"\",IF(LSCheck4th=\"n\",\"\",'Step 1 - Enter Raw Data'!BQ132))","v":""},{"$f":"IF(Comm10=\"\",\"\",IF(LSCheck4th=\"n\",\"\",'Step 1 - Enter Raw Data'!BR132))","v":""},{"$f":"IF(Comm10=\"\",\"\",IF(LSCheck4th=\"n\",\"\",(H87-G87)+1))","v":""},{"$f":"IF(Comm10=\"\",\"\",IF(LSCheck4th=\"n\",\"\",I87/I$91))","v":""},{"$f":"IF(Comm10=\"\",\"\",IF(LSCheck4th=\"n\",\"\",T10AXLS-T104XLS))","v":""},{"$f":"IF(Comm10=\"\",\"\",IF(LSCheck4th=\"n\",\"\",DSTD4thComm10/24))","v":""},null,null,null,null,null,null,null,null,null,null,null,null,null,4,{"$f":"IF(Comm10=\"\",\"\",IF(LSCheck4th=\"n\",\"\",K87*24))","v":""}]
[null,"5th instar",{"$f":"IF(LSCheck5th=\"n\",\"N/A\",SUM('Step 1 - Enter Raw Data'!B133:BI133))","v":"N/A"},{"$f":"IF(Comm10=\"\",\"\",IF(LSCheck5th=\"n\",NA(),T105XLS))","v":""},{"$f":"IF(Comm10=\"\",\"\",IF(LSCheck5th=\"n\",\"\",'Step 1 - Enter Raw Data'!BK133))","v":""},{"$f":"IF(Comm10=\"\",\"\",IF(LSCheck5th=\"n\",\"\",KURT('Step 1 - Enter Raw Data'!B133:BI133)))","v":""},{"$f":"IF(Comm10=\"\",\"\",IF(LSCheck5th=\"n\",\"\",'Step 1 - Enter Raw Data'!BQ133))","v":""},{"$f":"IF(Comm10=\"\",\"\",IF(LSCheck5th=\"n\",\"\",'Step 1 - Enter Raw Data'!BR133))","v":""},{"$f":"IF(Comm10=\"\",\"\",IF(LSCheck5th=\"n\",\"\",(H88-G88)+1))","v":""},{"$f":"IF(Comm10=\"\",\"\",IF(LSCheck5th=\"n\",\"\",I88/I$91))","v":""},{"$f":"IF(Comm10=\"\",\"\",IF(LSCheck5th=\"n\",\"\",T10AXLS-T105XLS))","v":""},{"$f":"IF(Comm10=\"\",\"\",IF(LSCheck5th=\"n\",\"\",DSTD5thComm10/24))","v":""},null,null,null,null,null,null,null,null,null,null,null,null,null,5,{"$f":"IF(Comm10=\"\",\"\",IF(LSCheck5th=\"n\",\"\",K88*24))","v":""}]
[null,"Pupae",{"$f":"IF(LSCheckPupa=\"n\",\"N/A\",SUM('Step 1 - Enter Raw Data'!B134:BI134))","v":0},{"$f":"IF(Comm10=\"\",\"\",IF(LSCheckPupa=\"n\",NA(),T10PXLS))","v":""},{"$f":"IF(Comm10=\"\",\"\",IF(LSCheckPupa=\"n\",\"\",'Step 1 - Enter Raw Data'!BK134))","v":""},{"$f":"IF(Comm10=\"\",\"\",IF(LSCheckPupa=\"n\",\"\",KURT('Step 1 - Enter Raw Data'!B134:BI134)))","v":""},{"$f":"IF(Comm10=\"\",\"\",IF(LSCheckPupa=\"n\",\"\",'Step 1 - Enter Raw Data'!BQ134))","v":""},{"$f":"IF(Comm10=\"\",\"\",IF(LSCheckPupa=\"n\",\"\",'Step 1 - Enter Raw Data'!BR134))","v":""},{"$f":"IF(Comm10=\"\",\"\",IF(LSCheckPupa=\"n\",\"\",(H89-G89)+1))","v":""},{"$f":"IF(Comm10=\"\",\"\",IF(LSCheckPupa=\"n\",\"\",I89/I$91))","v":""},{"$f":"IF(Comm10=\"\",\"\",IF(LSCheckPupa=\"n\",\"\",T10AXLS-T10PXLS))","v":""},{"$f":"IF(Comm10=\"\",\"\",IF(LSCheckPupa=\"n\",\"\",DSTDPupaeComm10/24))","v":""},null,null,null,null,null,null,null,null,null,null,null,null,null,"P",{"$f":"IF(Comm10=\"\",\"\",IF(LSCheckPupa=\"n\",\"\",K89*24))","v":""}]
[null,"Adults",{"$f":"IF(LSCheckAdult=\"n\",\"N/A\",SUM('Step 1 - Enter Raw Data'!B135:BI135))","v":0},{"$f":"IF(Comm10=\"\",\"\",IF(LSCheckAdult=\"n\",NA(),T10AXLS))","v":""},{"$f":"IF(Comm10=\"\",\"\",IF(LSCheckAdult=\"n\",\"\",'Step 1 - Enter Raw Data'!BK135))","v":""},{"$f":"IF(Comm10=\"\",\"\",IF(LSCheckAdult=\"n\",\"\",KURT('Step 1 - Enter Raw Data'!B135:BI135)))","v":""},{"$f":"IF(Comm10=\"\",\"\",IF(LSCheckadults=\"n\",\"\",'Step 1 - Enter Raw Data'!BQ135))","v":""},{"$f":"IF(Comm10=\"\",\"\",IF(LSCheckadults=\"n\",\"\",'Step 1 - Enter Raw Data'!BR135))","v":""},{"$f":"IF(Comm10=\"\",\"\",IF(LSCheckAdult=\"n\",\"\",(H90-G90)+1))","v":""},{"$f":"IF(Comm10=\"\",\"\",IF(LSCheckAdult=\"n\",\"\",I90/I$91))","v":""}]
[null,"Treatment",{"$f":"IF(Comm10=\"\",\"\",SUM(C83:C90))","v":""},null,null,{"$f":"IF(Comm10=\"\",\"\",KURT('Step 1 - Enter Raw Data'!B136:BI136))","v":""},{"$f":"IF(Comm10=\"\",\"\",'Step 1 - Enter Raw Data'!BQ136)","v":""},{"$f":"IF(Comm10=\"\",\"\",'Step 1 - Enter Raw Data'!BR136)","v":""},{"$f":"IF(Comm10=\"\",\"\",(H91-G91)+1)","v":""},{"$f":"IF(Comm10=\"\",\"\",I91/I$91)","v":""}]

{"sheet":"Crunch sets II","index":6,"n_rows":575,"n_cols":62,"rows_kept":575,"cut":false,"hidden":true,"merged":[[1,57,1,58],[1,3,1,4],[1,9,1,10],[1,15,1,16],[1,21,1,22],[1,27,1,28],[563,0,563,2],[1,33,1,34],[1,39,1,40],[1,45,1,46],[1,51,1,52],[0,1,0,2],[551,1,551,9],[562,1,562,7],[0,3,0,5],[4,5,16,5],[552,2,552,11]]}
[null,"Reports daily sum (Col C)",null,"Calculates cummulative prob sum (Col E)"]
[null,"Row Labels",null,{"$f":"Comm1","v":"Blackberry"},null,null,null,"Row Labels",null,{"$f":"Comm2","v":"Blueberry"},null,null,null,"Row Labels",null,{"$f":"Comm3","v":"Cherry"},null,null,null,"Row Labels",null,{"$f":"Comm4","v":"Grape"},null,null,null,"Row Labels",null,{"$f":"Comm5","v":"Raspberry"},null,null,null,"Row Labels",null,{"$f":"Comm6","v":"Strawberry"},null,null,null,"Row Labels",null,{"$f":"Comm7","v":0},null,null,null,"Row Labels",null,{"$f":"Comm8","v":0},null,null,null,"Row Labels",null,{"$f":"Comm9","v":0},null,null,null,"Row Labels",null,{"$f":"Comm10","v":0}]
[null,"Prob Eggs",null,"LSTOT/LSHT","Cum Total","LSComm1Eggs",null,"Prob Eggs",null,"LSTOT/LSHT","Cum Total","LSComm2Eggs",null,"Prob Eggs",null,"LSTOT/LSHT","Cum Total","LSComm3Eggs",null,"Prob Eggs",null,"LSTOT/LSHT","Cum Total","LSComm4Eggs",null,"Prob Eggs",null,"LSTOT/LSHT","Cum Total","LSComm5Eggs",null,"Prob Eggs",null,"LSTOT/LSHT","Cum Total","LSComm6Eggs",null,"Prob Eggs",null,"LSTOT/LSHT","Cum Total","LSComm7Eggs",null,"Prob Eggs",null,"LSTOT/LSHT","Cum Total","LSComm8Eggs",null,"Prob Eggs",null,"LSTOT/LSHT","Cum Total","LSComm9Eggs",null,"Prob Eggs",null,"LSTOT/LSHT","Cum Total","LSComm10Eggs",null,{"$f":"\"RE-ENTER. See #1.\"","v":"RE-ENTER. See #1."}]
[null,"Sum of 1",0.89015151515151514,1,{"$f":"GETPIVOTDATA(\"Sum of 1\",$B$2,\"Day  \",\"Prob Eggs\")","v":0.89015151515151514},{"$f":"IF(LSCheckEggs=\"n\",0,(((VLOOKUP(LSTOT,D4:E63,2))-(IF(LSHT=0,0,(VLOOKUP(LSHT,D4:E63,2)))))/LSIT))","v":0},null,"Sum of 1",0.92142857142857137,1,{"$f":"GETPIVOTDATA(\"Sum of 1\",H$2,\"Day  \",\"Prob Eggs\")","v":0.92142857142857137},{"$f":"IF(LSCheckEggs=\"n\",0,(((VLOOKUP(LSTOT,J4:K63,2))-(IF(LSHT=0,0,(VLOOKUP(LSHT,J4:K63,2)))))/LSIT))","v":0},null,"Sum of 1",0.91812865497076024,1,{"$f":"GETPIVOTDATA(\"Sum of 1\",N$2,\"Day  \",\"Prob Eggs\")","v":0.91812865497076024},{"$f":"IF(LSCheckEggs=\"n\",0,(((VLOOKUP(LSTOT,P4:Q63,2))-(IF(LSHT=0,0,(VLOOKUP(LSHT,P4:Q63,2)))))/LSIT))","v":0},null,"Sum of 1",0.82894736842105265,1,{"$f":"GETPIVOTDATA(\"Sum of 1\",T$2,\"Day  \",\"Prob Eggs\")","v":0.82894736842105265},{"$f":"IF(LSCheckEggs=\"n\",0,(((VLOOKUP(LSTOT,V4:W63,2))-(IF(LSHT=0,0,(VLOOKUP(LSHT,V4:W63,2)))))/LSIT))","v":0},null,"Sum of 1",0.90909090909090906,1,{"$f":"GETPIVOTDATA(\"Sum of 1\",Z$2,\"Day  \",\"Prob Eggs\")","v":0.90909090909090906},{"$f":"IF(LSCheckEggs=\"n\",0,(((VLOOKUP(LSTOT,AB4:AC63,2))-(IF(LSHT=0,0,(VLOOKUP(LSHT,AB4:AC63,2)))))/LSIT))","v":0},null,"Sum of 1",1,1,{"$f":"GETPIVOTDATA(\"Sum of 1\",AF$2,\"Day  \",\"Prob Eggs\")","v":1},{"$f":"IF(LSCheckEggs=\"n\",0,(((VLOOKUP(LSTOT,AH4:AI63,2))-(IF(LSHT=0,0,(VLOOKUP(LSHT,AH4:AI63,2)))))/LSIT))","v":0},null,"Sum of 1",0,1,{"$f":"GETPIVOTDATA(\"Sum of 1\",AL$2,\"Day  \",\"Prob Eggs\")","v":0},{"$f":"IF(LSCheckEggs=\"n\",0,(((VLOOKUP(LSTOT,AN4:AO63,2))-(IF(LSHT=0,0,(VLOOKUP(LSHT,AN4:AO63,2)))))/LSIT))","v":0},null,"Sum of 1",0,1,{"$f":"GETPIVOTDATA(\"Sum of 1\",AR$2,\"Day  \",\"Prob Eggs\")","v":0},{"$f":"IF(LSCheckEggs=\"n\",0,(((VLOOKUP(LSTOT,AT4:AU63,2))-(IF(LSHT=0,0,(VLOOKUP(LSHT,AT4:AU63,2)))))/LSIT))","v":0},null,"Sum of 1",0,1,{"$f":"GETPIVOTDATA(\"Sum of 1\",AX$2,\"Day  \",\"Prob Eggs\")","v":0},{"$f":"IF(LSCheckEggs=\"n\",0,(((VLOOKUP(LSTOT,AZ4:BA63,2))-(IF(LSHT=0,0,(VLOOKUP(LSHT,AZ4:BA63,2)))))/LSIT))","v":0},null,"Sum of 1",0,1,{"$f":"GETPIVOTDATA(\"Sum of 1\",BD$2,\"Day  \",\"Prob Eggs\")","v":0},{"$f":"IF(LSCheckEggs=\"n\",0,(((VLOOKUP(LSTOT,BF4:BG63,2))-(IF(LSHT=0,0,(VLOOKUP(LSHT,BF4:BG63,2)))))/LSIT))","v":0},null,{"$f":"\"RE-ENTER. See #2.\"","v":"RE-ENTER. See #2."}]
[null,"Sum of 2",0,2,{"$f":"E4+GETPIVOTDATA(\"Sum of 2\",$B$2,\"Day  \",\"Prob Eggs\")","v":0.89015151515151514},"Calculates probability of the life stage occurring LSTOT days after infestation.  Includes LSHT (life stage holding time) and LSIT (Life stage infestation time)",null,"Sum of 2",5.9829059829059832E-2,2,{"$f":"K4+GETPIVOTDATA(\"Sum of 2\",H$2,\"Day  \",\"Prob Eggs\")","v":0.98125763125763121},null,null,"Sum of 2",0.17543859649122806,2,{"$f":"Q4+GETPIVOTDATA(\"Sum of 2\",N$2,\"Day  \",\"Prob Eggs\")","v":1.0935672514619883},null,null,"Sum of 2",0.30597014925373134,2,{"$f":"W4+GETPIVOTDATA(\"Sum of 2\",T$2,\"Day  \",\"Prob Eggs\")","v":1.1349175176747841},null,null,"Sum of 2",1.1627906976744186E-2,2,{"$f":"AC4+GETPIVOTDATA(\"Sum of 2\",Z$2,\"Day  \",\"Prob Eggs\")","v":0.92071881606765327},null,null,"Sum of 2",9.8814229249011856E-2,2,{"$f":"AI4+GETPIVOTDATA(\"Sum of 2\",AF$2,\"Day  \",\"Prob Eggs\")","v":1.098814229249012},null,null,"Sum of 2",0,2,{"$f":"AO4+GETPIVOTDATA(\"Sum of 2\",AL$2,\"Day  \",\"Prob Eggs\")","v":0},null,null,"Sum of 2",0,2,{"$f":"AU4+GETPIVOTDATA(\"Sum of 2\",AR$2,\"Day  \",\"Prob Eggs\")","v":0},null,null,"Sum of 2",0,2,{"$f":"BA4+GETPIVOTDATA(\"Sum of 2\",AX$2,\"Day  \",\"Prob Eggs\")","v":0},null,null,"Sum of 2",0,2,{"$f":"BG4+GETPIVOTDATA(\"Sum of 2\",BD$2,\"Day  \",\"Prob Eggs\")","v":0},null,null,{"$f":"\"RE-ENTER. See #3.\"","v":"RE-ENTER. See #3."}]
[null,"Sum of 3",0,3,{"$f":"E5+GETPIVOTDATA(\"Sum of 3\",$B$2,\"Day  \",\"Prob Eggs\")","v":0.89015151515151514},null,null,"Sum of 3",0,3,{"$f":"K5+GETPIVOTDATA(\"Sum of 3\",H$2,\"Day  \",\"Prob Eggs\")","v":0.98125763125763121},null,null,"Sum of 3",0,3,{"$f":"Q5+GETPIVOTDATA(\"Sum of 3\",N$2,\"Day  \",\"Prob Eggs\")","v":1.0935672514619883},null,null,"Sum of 3",0,3,{"$f":"W5+GETPIVOTDATA(\"Sum of 3\",T$2,\"Day  \",\"Prob Eggs\")","v":1.1349175176747841},null,null,"Sum of 3",1.6393442622950821E-2,3,{"$f":"AC5+GETPIVOTDATA(\"Sum of 3\",Z$2,\"Day  \",\"Prob Eggs\")","v":0.93711225869060411},null,null,"Sum of 3",0,3,{"$f":"AI5+GETPIVOTDATA(\"Sum of 3\",AF$2,\"Day  \",\"Prob Eggs\")","v":1.098814229249012},null,null,"Sum of 3",0,3,{"$f":"AO5+GETPIVOTDATA(\"Sum of 3\",AL$2,\"Day  \",\"Prob Eggs\")","v":0},null,null,"Sum of 3",0,3,{"$f":"AU5+GETPIVOTDATA(\"Sum of 3\",AR$2,\"Day  \",\"Prob Eggs\")","v":0},null,null,"Sum of 3",0,3,{"$f":"BA5+GETPIVOTDATA(\"Sum of 3\",AX$2,\"Day  \",\"Prob Eggs\")","v":0},null,null,"Sum of 3",0,3,{"$f":"BG5+GETPIVOTDATA(\"Sum of 3\",BD$2,\"Day  \",\"Prob Eggs\")","v":0}]
[null,"Sum of 4",0,4,{"$f":"E6+GETPIVOTDATA(\"Sum of 4\",$B$2,\"Day  \",\"Prob Eggs\")","v":0.89015151515151514},null,null,"Sum of 4",0,4,{"$f":"K6+GETPIVOTDATA(\"Sum of 4\",H$2,\"Day  \",\"Prob Eggs\")","v":0.98125763125763121},null,null,"Sum of 4",0,4,{"$f":"Q6+GETPIVOTDATA(\"Sum of 4\",N$2,\"Day  \",\"Prob Eggs\")","v":1.0935672514619883},null,null,"Sum of 4",0,4,{"$f":"W6+GETPIVOTDATA(\"Sum of 4\",T$2,\"Day  \",\"Prob Eggs\")","v":1.1349175176747841},null,null,"Sum of 4",0,4,{"$f":"AC6+GETPIVOTDATA(\"Sum of 4\",Z$2,\"Day  \",\"Prob Eggs\")","v":0.93711225869060411},null,null,"Sum of 4",0,4,{"$f":"AI6+GETPIVOTDATA(\"Sum of 4\",AF$2,\"Day  \",\"Prob Eggs\")","v":1.098814229249012},null,null,"Sum of 4",0,4,{"$f":"AO6+GETPIVOTDATA(\"Sum of 4\",AL$2,\"Day  \",\"Prob Eggs\")","v":0},null,null,"Sum of 4",0,4,{"$f":"AU6+GETPIVOTDATA(\"Sum of 4\",AR$2,\"Day  \",\"Prob Eggs\")","v":0},null,null,"Sum of 4",0,4,{"$f":"BA6+GETPIVOTDATA(\"Sum of 4\",AX$2,\"Day  \",\"Prob Eggs\")","v":0},null,null,"Sum of 4",0,4,{"$f":"BG6+GETPIVOTDATA(\"Sum of 4\",BD$2,\"Day  \",\"Prob Eggs\")","v":0}]
[null,"Sum of 5",0,5,{"$f":"E7+GETPIVOTDATA(\"Sum of 5\",$B$2,\"Day  \",\"Prob Eggs\")","v":0.89015151515151514},null,null,"Sum of 5",0,5,{"$f":"K7+GETPIVOTDATA(\"Sum of 5\",H$2,\"Day  \",\"Prob Eggs\")","v":0.98125763125763121},null,null,"Sum of 5",0,5,{"$f":"Q7+GETPIVOTDATA(\"Sum of 5\",N$2,\"Day  \",\"Prob Eggs\")","v":1.0935672514619883},null,null,"Sum of 5",0,5,{"$f":"W7+GETPIVOTDATA(\"Sum of 5\",T$2,\"Day  \",\"Prob Eggs\")","v":1.1349175176747841},null,null,"Sum of 5",0,5,{"$f":"AC7+GETPIVOTDATA(\"Sum of 5\",Z$2,\"Day  \",\"Prob Eggs\")","v":0.93711225869060411},null,null,"Sum of 5",0,5,{"$f":"AI7+GETPIVOTDATA(\"Sum of 5\",AF$2,\"Day  \",\"Prob Eggs\")","v":1.098814229249012},null,null,"Sum of 5",0,5,{"$f":"AO7+GETPIVOTDATA(\"Sum of 5\",AL$2,\"Day  \",\"Prob Eggs\")","v":0},null,null,"Sum of 5",0,5,{"$f":"AU7+GETPIVOTDATA(\"Sum of 5\",AR$2,\"Day  \",\"Prob Eggs\")","v":0},null,null,"Sum of 5",0,5,{"$f":"BA7+GETPIVOTDATA(\"Sum of 5\",AX$2,\"Day  \",\"Prob Eggs\")","v":0},null,null,"Sum of 5",0,5,{"$f":"BG7+GETPIVOTDATA(\"Sum of 5\",BD$2,\"Day  \",\"Prob Eggs\")","v":0}]
[null,"Sum of 6",0,6,{"$f":"E8+GETPIVOTDATA(\"Sum of 6\",$B$2,\"Day  \",\"Prob Eggs\")","v":0.89015151515151514},null,null,"Sum of 6",0,6,{"$f":"K8+GETPIVOTDATA(\"Sum of 6\",H$2,\"Day  \",\"Prob Eggs\")","v":0.98125763125763121},null,null,"Sum of 6",0,6,{"$f":"Q8+GETPIVOTDATA(\"Sum of 6\",N$2,\"Day  \",\"Prob Eggs\")","v":1.0935672514619883},null,null,"Sum of 6",0,6,{"$f":"W8+GETPIVOTDATA(\"Sum of 6\",T$2,\"Day  \",\"Prob Eggs\")","v":1.1349175176747841},null,null,"Sum of 6",0,6,{"$f":"AC8+GETPIVOTDATA(\"Sum of 6\",Z$2,\"Day  \",\"Prob Eggs\")","v":0.93711225869060411},null,null,"Sum of 6",0,6,{"$f":"AI8+GETPIVOTDATA(\"Sum of 6\",AF$2,\"Day  \",\"Prob Eggs\")","v":1.098814229249012},null,null,"Sum of 6",0,6,{"$f":"AO8+GETPIVOTDATA(\"Sum of 6\",AL$2,\"Day  \",\"Prob Eggs\")","v":0},null,null,"Sum of 6",0,6,{"$f":"AU8+GETPIVOTDATA(\"Sum of 6\",AR$2,\"Day  \",\"Prob Eggs\")","v":0},null,null,"Sum of 6",0,6,{"$f":"BA8+GETPIVOTDATA(\"Sum of 6\",AX$2,\"Day  \",\"Prob Eggs\")","v":0},null,null,"Sum of 6",0,6,{"$f":"BG8+GETPIVOTDATA(\"Sum of 6\",BD$2,\"Day  \",\"Prob Eggs\")","v":0}]
[null,"Sum of 7",0,7,{"$f":"E9+GETPIVOTDATA(\"Sum of 7\",$B$2,\"Day  \",\"Prob Eggs\")","v":0.89015151515151514},null,null,"Sum of 7",0,7,{"$f":"K9+GETPIVOTDATA(\"Sum of 7\",H$2,\"Day  \",\"Prob Eggs\")","v":0.98125763125763121},null,null,"Sum of 7",0,7,{"$f":"Q9+GETPIVOTDATA(\"Sum of 7\",N$2,\"Day  \",\"Prob Eggs\")","v":1.0935672514619883},null,null,"Sum of 7",0,7,{"$f":"W9+GETPIVOTDATA(\"Sum of 7\",T$2,\"Day  \",\"Prob Eggs\")","v":1.1349175176747841},null,null,"Sum of 7",0,7,{"$f":"AC9+GETPIVOTDATA(\"Sum of 7\",Z$2,\"Day  \",\"Prob Eggs\")","v":0.93711225869060411},null,null,"Sum of 7",0,7,{"$f":"AI9+GETPIVOTDATA(\"Sum of 7\",AF$2,\"Day  \",\"Prob Eggs\")","v":1.098814229249012},null,null,"Sum of 7",0,7,{"$f":"AO9+GETPIVOTDATA(\"Sum of 7\",AL$2,\"Day  \",\"Prob Eggs\")","v":0},null,null,"Sum of 7",0,7,{"$f":"AU9+GETPIVOTDATA(\"Sum of 7\",AR$2,\"Day  \",\"Prob Eggs\")","v":0},null,null,"Sum of 7",0,7,{"$f":"BA9+GETPIVOTDATA(\"Sum of 7\",AX$2,\"Day  \",\"Prob Eggs\")","v":0},null,null,"Sum of 7",0,7,{"$f":"BG9+GETPIVOTDATA(\"Sum of 7\",BD$2,\"Day  \",\"Prob Eggs\")","v":0}]
[null,"Sum of 8",0,8,{"$f":"E10+GETPIVOTDATA(\"Sum of 8\",$B$2,\"Day  \",\"Prob Eggs\")","v":0.89015151515151514},null,null,"Sum of 8",0,8,{"$f":"K10+GETPIVOTDATA(\"Sum of 8\",H$2,\"Day  \",\"Prob Eggs\")","v":0.98125763125763121},null,null,"Sum of 8",0,8,{"$f":"Q10+GETPIVOTDATA(\"Sum of 8\",N$2,\"Day  \",\"Prob Eggs\")","v":1.0935672514619883},null,null,"Sum of 8",0,8,{"$f":"W10+GETPIVOTDATA(\"Sum of 8\",T$2,\"Day  \",\"Prob Eggs\")","v":1.1349175176747841},null,null,"Sum of 8",0,8,{"$f":"AC10+GETPIVOTDATA(\"Sum of 8\",Z$2,\"Day  \",\"Prob Eggs\")","v":0.93711225869060411},null,null,"Sum of 8",0,8,{"$f":"AI10+GETPIVOTDATA(\"Sum of 8\",AF$2,\"Day  \",\"Prob Eggs\")","v":1.098814229249012},null,null,"Sum of 8",0,8,{"$f":"AO10+GETPIVOTDATA(\"Sum of 8\",AL$2,\"Day  \",\"Prob Eggs\")","v":0},null,null,"Sum of 8",0,8,{"$f":"AU10+GETPIVOTDATA(\"Sum of 8\",AR$2,\"Day  \",\"Prob Eggs\")","v":0},null,null,"Sum of 8",0,8,{"$f":"BA10+GETPIVOTDATA(\"Sum of 8\",AX$2,\"Day  \",\"Prob Eggs\")","v":0},null,null,"Sum of 8",0,8,{"$f":"BG10+GETPIVOTDATA(\"Sum of 8\",BD$2,\"Day  \",\"Prob Eggs\")","v":0}]
[null,"Sum of 9",0,9,{"$f":"E11+GETPIVOTDATA(\"Sum of 9\",$B$2,\"Day  \",\"Prob Eggs\")","v":0.89015151515151514},null,null,"Sum of 9",0,9,{"$f":"K11+GETPIVOTDATA(\"Sum of 9\",H$2,\"Day  \",\"Prob Eggs\")","v":0.98125763125763121},null,null,"Sum of 9",0,9,{"$f":"Q11+GETPIVOTDATA(\"Sum of 9\",N$2,\"Day  \",\"Prob Eggs\")","v":1.0935672514619883},null,null,"Sum of 9",0,9,{"$f":"W11+GETPIVOTDATA(\"Sum of 9\",T$2,\"Day  \",\"Prob Eggs\")","v":1.1349175176747841},null,null,"Sum of 9",0,9,{"$f":"AC11+GETPIVOTDATA(\"Sum of 9\",Z$2,\"Day  \",\"Prob Eggs\")","v":0.93711225869060411},null,null,"Sum of 9",0,9,{"$f":"AI11+GETPIVOTDATA(\"Sum of 9\",AF$2,\"Day  \",\"Prob Eggs\")","v":1.098814229249012},null,null,"Sum of 9",0,9,{"$f":"AO11+GETPIVOTDATA(\"Sum of 9\",AL$2,\"Day  \",\"Prob Eggs\")","v":0},null,null,"Sum of 9",0,9,{"$f":"AU11+GETPIVOTDATA(\"Sum of 9\",AR$2,\"Day  \",\"Prob Eggs\")","v":0},null,null,"Sum of 9",0,9,{"$f":"BA11+GETPIVOTDATA(\"Sum of 9\",AX$2,\"Day  \",\"Prob Eggs\")","v":0},null,null,"Sum of 9",0,9,{"$f":"BG11+GETPIVOTDATA(\"Sum of 9\",BD$2,\"Day  \",\"Prob Eggs\")","v":0}]
[null,"Sum of 10",0,10,{"$f":"E12+GETPIVOTDATA(\"Sum of 10\",$B$2,\"Day  \",\"Prob Eggs\")","v":0.89015151515151514},null,null,"Sum of 10",0,10,{"$f":"K12+GETPIVOTDATA(\"Sum of 10\",H$2,\"Day  \",\"Prob Eggs\")","v":0.98125763125763121},null,null,"Sum of 10",0,10,{"$f":"Q12+GETPIVOTDATA(\"Sum of 10\",N$2,\"Day  \",\"Prob Eggs\")","v":1.0935672514619883},null,null,"Sum of 10",0,10,{"$f":"W12+GETPIVOTDATA(\"Sum of 10\",T$2,\"Day  \",\"Prob Eggs\")","v":1.1349175176747841},null,null,"Sum of 10",0,10,{"$f":"AC12+GETPIVOTDATA(\"Sum of 10\",Z$2,\"Day  \",\"Prob Eggs\")","v":0.93711225869060411},null,null,"Sum of 10",0,10,{"$f":"AI12+GETPIVOTDATA(\"Sum of 10\",AF$2,\"Day  \",\"Prob Eggs\")","v":1.098814229249012},null,null,"Sum of 10",0,10,{"$f":"AO12+GETPIVOTDATA(\"Sum of 10\",AL$2,\"Day  \",\"Prob Eggs\")","v":0},null,null,"Sum of 10",0,10,{"$f":"AU12+GETPIVOTDATA(\"Sum of 10\",AR$2,\"Day  \",\"Prob Eggs\")","v":0},null,null,"Sum of 10",0,10,{"$f":"BA12+GETPIVOTDATA(\"Sum of 10\",AX$2,\"Day  \",\"Prob Eggs\")","v":0},null,null,"Sum of 10",0,10,{"$f":"BG12+GETPIVOTDATA(\"Sum of 10\",BD$2,\"Day  \",\"Prob Eggs\")","v":0}]
[null,"Sum of 11",0,11,{"$f":"E13+GETPIVOTDATA(\"Sum of 11\",$B$2,\"Day  \",\"Prob Eggs\")","v":0.89015151515151514},null,null,"Sum of 11",0,11,{"$f":"K13+GETPIVOTDATA(\"Sum of 11\",H$2,\"Day  \",\"Prob Eggs\")","v":0.98125763125763121},null,null,"Sum of 11",0,11,{"$f":"Q13+GETPIVOTDATA(\"Sum of 11\",N$2,\"Day  \",\"Prob Eggs\")","v":1.0935672514619883},null,null,"Sum of 11",0,11,{"$f":"W13+GETPIVOTDATA(\"Sum of 11\",T$2,\"Day  \",\"Prob Eggs\")","v":1.1349175176747841},null,null,"Sum of 11",0,11,{"$f":"AC13+GETPIVOTDATA(\"Sum of 11\",Z$2,\"Day  \",\"Prob Eggs\")","v":0.93711225869060411},null,null,"Sum of 11",0,11,{"$f":"AI13+GETPIVOTDATA(\"Sum of 11\",AF$2,\"Day  \",\"Prob Eggs\")","v":1.098814229249012},null,null,"Sum of 11",0,11,{"$f":"AO13+GETPIVOTDATA(\"Sum of 11\",AL$2,\"Day  \",\"Prob Eggs\")","v":0},null,null,"Sum of 11",0,11,{"$f":"AU13+GETPIVOTDATA(\"Sum of 11\",AR$2,\"Day  \",\"Prob Eggs\")","v":0},null,null,"Sum of 11",0,11,{"$f":"BA13+GETPIVOTDATA(\"Sum of 11\",AX$2,\"Day  \",\"Prob Eggs\")","v":0},null,null,"Sum of 11",0,11,{"$f":"BG13+GETPIVOTDATA(\"Sum of 11\",BD$2,\"Day  \",\"Prob Eggs\")","v":0}]
[null,"Sum of 12",0,12,{"$f":"E14+GETPIVOTDATA(\"Sum of 12\",$B$2,\"Day  \",\"Prob Eggs\")","v":0.89015151515151514},null,null,"Sum of 12",0,12,{"$f":"K14+GETPIVOTDATA(\"Sum of 12\",H$2,\"Day  \",\"Prob Eggs\")","v":0.98125763125763121},null,null,"Sum of 12",0,12,{"$f":"Q14+GETPIVOTDATA(\"Sum of 12\",N$2,\"Day  \",\"Prob Eggs\")","v":1.0935672514619883},null,null,"Sum of 12",0,12,{"$f":"W14+GETPIVOTDATA(\"Sum of 12\",T$2,\"Day  \",\"Prob Eggs\")","v":1.1349175176747841},null,null,"Sum of 12",0,12,{"$f":"AC14+GETPIVOTDATA(\"Sum of 12\",Z$2,\"Day  \",\"Prob Eggs\")","v":0.93711225869060411},null,null,"Sum of 12",0,12,{"$f":"AI14+GETPIVOTDATA(\"Sum of 12\",AF$2,\"Day  \",\"Prob Eggs\")","v":1.098814229249012},null,null,"Sum of 12",0,12,{"$f":"AO14+GETPIVOTDATA(\"Sum of 12\",AL$2,\"Day  \",\"Prob Eggs\")","v":0},null,null,"Sum of 12",0,12,{"$f":"AU14+GETPIVOTDATA(\"Sum of 12\",AR$2,\"Day  \",\"Prob Eggs\")","v":0},null,null,"Sum of 12",0,12,{"$f":"BA14+GETPIVOTDATA(\"Sum of 12\",AX$2,\"Day  \",\"Prob Eggs\")","v":0},null,null,"Sum of 12",0,12,{"$f":"BG14+GETPIVOTDATA(\"Sum of 12\",BD$2,\"Day  \",\"Prob Eggs\")","v":0}]
[null,"Sum of 13",0,13,{"$f":"E15+GETPIVOTDATA(\"Sum of 13\",$B$2,\"Day  \",\"Prob Eggs\")","v":0.89015151515151514},null,null,"Sum of 13",0,13,{"$f":"K15+GETPIVOTDATA(\"Sum of 13\",H$2,\"Day  \",\"Prob Eggs\")","v":0.98125763125763121},null,null,"Sum of 13",0,13,{"$f":"Q15+GETPIVOTDATA(\"Sum of 13\",N$2,\"Day  \",\"Prob Eggs\")","v":1.0935672514619883},null,null,"Sum of 13",0,13,{"$f":"W15+GETPIVOTDATA(\"Sum of 13\",T$2,\"Day  \",\"Prob Eggs\")","v":1.1349175176747841},null,null,"Sum of 13",0,13,{"$f":"AC15+GETPIVOTDATA(\"Sum of 13\",Z$2,\"Day  \",\"Prob Eggs\")","v":0.93711225869060411},null,null,"Sum of 13",0,13,{"$f":"AI15+GETPIVOTDATA(\"Sum of 13\",AF$2,\"Day  \",\"Prob Eggs\")","v":1.098814229249012},null,null,"Sum of 13",0,13,{"$f":"AO15+GETPIVOTDATA(\"Sum of 13\",AL$2,\"Day  \",\"Prob Eggs\")","v":0},null,null,"Sum of 13",0,13,{"$f":"AU15+GETPIVOTDATA(\"Sum of 13\",AR$2,\"Day  \",\"Prob Eggs\")","v":0},null,null,"Sum of 13",0,13,{"$f":"BA15+GETPIVOTDATA(\"Sum of 13\",AX$2,\"Day  \",\"Prob Eggs\")","v":0},null,null,"Sum of 13",0,13,{"$f":"BG15+GETPIVOTDATA(\"Sum of 13\",BD$2,\"Day  \",\"Prob Eggs\")","v":0}]
[null,"Sum of 14",0,14,{"$f":"E16+GETPIVOTDATA(\"Sum of 14\",$B$2,\"Day  \",\"Prob Eggs\")","v":0.89015151515151514},null,null,"Sum of 14",0,14,{"$f":"K16+GETPIVOTDATA(\"Sum of 14\",H$2,\"Day  \",\"Prob Eggs\")","v":0.98125763125763121},null,null,"Sum of 14",0,14,{"$f":"Q16+GETPIVOTDATA(\"Sum of 14\",N$2,\"Day  \",\"Prob Eggs\")","v":1.0935672514619883},null,null,"Sum of 14",0,14,{"$f":"W16+GETPIVOTDATA(\"Sum of 14\",T$2,\"Day  \",\"Prob Eggs\")","v":1.1349175176747841},null,null,"Sum of 14",0,14,{"$f":"AC16+GETPIVOTDATA(\"Sum of 14\",Z$2,\"Day  \",\"Prob Eggs\")","v":0.93711225869060411},null,null,"Sum of 14",0,14,{"$f":"AI16+GETPIVOTDATA(\"Sum of 14\",AF$2,\"Day  \",\"Prob Eggs\")","v":1.098814229249012},null,null,"Sum of 14",0,14,{"$f":"AO16+GETPIVOTDATA(\"Sum of 14\",AL$2,\"Day  \",\"Prob Eggs\")","v":0},null,null,"Sum of 14",0,14,{"$f":"AU16+GETPIVOTDATA(\"Sum of 14\",AR$2,\"Day  \",\"Prob Eggs\")","v":0},null,null,"Sum of 14",0,14,{"$f":"BA16+GETPIVOTDATA(\"Sum of 14\",AX$2,\"Day  \",\"Prob Eggs\")","v":0},null,null,"Sum of 14",0,14,{"$f":"BG16+GETPIVOTDATA(\"Sum of 14\",BD$2,\"Day  \",\"Prob Eggs\")","v":0}]
[null,"Sum of 15",0,15,{"$f":"E17+GETPIVOTDATA(\"Sum of 15\",$B$2,\"Day  \",\"Prob Eggs\")","v":0.89015151515151514},null,null,"Sum of 15",0,15,{"$f":"K17+GETPIVOTDATA(\"Sum of 15\",H$2,\"Day  \",\"Prob Eggs\")","v":0.98125763125763121},null,null,"Sum of 15",0,15,{"$f":"Q17+GETPIVOTDATA(\"Sum of 15\",N$2,\"Day  \",\"Prob Eggs\")","v":1.0935672514619883},null,null,"Sum of 15",0,15,{"$f":"W17+GETPIVOTDATA(\"Sum of 15\",T$2,\"Day  \",\"Prob Eggs\")","v":1.1349175176747841},null,null,"Sum of 15",0,15,{"$f":"AC17+GETPIVOTDATA(\"Sum of 15\",Z$2,\"Day  \",\"Prob Eggs\")","v":0.93711225869060411},null,null,"Sum of 15",0,15,{"$f":"AI17+GETPIVOTDATA(\"Sum of 15\",AF$2,\"Day  \",\"Prob Eggs\")","v":1.098814229249012},null,null,"Sum of 15",0,15,{"$f":"AO17+GETPIVOTDATA(\"Sum of 15\",AL$2,\"Day  \",\"Prob Eggs\")","v":0},null,null,"Sum of 15",0,15,{"$f":"AU17+GETPIVOTDATA(\"Sum of 15\",AR$2,\"Day  \",\"Prob Eggs\")","v":0},null,null,"Sum of 15",0,15,{"$f":"BA17+GETPIVOTDATA(\"Sum of 15\",AX$2,\"Day  \",\"Prob Eggs\")","v":0},null,null,"Sum of 15",0,15,{"$f":"BG17+GETPIVOTDATA(\"Sum of 15\",BD$2,\"Day  \",\"Prob Eggs\")","v":0}]
[null,"Sum of 16",0,16,{"$f":"E18+GETPIVOTDATA(\"Sum of 16\",$B$2,\"Day  \",\"Prob Eggs\")","v":0.89015151515151514},null,null,"Sum of 16",0,16,{"$f":"K18+GETPIVOTDATA(\"Sum of 16\",H$2,\"Day  \",\"Prob Eggs\")","v":0.98125763125763121},null,null,"Sum of 16",0,16,{"$f":"Q18+GETPIVOTDATA(\"Sum of 16\",N$2,\"Day  \",\"Prob Eggs\")","v":1.0935672514619883},null,null,"Sum of 16",0,16,{"$f":"W18+GETPIVOTDATA(\"Sum of 16\",T$2,\"Day  \",\"Prob Eggs\")","v":1.1349175176747841},null,null,"Sum of 16",0,16,{"$f":"AC18+GETPIVOTDATA(\"Sum of 16\",Z$2,\"Day  \",\"Prob Eggs\")","v":0.93711225869060411},null,null,"Sum of 16",0,16,{"$f":"AI18+GETPIVOTDATA(\"Sum of 16\",AF$2,\"Day  \",\"Prob Eggs\")","v":1.098814229249012},null,null,"Sum of 16",0,16,{"$f":"AO18+GETPIVOTDATA(\"Sum of 16\",AL$2,\"Day  \",\"Prob Eggs\")","v":0},null,null,"Sum of 16",0,16,{"$f":"AU18+GETPIVOTDATA(\"Sum of 16\",AR$2,\"Day  \",\"Prob Eggs\")","v":0},null,null,"Sum of 16",0,16,{"$f":"BA18+GETPIVOTDATA(\"Sum of 16\",AX$2,\"Day  \",\"Prob Eggs\")","v":0},null,null,"Sum of 16",0,16,{"$f":"BG18+GETPIVOTDATA(\"Sum of 16\",BD$2,\"Day  \",\"Prob Eggs\")","v":0}]
[null,"Sum of 17",0,17,{"$f":"E19+GETPIVOTDATA(\"Sum of 17\",$B$2,\"Day  \",\"Prob Eggs\")","v":0.89015151515151514},null,null,"Sum of 17",0,17,{"$f":"K19+GETPIVOTDATA(\"Sum of 17\",H$2,\"Day  \",\"Prob Eggs\")","v":0.98125763125763121},null,null,"Sum of 17",0,17,{"$f":"Q19+GETPIVOTDATA(\"Sum of 17\",N$2,\"Day  \",\"Prob Eggs\")","v":1.0935672514619883},null,null,"Sum of 17",0,17,{"$f":"W19+GETPIVOTDATA(\"Sum of 17\",T$2,\"Day  \",\"Prob Eggs\")","v":1.1349175176747841},null,null,"Sum of 17",0,17,{"$f":"AC19+GETPIVOTDATA(\"Sum of 17\",Z$2,\"Day  \",\"Prob Eggs\")","v":0.93711225869060411},null,null,"Sum of 17",0,17,{"$f":"AI19+GETPIVOTDATA(\"Sum of 17\",AF$2,\"Day  \",\"Prob Eggs\")","v":1.098814229249012},null,null,"Sum of 17",0,17,{"$f":"AO19+GETPIVOTDATA(\"Sum of 17\",AL$2,\"Day  \",\"Prob Eggs\")","v":0},null,null,"Sum of 17",0,17,{"$f":"AU19+GETPIVOTDATA(\"Sum of 17\",AR$2,\"Day  \",\"Prob Eggs\")","v":0},null,null,"Sum of 17",0,17,{"$f":"BA19+GETPIVOTDATA(\"Sum of 17\",AX$2,\"Day  \",\"Prob Eggs\")","v":0},null,null,"Sum of 17",0,17,{"$f":"BG19+GETPIVOTDATA(\"Sum of 17\",BD$2,\"Day  \",\"Prob Eggs\")","v":0}]
[null,"Sum of 18",0,18,{"$f":"E20+GETPIVOTDATA(\"Sum of 18\",$B$2,\"Day  \",\"Prob Eggs\")","v":0.89015151515151514},null,null,"Sum of 18",0,18,{"$f":"K20+GETPIVOTDATA(\"Sum of 18\",H$2,\"Day  \",\"Prob Eggs\")","v":0.98125763125763121},null,null,"Sum of 18",0,18,{"$f":"Q20+GETPIVOTDATA(\"Sum of 18\",N$2,\"Day  \",\"Prob Eggs\")","v":1.0935672514619883},null,null,"Sum of 18",0,18,{"$f":"W20+GETPIVOTDATA(\"Sum of 18\",T$2,\"Day  \",\"Prob Eggs\")","v":1.1349175176747841},null,null,"Sum of 18",0,18,{"$f":"AC20+GETPIVOTDATA(\"Sum of 18\",Z$2,\"Day  \",\"Prob Eggs\")","v":0.93711225869060411},null,null,"Sum of 18",0,18,{"$f":"AI20+GETPIVOTDATA(\"Sum of 18\",AF$2,\"Day  \",\"Prob Eggs\")","v":1.098814229249012},null,null,"Sum of 18",0,18,{"$f":"AO20+GETPIVOTDATA(\"Sum of 18\",AL$2,\"Day  \",\"Prob Eggs\")","v":0},null,null,"Sum of 18",0,18,{"$f":"AU20+GETPIVOTDATA(\"Sum of 18\",AR$2,\"Day  \",\"Prob Eggs\")","v":0},null,null,"Sum of 18",0,18,{"$f":"BA20+GETPIVOTDATA(\"Sum of 18\",AX$2,\"Day  \",\"Prob Eggs\")","v":0},null,null,"Sum of 18",0,18,{"$f":"BG20+GETPIVOTDATA(\"Sum of 18\",BD$2,\"Day  \",\"Prob Eggs\")","v":0}]
[null,"Sum of 19",0,19,{"$f":"E21+GETPIVOTDATA(\"Sum of 19\",$B$2,\"Day  \",\"Prob Eggs\")","v":0.89015151515151514},null,null,"Sum of 19",0,19,{"$f":"K21+GETPIVOTDATA(\"Sum of 19\",H$2,\"Day  \",\"Prob Eggs\")","v":0.98125763125763121},null,null,"Sum of 19",0,19,{"$f":"Q21+GETPIVOTDATA(\"Sum of 19\",N$2,\"Day  \",\"Prob Eggs\")","v":1.0935672514619883},null,null,"Sum of 19",0,19,{"$f":"W21+GETPIVOTDATA(\"Sum of 19\",T$2,\"Day  \",\"Prob Eggs\")","v":1.1349175176747841},null,null,"Sum of 19",0,19,{"$f":"AC21+GETPIVOTDATA(\"Sum of 19\",Z$2,\"Day  \",\"Prob Eggs\")","v":0.93711225869060411},null,null,"Sum of 19",0,19,{"$f":"AI21+GETPIVOTDATA(\"Sum of 19\",AF$2,\"Day  \",\"Prob Eggs\")","v":1.098814229249012},null,null,"Sum of 19",0,19,{"$f":"AO21+GETPIVOTDATA(\"Sum of 19\",AL$2,\"Day  \",\"Prob Eggs\")","v":0},null,null,"Sum of 19",0,19,{"$f":"AU21+GETPIVOTDATA(\"Sum of 19\",AR$2,\"Day  \",\"Prob Eggs\")","v":0},null,null,"Sum of 19",0,19,{"$f":"BA21+GETPIVOTDATA(\"Sum of 19\",AX$2,\"Day  \",\"Prob Eggs\")","v":0},null,null,"Sum of 19",0,19,{"$f":"BG21+GETPIVOTDATA(\"Sum of 19\",BD$2,\"Day  \",\"Prob Eggs\")","v":0}]
[null,"Sum of 20",0,20,{"$f":"E22+GETPIVOTDATA(\"Sum of 20\",$B$2,\"Day  \",\"Prob Eggs\")","v":0.89015151515151514},null,null,"Sum of 20",0,20,{"$f":"K22+GETPIVOTDATA(\"Sum of 20\",H$2,\"Day  \",\"Prob Eggs\")","v":0.98125763125763121},null,null,"Sum of 20",0,20,{"$f":"Q22+GETPIVOTDATA(\"Sum of 20\",N$2,\"Day  \",\"Prob Eggs\")","v":1.0935672514619883},null,null,"Sum of 20",0,20,{"$f":"W22+GETPIVOTDATA(\"Sum of 20\",T$2,\"Day  \",\"Prob Eggs\")","v":1.1349175176747841},null,null,"Sum of 20",0,20,{"$f":"AC22+GETPIVOTDATA(\"Sum of 20\",Z$2,\"Day  \",\"Prob Eggs\")","v":0.93711225869060411},null,null,"Sum of 20",0,20,{"$f":"AI22+GETPIVOTDATA(\"Sum of 20\",AF$2,\"Day  \",\"Prob Eggs\")","v":1.098814229249012},null,null,"Sum of 20",0,20,{"$f":"AO22+GETPIVOTDATA(\"Sum of 20\",AL$2,\"Day  \",\"Prob Eggs\")","v":0},null,null,"Sum of 20",0,20,{"$f":"AU22+GETPIVOTDATA(\"Sum of 20\",AR$2,\"Day  \",\"Prob Eggs\")","v":0},null,null,"Sum of 20",0,20,{"$f":"BA22+GETPIVOTDATA(\"Sum of 20\",AX$2,\"Day  \",\"Prob Eggs\")","v":0},null,null,"Sum of 20",0,20,{"$f":"BG22+GETPIVOTDATA(\"Sum of 20\",BD$2,\"Day  \",\"Prob Eggs\")","v":0}]
[null,"Sum of 21",0,21,{"$f":"E23+GETPIVOTDATA(\"Sum of 21\",$B$2,\"Day  \",\"Prob Eggs\")","v":0.89015151515151514},null,null,"Sum of 21",0,21,{"$f":"K23+GETPIVOTDATA(\"Sum of 21\",H$2,\"Day  \",\"Prob Eggs\")","v":0.98125763125763121},null,null,"Sum of 21",0,21,{"$f":"Q23+GETPIVOTDATA(\"Sum of 21\",N$2,\"Day  \",\"Prob Eggs\")","v":1.0935672514619883},null,null,"Sum of 21",0,21,{"$f":"W23+GETPIVOTDATA(\"Sum of 21\",T$2,\"Day  \",\"Prob Eggs\")","v":1.1349175176747841},null,null,"Sum of 21",0,21,{"$f":"AC23+GETPIVOTDATA(\"Sum of 21\",Z$2,\"Day  \",\"Prob Eggs\")","v":0.93711225869060411},null,null,"Sum of 21",0,21,{"$f":"AI23+GETPIVOTDATA(\"Sum of 21\",AF$2,\"Day  \",\"Prob Eggs\")","v":1.098814229249012},null,null,"Sum of 21",0,21,{"$f":"AO23+GETPIVOTDATA(\"Sum of 21\",AL$2,\"Day  \",\"Prob Eggs\")","v":0},null,null,"Sum of 21",0,21,{"$f":"AU23+GETPIVOTDATA(\"Sum of 21\",AR$2,\"Day  \",\"Prob Eggs\")","v":0},null,null,"Sum of 21",0,21,{"$f":"BA23+GETPIVOTDATA(\"Sum of 21\",AX$2,\"Day  \",\"Prob Eggs\")","v":0},null,null,"Sum of 21",0,21,{"$f":"BG23+GETPIVOTDATA(\"Sum of 21\",BD$2,\"Day  \",\"Prob Eggs\")","v":0}]
[null,"Sum of 22",0,22,{"$f":"E24+GETPIVOTDATA(\"Sum of 22\",$B$2,\"Day  \",\"Prob Eggs\")","v":0.89015151515151514},null,null,"Sum of 22",0,22,{"$f":"K24+GETPIVOTDATA(\"Sum of 22\",H$2,\"Day  \",\"Prob Eggs\")","v":0.98125763125763121},null,null,"Sum of 22",0,22,{"$f":"Q24+GETPIVOTDATA(\"Sum of 22\",N$2,\"Day  \",\"Prob Eggs\")","v":1.0935672514619883},null,null,"Sum of 22",0,22,{"$f":"W24+GETPIVOTDATA(\"Sum of 22\",T$2,\"Day  \",\"Prob Eggs\")","v":1.1349175176747841},null,null,"Sum of 22",0,22,{"$f":"AC24+GETPIVOTDATA(\"Sum of 22\",Z$2,\"Day  \",\"Prob Eggs\")","v":0.93711225869060411},null,null,"Sum of 22",0,22,{"$f":"AI24+GETPIVOTDATA(\"Sum of 22\",AF$2,\"Day  \",\"Prob Eggs\")","v":1.098814229249012},null,null,"Sum of 22",0,22,{"$f":"AO24+GETPIVOTDATA(\"Sum of 22\",AL$2,\"Day  \",\"Prob Eggs\")","v":0},null,null,"Sum of 22",0,22,{"$f":"AU24+GETPIVOTDATA(\"Sum of 22\",AR$2,\"Day  \",\"Prob Eggs\")","v":0},null,null,"Sum of 22",0,22,{"$f":"BA24+GETPIVOTDATA(\"Sum of 22\",AX$2,\"Day  \",\"Prob Eggs\")","v":0},null,null,"Sum of 22",0,22,{"$f":"BG24+GETPIVOTDATA(\"Sum of 22\",BD$2,\"Day  \",\"Prob Eggs\")","v":0}]
[null,"Sum of 23",0,23,{"$f":"E25+GETPIVOTDATA(\"Sum of 23\",$B$2,\"Day  \",\"Prob Eggs\")","v":0.89015151515151514},null,null,"Sum of 23",0,23,{"$f":"K25+GETPIVOTDATA(\"Sum of 23\",H$2,\"Day  \",\"Prob Eggs\")","v":0.98125763125763121},null,null,"Sum of 23",0,23,{"$f":"Q25+GETPIVOTDATA(\"Sum of 23\",N$2,\"Day  \",\"Prob Eggs\")","v":1.0935672514619883},null,null,"Sum of 23",0,23,{"$f":"W25+GETPIVOTDATA(\"Sum of 23\",T$2,\"Day  \",\"Prob Eggs\")","v":1.1349175176747841},null,null,"Sum of 23",0,23,{"$f":"AC25+GETPIVOTDATA(\"Sum of 23\",Z$2,\"Day  \",\"Prob Eggs\")","v":0.93711225869060411},null,null,"Sum of 23",0,23,{"$f":"AI25+GETPIVOTDATA(\"Sum of 23\",AF$2,\"Day  \",\"Prob Eggs\")","v":1.098814229249012},null,null,"Sum of 23",0,23,{"$f":"AO25+GETPIVOTDATA(\"Sum of 23\",AL$2,\"Day  \",\"Prob Eggs\")","v":0},null,null,"Sum of 23",0,23,{"$f":"AU25+GETPIVOTDATA(\"Sum of 23\",AR$2,\"Day  \",\"Prob Eggs\")","v":0},null,null,"Sum of 23",0,23,{"$f":"BA25+GETPIVOTDATA(\"Sum of 23\",AX$2,\"Day  \",\"Prob Eggs\")","v":0},null,null,"Sum of 23",0,23,{"$f":"BG25+GETPIVOTDATA(\"Sum of 23\",BD$2,\"Day  \",\"Prob Eggs\")","v":0}]
[null,"Sum of 24",0,24,{"$f":"E26+GETPIVOTDATA(\"Sum of 24\",$B$2,\"Day  \",\"Prob Eggs\")","v":0.89015151515151514},null,null,"Sum of 24",0,24,{"$f":"K26+GETPIVOTDATA(\"Sum of 24\",H$2,\"Day  \",\"Prob Eggs\")","v":0.98125763125763121},null,null,"Sum of 24",0,24,{"$f":"Q26+GETPIVOTDATA(\"Sum of 24\",N$2,\"Day  \",\"Prob Eggs\")","v":1.0935672514619883},null,null,"Sum of 24",0,24,{"$f":"W26+GETPIVOTDATA(\"Sum of 24\",T$2,\"Day  \",\"Prob Eggs\")","v":1.1349175176747841},null,null,"Sum of 24",0,24,{"$f":"AC26+GETPIVOTDATA(\"Sum of 24\",Z$2,\"Day  \",\"Prob Eggs\")","v":0.93711225869060411},null,null,"Sum of 24",0,24,{"$f":"AI26+GETPIVOTDATA(\"Sum of 24\",AF$2,\"Day  \",\"Prob Eggs\")","v":1.098814229249012},null,null,"Sum of 24",0,24,{"$f":"AO26+GETPIVOTDATA(\"Sum of 24\",AL$2,\"Day  \",\"Prob Eggs\")","v":0},null,null,"Sum of 24",0,24,{"$f":"AU26+GETPIVOTDATA(\"Sum of 24\",AR$2,\"Day  \",\"Prob Eggs\")","v":0},null,null,"Sum of 24",0,24,{"$f":"BA26+GETPIVOTDATA(\"Sum of 24\",AX$2,\"Day  \",\"Prob Eggs\")","v":0},null,null,"Sum of 24",0,24,{"$f":"BG26+GETPIVOTDATA(\"Sum of 24\",BD$2,\"Day  \",\"Prob Eggs\")","v":0}]
[null,"Sum of 25",0,25,{"$f":"E27+GETPIVOTDATA(\"Sum of 25\",$B$2,\"Day  \",\"Prob Eggs\")","v":0.89015151515151514},null,null,"Sum of 25",0,25,{"$f":"K27+GETPIVOTDATA(\"Sum of 25\",H$2,\"Day  \",\"Prob Eggs\")","v":0.98125763125763121},null,null,"Sum of 25",0,25,{"$f":"Q27+GETPIVOTDATA(\"Sum of 25\",N$2,\"Day  \",\"Prob Eggs\")","v":1.0935672514619883},null,null,"Sum of 25",0,25,{"$f":"W27+GETPIVOTDATA(\"Sum of 25\",T$2,\"Day  \",\"Prob Eggs\")","v":1.1349175176747841},null,null,"Sum of 25",0,25,{"$f":"AC27+GETPIVOTDATA(\"Sum of 25\",Z$2,\"Day  \",\"Prob Eggs\")","v":0.93711225869060411},null,null,"Sum of 25",0,25,{"$f":"AI27+GETPIVOTDATA(\"Sum of 25\",AF$2,\"Day  \",\"Prob Eggs\")","v":1.098814229249012},null,null,"Sum of 25",0,25,{"$f":"AO27+GETPIVOTDATA(\"Sum of 25\",AL$2,\"Day  \",\"Prob Eggs\")","v":0},null,null,"Sum of 25",0,25,{"$f":"AU27+GETPIVOTDATA(\"Sum of 25\",AR$2,\"Day  \",\"Prob Eggs\")","v":0},null,null,"Sum of 25",0,25,{"$f":"BA27+GETPIVOTDATA(\"Sum of 25\",AX$2,\"Day  \",\"Prob Eggs\")","v":0},null,null,"Sum of 25",0,25,{"$f":"BG27+GETPIVOTDATA(\"Sum of 25\",BD$2,\"Day  \",\"Prob Eggs\")","v":0}]
[null,"Sum of 26",0,26,{"$f":"E28+GETPIVOTDATA(\"Sum of 26\",$B$2,\"Day  \",\"Prob Eggs\")","v":0.89015151515151514},null,null,"Sum of 26",0,26,{"$f":"K28+GETPIVOTDATA(\"Sum of 26\",H$2,\"Day  \",\"Prob Eggs\")","v":0.98125763125763121},null,null,"Sum of 26",0,26,{"$f":"Q28+GETPIVOTDATA(\"Sum of 26\",N$2,\"Day  \",\"Prob Eggs\")","v":1.0935672514619883},null,null,"Sum of 26",0,26,{"$f":"W28+GETPIVOTDATA(\"Sum of 26\",T$2,\"Day  \",\"Prob Eggs\")","v":1.1349175176747841},null,null,"Sum of 26",0,26,{"$f":"AC28+GETPIVOTDATA(\"Sum of 26\",Z$2,\"Day  \",\"Prob Eggs\")","v":0.93711225869060411},null,null,"Sum of 26",0,26,{"$f":"AI28+GETPIVOTDATA(\"Sum of 26\",AF$2,\"Day  \",\"Prob Eggs\")","v":1.098814229249012},null,null,"Sum of 26",0,26,{"$f":"AO28+GETPIVOTDATA(\"Sum of 26\",AL$2,\"Day  \",\"Prob Eggs\")","v":0},null,null,"Sum of 26",0,26,{"$f":"AU28+GETPIVOTDATA(\"Sum of 26\",AR$2,\"Day  \",\"Prob Eggs\")","v":0},null,null,"Sum of 26",0,26,{"$f":"BA28+GETPIVOTDATA(\"Sum of 26\",AX$2,\"Day  \",\"Prob Eggs\")","v":0},null,null,"Sum of 26",0,26,{"$f":"BG28+GETPIVOTDATA(\"Sum of 26\",BD$2,\"Day  \",\"Prob Eggs\")","v":0}]
[null,"Sum of 27",0,27,{"$f":"E29+GETPIVOTDATA(\"Sum of 27\",$B$2,\"Day  \",\"Prob Eggs\")","v":0.89015151515151514},null,null,"Sum of 27",0,27,{"$f":"K29+GETPIVOTDATA(\"Sum of 27\",H$2,\"Day  \",\"Prob Eggs\")","v":0.98125763125763121},null,null,"Sum of 27",0,27,{"$f":"Q29+GETPIVOTDATA(\"Sum of 27\",N$2,\"Day  \",\"Prob Eggs\")","v":1.0935672514619883},null,null,"Sum of 27",0,27,{"$f":"W29+GETPIVOTDATA(\"Sum of 27\",T$2,\"Day  \",\"Prob Eggs\")","v":1.1349175176747841},null,null,"Sum of 27",0,27,{"$f":"AC29+GETPIVOTDATA(\"Sum of 27\",Z$2,\"Day  \",\"Prob Eggs\")","v":0.93711225869060411},null,null,"Sum of 27",0,27,{"$f":"AI29+GETPIVOTDATA(\"Sum of 27\",AF$2,\"Day  \",\"Prob Eggs\")","v":1.098814229249012},null,null,"Sum of 27",0,27,{"$f":"AO29+GETPIVOTDATA(\"Sum of 27\",AL$2,\"Day  \",\"Prob Eggs\")","v":0},null,null,"Sum of 27",0,27,{"$f":"AU29+GETPIVOTDATA(\"Sum of 27\",AR$2,\"Day  \",\"Prob Eggs\")","v":0},null,null,"Sum of 27",0,27,{"$f":"BA29+GETPIVOTDATA(\"Sum of 27\",AX$2,\"Day  \",\"Prob Eggs\")","v":0},null,null,"Sum of 27",0,27,{"$f":"BG29+GETPIVOTDATA(\"Sum of 27\",BD$2,\"Day  \",\"Prob Eggs\")","v":0}]
[null,"Sum of 28",0,28,{"$f":"E30+GETPIVOTDATA(\"Sum of 28\",$B$2,\"Day  \",\"Prob Eggs\")","v":0.89015151515151514},null,null,"Sum of 28",0,28,{"$f":"K30+GETPIVOTDATA(\"Sum of 28\",H$2,\"Day  \",\"Prob Eggs\")","v":0.98125763125763121},null,null,"Sum of 28",0,28,{"$f":"Q30+GETPIVOTDATA(\"Sum of 28\",N$2,\"Day  \",\"Prob Eggs\")","v":1.0935672514619883},null,null,"Sum of 28",0,28,{"$f":"W30+GETPIVOTDATA(\"Sum of 28\",T$2,\"Day  \",\"Prob Eggs\")","v":1.1349175176747841},null,null,"Sum of 28",0,28,{"$f":"AC30+GETPIVOTDATA(\"Sum of 28\",Z$2,\"Day  \",\"Prob Eggs\")","v":0.93711225869060411},null,null,"Sum of 28",0,28,{"$f":"AI30+GETPIVOTDATA(\"Sum of 28\",AF$2,\"Day  \",\"Prob Eggs\")","v":1.098814229249012},null,null,"Sum of 28",0,28,{"$f":"AO30+GETPIVOTDATA(\"Sum of 28\",AL$2,\"Day  \",\"Prob Eggs\")","v":0},null,null,"Sum of 28",0,28,{"$f":"AU30+GETPIVOTDATA(\"Sum of 28\",AR$2,\"Day  \",\"Prob Eggs\")","v":0},null,null,"Sum of 28",0,28,{"$f":"BA30+GETPIVOTDATA(\"Sum of 28\",AX$2,\"Day  \",\"Prob Eggs\")","v":0},null,null,"Sum of 28",0,28,{"$f":"BG30+GETPIVOTDATA(\"Sum of 28\",BD$2,\"Day  \",\"Prob Eggs\")","v":0}]
[null,"Sum of 29",0,29,{"$f":"E31+GETPIVOTDATA(\"Sum of 29\",$B$2,\"Day  \",\"Prob Eggs\")","v":0.89015151515151514},null,null,"Sum of 29",0,29,{"$f":"K31+GETPIVOTDATA(\"Sum of 29\",H$2,\"Day  \",\"Prob Eggs\")","v":0.98125763125763121},null,null,"Sum of 29",0,29,{"$f":"Q31+GETPIVOTDATA(\"Sum of 29\",N$2,\"Day  \",\"Prob Eggs\")","v":1.0935672514619883},null,null,"Sum of 29",0,29,{"$f":"W31+GETPIVOTDATA(\"Sum of 29\",T$2,\"Day  \",\"Prob Eggs\")","v":1.1349175176747841},null,null,"Sum of 29",0,29,{"$f":"AC31+GETPIVOTDATA(\"Sum of 29\",Z$2,\"Day  \",\"Prob Eggs\")","v":0.93711225869060411},null,null,"Sum of 29",0,29,{"$f":"AI31+GETPIVOTDATA(\"Sum of 29\",AF$2,\"Day  \",\"Prob Eggs\")","v":1.098814229249012},null,null,"Sum of 29",0,29,{"$f":"AO31+GETPIVOTDATA(\"Sum of 29\",AL$2,\"Day  \",\"Prob Eggs\")","v":0},null,null,"Sum of 29",0,29,{"$f":"AU31+GETPIVOTDATA(\"Sum of 29\",AR$2,\"Day  \",\"Prob Eggs\")","v":0},null,null,"Sum of 29",0,29,{"$f":"BA31+GETPIVOTDATA(\"Sum of 29\",AX$2,\"Day  \",\"Prob Eggs\")","v":0},null,null,"Sum of 29",0,29,{"$f":"BG31+GETPIVOTDATA(\"Sum of 29\",BD$2,\"Day  \",\"Prob Eggs\")","v":0}]
[null,"Sum of 30",0,30,{"$f":"E32+GETPIVOTDATA(\"Sum of 30\",$B$2,\"Day  \",\"Prob Eggs\")","v":0.89015151515151514},null,null,"Sum of 30",0,30,{"$f":"K32+GETPIVOTDATA(\"Sum of 30\",H$2,\"Day  \",\"Prob Eggs\")","v":0.98125763125763121},null,null,"Sum of 30",0,30,{"$f":"Q32+GETPIVOTDATA(\"Sum of 30\",N$2,\"Day  \",\"Prob Eggs\")","v":1.0935672514619883},null,null,"Sum of 30",0,30,{"$f":"W32+GETPIVOTDATA(\"Sum of 30\",T$2,\"Day  \",\"Prob Eggs\")","v":1.1349175176747841},null,null,"Sum of 30",0,30,{"$f":"AC32+GETPIVOTDATA(\"Sum of 30\",Z$2,\"Day  \",\"Prob Eggs\")","v":0.93711225869060411},null,null,"Sum of 30",0,30,{"$f":"AI32+GETPIVOTDATA(\"Sum of 30\",AF$2,\"Day  \",\"Prob Eggs\")","v":1.098814229249012},null,null,"Sum of 30",0,30,{"$f":"AO32+GETPIVOTDATA(\"Sum of 30\",AL$2,\"Day  \",\"Prob Eggs\")","v":0},null,null,"Sum of 30",0,30,{"$f":"AU32+GETPIVOTDATA(\"Sum of 30\",AR$2,\"Day  \",\"Prob Eggs\")","v":0},null,null,"Sum of 30",0,30,{"$f":"BA32+GETPIVOTDATA(\"Sum of 30\",AX$2,\"Day  \",\"Prob Eggs\")","v":0},null,null,"Sum of 30",0,30,{"$f":"BG32+GETPIVOTDATA(\"Sum of 30\",BD$2,\"Day  \",\"Prob Eggs\")","v":0}]
[null,"Sum of 31",0,31,{"$f":"E33+GETPIVOTDATA(\"Sum of 31\",$B$2,\"Day  \",\"Prob Eggs\")","v":0.89015151515151514},null,null,"Sum of 31",0,31,{"$f":"K33+GETPIVOTDATA(\"Sum of 31\",H$2,\"Day  \",\"Prob Eggs\")","v":0.98125763125763121},null,null,"Sum of 31",0,31,{"$f":"Q33+GETPIVOTDATA(\"Sum of 31\",N$2,\"Day  \",\"Prob Eggs\")","v":1.0935672514619883},null,null,"Sum of 31",0,31,{"$f":"W33+GETPIVOTDATA(\"Sum of 31\",T$2,\"Day  \",\"Prob Eggs\")","v":1.1349175176747841},null,null,"Sum of 31",0,31,{"$f":"AC33+GETPIVOTDATA(\"Sum of 31\",Z$2,\"Day  \",\"Prob Eggs\")","v":0.93711225869060411},null,null,"Sum of 31",0,31,{"$f":"AI33+GETPIVOTDATA(\"Sum of 31\",AF$2,\"Day  \",\"Prob Eggs\")","v":1.098814229249012},null,null,"Sum of 31",0,31,{"$f":"AO33+GETPIVOTDATA(\"Sum of 31\",AL$2,\"Day  \",\"Prob Eggs\")","v":0},null,null,"Sum of 31",0,31,{"$f":"AU33+GETPIVOTDATA(\"Sum of 31\",AR$2,\"Day  \",\"Prob Eggs\")","v":0},null,null,"Sum of 31",0,31,{"$f":"BA33+GETPIVOTDATA(\"Sum of 31\",AX$2,\"Day  \",\"Prob Eggs\")","v":0},null,null,"Sum of 31",0,31,{"$f":"BG33+GETPIVOTDATA(\"Sum of 31\",BD$2,\"Day  \",\"Prob Eggs\")","v":0}]
[null,"Sum of 32",0,32,{"$f":"E34+GETPIVOTDATA(\"Sum of 32\",$B$2,\"Day  \",\"Prob Eggs\")","v":0.89015151515151514},null,null,"Sum of 32",0,32,{"$f":"K34+GETPIVOTDATA(\"Sum of 32\",H$2,\"Day  \",\"Prob Eggs\")","v":0.98125763125763121},null,null,"Sum of 32",0,32,{"$f":"Q34+GETPIVOTDATA(\"Sum of 32\",N$2,\"Day  \",\"Prob Eggs\")","v":1.0935672514619883},null,null,"Sum of 32",0,32,{"$f":"W34+GETPIVOTDATA(\"Sum of 32\",T$2,\"Day  \",\"Prob Eggs\")","v":1.1349175176747841},null,null,"Sum of 32",0,32,{"$f":"AC34+GETPIVOTDATA(\"Sum of 32\",Z$2,\"Day  \",\"Prob Eggs\")","v":0.93711225869060411},null,null,"Sum of 32",0,32,{"$f":"AI34+GETPIVOTDATA(\"Sum of 32\",AF$2,\"Day  \",\"Prob Eggs\")","v":1.098814229249012},null,null,"Sum of 32",0,32,{"$f":"AO34+GETPIVOTDATA(\"Sum of 32\",AL$2,\"Day  \",\"Prob Eggs\")","v":0},null,null,"Sum of 32",0,32,{"$f":"AU34+GETPIVOTDATA(\"Sum of 32\",AR$2,\"Day  \",\"Prob Eggs\")","v":0},null,null,"Sum of 32",0,32,{"$f":"BA34+GETPIVOTDATA(\"Sum of 32\",AX$2,\"Day  \",\"Prob Eggs\")","v":0},null,null,"Sum of 32",0,32,{"$f":"BG34+GETPIVOTDATA(\"Sum of 32\",BD$2,\"Day  \",\"Prob Eggs\")","v":0}]
[null,"Sum of 33",0,33,{"$f":"E35+GETPIVOTDATA(\"Sum of 33\",$B$2,\"Day  \",\"Prob Eggs\")","v":0.89015151515151514},null,null,"Sum of 33",0,33,{"$f":"K35+GETPIVOTDATA(\"Sum of 33\",H$2,\"Day  \",\"Prob Eggs\")","v":0.98125763125763121},null,null,"Sum of 33",0,33,{"$f":"Q35+GETPIVOTDATA(\"Sum of 33\",N$2,\"Day  \",\"Prob Eggs\")","v":1.0935672514619883},null,null,"Sum of 33",0,33,{"$f":"W35+GETPIVOTDATA(\"Sum of 33\",T$2,\"Day  \",\"Prob Eggs\")","v":1.1349175176747841},null,null,"Sum of 33",0,33,{"$f":"AC35+GETPIVOTDATA(\"Sum of 33\",Z$2,\"Day  \",\"Prob Eggs\")","v":0.93711225869060411},null,null,"Sum of 33",0,33,{"$f":"AI35+GETPIVOTDATA(\"Sum of 33\",AF$2,\"Day  \",\"Prob Eggs\")","v":1.098814229249012},null,null,"Sum of 33",0,33,{"$f":"AO35+GETPIVOTDATA(\"Sum of 33\",AL$2,\"Day  \",\"Prob Eggs\")","v":0},null,null,"Sum of 33",0,33,{"$f":"AU35+GETPIVOTDATA(\"Sum of 33\",AR$2,\"Day  \",\"Prob Eggs\")","v":0},null,null,"Sum of 33",0,33,{"$f":"BA35+GETPIVOTDATA(\"Sum of 33\",AX$2,\"Day  \",\"Prob Eggs\")","v":0},null,null,"Sum of 33",0,33,{"$f":"BG35+GETPIVOTDATA(\"Sum of 33\",BD$2,\"Day  \",\"Prob Eggs\")","v":0}]
[null,"Sum of 34",0,34,{"$f":"E36+GETPIVOTDATA(\"Sum of 34\",$B$2,\"Day  \",\"Prob Eggs\")","v":0.89015151515151514},null,null,"Sum of 34",0,34,{"$f":"K36+GETPIVOTDATA(\"Sum of 34\",H$2,\"Day  \",\"Prob Eggs\")","v":0.98125763125763121},null,null,"Sum of 34",0,34,{"$f":"Q36+GETPIVOTDATA(\"Sum of 34\",N$2,\"Day  \",\"Prob Eggs\")","v":1.0935672514619883},null,null,"Sum of 34",0,34,{"$f":"W36+GETPIVOTDATA(\"Sum of 34\",T$2,\"Day  \",\"Prob Eggs\")","v":1.1349175176747841},null,null,"Sum of 34",0,34,{"$f":"AC36+GETPIVOTDATA(\"Sum of 34\",Z$2,\"Day  \",\"Prob Eggs\")","v":0.93711225869060411},null,null,"Sum of 34",0,34,{"$f":"AI36+GETPIVOTDATA(\"Sum of 34\",AF$2,\"Day  \",\"Prob Eggs\")","v":1.098814229249012},null,null,"Sum of 34",0,34,{"$f":"AO36+GETPIVOTDATA(\"Sum of 34\",AL$2,\"Day  \",\"Prob Eggs\")","v":0},null,null,"Sum of 34",0,34,{"$f":"AU36+GETPIVOTDATA(\"Sum of 34\",AR$2,\"Day  \",\"Prob Eggs\")","v":0},null,null,"Sum of 34",0,34,{"$f":"BA36+GETPIVOTDATA(\"Sum of 34\",AX$2,\"Day  \",\"Prob Eggs\")","v":0},null,null,"Sum of 34",0,34,{"$f":"BG36+GETPIVOTDATA(\"Sum of 34\",BD$2,\"Day  \",\"Prob Eggs\")","v":0}]
[null,"Sum of 35",0,35,{"$f":"E37+GETPIVOTDATA(\"Sum of 35\",$B$2,\"Day  \",\"Prob Eggs\")","v":0.89015151515151514},null,null,"Sum of 35",0,35,{"$f":"K37+GETPIVOTDATA(\"Sum of 35\",H$2,\"Day  \",\"Prob Eggs\")","v":0.98125763125763121},null,null,"Sum of 35",0,35,{"$f":"Q37+GETPIVOTDATA(\"Sum of 35\",N$2,\"Day  \",\"Prob Eggs\")","v":1.0935672514619883},null,null,"Sum of 35",0,35,{"$f":"W37+GETPIVOTDATA(\"Sum of 35\",T$2,\"Day  \",\"Prob Eggs\")","v":1.1349175176747841},null,null,"Sum of 35",0,35,{"$f":"AC37+GETPIVOTDATA(\"Sum of 35\",Z$2,\"Day  \",\"Prob Eggs\")","v":0.93711225869060411},null,null,"Sum of 35",0,35,{"$f":"AI37+GETPIVOTDATA(\"Sum of 35\",AF$2,\"Day  \",\"Prob Eggs\")","v":1.098814229249012},null,null,"Sum of 35",0,35,{"$f":"AO37+GETPIVOTDATA(\"Sum of 35\",AL$2,\"Day  \",\"Prob Eggs\")","v":0},null,null,"Sum of 35",0,35,{"$f":"AU37+GETPIVOTDATA(\"Sum of 35\",AR$2,\"Day  \",\"Prob Eggs\")","v":0},null,null,"Sum of 35",0,35,{"$f":"BA37+GETPIVOTDATA(\"Sum of 35\",AX$2,\"Day  \",\"Prob Eggs\")","v":0},null,null,"Sum of 35",0,35,{"$f":"BG37+GETPIVOTDATA(\"Sum of 35\",BD$2,\"Day  \",\"Prob Eggs\")","v":0}]
[null,"Sum of 36",0,36,{"$f":"E38+GETPIVOTDATA(\"Sum of 36\",$B$2,\"Day  \",\"Prob Eggs\")","v":0.89015151515151514},null,null,"Sum of 36",0,36,{"$f":"K38+GETPIVOTDATA(\"Sum of 36\",H$2,\"Day  \",\"Prob Eggs\")","v":0.98125763125763121},null,null,"Sum of 36",0,36,{"$f":"Q38+GETPIVOTDATA(\"Sum of 36\",N$2,\"Day  \",\"Prob Eggs\")","v":1.0935672514619883},null,null,"Sum of 36",0,36,{"$f":"W38+GETPIVOTDATA(\"Sum of 36\",T$2,\"Day  \",\"Prob Eggs\")","v":1.1349175176747841},null,null,"Sum of 36",0,36,{"$f":"AC38+GETPIVOTDATA(\"Sum of 36\",Z$2,\"Day  \",\"Prob Eggs\")","v":0.93711225869060411},null,null,"Sum of 36",0,36,{"$f":"AI38+GETPIVOTDATA(\"Sum of 36\",AF$2,\"Day  \",\"Prob Eggs\")","v":1.098814229249012},null,null,"Sum of 36",0,36,{"$f":"AO38+GETPIVOTDATA(\"Sum of 36\",AL$2,\"Day  \",\"Prob Eggs\")","v":0},null,null,"Sum of 36",0,36,{"$f":"AU38+GETPIVOTDATA(\"Sum of 36\",AR$2,\"Day  \",\"Prob Eggs\")","v":0},null,null,"Sum of 36",0,36,{"$f":"BA38+GETPIVOTDATA(\"Sum of 36\",AX$2,\"Day  \",\"Prob Eggs\")","v":0},null,null,"Sum of 36",0,36,{"$f":"BG38+GETPIVOTDATA(\"Sum of 36\",BD$2,\"Day  \",\"Prob Eggs\")","v":0}]
[null,"Sum of 37",0,37,{"$f":"E39+GETPIVOTDATA(\"Sum of 37\",$B$2,\"Day  \",\"Prob Eggs\")","v":0.89015151515151514},null,null,"Sum of 37",0,37,{"$f":"K39+GETPIVOTDATA(\"Sum of 37\",H$2,\"Day  \",\"Prob Eggs\")","v":0.98125763125763121},null,null,"Sum of 37",0,37,{"$f":"Q39+GETPIVOTDATA(\"Sum of 37\",N$2,\"Day  \",\"Prob Eggs\")","v":1.0935672514619883},null,null,"Sum of 37",0,37,{"$f":"W39+GETPIVOTDATA(\"Sum of 37\",T$2,\"Day  \",\"Prob Eggs\")","v":1.1349175176747841},null,null,"Sum of 37",0,37,{"$f":"AC39+GETPIVOTDATA(\"Sum of 37\",Z$2,\"Day  \",\"Prob Eggs\")","v":0.93711225869060411},null,null,"Sum of 37",0,37,{"$f":"AI39+GETPIVOTDATA(\"Sum of 37\",AF$2,\"Day  \",\"Prob Eggs\")","v":1.098814229249012},null,null,"Sum of 37",0,37,{"$f":"AO39+GETPIVOTDATA(\"Sum of 37\",AL$2,\"Day  \",\"Prob Eggs\")","v":0},null,null,"Sum of 37",0,37,{"$f":"AU39+GETPIVOTDATA(\"Sum of 37\",AR$2,\"Day  \",\"Prob Eggs\")","v":0},null,null,"Sum of 37",0,37,{"$f":"BA39+GETPIVOTDATA(\"Sum of 37\",AX$2,\"Day  \",\"Prob Eggs\")","v":0},null,null,"Sum of 37",0,37,{"$f":"BG39+GETPIVOTDATA(\"Sum of 37\",BD$2,\"Day  \",\"Prob Eggs\")","v":0}]
[null,"Sum of 38",0,38,{"$f":"E40+GETPIVOTDATA(\"Sum of 38\",$B$2,\"Day  \",\"Prob Eggs\")","v":0.89015151515151514},null,null,"Sum of 38",0,38,{"$f":"K40+GETPIVOTDATA(\"Sum of 38\",H$2,\"Day  \",\"Prob Eggs\")","v":0.98125763125763121},null,null,"Sum of 38",0,38,{"$f":"Q40+GETPIVOTDATA(\"Sum of 38\",N$2,\"Day  \",\"Prob Eggs\")","v":1.0935672514619883},null,null,"Sum of 38",0,38,{"$f":"W40+GETPIVOTDATA(\"Sum of 38\",T$2,\"Day  \",\"Prob Eggs\")","v":1.1349175176747841},null,null,"Sum of 38",0,38,{"$f":"AC40+GETPIVOTDATA(\"Sum of 38\",Z$2,\"Day  \",\"Prob Eggs\")","v":0.93711225869060411},null,null,"Sum of 38",0,38,{"$f":"AI40+GETPIVOTDATA(\"Sum of 38\",AF$2,\"Day  \",\"Prob Eggs\")","v":1.098814229249012},null,null,"Sum of 38",0,38,{"$f":"AO40+GETPIVOTDATA(\"Sum of 38\",AL$2,\"Day  \",\"Prob Eggs\")","v":0},null,null,"Sum of 38",0,38,{"$f":"AU40+GETPIVOTDATA(\"Sum of 38\",AR$2,\"Day  \",\"Prob Eggs\")","v":0},null,null,"Sum of 38",0,38,{"$f":"BA40+GETPIVOTDATA(\"Sum of 38\",AX$2,\"Day  \",\"Prob Eggs\")","v":0},null,null,"Sum of 38",0,38,{"$f":"BG40+GETPIVOTDATA(\"Sum of 38\",BD$2,\"Day  \",\"Prob Eggs\")","v":0}]
[null,"Sum of 39",0,39,{"$f":"E41+GETPIVOTDATA(\"Sum of 39\",$B$2,\"Day  \",\"Prob Eggs\")","v":0.89015151515151514},null,null,"Sum of 39",0,39,{"$f":"K41+GETPIVOTDATA(\"Sum of 39\",H$2,\"Day  \",\"Prob Eggs\")","v":0.98125763125763121},null,null,"Sum of 39",0,39,{"$f":"Q41+GETPIVOTDATA(\"Sum of 39\",N$2,\"Day  \",\"Prob Eggs\")","v":1.0935672514619883},null,null,"Sum of 39",0,39,{"$f":"W41+GETPIVOTDATA(\"Sum of 39\",T$2,\"Day  \",\"Prob Eggs\")","v":1.1349175176747841},null,null,"Sum of 39",0,39,{"$f":"AC41+GETPIVOTDATA(\"Sum of 39\",Z$2,\"Day  \",\"Prob Eggs\")","v":0.93711225869060411},null,null,"Sum of 39",0,39,{"$f":"AI41+GETPIVOTDATA(\"Sum of 39\",AF$2,\"Day  \",\"Prob Eggs\")","v":1.098814229249012},null,null,"Sum of 39",0,39,{"$f":"AO41+GETPIVOTDATA(\"Sum of 39\",AL$2,\"Day  \",\"Prob Eggs\")","v":0},null,null,"Sum of 39",0,39,{"$f":"AU41+GETPIVOTDATA(\"Sum of 39\",AR$2,\"Day  \",\"Prob Eggs\")","v":0},null,null,"Sum of 39",0,39,{"$f":"BA41+GETPIVOTDATA(\"Sum of 39\",AX$2,\"Day  \",\"Prob Eggs\")","v":0},null,null,"Sum of 39",0,39,{"$f":"BG41+GETPIVOTDATA(\"Sum of 39\",BD$2,\"Day  \",\"Prob Eggs\")","v":0}]
[null,"Sum of 40",0,40,{"$f":"E42+GETPIVOTDATA(\"Sum of 40\",$B$2,\"Day  \",\"Prob Eggs\")","v":0.89015151515151514},null,null,"Sum of 40",0,40,{"$f":"K42+GETPIVOTDATA(\"Sum of 40\",H$2,\"Day  \",\"Prob Eggs\")","v":0.98125763125763121},null,null,"Sum of 40",0,40,{"$f":"Q42+GETPIVOTDATA(\"Sum of 40\",N$2,\"Day  \",\"Prob Eggs\")","v":1.0935672514619883},null,null,"Sum of 40",0,40,{"$f":"W42+GETPIVOTDATA(\"Sum of 40\",T$2,\"Day  \",\"Prob Eggs\")","v":1.1349175176747841},null,null,"Sum of 40",0,40,{"$f":"AC42+GETPIVOTDATA(\"Sum of 40\",Z$2,\"Day  \",\"Prob Eggs\")","v":0.93711225869060411},null,null,"Sum of 40",0,40,{"$f":"AI42+GETPIVOTDATA(\"Sum of 40\",AF$2,\"Day  \",\"Prob Eggs\")","v":1.098814229249012},null,null,"Sum of 40",0,40,{"$f":"AO42+GETPIVOTDATA(\"Sum of 40\",AL$2,\"Day  \",\"Prob Eggs\")","v":0},null,null,"Sum of 40",0,40,{"$f":"AU42+GETPIVOTDATA(\"Sum of 40\",AR$2,\"Day  \",\"Prob Eggs\")","v":0},null,null,"Sum of 40",0,40,{"$f":"BA42+GETPIVOTDATA(\"Sum of 40\",AX$2,\"Day  \",\"Prob Eggs\")","v":0},null,null,"Sum of 40",0,40,{"$f":"BG42+GETPIVOTDATA(\"Sum of 40\",BD$2,\"Day  \",\"Prob Eggs\")","v":0}]
[null,"Sum of 41",0,41,{"$f":"E43+GETPIVOTDATA(\"Sum of 41\",$B$2,\"Day  \",\"Prob Eggs\")","v":0.89015151515151514},null,null,"Sum of 41",0,41,{"$f":"K43+GETPIVOTDATA(\"Sum of 41\",H$2,\"Day  \",\"Prob Eggs\")","v":0.98125763125763121},null,null,"Sum of 41",0,41,{"$f":"Q43+GETPIVOTDATA(\"Sum of 41\",N$2,\"Day  \",\"Prob Eggs\")","v":1.0935672514619883},null,null,"Sum of 41",0,41,{"$f":"W43+GETPIVOTDATA(\"Sum of 41\",T$2,\"Day  \",\"Prob Eggs\")","v":1.1349175176747841},null,null,"Sum of 41",0,41,{"$f":"AC43+GETPIVOTDATA(\"Sum of 41\",Z$2,\"Day  \",\"Prob Eggs\")","v":0.93711225869060411},null,null,"Sum of 41",0,41,{"$f":"AI43+GETPIVOTDATA(\"Sum of 41\",AF$2,\"Day  \",\"Prob Eggs\")","v":1.098814229249012},null,null,"Sum of 41",0,41,{"$f":"AO43+GETPIVOTDATA(\"Sum of 41\",AL$2,\"Day  \",\"Prob Eggs\")","v":0},null,null,"Sum of 41",0,41,{"$f":"AU43+GETPIVOTDATA(\"Sum of 41\",AR$2,\"Day  \",\"Prob Eggs\")","v":0},null,null,"Sum of 41",0,41,{"$f":"BA43+GETPIVOTDATA(\"Sum of 41\",AX$2,\"Day  \",\"Prob Eggs\")","v":0},null,null,"Sum of 41",0,41,{"$f":"BG43+GETPIVOTDATA(\"Sum of 41\",BD$2,\"Day  \",\"Prob Eggs\")","v":0}]
[null,"Sum of 42",0,42,{"$f":"E44+GETPIVOTDATA(\"Sum of 42\",$B$2,\"Day  \",\"Prob Eggs\")","v":0.89015151515151514},null,null,"Sum of 42",0,42,{"$f":"K44+GETPIVOTDATA(\"Sum of 42\",H$2,\"Day  \",\"Prob Eggs\")","v":0.98125763125763121},null,null,"Sum of 42",0,42,{"$f":"Q44+GETPIVOTDATA(\"Sum of 42\",N$2,\"Day  \",\"Prob Eggs\")","v":1.0935672514619883},null,null,"Sum of 42",0,42,{"$f":"W44+GETPIVOTDATA(\"Sum of 42\",T$2,\"Day  \",\"Prob Eggs\")","v":1.1349175176747841},null,null,"Sum of 42",0,42,{"$f":"AC44+GETPIVOTDATA(\"Sum of 42\",Z$2,\"Day  \",\"Prob Eggs\")","v":0.93711225869060411},null,null,"Sum of 42",0,42,{"$f":"AI44+GETPIVOTDATA(\"Sum of 42\",AF$2,\"Day  \",\"Prob Eggs\")","v":1.098814229249012},null,null,"Sum of 42",0,42,{"$f":"AO44+GETPIVOTDATA(\"Sum of 42\",AL$2,\"Day  \",\"Prob Eggs\")","v":0},null,null,"Sum of 42",0,42,{"$f":"AU44+GETPIVOTDATA(\"Sum of 42\",AR$2,\"Day  \",\"Prob Eggs\")","v":0},null,null,"Sum of 42",0,42,{"$f":"BA44+GETPIVOTDATA(\"Sum of 42\",AX$2,\"Day  \",\"Prob Eggs\")","v":0},null,null,"Sum of 42",0,42,{"$f":"BG44+GETPIVOTDATA(\"Sum of 42\",BD$2,\"Day  \",\"Prob Eggs\")","v":0}]
[null,"Sum of 43",0,43,{"$f":"E45+GETPIVOTDATA(\"Sum of 43\",$B$2,\"Day  \",\"Prob Eggs\")","v":0.89015151515151514},null,null,"Sum of 43",0,43,{"$f":"K45+GETPIVOTDATA(\"Sum of 43\",H$2,\"Day  \",\"Prob Eggs\")","v":0.98125763125763121},null,null,"Sum of 43",0,43,{"$f":"Q45+GETPIVOTDATA(\"Sum of 43\",N$2,\"Day  \",\"Prob Eggs\")","v":1.0935672514619883},null,null,"Sum of 43",0,43,{"$f":"W45+GETPIVOTDATA(\"Sum of 43\",T$2,\"Day  \",\"Prob Eggs\")","v":1.1349175176747841},null,null,"Sum of 43",0,43,{"$f":"AC45+GETPIVOTDATA(\"Sum of 43\",Z$2,\"Day  \",\"Prob Eggs\")","v":0.93711225869060411},null,null,"Sum of 43",0,43,{"$f":"AI45+GETPIVOTDATA(\"Sum of 43\",AF$2,\"Day  \",\"Prob Eggs\")","v":1.098814229249012},null,null,"Sum of 43",0,43,{"$f":"AO45+GETPIVOTDATA(\"Sum of 43\",AL$2,\"Day  \",\"Prob Eggs\")","v":0},null,null,"Sum of 43",0,43,{"$f":"AU45+GETPIVOTDATA(\"Sum of 43\",AR$2,\"Day  \",\"Prob Eggs\")","v":0},null,null,"Sum of 43",0,43,{"$f":"BA45+GETPIVOTDATA(\"Sum of 43\",AX$2,\"Day  \",\"Prob Eggs\")","v":0},null,null,"Sum of 43",0,43,{"$f":"BG45+GETPIVOTDATA(\"Sum of 43\",BD$2,\"Day  \",\"Prob Eggs\")","v":0}]
[null,"Sum of 44",0,44,{"$f":"E46+GETPIVOTDATA(\"Sum of 44\",$B$2,\"Day  \",\"Prob Eggs\")","v":0.89015151515151514},null,null,"Sum of 44",0,44,{"$f":"K46+GETPIVOTDATA(\"Sum of 44\",H$2,\"Day  \",\"Prob Eggs\")","v":0.98125763125763121},null,null,"Sum of 44",0,44,{"$f":"Q46+GETPIVOTDATA(\"Sum of 44\",N$2,\"Day  \",\"Prob Eggs\")","v":1.0935672514619883},null,null,"Sum of 44",0,44,{"$f":"W46+GETPIVOTDATA(\"Sum of 44\",T$2,\"Day  \",\"Prob Eggs\")","v":1.1349175176747841},null,null,"Sum of 44",0,44,{"$f":"AC46+GETPIVOTDATA(\"Sum of 44\",Z$2,\"Day  \",\"Prob Eggs\")","v":0.93711225869060411},null,null,"Sum of 44",0,44,{"$f":"AI46+GETPIVOTDATA(\"Sum of 44\",AF$2,\"Day  \",\"Prob Eggs\")","v":1.098814229249012},null,null,"Sum of 44",0,44,{"$f":"AO46+GETPIVOTDATA(\"Sum of 44\",AL$2,\"Day  \",\"Prob Eggs\")","v":0},null,null,"Sum of 44",0,44,{"$f":"AU46+GETPIVOTDATA(\"Sum of 44\",AR$2,\"Day  \",\"Prob Eggs\")","v":0},null,null,"Sum of 44",0,44,{"$f":"BA46+GETPIVOTDATA(\"Sum of 44\",AX$2,\"Day  \",\"Prob Eggs\")","v":0},null,null,"Sum of 44",0,44,{"$f":"BG46+GETPIVOTDATA(\"Sum of 44\",BD$2,\"Day  \",\"Prob Eggs\")","v":0}]
[null,"Sum of 45",0,45,{"$f":"E47+GETPIVOTDATA(\"Sum of 45\",$B$2,\"Day  \",\"Prob Eggs\")","v":0.89015151515151514},null,null,"Sum of 45",0,45,{"$f":"K47+GETPIVOTDATA(\"Sum of 45\",H$2,\"Day  \",\"Prob Eggs\")","v":0.98125763125763121},null,null,"Sum of 45",0,45,{"$f":"Q47+GETPIVOTDATA(\"Sum of 45\",N$2,\"Day  \",\"Prob Eggs\")","v":1.0935672514619883},null,null,"Sum of 45",0,45,{"$f":"W47+GETPIVOTDATA(\"Sum of 45\",T$2,\"Day  \",\"Prob Eggs\")","v":1.1349175176747841},null,null,"Sum of 45",0,45,{"$f":"AC47+GETPIVOTDATA(\"Sum of 45\",Z$2,\"Day  \",\"Prob Eggs\")","v":0.93711225869060411},null,null,"Sum of 45",0,45,{"$f":"AI47+GETPIVOTDATA(\"Sum of 45\",AF$2,\"Day  \",\"Prob Eggs\")","v":1.098814229249012},null,null,"Sum of 45",0,45,{"$f":"AO47+GETPIVOTDATA(\"Sum of 45\",AL$2,\"Day  \",\"Prob Eggs\")","v":0},null,null,"Sum of 45",0,45,{"$f":"AU47+GETPIVOTDATA(\"Sum of 45\",AR$2,\"Day  \",\"Prob Eggs\")","v":0},null,null,"Sum of 45",0,45,{"$f":"BA47+GETPIVOTDATA(\"Sum of 45\",AX$2,\"Day  \",\"Prob Eggs\")","v":0},null,null,"Sum of 45",0,45,{"$f":"BG47+GETPIVOTDATA(\"Sum of 45\",BD$2,\"Day  \",\"Prob Eggs\")","v":0}]
[null,"Sum of 47",0,46,{"$f":"E48+GETPIVOTDATA(\"Sum of 46\",$B$2,\"Day  \",\"Prob Eggs\")","v":0.89015151515151514},null,null,"Sum of 46",0,46,{"$f":"K48+GETPIVOTDATA(\"Sum of 46\",H$2,\"Day  \",\"Prob Eggs\")","v":0.98125763125763121},null,null,"Sum of 46",0,46,{"$f":"Q48+GETPIVOTDATA(\"Sum of 46\",N$2,\"Day  \",\"Prob Eggs\")","v":1.0935672514619883},null,null,"Sum of 46",0,46,{"$f":"W48+GETPIVOTDATA(\"Sum of 46\",T$2,\"Day  \",\"Prob Eggs\")","v":1.1349175176747841},null,null,"Sum of 46",0,46,{"$f":"AC48+GETPIVOTDATA(\"Sum of 46\",Z$2,\"Day  \",\"Prob Eggs\")","v":0.93711225869060411},null,null,"Sum of 46",0,46,{"$f":"AI48+GETPIVOTDATA(\"Sum of 46\",AF$2,\"Day  \",\"Prob Eggs\")","v":1.098814229249012},null,null,"Sum of 46",0,46,{"$f":"AO48+GETPIVOTDATA(\"Sum of 46\",AL$2,\"Day  \",\"Prob Eggs\")","v":0},null,null,"Sum of 46",0,46,{"$f":"AU48+GETPIVOTDATA(\"Sum of 46\",AR$2,\"Day  \",\"Prob Eggs\")","v":0},null,null,"Sum of 46",0,46,{"$f":"BA48+GETPIVOTDATA(\"Sum of 46\",AX$2,\"Day  \",\"Prob Eggs\")","v":0},null,null,"Sum of 46",0,46,{"$f":"BG48+GETPIVOTDATA(\"Sum of 46\",BD$2,\"Day  \",\"Prob Eggs\")","v":0}]
[null,"Sum of 46",0,47,{"$f":"E49+GETPIVOTDATA(\"Sum of 47\",$B$2,\"Day  \",\"Prob Eggs\")","v":0.89015151515151514},null,null,"Sum of 47",0,47,{"$f":"K49+GETPIVOTDATA(\"Sum of 47\",H$2,\"Day  \",\"Prob Eggs\")","v":0.98125763125763121},null,null,"Sum of 47",0,47,{"$f":"Q49+GETPIVOTDATA(\"Sum of 47\",N$2,\"Day  \",\"Prob Eggs\")","v":1.0935672514619883},null,null,"Sum of 47",0,47,{"$f":"W49+GETPIVOTDATA(\"Sum of 47\",T$2,\"Day  \",\"Prob Eggs\")","v":1.1349175176747841},null,null,"Sum of 47",0,47,{"$f":"AC49+GETPIVOTDATA(\"Sum of 47\",Z$2,\"Day  \",\"Prob Eggs\")","v":0.93711225869060411},null,null,"Sum of 47",0,47,{"$f":"AI49+GETPIVOTDATA(\"Sum of 47\",AF$2,\"Day  \",\"Prob Eggs\")","v":1.098814229249012},null,null,"Sum of 47",0,47,{"$f":"AO49+GETPIVOTDATA(\"Sum of 47\",AL$2,\"Day  \",\"Prob Eggs\")","v":0},null,null,"Sum of 47",0,47,{"$f":"AU49+GETPIVOTDATA(\"Sum of 47\",AR$2,\"Day  \",\"Prob Eggs\")","v":0},null,null,"Sum of 47",0,47,{"$f":"BA49+GETPIVOTDATA(\"Sum of 47\",AX$2,\"Day  \",\"Prob Eggs\")","v":0},null,null,"Sum of 47",0,47,{"$f":"BG49+GETPIVOTDATA(\"Sum of 47\",BD$2,\"Day  \",\"Prob Eggs\")","v":0}]
[null,"Sum of 48",0,48,{"$f":"E50+GETPIVOTDATA(\"Sum of 48\",$B$2,\"Day  \",\"Prob Eggs\")","v":0.89015151515151514},null,null,"Sum of 48",0,48,{"$f":"K50+GETPIVOTDATA(\"Sum of 48\",H$2,\"Day  \",\"Prob Eggs\")","v":0.98125763125763121},null,null,"Sum of 48",0,48,{"$f":"Q50+GETPIVOTDATA(\"Sum of 48\",N$2,\"Day  \",\"Prob Eggs\")","v":1.0935672514619883},null,null,"Sum of 48",0,48,{"$f":"W50+GETPIVOTDATA(\"Sum of 48\",T$2,\"Day  \",\"Prob Eggs\")","v":1.1349175176747841},null,null,"Sum of 48",0,48,{"$f":"AC50+GETPIVOTDATA(\"Sum of 48\",Z$2,\"Day  \",\"Prob Eggs\")","v":0.93711225869060411},null,null,"Sum of 48",0,48,{"$f":"AI50+GETPIVOTDATA(\"Sum of 48\",AF$2,\"Day  \",\"Prob Eggs\")","v":1.098814229249012},null,null,"Sum of 48",0,48,{"$f":"AO50+GETPIVOTDATA(\"Sum of 48\",AL$2,\"Day  \",\"Prob Eggs\")","v":0},null,null,"Sum of 48",0,48,{"$f":"AU50+GETPIVOTDATA(\"Sum of 48\",AR$2,\"Day  \",\"Prob Eggs\")","v":0},null,null,"Sum of 48",0,48,{"$f":"BA50+GETPIVOTDATA(\"Sum of 48\",AX$2,\"Day  \",\"Prob Eggs\")","v":0},null,null,"Sum of 48",0,48,{"$f":"BG50+GETPIVOTDATA(\"Sum of 48\",BD$2,\"Day  \",\"Prob Eggs\")","v":0}]
[null,"Sum of 49",0,49,{"$f":"E51+GETPIVOTDATA(\"Sum of 49\",$B$2,\"Day  \",\"Prob Eggs\")","v":0.89015151515151514},null,null,"Sum of 49",0,49,{"$f":"K51+GETPIVOTDATA(\"Sum of 49\",H$2,\"Day  \",\"Prob Eggs\")","v":0.98125763125763121},null,null,"Sum of 49",0,49,{"$f":"Q51+GETPIVOTDATA(\"Sum of 49\",N$2,\"Day  \",\"Prob Eggs\")","v":1.0935672514619883},null,null,"Sum of 49",0,49,{"$f":"W51+GETPIVOTDATA(\"Sum of 49\",T$2,\"Day  \",\"Prob Eggs\")","v":1.1349175176747841},null,null,"Sum of 49",0,49,{"$f":"AC51+GETPIVOTDATA(\"Sum of 49\",Z$2,\"Day  \",\"Prob Eggs\")","v":0.93711225869060411},null,null,"Sum of 49",0,49,{"$f":"AI51+GETPIVOTDATA(\"Sum of 49\",AF$2,\"Day  \",\"Prob Eggs\")","v":1.098814229249012},null,null,"Sum of 49",0,49,{"$f":"AO51+GETPIVOTDATA(\"Sum of 49\",AL$2,\"Day  \",\"Prob Eggs\")","v":0},null,null,"Sum of 49",0,49,{"$f":"AU51+GETPIVOTDATA(\"Sum of 49\",AR$2,\"Day  \",\"Prob Eggs\")","v":0},null,null,"Sum of 49",0,49,{"$f":"BA51+GETPIVOTDATA(\"Sum of 49\",AX$2,\"Day  \",\"Prob Eggs\")","v":0},null,null,"Sum of 49",0,49,{"$f":"BG51+GETPIVOTDATA(\"Sum of 49\",BD$2,\"Day  \",\"Prob Eggs\")","v":0}]
[null,"Sum of 50",0,50,{"$f":"E52+GETPIVOTDATA(\"Sum of 50\",$B$2,\"Day  \",\"Prob Eggs\")","v":0.89015151515151514},null,null,"Sum of 50",0,50,{"$f":"K52+GETPIVOTDATA(\"Sum of 50\",H$2,\"Day  \",\"Prob Eggs\")","v":0.98125763125763121},null,null,"Sum of 50",0,50,{"$f":"Q52+GETPIVOTDATA(\"Sum of 50\",N$2,\"Day  \",\"Prob Eggs\")","v":1.0935672514619883},null,null,"Sum of 50",0,50,{"$f":"W52+GETPIVOTDATA(\"Sum of 50\",T$2,\"Day  \",\"Prob Eggs\")","v":1.1349175176747841},null,null,"Sum of 50",0,50,{"$f":"AC52+GETPIVOTDATA(\"Sum of 50\",Z$2,\"Day  \",\"Prob Eggs\")","v":0.93711225869060411},null,null,"Sum of 50",0,50,{"$f":"AI52+GETPIVOTDATA(\"Sum of 50\",AF$2,\"Day  \",\"Prob Eggs\")","v":1.098814229249012},null,null,"Sum of 50",0,50,{"$f":"AO52+GETPIVOTDATA(\"Sum of 50\",AL$2,\"Day  \",\"Prob Eggs\")","v":0},null,null,"Sum of 50",0,50,{"$f":"AU52+GETPIVOTDATA(\"Sum of 50\",AR$2,\"Day  \",\"Prob Eggs\")","v":0},null,null,"Sum of 50",0,50,{"$f":"BA52+GETPIVOTDATA(\"Sum of 50\",AX$2,\"Day  \",\"Prob Eggs\")","v":0},null,null,"Sum of 50",0,50,{"$f":"BG52+GETPIVOTDATA(\"Sum of 50\",BD$2,\"Day  \",\"Prob Eggs\")","v":0}]
[null,"Sum of 51",0,51,{"$f":"E53+GETPIVOTDATA(\"Sum of 51\",$B$2,\"Day  \",\"Prob Eggs\")","v":0.89015151515151514},null,null,"Sum of 51",0,51,{"$f":"K53+GETPIVOTDATA(\"Sum of 51\",H$2,\"Day  \",\"Prob Eggs\")","v":0.98125763125763121},null,null,"Sum of 51",0,51,{"$f":"Q53+GETPIVOTDATA(\"Sum of 51\",N$2,\"Day  \",\"Prob Eggs\")","v":1.0935672514619883},null,null,"Sum of 51",0,51,{"$f":"W53+GETPIVOTDATA(\"Sum of 51\",T$2,\"Day  \",\"Prob Eggs\")","v":1.1349175176747841},null,null,"Sum of 51",0,51,{"$f":"AC53+GETPIVOTDATA(\"Sum of 51\",Z$2,\"Day  \",\"Prob Eggs\")","v":0.93711225869060411},null,null,"Sum of 51",0,51,{"$f":"AI53+GETPIVOTDATA(\"Sum of 51\",AF$2,\"Day  \",\"Prob Eggs\")","v":1.098814229249012},null,null,"Sum of 51",0,51,{"$f":"AO53+GETPIVOTDATA(\"Sum of 51\",AL$2,\"Day  \",\"Prob Eggs\")","v":0},null,null,"Sum of 51",0,51,{"$f":"AU53+GETPIVOTDATA(\"Sum of 51\",AR$2,\"Day  \",\"Prob Eggs\")","v":0},null,null,"Sum of 51",0,51,{"$f":"BA53+GETPIVOTDATA(\"Sum of 51\",AX$2,\"Day  \",\"Prob Eggs\")","v":0},null,null,"Sum of 51",0,51,{"$f":"BG53+GETPIVOTDATA(\"Sum of 51\",BD$2,\"Day  \",\"Prob Eggs\")","v":0}]
[null,"Sum of 52",0,52,{"$f":"E54+GETPIVOTDATA(\"Sum of 52\",$B$2,\"Day  \",\"Prob Eggs\")","v":0.89015151515151514},null,null,"Sum of 52",0,52,{"$f":"K54+GETPIVOTDATA(\"Sum of 52\",H$2,\"Day  \",\"Prob Eggs\")","v":0.98125763125763121},null,null,"Sum of 52",0,52,{"$f":"Q54+GETPIVOTDATA(\"Sum of 52\",N$2,\"Day  \",\"Prob Eggs\")","v":1.0935672514619883},null,null,"Sum of 52",0,52,{"$f":"W54+GETPIVOTDATA(\"Sum of 52\",T$2,\"Day  \",\"Prob Eggs\")","v":1.1349175176747841},null,null,"Sum of 52",0,52,{"$f":"AC54+GETPIVOTDATA(\"Sum of 52\",Z$2,\"Day  \",\"Prob Eggs\")","v":0.93711225869060411},null,null,"Sum of 52",0,52,{"$f":"AI54+GETPIVOTDATA(\"Sum of 52\",AF$2,\"Day  \",\"Prob Eggs\")","v":1.098814229249012},null,null,"Sum of 52",0,52,{"$f":"AO54+GETPIVOTDATA(\"Sum of 52\",AL$2,\"Day  \",\"Prob Eggs\")","v":0},null,null,"Sum of 52",0,52,{"$f":"AU54+GETPIVOTDATA(\"Sum of 52\",AR$2,\"Day  \",\"Prob Eggs\")","v":0},null,null,"Sum of 52",0,52,{"$f":"BA54+GETPIVOTDATA(\"Sum of 52\",AX$2,\"Day  \",\"Prob Eggs\")","v":0},null,null,"Sum of 52",0,52,{"$f":"BG54+GETPIVOTDATA(\"Sum of 52\",BD$2,\"Day  \",\"Prob Eggs\")","v":0}]
[null,"Sum of 53",0,53,{"$f":"E55+GETPIVOTDATA(\"Sum of 53\",$B$2,\"Day  \",\"Prob Eggs\")","v":0.89015151515151514},null,null,"Sum of 53",0,53,{"$f":"K55+GETPIVOTDATA(\"Sum of 53\",H$2,\"Day  \",\"Prob Eggs\")","v":0.98125763125763121},null,null,"Sum of 53",0,53,{"$f":"Q55+GETPIVOTDATA(\"Sum of 53\",N$2,\"Day  \",\"Prob Eggs\")","v":1.0935672514619883},null,null,"Sum of 53",0,53,{"$f":"W55+GETPIVOTDATA(\"Sum of 53\",T$2,\"Day  \",\"Prob Eggs\")","v":1.1349175176747841},null,null,"Sum of 53",0,53,{"$f":"AC55+GETPIVOTDATA(\"Sum of 53\",Z$2,\"Day  \",\"Prob Eggs\")","v":0.93711225869060411},null,null,"Sum of 53",0,53,{"$f":"AI55+GETPIVOTDATA(\"Sum of 53\",AF$2,\"Day  \",\"Prob Eggs\")","v":1.098814229249012},null,null,"Sum of 53",0,53,{"$f":"AO55+GETPIVOTDATA(\"Sum of 53\",AL$2,\"Day  \",\"Prob Eggs\")","v":0},null,null,"Sum of 53",0,53,{"$f":"AU55+GETPIVOTDATA(\"Sum of 53\",AR$2,\"Day  \",\"Prob Eggs\")","v":0},null,null,"Sum of 53",0,53,{"$f":"BA55+GETPIVOTDATA(\"Sum of 53\",AX$2,\"Day  \",\"Prob Eggs\")","v":0},null,null,"Sum of 53",0,53,{"$f":"BG55+GETPIVOTDATA(\"Sum of 53\",BD$2,\"Day  \",\"Prob Eggs\")","v":0}]
[null,"Sum of 54",0,54,{"$f":"E56+GETPIVOTDATA(\"Sum of 54\",$B$2,\"Day  \",\"Prob Eggs\")","v":0.89015151515151514},null,null,"Sum of 54",0,54,{"$f":"K56+GETPIVOTDATA(\"Sum of 54\",H$2,\"Day  \",\"Prob Eggs\")","v":0.98125763125763121},null,null,"Sum of 54",0,54,{"$f":"Q56+GETPIVOTDATA(\"Sum of 54\",N$2,\"Day  \",\"Prob Eggs\")","v":1.0935672514619883},null,null,"Sum of 54",0,54,{"$f":"W56+GETPIVOTDATA(\"Sum of 54\",T$2,\"Day  \",\"Prob Eggs\")","v":1.1349175176747841},null,null,"Sum of 54",0,54,{"$f":"AC56+GETPIVOTDATA(\"Sum of 54\",Z$2,\"Day  \",\"Prob Eggs\")","v":0.93711225869060411},null,null,"Sum of 54",0,54,{"$f":"AI56+GETPIVOTDATA(\"Sum of 54\",AF$2,\"Day  \",\"Prob Eggs\")","v":1.098814229249012},null,null,"Sum of 54",0,54,{"$f":"AO56+GETPIVOTDATA(\"Sum of 54\",AL$2,\"Day  \",\"Prob Eggs\")","v":0},null,null,"Sum of 54",0,54,{"$f":"AU56+GETPIVOTDATA(\"Sum of 54\",AR$2,\"Day  \",\"Prob Eggs\")","v":0},null,null,"Sum of 54",0,54,{"$f":"BA56+GETPIVOTDATA(\"Sum of 54\",AX$2,\"Day  \",\"Prob Eggs\")","v":0},null,null,"Sum of 54",0,54,{"$f":"BG56+GETPIVOTDATA(\"Sum of 54\",BD$2,\"Day  \",\"Prob Eggs\")","v":0}]
[null,"Sum of 55",0,55,{"$f":"E57+GETPIVOTDATA(\"Sum of 55\",$B$2,\"Day  \",\"Prob Eggs\")","v":0.89015151515151514},null,null,"Sum of 55",0,55,{"$f":"K57+GETPIVOTDATA(\"Sum of 55\",H$2,\"Day  \",\"Prob Eggs\")","v":0.98125763125763121},null,null,"Sum of 55",0,55,{"$f":"Q57+GETPIVOTDATA(\"Sum of 55\",N$2,\"Day  \",\"Prob Eggs\")","v":1.0935672514619883},null,null,"Sum of 55",0,55,{"$f":"W57+GETPIVOTDATA(\"Sum of 55\",T$2,\"Day  \",\"Prob Eggs\")","v":1.1349175176747841},null,null,"Sum of 55",0,55,{"$f":"AC57+GETPIVOTDATA(\"Sum of 55\",Z$2,\"Day  \",\"Prob Eggs\")","v":0.93711225869060411},null,null,"Sum of 55",0,55,{"$f":"AI57+GETPIVOTDATA(\"Sum of 55\",AF$2,\"Day  \",\"Prob Eggs\")","v":1.098814229249012},null,null,"Sum of 55",0,55,{"$f":"AO57+GETPIVOTDATA(\"Sum of 55\",AL$2,\"Day  \",\"Prob Eggs\")","v":0},null,null,"Sum of 55",0,55,{"$f":"AU57+GETPIVOTDATA(\"Sum of 55\",AR$2,\"Day  \",\"Prob Eggs\")","v":0},null,null,"Sum of 55",0,55,{"$f":"BA57+GETPIVOTDATA(\"Sum of 55\",AX$2,\"Day  \",\"Prob Eggs\")","v":0},null,null,"Sum of 55",0,55,{"$f":"BG57+GETPIVOTDATA(\"Sum of 55\",BD$2,\"Day  \",\"Prob Eggs\")","v":0}]
[null,"Sum of 56",0,56,{"$f":"E58+GETPIVOTDATA(\"Sum of 56\",$B$2,\"Day  \",\"Prob Eggs\")","v":0.89015151515151514},null,null,"Sum of 56",0,56,{"$f":"K58+GETPIVOTDATA(\"Sum of 56\",H$2,\"Day  \",\"Prob Eggs\")","v":0.98125763125763121},null,null,"Sum of 56",0,56,{"$f":"Q58+GETPIVOTDATA(\"Sum of 56\",N$2,\"Day  \",\"Prob Eggs\")","v":1.0935672514619883},null,null,"Sum of 56",0,56,{"$f":"W58+GETPIVOTDATA(\"Sum of 56\",T$2,\"Day  \",\"Prob Eggs\")","v":1.1349175176747841},null,null,"Sum of 56",0,56,{"$f":"AC58+GETPIVOTDATA(\"Sum of 56\",Z$2,\"Day  \",\"Prob Eggs\")","v":0.93711225869060411},null,null,"Sum of 56",0,56,{"$f":"AI58+GETPIVOTDATA(\"Sum of 56\",AF$2,\"Day  \",\"Prob Eggs\")","v":1.098814229249012},null,null,"Sum of 56",0,56,{"$f":"AO58+GETPIVOTDATA(\"Sum of 56\",AL$2,\"Day  \",\"Prob Eggs\")","v":0},null,null,"Sum of 56",0,56,{"$f":"AU58+GETPIVOTDATA(\"Sum of 56\",AR$2,\"Day  \",\"Prob Eggs\")","v":0},null,null,"Sum of 56",0,56,{"$f":"BA58+GETPIVOTDATA(\"Sum of 56\",AX$2,\"Day  \",\"Prob Eggs\")","v":0},null,null,"Sum of 56",0,56,{"$f":"BG58+GETPIVOTDATA(\"Sum of 56\",BD$2,\"Day  \",\"Prob Eggs\")","v":0}]
[null,"Sum of 57",0,57,{"$f":"E59+GETPIVOTDATA(\"Sum of 57\",$B$2,\"Day  \",\"Prob Eggs\")","v":0.89015151515151514},null,null,"Sum of 57",0,57,{"$f":"K59+GETPIVOTDATA(\"Sum of 57\",H$2,\"Day  \",\"Prob Eggs\")","v":0.98125763125763121},null,null,"Sum of 57",0,57,{"$f":"Q59+GETPIVOTDATA(\"Sum of 57\",N$2,\"Day  \",\"Prob Eggs\")","v":1.0935672514619883},null,null,"Sum of 57",0,57,{"$f":"W59+GETPIVOTDATA(\"Sum of 57\",T$2,\"Day  \",\"Prob Eggs\")","v":1.1349175176747841},null,null,"Sum of 57",0,57,{"$f":"AC59+GETPIVOTDATA(\"Sum of 57\",Z$2,\"Day  \",\"Prob Eggs\")","v":0.93711225869060411},null,null,"Sum of 57",0,57,{"$f":"AI59+GETPIVOTDATA(\"Sum of 57\",AF$2,\"Day  \",\"Prob Eggs\")","v":1.098814229249012},null,null,"Sum of 57",0,57,{"$f":"AO59+GETPIVOTDATA(\"Sum of 57\",AL$2,\"Day  \",\"Prob Eggs\")","v":0},null,null,"Sum of 57",0,57,{"$f":"AU59+GETPIVOTDATA(\"Sum of 57\",AR$2,\"Day  \",\"Prob Eggs\")","v":0},null,null,"Sum of 57",0,57,{"$f":"BA59+GETPIVOTDATA(\"Sum of 57\",AX$2,\"Day  \",\"Prob Eggs\")","v":0},null,null,"Sum of 57",0,57,{"$f":"BG59+GETPIVOTDATA(\"Sum of 57\",BD$2,\"Day  \",\"Prob Eggs\")","v":0}]
[null,"Sum of 58",0,58,{"$f":"E60+GETPIVOTDATA(\"Sum of 58\",$B$2,\"Day  \",\"Prob Eggs\")","v":0.89015151515151514},null,null,"Sum of 58",0,58,{"$f":"K60+GETPIVOTDATA(\"Sum of 58\",H$2,\"Day  \",\"Prob Eggs\")","v":0.98125763125763121},null,null,"Sum of 58",0,58,{"$f":"Q60+GETPIVOTDATA(\"Sum of 58\",N$2,\"Day  \",\"Prob Eggs\")","v":1.0935672514619883},null,null,"Sum of 58",0,58,{"$f":"W60+GETPIVOTDATA(\"Sum of 58\",T$2,\"Day  \",\"Prob Eggs\")","v":1.1349175176747841},null,null,"Sum of 58",0,58,{"$f":"AC60+GETPIVOTDATA(\"Sum of 58\",Z$2,\"Day  \",\"Prob Eggs\")","v":0.93711225869060411},null,null,"Sum of 58",0,58,{"$f":"AI60+GETPIVOTDATA(\"Sum of 58\",AF$2,\"Day  \",\"Prob Eggs\")","v":1.098814229249012},null,null,"Sum of 58",0,58,{"$f":"AO60+GETPIVOTDATA(\"Sum of 58\",AL$2,\"Day  \",\"Prob Eggs\")","v":0},null,null,"Sum of 58",0,58,{"$f":"AU60+GETPIVOTDATA(\"Sum of 58\",AR$2,\"Day  \",\"Prob Eggs\")","v":0},null,null,"Sum of 58",0,58,{"$f":"BA60+GETPIVOTDATA(\"Sum of 58\",AX$2,\"Day  \",\"Prob Eggs\")","v":0},null,null,"Sum of 58",0,58,{"$f":"BG60+GETPIVOTDATA(\"Sum of 58\",BD$2,\"Day  \",\"Prob Eggs\")","v":0}]
[null,"Sum of 59",0,59,{"$f":"E61+GETPIVOTDATA(\"Sum of 59\",$B$2,\"Day  \",\"Prob Eggs\")","v":0.89015151515151514},null,null,"Sum of 59",0,59,{"$f":"K61+GETPIVOTDATA(\"Sum of 59\",H$2,\"Day  \",\"Prob Eggs\")","v":0.98125763125763121},null,null,"Sum of 59",0,59,{"$f":"Q61+GETPIVOTDATA(\"Sum of 59\",N$2,\"Day  \",\"Prob Eggs\")","v":1.0935672514619883},null,null,"Sum of 59",0,59,{"$f":"W61+GETPIVOTDATA(\"Sum of 59\",T$2,\"Day  \",\"Prob Eggs\")","v":1.1349175176747841},null,null,"Sum of 59",0,59,{"$f":"AC61+GETPIVOTDATA(\"Sum of 59\",Z$2,\"Day  \",\"Prob Eggs\")","v":0.93711225869060411},null,null,"Sum of 59",0,59,{"$f":"AI61+GETPIVOTDATA(\"Sum of 59\",AF$2,\"Day  \",\"Prob Eggs\")","v":1.098814229249012},null,null,"Sum of 59",0,59,{"$f":"AO61+GETPIVOTDATA(\"Sum of 59\",AL$2,\"Day  \",\"Prob Eggs\")","v":0},null,null,"Sum of 59",0,59,{"$f":"AU61+GETPIVOTDATA(\"Sum of 59\",AR$2,\"Day  \",\"Prob Eggs\")","v":0},null,null,"Sum of 59",0,59,{"$f":"BA61+GETPIVOTDATA(\"Sum of 59\",AX$2,\"Day  \",\"Prob Eggs\")","v":0},null,null,"Sum of 59",0,59,{"$f":"BG61+GETPIVOTDATA(\"Sum of 59\",BD$2,\"Day  \",\"Prob Eggs\")","v":0}]
[null,"Sum of 60",0,60,{"$f":"E62+GETPIVOTDATA(\"Sum of 60\",$B$2,\"Day  \",\"Prob Eggs\")","v":0.89015151515151514},null,null,"Sum of 60",0,60,{"$f":"K62+GETPIVOTDATA(\"Sum of 60\",H$2,\"Day  \",\"Prob Eggs\")","v":0.98125763125763121},null,null,"Sum of 60",0,60,{"$f":"Q62+GETPIVOTDATA(\"Sum of 60\",N$2,\"Day  \",\"Prob Eggs\")","v":1.0935672514619883},null,null,"Sum of 60",0,60,{"$f":"W62+GETPIVOTDATA(\"Sum of 60\",T$2,\"Day  \",\"Prob Eggs\")","v":1.1349175176747841},null,null,"Sum of 60",0,60,{"$f":"AC62+GETPIVOTDATA(\"Sum of 60\",Z$2,\"Day  \",\"Prob Eggs\")","v":0.93711225869060411},null,null,"Sum of 60",0,60,{"$f":"AI62+GETPIVOTDATA(\"Sum of 60\",AF$2,\"Day  \",\"Prob Eggs\")","v":1.098814229249012},null,null,"Sum of 60",0,60,{"$f":"AO62+GETPIVOTDATA(\"Sum of 60\",AL$2,\"Day  \",\"Prob Eggs\")","v":0},null,null,"Sum of 60",0,60,{"$f":"AU62+GETPIVOTDATA(\"Sum of 60\",AR$2,\"Day  \",\"Prob Eggs\")","v":0},null,null,"Sum of 60",0,60,{"$f":"BA62+GETPIVOTDATA(\"Sum of 60\",AX$2,\"Day  \",\"Prob Eggs\")","v":0},null,null,"Sum of 60",0,60,{"$f":"BG62+GETPIVOTDATA(\"Sum of 60\",BD$2,\"Day  \",\"Prob Eggs\")","v":0}]
[null,"Prob 1st instars",null,"LSTOT/LSHT","Cum Total","LSComm11st",null,"Prob 1st instars",null,"LSTOT/LSHT","Cum Total","LSComm21st",null,"Prob 1st instars",null,"LSTOT/LSHT","Cum Total","LSComm31st",null,"Prob 1st instars",null,"LSTOT/LSHT","Cum Total","LSComm41st",null,"Prob 1st instars",null,"LSTOT/LSHT","Cum Total","LSComm51st",null,"Prob 1st instars",null,"LSTOT/LSHT","Cum Total","LSComm61st",null,"Prob 1st instars",null,"LSTOT/LSHT","Cum Total","LSComm71st",null,"Prob 1st instars",null,"LSTOT/LSHT","Cum Total","LSComm81st",null,"Prob 1st instars",null,"LSTOT/LSHT","Cum Total","LSComm91st",null,"Prob 1st instars",null,"LSTOT/LSHT","Cum Total","LSComm101st"]
[null,"Sum of 1",0.10984848484848485,1,{"$f":"GETPIVOTDATA(\"Sum of 1\",$B$2,\"Day  \",\"Prob 1st instars\")","v":0.10984848484848485},{"$f":"IF(LSCheck1st=\"n\",0,(((VLOOKUP(LSTOT,D65:E124,2))-(IF(LSHT=0,0,(VLOOKUP(LSHT,D65:E124,2)))))/LSIT))","v":0},null,"Sum of 1",7.857142857142857E-2,1,{"$f":"GETPIVOTDATA(\"Sum of 1\",H$2,\"Day  \",\"Prob 1st instars\")","v":7.857142857142857E-2},{"$f":"IF(LSCheck1st=\"n\",0,(((VLOOKUP(LSTOT,J65:K124,2))-(IF(LSHT=0,0,(VLOOKUP(LSHT,J65:K124,2)))))/LSIT))","v":4.4642857142857206E-2},null,"Sum of 1",8.1871345029239762E-2,1,{"$f":"GETPIVOTDATA(\"Sum of 1\",N$2,\"Day  \",\"Prob 1st instars\")","v":8.1871345029239762E-2},{"$f":"IF(LSCheck1st=\"n\",0,(((VLOOKUP(LSTOT,P65:Q124,2))-(IF(LSHT=0,0,(VLOOKUP(LSHT,P65:Q124,2)))))/LSIT))","v":0},null,"Sum of 1",0.17105263157894737,1,{"$f":"GETPIVOTDATA(\"Sum of 1\",T$2,\"Day  \",\"Prob 1st instars\")","v":0.17105263157894737},{"$f":"IF(LSCheck1st=\"n\",0,(((VLOOKUP(LSTOT,V65:W124,2))-(IF(LSHT=0,0,(VLOOKUP(LSHT,V65:W124,2)))))/LSIT))","v":2.0408163265306145E-2},null,"Sum of 1",2.0202020202020204E-2,1,{"$f":"GETPIVOTDATA(\"Sum of 1\",Z$2,\"Day  \",\"Prob 1st instars\")","v":2.0202020202020204E-2},{"$f":"IF(LSCheck1st=\"n\",0,(((VLOOKUP(LSTOT,AB65:AC124,2))-(IF(LSHT=0,0,(VLOOKUP(LSHT,AB65:AC124,2)))))/LSIT))","v":0},null,"Sum of 1",0,1,{"$f":"GETPIVOTDATA(\"Sum of 1\",AF$2,\"Day  \",\"Prob 1st instars\")","v":0},{"$f":"IF(LSCheck1st=\"n\",0,(((VLOOKUP(LSTOT,AH65:AI124,2))-(IF(LSHT=0,0,(VLOOKUP(LSHT,AH65:AI124,2)))))/LSIT))","v":7.8947368421052655E-2},null,"Sum of 1",0,1,{"$f":"GETPIVOTDATA(\"Sum of 1\",AL$2,\"Day  \",\"Prob 1st instars\")","v":0},{"$f":"IF(LSCheck1st=\"n\",0,(((VLOOKUP(LSTOT,AN65:AO124,2))-(IF(LSHT=0,0,(VLOOKUP(LSHT,AN65:AO124,2)))))/LSIT))","v":0},null,"Sum of 1",0,1,{"$f":"GETPIVOTDATA(\"Sum of 1\",AR$2,\"Day  \",\"Prob 1st instars\")","v":0},{"$f":"IF(LSCheck1st=\"n\",0,(((VLOOKUP(LSTOT,AT65:AU124,2))-(IF(LSHT=0,0,(VLOOKUP(LSHT,AT65:AU124,2)))))/LSIT))","v":0},null,"Sum of 1",0,1,{"$f":"GETPIVOTDATA(\"Sum of 1\",AX$2,\"Day  \",\"Prob 1st instars\")","v":0},{"$f":"IF(LSCheck1st=\"n\",0,(((VLOOKUP(LSTOT,AZ65:BA124,2))-(IF(LSHT=0,0,(VLOOKUP(LSHT,AZ65:BA124,2)))))/LSIT))","v":0},null,"Sum of 1",0,1,{"$f":"GETPIVOTDATA(\"Sum of 1\",BD$2,\"Day  \",\"Prob 1st instars\")","v":0},{"$f":"IF(LSCheck1st=\"n\",0,(((VLOOKUP(LSTOT,BF65:BG124,2))-(IF(LSHT=0,0,(VLOOKUP(LSHT,BF65:BG124,2)))))/LSIT))","v":0}]
[null,"Sum of 2",0.94818652849740936,2,{"$f":"E65+GETPIVOTDATA(\"Sum of 2\",$B$2,\"Day  \",\"Prob 1st instars\")","v":1.0580350133458942},null,null,"Sum of 2",0.82905982905982911,2,{"$f":"K65+GETPIVOTDATA(\"Sum of 2\",H$2,\"Day  \",\"Prob 1st instars\")","v":0.90763125763125774},null,null,"Sum of 2",0.59649122807017541,2,{"$f":"Q65+GETPIVOTDATA(\"Sum of 2\",N$2,\"Day  \",\"Prob 1st instars\")","v":0.67836257309941517},null,null,"Sum of 2",0.53731343283582089,2,{"$f":"W65+GETPIVOTDATA(\"Sum of 2\",T$2,\"Day  \",\"Prob 1st instars\")","v":0.70836606441476824},null,null,"Sum of 2",0.54651162790697672,2,{"$f":"AC65+GETPIVOTDATA(\"Sum of 2\",Z$2,\"Day  \",\"Prob 1st instars\")","v":0.56671364810899694},null,null,"Sum of 2",0.87351778656126478,2,{"$f":"AI65+GETPIVOTDATA(\"Sum of 2\",AF$2,\"Day  \",\"Prob 1st instars\")","v":0.87351778656126478},null,null,"Sum of 2",0,2,{"$f":"AO65+GETPIVOTDATA(\"Sum of 2\",AL$2,\"Day  \",\"Prob 1st instars\")","v":0},null,null,"Sum of 2",0,2,{"$f":"AU65+GETPIVOTDATA(\"Sum of 2\",AR$2,\"Day  \",\"Prob 1st instars\")","v":0},null,null,"Sum of 2",0,2,{"$f":"BA65+GETPIVOTDATA(\"Sum of 2\",AX$2,\"Day  \",\"Prob 1st instars\")","v":0},null,null,"Sum of 2",0,2,{"$f":"BG65+GETPIVOTDATA(\"Sum of 2\",BD$2,\"Day  \",\"Prob 1st instars\")","v":0}]
[null,"Sum of 3",3.3834586466165412E-2,3,{"$f":"E66+GETPIVOTDATA(\"Sum of 3\",$B$2,\"Day  \",\"Prob 1st instars\")","v":1.0918695998120596},null,null,"Sum of 3",0.15068493150684931,3,{"$f":"K66+GETPIVOTDATA(\"Sum of 3\",H$2,\"Day  \",\"Prob 1st instars\")","v":1.058316189138107},null,null,"Sum of 3",2.9411764705882353E-2,3,{"$f":"Q66+GETPIVOTDATA(\"Sum of 3\",N$2,\"Day  \",\"Prob 1st instars\")","v":0.70777433780529753},null,null,"Sum of 3",0.24074074074074073,3,{"$f":"W66+GETPIVOTDATA(\"Sum of 3\",T$2,\"Day  \",\"Prob 1st instars\")","v":0.94910680515550894},null,null,"Sum of 3",0.13114754098360656,3,{"$f":"AC66+GETPIVOTDATA(\"Sum of 3\",Z$2,\"Day  \",\"Prob 1st instars\")","v":0.69786118909260353},null,null,"Sum of 3",0.18566775244299674,3,{"$f":"AI66+GETPIVOTDATA(\"Sum of 3\",AF$2,\"Day  \",\"Prob 1st instars\")","v":1.0591855390042615},null,null,"Sum of 3",0,3,{"$f":"AO66+GETPIVOTDATA(\"Sum of 3\",AL$2,\"Day  \",\"Prob 1st instars\")","v":0},null,null,"Sum of 3",0,3,{"$f":"AU66+GETPIVOTDATA(\"Sum of 3\",AR$2,\"Day  \",\"Prob 1st instars\")","v":0},null,null,"Sum of 3",0,3,{"$f":"BA66+GETPIVOTDATA(\"Sum of 3\",AX$2,\"Day  \",\"Prob 1st instars\")","v":0},null,null,"Sum of 3",0,3,{"$f":"BG66+GETPIVOTDATA(\"Sum of 3\",BD$2,\"Day  \",\"Prob 1st instars\")","v":0}]
[null,"Sum of 4",0,4,{"$f":"E67+GETPIVOTDATA(\"Sum of 4\",$B$2,\"Day  \",\"Prob 1st instars\")","v":1.0918695998120596},null,null,"Sum of 4",4.4642857142857144E-2,4,{"$f":"K67+GETPIVOTDATA(\"Sum of 4\",H$2,\"Day  \",\"Prob 1st instars\")","v":1.1029590462809642},null,null,"Sum of 4",0,4,{"$f":"Q67+GETPIVOTDATA(\"Sum of 4\",N$2,\"Day  \",\"Prob 1st instars\")","v":0.70777433780529753},null,null,"Sum of 4",2.0408163265306121E-2,4,{"$f":"W67+GETPIVOTDATA(\"Sum of 4\",T$2,\"Day  \",\"Prob 1st instars\")","v":0.96951496842081508},null,null,"Sum of 4",0,4,{"$f":"AC67+GETPIVOTDATA(\"Sum of 4\",Z$2,\"Day  \",\"Prob 1st instars\")","v":0.69786118909260353},null,null,"Sum of 4",7.8947368421052627E-2,4,{"$f":"AI67+GETPIVOTDATA(\"Sum of 4\",AF$2,\"Day  \",\"Prob 1st instars\")","v":1.1381329074253141},null,null,"Sum of 4",0,4,{"$f":"AO67+GETPIVOTDATA(\"Sum of 4\",AL$2,\"Day  \",\"Prob 1st instars\")","v":0},null,null,"Sum of 4",0,4,{"$f":"AU67+GETPIVOTDATA(\"Sum of 4\",AR$2,\"Day  \",\"Prob 1st instars\")","v":0},null,null,"Sum of 4",0,4,{"$f":"BA67+GETPIVOTDATA(\"Sum of 4\",AX$2,\"Day  \",\"Prob 1st instars\")","v":0},null,null,"Sum of 4",0,4,{"$f":"BG67+GETPIVOTDATA(\"Sum of 4\",BD$2,\"Day  \",\"Prob 1st instars\")","v":0}]
[null,"Sum of 5",0,5,{"$f":"E68+GETPIVOTDATA(\"Sum of 5\",$B$2,\"Day  \",\"Prob 1st instars\")","v":1.0918695998120596},null,null,"Sum of 5",0.15,5,{"$f":"K68+GETPIVOTDATA(\"Sum of 5\",H$2,\"Day  \",\"Prob 1st instars\")","v":1.2529590462809641},null,null,"Sum of 5",0,5,{"$f":"Q68+GETPIVOTDATA(\"Sum of 5\",N$2,\"Day  \",\"Prob 1st instars\")","v":0.70777433780529753},null,null,"Sum of 5",0,5,{"$f":"W68+GETPIVOTDATA(\"Sum of 5\",T$2,\"Day  \",\"Prob 1st instars\")","v":0.96951496842081508},null,null,"Sum of 5",0,5,{"$f":"AC68+GETPIVOTDATA(\"Sum of 5\",Z$2,\"Day  \",\"Prob 1st instars\")","v":0.69786118909260353},null,null,"Sum of 5",3.2520325203252036E-2,5,{"$f":"AI68+GETPIVOTDATA(\"Sum of 5\",AF$2,\"Day  \",\"Prob 1st instars\")","v":1.1706532326285661},null,null,"Sum of 5",0,5,{"$f":"AO68+GETPIVOTDATA(\"Sum of 5\",AL$2,\"Day  \",\"Prob 1st instars\")","v":0},null,null,"Sum of 5",0,5,{"$f":"AU68+GETPIVOTDATA(\"Sum of 5\",AR$2,\"Day  \",\"Prob 1st instars\")","v":0},null,null,"Sum of 5",0,5,{"$f":"BA68+GETPIVOTDATA(\"Sum of 5\",AX$2,\"Day  \",\"Prob 1st instars\")","v":0},null,null,"Sum of 5",0,5,{"$f":"BG68+GETPIVOTDATA(\"Sum of 5\",BD$2,\"Day  \",\"Prob 1st instars\")","v":0}]
[null,"Sum of 6",0,6,{"$f":"E69+GETPIVOTDATA(\"Sum of 6\",$B$2,\"Day  \",\"Prob 1st instars\")","v":1.0918695998120596},null,null,"Sum of 6",2.247191011235955E-2,6,{"$f":"K69+GETPIVOTDATA(\"Sum of 6\",H$2,\"Day  \",\"Prob 1st instars\")","v":1.2754309563933237},null,null,"Sum of 6",0,6,{"$f":"Q69+GETPIVOTDATA(\"Sum of 6\",N$2,\"Day  \",\"Prob 1st instars\")","v":0.70777433780529753},null,null,"Sum of 6",0,6,{"$f":"W69+GETPIVOTDATA(\"Sum of 6\",T$2,\"Day  \",\"Prob 1st instars\")","v":0.96951496842081508},null,null,"Sum of 6",0,6,{"$f":"AC69+GETPIVOTDATA(\"Sum of 6\",Z$2,\"Day  \",\"Prob 1st instars\")","v":0.69786118909260353},null,null,"Sum of 6",0,6,{"$f":"AI69+GETPIVOTDATA(\"Sum of 6\",AF$2,\"Day  \",\"Prob 1st instars\")","v":1.1706532326285661},null,null,"Sum of 6",0,6,{"$f":"AO69+GETPIVOTDATA(\"Sum of 6\",AL$2,\"Day  \",\"Prob 1st instars\")","v":0},null,null,"Sum of 6",0,6,{"$f":"AU69+GETPIVOTDATA(\"Sum of 6\",AR$2,\"Day  \",\"Prob 1st instars\")","v":0},null,null,"Sum of 6",0,6,{"$f":"BA69+GETPIVOTDATA(\"Sum of 6\",AX$2,\"Day  \",\"Prob 1st instars\")","v":0},null,null,"Sum of 6",0,6,{"$f":"BG69+GETPIVOTDATA(\"Sum of 6\",BD$2,\"Day  \",\"Prob 1st instars\")","v":0}]
[null,"Sum of 7",0,7,{"$f":"E70+GETPIVOTDATA(\"Sum of 7\",$B$2,\"Day  \",\"Prob 1st instars\")","v":1.0918695998120596},null,null,"Sum of 7",0,7,{"$f":"K70+GETPIVOTDATA(\"Sum of 7\",H$2,\"Day  \",\"Prob 1st instars\")","v":1.2754309563933237},null,null,"Sum of 7",0,7,{"$f":"Q70+GETPIVOTDATA(\"Sum of 7\",N$2,\"Day  \",\"Prob 1st instars\")","v":0.70777433780529753},null,null,"Sum of 7",0,7,{"$f":"W70+GETPIVOTDATA(\"Sum of 7\",T$2,\"Day  \",\"Prob 1st instars\")","v":0.96951496842081508},null,null,"Sum of 7",0,7,{"$f":"AC70+GETPIVOTDATA(\"Sum of 7\",Z$2,\"Day  \",\"Prob 1st instars\")","v":0.69786118909260353},null,null,"Sum of 7",0,7,{"$f":"AI70+GETPIVOTDATA(\"Sum of 7\",AF$2,\"Day  \",\"Prob 1st instars\")","v":1.1706532326285661},null,null,"Sum of 7",0,7,{"$f":"AO70+GETPIVOTDATA(\"Sum of 7\",AL$2,\"Day  \",\"Prob 1st instars\")","v":0},null,null,"Sum of 7",0,7,{"$f":"AU70+GETPIVOTDATA(\"Sum of 7\",AR$2,\"Day  \",\"Prob 1st instars\")","v":0},null,null,"Sum of 7",0,7,{"$f":"BA70+GETPIVOTDATA(\"Sum of 7\",AX$2,\"Day  \",\"Prob 1st instars\")","v":0},null,null,"Sum of 7",0,7,{"$f":"BG70+GETPIVOTDATA(\"Sum of 7\",BD$2,\"Day  \",\"Prob 1st instars\")","v":0}]
[null,"Sum of 8",0,8,{"$f":"E71+GETPIVOTDATA(\"Sum of 8\",$B$2,\"Day  \",\"Prob 1st instars\")","v":1.0918695998120596},null,null,"Sum of 8",0,8,{"$f":"K71+GETPIVOTDATA(\"Sum of 8\",H$2,\"Day  \",\"Prob 1st instars\")","v":1.2754309563933237},null,null,"Sum of 8",0,8,{"$f":"Q71+GETPIVOTDATA(\"Sum of 8\",N$2,\"Day  \",\"Prob 1st instars\")","v":0.70777433780529753},null,null,"Sum of 8",0,8,{"$f":"W71+GETPIVOTDATA(\"Sum of 8\",T$2,\"Day  \",\"Prob 1st instars\")","v":0.96951496842081508},null,null,"Sum of 8",0,8,{"$f":"AC71+GETPIVOTDATA(\"Sum of 8\",Z$2,\"Day  \",\"Prob 1st instars\")","v":0.69786118909260353},null,null,"Sum of 8",0,8,{"$f":"AI71+GETPIVOTDATA(\"Sum of 8\",AF$2,\"Day  \",\"Prob 1st instars\")","v":1.1706532326285661},null,null,"Sum of 8",0,8,{"$f":"AO71+GETPIVOTDATA(\"Sum of 8\",AL$2,\"Day  \",\"Prob 1st instars\")","v":0},null,null,"Sum of 8",0,8,{"$f":"AU71+GETPIVOTDATA(\"Sum of 8\",AR$2,\"Day  \",\"Prob 1st instars\")","v":0},null,null,"Sum of 8",0,8,{"$f":"BA71+GETPIVOTDATA(\"Sum of 8\",AX$2,\"Day  \",\"Prob 1st instars\")","v":0},null,null,"Sum of 8",0,8,{"$f":"BG71+GETPIVOTDATA(\"Sum of 8\",BD$2,\"Day  \",\"Prob 1st instars\")","v":0}]
[null,"Sum of 9",0,9,{"$f":"E72+GETPIVOTDATA(\"Sum of 9\",$B$2,\"Day  \",\"Prob 1st instars\")","v":1.0918695998120596},null,null,"Sum of 9",0,9,{"$f":"K72+GETPIVOTDATA(\"Sum of 9\",H$2,\"Day  \",\"Prob 1st instars\")","v":1.2754309563933237},null,null,"Sum of 9",0,9,{"$f":"Q72+GETPIVOTDATA(\"Sum of 9\",N$2,\"Day  \",\"Prob 1st instars\")","v":0.70777433780529753},null,null,"Sum of 9",0,9,{"$f":"W72+GETPIVOTDATA(\"Sum of 9\",T$2,\"Day  \",\"Prob 1st instars\")","v":0.96951496842081508},null,null,"Sum of 9",0,9,{"$f":"AC72+GETPIVOTDATA(\"Sum of 9\",Z$2,\"Day  \",\"Prob 1st instars\")","v":0.69786118909260353},null,null,"Sum of 9",0,9,{"$f":"AI72+GETPIVOTDATA(\"Sum of 9\",AF$2,\"Day  \",\"Prob 1st instars\")","v":1.1706532326285661},null,null,"Sum of 9",0,9,{"$f":"AO72+GETPIVOTDATA(\"Sum of 9\",AL$2,\"Day  \",\"Prob 1st instars\")","v":0},null,null,"Sum of 9",0,9,{"$f":"AU72+GETPIVOTDATA(\"Sum of 9\",AR$2,\"Day  \",\"Prob 1st instars\")","v":0},null,null,"Sum of 9",0,9,{"$f":"BA72+GETPIVOTDATA(\"Sum of 9\",AX$2,\"Day  \",\"Prob 1st instars\")","v":0},null,null,"Sum of 9",0,9,{"$f":"BG72+GETPIVOTDATA(\"Sum of 9\",BD$2,\"Day  \",\"Prob 1st instars\")","v":0}]
[null,"Sum of 10",0,10,{"$f":"E73+GETPIVOTDATA(\"Sum of 10\",$B$2,\"Day  \",\"Prob 1st instars\")","v":1.0918695998120596},null,null,"Sum of 10",0,10,{"$f":"K73+GETPIVOTDATA(\"Sum of 10\",H$2,\"Day  \",\"Prob 1st instars\")","v":1.2754309563933237},null,null,"Sum of 10",0,10,{"$f":"Q73+GETPIVOTDATA(\"Sum of 10\",N$2,\"Day  \",\"Prob 1st instars\")","v":0.70777433780529753},null,null,"Sum of 10",0,10,{"$f":"W73+GETPIVOTDATA(\"Sum of 10\",T$2,\"Day  \",\"Prob 1st instars\")","v":0.96951496842081508},null,null,"Sum of 10",0,10,{"$f":"AC73+GETPIVOTDATA(\"Sum of 10\",Z$2,\"Day  \",\"Prob 1st instars\")","v":0.69786118909260353},null,null,"Sum of 10",0,10,{"$f":"AI73+GETPIVOTDATA(\"Sum of 10\",AF$2,\"Day  \",\"Prob 1st instars\")","v":1.1706532326285661},null,null,"Sum of 10",0,10,{"$f":"AO73+GETPIVOTDATA(\"Sum of 10\",AL$2,\"Day  \",\"Prob 1st instars\")","v":0},null,null,"Sum of 10",0,10,{"$f":"AU73+GETPIVOTDATA(\"Sum of 10\",AR$2,\"Day  \",\"Prob 1st instars\")","v":0},null,null,"Sum of 10",0,10,{"$f":"BA73+GETPIVOTDATA(\"Sum of 10\",AX$2,\"Day  \",\"Prob 1st instars\")","v":0},null,null,"Sum of 10",0,10,{"$f":"BG73+GETPIVOTDATA(\"Sum of 10\",BD$2,\"Day  \",\"Prob 1st instars\")","v":0}]
[null,"Sum of 11",0,11,{"$f":"E74+GETPIVOTDATA(\"Sum of 11\",$B$2,\"Day  \",\"Prob 1st instars\")","v":1.0918695998120596},null,null,"Sum of 11",0,11,{"$f":"K74+GETPIVOTDATA(\"Sum of 11\",H$2,\"Day  \",\"Prob 1st instars\")","v":1.2754309563933237},null,null,"Sum of 11",0,11,{"$f":"Q74+GETPIVOTDATA(\"Sum of 11\",N$2,\"Day  \",\"Prob 1st instars\")","v":0.70777433780529753},null,null,"Sum of 11",0,11,{"$f":"W74+GETPIVOTDATA(\"Sum of 11\",T$2,\"Day  \",\"Prob 1st instars\")","v":0.96951496842081508},null,null,"Sum of 11",0,11,{"$f":"AC74+GETPIVOTDATA(\"Sum of 11\",Z$2,\"Day  \",\"Prob 1st instars\")","v":0.69786118909260353},null,null,"Sum of 11",0,11,{"$f":"AI74+GETPIVOTDATA(\"Sum of 11\",AF$2,\"Day  \",\"Prob 1st instars\")","v":1.1706532326285661},null,null,"Sum of 11",0,11,{"$f":"AO74+GETPIVOTDATA(\"Sum of 11\",AL$2,\"Day  \",\"Prob 1st instars\")","v":0},null,null,"Sum of 11",0,11,{"$f":"AU74+GETPIVOTDATA(\"Sum of 11\",AR$2,\"Day  \",\"Prob 1st instars\")","v":0},null,null,"Sum of 11",0,11,{"$f":"BA74+GETPIVOTDATA(\"Sum of 11\",AX$2,\"Day  \",\"Prob 1st instars\")","v":0},null,null,"Sum of 11",0,11,{"$f":"BG74+GETPIVOTDATA(\"Sum of 11\",BD$2,\"Day  \",\"Prob 1st instars\")","v":0}]
[null,"Sum of 12",0,12,{"$f":"E75+GETPIVOTDATA(\"Sum of 12\",$B$2,\"Day  \",\"Prob 1st instars\")","v":1.0918695998120596},null,null,"Sum of 12",0,12,{"$f":"K75+GETPIVOTDATA(\"Sum of 12\",H$2,\"Day  \",\"Prob 1st instars\")","v":1.2754309563933237},null,null,"Sum of 12",0,12,{"$f":"Q75+GETPIVOTDATA(\"Sum of 12\",N$2,\"Day  \",\"Prob 1st instars\")","v":0.70777433780529753},null,null,"Sum of 12",0,12,{"$f":"W75+GETPIVOTDATA(\"Sum of 12\",T$2,\"Day  \",\"Prob 1st instars\")","v":0.96951496842081508},null,null,"Sum of 12",0,12,{"$f":"AC75+GETPIVOTDATA(\"Sum of 12\",Z$2,\"Day  \",\"Prob 1st instars\")","v":0.69786118909260353},null,null,"Sum of 12",0,12,{"$f":"AI75+GETPIVOTDATA(\"Sum of 12\",AF$2,\"Day  \",\"Prob 1st instars\")","v":1.1706532326285661},null,null,"Sum of 12",0,12,{"$f":"AO75+GETPIVOTDATA(\"Sum of 12\",AL$2,\"Day  \",\"Prob 1st instars\")","v":0},null,null,"Sum of 12",0,12,{"$f":"AU75+GETPIVOTDATA(\"Sum of 12\",AR$2,\"Day  \",\"Prob 1st instars\")","v":0},null,null,"Sum of 12",0,12,{"$f":"BA75+GETPIVOTDATA(\"Sum of 12\",AX$2,\"Day  \",\"Prob 1st instars\")","v":0},null,null,"Sum of 12",0,12,{"$f":"BG75+GETPIVOTDATA(\"Sum of 12\",BD$2,\"Day  \",\"Prob 1st instars\")","v":0}]
[null,"Sum of 13",0,13,{"$f":"E76+GETPIVOTDATA(\"Sum of 13\",$B$2,\"Day  \",\"Prob 1st instars\")","v":1.0918695998120596},null,null,"Sum of 13",0,13,{"$f":"K76+GETPIVOTDATA(\"Sum of 13\",H$2,\"Day  \",\"Prob 1st instars\")","v":1.2754309563933237},null,null,"Sum of 13",0,13,{"$f":"Q76+GETPIVOTDATA(\"Sum of 13\",N$2,\"Day  \",\"Prob 1st instars\")","v":0.70777433780529753},null,null,"Sum of 13",0,13,{"$f":"W76+GETPIVOTDATA(\"Sum of 13\",T$2,\"Day  \",\"Prob 1st instars\")","v":0.96951496842081508},null,null,"Sum of 13",0,13,{"$f":"AC76+GETPIVOTDATA(\"Sum of 13\",Z$2,\"Day  \",\"Prob 1st instars\")","v":0.69786118909260353},null,null,"Sum of 13",0,13,{"$f":"AI76+GETPIVOTDATA(\"Sum of 13\",AF$2,\"Day  \",\"Prob 1st instars\")","v":1.1706532326285661},null,null,"Sum of 13",0,13,{"$f":"AO76+GETPIVOTDATA(\"Sum of 13\",AL$2,\"Day  \",\"Prob 1st instars\")","v":0},null,null,"Sum of 13",0,13,{"$f":"AU76+GETPIVOTDATA(\"Sum of 13\",AR$2,\"Day  \",\"Prob 1st instars\")","v":0},null,null,"Sum of 13",0,13,{"$f":"BA76+GETPIVOTDATA(\"Sum of 13\",AX$2,\"Day  \",\"Prob 1st instars\")","v":0},null,null,"Sum of 13",0,13,{"$f":"BG76+GETPIVOTDATA(\"Sum of 13\",BD$2,\"Day  \",\"Prob 1st instars\")","v":0}]
[null,"Sum of 14",0,14,{"$f":"E77+GETPIVOTDATA(\"Sum of 14\",$B$2,\"Day  \",\"Prob 1st instars\")","v":1.0918695998120596},null,null,"Sum of 14",0,14,{"$f":"K77+GETPIVOTDATA(\"Sum of 14\",H$2,\"Day  \",\"Prob 1st instars\")","v":1.2754309563933237},null,null,"Sum of 14",0,14,{"$f":"Q77+GETPIVOTDATA(\"Sum of 14\",N$2,\"Day  \",\"Prob 1st instars\")","v":0.70777433780529753},null,null,"Sum of 14",0,14,{"$f":"W77+GETPIVOTDATA(\"Sum of 14\",T$2,\"Day  \",\"Prob 1st instars\")","v":0.96951496842081508},null,null,"Sum of 14",0,14,{"$f":"AC77+GETPIVOTDATA(\"Sum of 14\",Z$2,\"Day  \",\"Prob 1st instars\")","v":0.69786118909260353},null,null,"Sum of 14",0,14,{"$f":"AI77+GETPIVOTDATA(\"Sum of 14\",AF$2,\"Day  \",\"Prob 1st instars\")","v":1.1706532326285661},null,null,"Sum of 14",0,14,{"$f":"AO77+GETPIVOTDATA(\"Sum of 14\",AL$2,\"Day  \",\"Prob 1st instars\")","v":0},null,null,"Sum of 14",0,14,{"$f":"AU77+GETPIVOTDATA(\"Sum of 14\",AR$2,\"Day  \",\"Prob 1st instars\")","v":0},null,null,"Sum of 14",0,14,{"$f":"BA77+GETPIVOTDATA(\"Sum of 14\",AX$2,\"Day  \",\"Prob 1st instars\")","v":0},null,null,"Sum of 14",0,14,{"$f":"BG77+GETPIVOTDATA(\"Sum of 14\",BD$2,\"Day  \",\"Prob 1st instars\")","v":0}]
[null,"Sum of 15",0,15,{"$f":"E78+GETPIVOTDATA(\"Sum of 15\",$B$2,\"Day  \",\"Prob 1st instars\")","v":1.0918695998120596},null,null,"Sum of 15",0,15,{"$f":"K78+GETPIVOTDATA(\"Sum of 15\",H$2,\"Day  \",\"Prob 1st instars\")","v":1.2754309563933237},null,null,"Sum of 15",0,15,{"$f":"Q78+GETPIVOTDATA(\"Sum of 15\",N$2,\"Day  \",\"Prob 1st instars\")","v":0.70777433780529753},null,null,"Sum of 15",0,15,{"$f":"W78+GETPIVOTDATA(\"Sum of 15\",T$2,\"Day  \",\"Prob 1st instars\")","v":0.96951496842081508},null,null,"Sum of 15",0,15,{"$f":"AC78+GETPIVOTDATA(\"Sum of 15\",Z$2,\"Day  \",\"Prob 1st instars\")","v":0.69786118909260353},null,null,"Sum of 15",0,15,{"$f":"AI78+GETPIVOTDATA(\"Sum of 15\",AF$2,\"Day  \",\"Prob 1st instars\")","v":1.1706532326285661},null,null,"Sum of 15",0,15,{"$f":"AO78+GETPIVOTDATA(\"Sum of 15\",AL$2,\"Day  \",\"Prob 1st instars\")","v":0},null,null,"Sum of 15",0,15,{"$f":"AU78+GETPIVOTDATA(\"Sum of 15\",AR$2,\"Day  \",\"Prob 1st instars\")","v":0},null,null,"Sum of 15",0,15,{"$f":"BA78+GETPIVOTDATA(\"Sum of 15\",AX$2,\"Day  \",\"Prob 1st instars\")","v":0},null,null,"Sum of 15",0,15,{"$f":"BG78+GETPIVOTDATA(\"Sum of 15\",BD$2,\"Day  \",\"Prob 1st instars\")","v":0}]
[null,"Sum of 16",0,16,{"$f":"E79+GETPIVOTDATA(\"Sum of 16\",$B$2,\"Day  \",\"Prob 1st instars\")","v":1.0918695998120596},null,null,"Sum of 16",0,16,{"$f":"K79+GETPIVOTDATA(\"Sum of 16\",H$2,\"Day  \",\"Prob 1st instars\")","v":1.2754309563933237},null,null,"Sum of 16",0,16,{"$f":"Q79+GETPIVOTDATA(\"Sum of 16\",N$2,\"Day  \",\"Prob 1st instars\")","v":0.70777433780529753},null,null,"Sum of 16",0,16,{"$f":"W79+GETPIVOTDATA(\"Sum of 16\",T$2,\"Day  \",\"Prob 1st instars\")","v":0.96951496842081508},null,null,"Sum of 16",0,16,{"$f":"AC79+GETPIVOTDATA(\"Sum of 16\",Z$2,\"Day  \",\"Prob 1st instars\")","v":0.69786118909260353},null,null,"Sum of 16",0,16,{"$f":"AI79+GETPIVOTDATA(\"Sum of 16\",AF$2,\"Day  \",\"Prob 1st instars\")","v":1.1706532326285661},null,null,"Sum of 16",0,16,{"$f":"AO79+GETPIVOTDATA(\"Sum of 16\",AL$2,\"Day  \",\"Prob 1st instars\")","v":0},null,null,"Sum of 16",0,16,{"$f":"AU79+GETPIVOTDATA(\"Sum of 16\",AR$2,\"Day  \",\"Prob 1st instars\")","v":0},null,null,"Sum of 16",0,16,{"$f":"BA79+GETPIVOTDATA(\"Sum of 16\",AX$2,\"Day  \",\"Prob 1st instars\")","v":0},null,null,"Sum of 16",0,16,{"$f":"BG79+GETPIVOTDATA(\"Sum of 16\",BD$2,\"Day  \",\"Prob 1st instars\")","v":0}]
[null,"Sum of 17",0,17,{"$f":"E80+GETPIVOTDATA(\"Sum of 17\",$B$2,\"Day  \",\"Prob 1st instars\")","v":1.0918695998120596},null,null,"Sum of 17",0,17,{"$f":"K80+GETPIVOTDATA(\"Sum of 17\",H$2,\"Day  \",\"Prob 1st instars\")","v":1.2754309563933237},null,null,"Sum of 17",0,17,{"$f":"Q80+GETPIVOTDATA(\"Sum of 17\",N$2,\"Day  \",\"Prob 1st instars\")","v":0.70777433780529753},null,null,"Sum of 17",0,17,{"$f":"W80+GETPIVOTDATA(\"Sum of 17\",T$2,\"Day  \",\"Prob 1st instars\")","v":0.96951496842081508},null,null,"Sum of 17",0,17,{"$f":"AC80+GETPIVOTDATA(\"Sum of 17\",Z$2,\"Day  \",\"Prob 1st instars\")","v":0.69786118909260353},null,null,"Sum of 17",0,17,{"$f":"AI80+GETPIVOTDATA(\"Sum of 17\",AF$2,\"Day  \",\"Prob 1st instars\")","v":1.1706532326285661},null,null,"Sum of 17",0,17,{"$f":"AO80+GETPIVOTDATA(\"Sum of 17\",AL$2,\"Day  \",\"Prob 1st instars\")","v":0},null,null,"Sum of 17",0,17,{"$f":"AU80+GETPIVOTDATA(\"Sum of 17\",AR$2,\"Day  \",\"Prob 1st instars\")","v":0},null,null,"Sum of 17",0,17,{"$f":"BA80+GETPIVOTDATA(\"Sum of 17\",AX$2,\"Day  \",\"Prob 1st instars\")","v":0},null,null,"Sum of 17",0,17,{"$f":"BG80+GETPIVOTDATA(\"Sum of 17\",BD$2,\"Day  \",\"Prob 1st instars\")","v":0}]
[null,"Sum of 18",0,18,{"$f":"E81+GETPIVOTDATA(\"Sum of 18\",$B$2,\"Day  \",\"Prob 1st instars\")","v":1.0918695998120596},null,null,"Sum of 18",0,18,{"$f":"K81+GETPIVOTDATA(\"Sum of 18\",H$2,\"Day  \",\"Prob 1st instars\")","v":1.2754309563933237},null,null,"Sum of 18",0,18,{"$f":"Q81+GETPIVOTDATA(\"Sum of 18\",N$2,\"Day  \",\"Prob 1st instars\")","v":0.70777433780529753},null,null,"Sum of 18",0,18,{"$f":"W81+GETPIVOTDATA(\"Sum of 18\",T$2,\"Day  \",\"Prob 1st instars\")","v":0.96951496842081508},null,null,"Sum of 18",0,18,{"$f":"AC81+GETPIVOTDATA(\"Sum of 18\",Z$2,\"Day  \",\"Prob 1st instars\")","v":0.69786118909260353},null,null,"Sum of 18",0,18,{"$f":"AI81+GETPIVOTDATA(\"Sum of 18\",AF$2,\"Day  \",\"Prob 1st instars\")","v":1.1706532326285661},null,null,"Sum of 18",0,18,{"$f":"AO81+GETPIVOTDATA(\"Sum of 18\",AL$2,\"Day  \",\"Prob 1st instars\")","v":0},null,null,"Sum of 18",0,18,{"$f":"AU81+GETPIVOTDATA(\"Sum of 18\",AR$2,\"Day  \",\"Prob 1st instars\")","v":0},null,null,"Sum of 18",0,18,{"$f":"BA81+GETPIVOTDATA(\"Sum of 18\",AX$2,\"Day  \",\"Prob 1st instars\")","v":0},null,null,"Sum of 18",0,18,{"$f":"BG81+GETPIVOTDATA(\"Sum of 18\",BD$2,\"Day  \",\"Prob 1st instars\")","v":0}]
[null,"Sum of 19",0,19,{"$f":"E82+GETPIVOTDATA(\"Sum of 19\",$B$2,\"Day  \",\"Prob 1st instars\")","v":1.0918695998120596},null,null,"Sum of 19",0,19,{"$f":"K82+GETPIVOTDATA(\"Sum of 19\",H$2,\"Day  \",\"Prob 1st instars\")","v":1.2754309563933237},null,null,"Sum of 19",0,19,{"$f":"Q82+GETPIVOTDATA(\"Sum of 19\",N$2,\"Day  \",\"Prob 1st instars\")","v":0.70777433780529753},null,null,"Sum of 19",0,19,{"$f":"W82+GETPIVOTDATA(\"Sum of 19\",T$2,\"Day  \",\"Prob 1st instars\")","v":0.96951496842081508},null,null,"Sum of 19",0,19,{"$f":"AC82+GETPIVOTDATA(\"Sum of 19\",Z$2,\"Day  \",\"Prob 1st instars\")","v":0.69786118909260353},null,null,"Sum of 19",0,19,{"$f":"AI82+GETPIVOTDATA(\"Sum of 19\",AF$2,\"Day  \",\"Prob 1st instars\")","v":1.1706532326285661},null,null,"Sum of 19",0,19,{"$f":"AO82+GETPIVOTDATA(\"Sum of 19\",AL$2,\"Day  \",\"Prob 1st instars\")","v":0},null,null,"Sum of 19",0,19,{"$f":"AU82+GETPIVOTDATA(\"Sum of 19\",AR$2,\"Day  \",\"Prob 1st instars\")","v":0},null,null,"Sum of 19",0,19,{"$f":"BA82+GETPIVOTDATA(\"Sum of 19\",AX$2,\"Day  \",\"Prob 1st instars\")","v":0},null,null,"Sum of 19",0,19,{"$f":"BG82+GETPIVOTDATA(\"Sum of 19\",BD$2,\"Day  \",\"Prob 1st instars\")","v":0}]
[null,"Sum of 20",0,20,{"$f":"E83+GETPIVOTDATA(\"Sum of 20\",$B$2,\"Day  \",\"Prob 1st instars\")","v":1.0918695998120596},null,null,"Sum of 20",0,20,{"$f":"K83+GETPIVOTDATA(\"Sum of 20\",H$2,\"Day  \",\"Prob 1st instars\")","v":1.2754309563933237},null,null,"Sum of 20",0,20,{"$f":"Q83+GETPIVOTDATA(\"Sum of 20\",N$2,\"Day  \",\"Prob 1st instars\")","v":0.70777433780529753},null,null,"Sum of 20",0,20,{"$f":"W83+GETPIVOTDATA(\"Sum of 20\",T$2,\"Day  \",\"Prob 1st instars\")","v":0.96951496842081508},null,null,"Sum of 20",0,20,{"$f":"AC83+GETPIVOTDATA(\"Sum of 20\",Z$2,\"Day  \",\"Prob 1st instars\")","v":0.69786118909260353},null,null,"Sum of 20",0,20,{"$f":"AI83+GETPIVOTDATA(\"Sum of 20\",AF$2,\"Day  \",\"Prob 1st instars\")","v":1.1706532326285661},null,null,"Sum of 20",0,20,{"$f":"AO83+GETPIVOTDATA(\"Sum of 20\",AL$2,\"Day  \",\"Prob 1st instars\")","v":0},null,null,"Sum of 20",0,20,{"$f":"AU83+GETPIVOTDATA(\"Sum of 20\",AR$2,\"Day  \",\"Prob 1st instars\")","v":0},null,null,"Sum of 20",0,20,{"$f":"BA83+GETPIVOTDATA(\"Sum of 20\",AX$2,\"Day  \",\"Prob 1st instars\")","v":0},null,null,"Sum of 20",0,20,{"$f":"BG83+GETPIVOTDATA(\"Sum of 20\",BD$2,\"Day  \",\"Prob 1st instars\")","v":0}]
[null,"Sum of 21",0,21,{"$f":"E84+GETPIVOTDATA(\"Sum of 21\",$B$2,\"Day  \",\"Prob 1st instars\")","v":1.0918695998120596},null,null,"Sum of 21",0,21,{"$f":"K84+GETPIVOTDATA(\"Sum of 21\",H$2,\"Day  \",\"Prob 1st instars\")","v":1.2754309563933237},null,null,"Sum of 21",0,21,{"$f":"Q84+GETPIVOTDATA(\"Sum of 21\",N$2,\"Day  \",\"Prob 1st instars\")","v":0.70777433780529753},null,null,"Sum of 21",0,21,{"$f":"W84+GETPIVOTDATA(\"Sum of 21\",T$2,\"Day  \",\"Prob 1st instars\")","v":0.96951496842081508},null,null,"Sum of 21",0,21,{"$f":"AC84+GETPIVOTDATA(\"Sum of 21\",Z$2,\"Day  \",\"Prob 1st instars\")","v":0.69786118909260353},null,null,"Sum of 21",0,21,{"$f":"AI84+GETPIVOTDATA(\"Sum of 21\",AF$2,\"Day  \",\"Prob 1st instars\")","v":1.1706532326285661},null,null,"Sum of 21",0,21,{"$f":"AO84+GETPIVOTDATA(\"Sum of 21\",AL$2,\"Day  \",\"Prob 1st instars\")","v":0},null,null,"Sum of 21",0,21,{"$f":"AU84+GETPIVOTDATA(\"Sum of 21\",AR$2,\"Day  \",\"Prob 1st instars\")","v":0},null,null,"Sum of 21",0,21,{"$f":"BA84+GETPIVOTDATA(\"Sum of 21\",AX$2,\"Day  \",\"Prob 1st instars\")","v":0},null,null,"Sum of 21",0,21,{"$f":"BG84+GETPIVOTDATA(\"Sum of 21\",BD$2,\"Day  \",\"Prob 1st instars\")","v":0}]
[null,"Sum of 22",0,22,{"$f":"E85+GETPIVOTDATA(\"Sum of 22\",$B$2,\"Day  \",\"Prob 1st instars\")","v":1.0918695998120596},null,null,"Sum of 22",0,22,{"$f":"K85+GETPIVOTDATA(\"Sum of 22\",H$2,\"Day  \",\"Prob 1st instars\")","v":1.2754309563933237},null,null,"Sum of 22",0,22,{"$f":"Q85+GETPIVOTDATA(\"Sum of 22\",N$2,\"Day  \",\"Prob 1st instars\")","v":0.70777433780529753},null,null,"Sum of 22",0,22,{"$f":"W85+GETPIVOTDATA(\"Sum of 22\",T$2,\"Day  \",\"Prob 1st instars\")","v":0.96951496842081508},null,null,"Sum of 22",0,22,{"$f":"AC85+GETPIVOTDATA(\"Sum of 22\",Z$2,\"Day  \",\"Prob 1st instars\")","v":0.69786118909260353},null,null,"Sum of 22",0,22,{"$f":"AI85+GETPIVOTDATA(\"Sum of 22\",AF$2,\"Day  \",\"Prob 1st instars\")","v":1.1706532326285661},null,null,"Sum of 22",0,22,{"$f":"AO85+GETPIVOTDATA(\"Sum of 22\",AL$2,\"Day  \",\"Prob 1st instars\")","v":0},null,null,"Sum of 22",0,22,{"$f":"AU85+GETPIVOTDATA(\"Sum of 22\",AR$2,\"Day  \",\"Prob 1st instars\")","v":0},null,null,"Sum of 22",0,22,{"$f":"BA85+GETPIVOTDATA(\"Sum of 22\",AX$2,\"Day  \",\"Prob 1st instars\")","v":0},null,null,"Sum of 22",0,22,{"$f":"BG85+GETPIVOTDATA(\"Sum of 22\",BD$2,\"Day  \",\"Prob 1st instars\")","v":0}]
[null,"Sum of 23",0,23,{"$f":"E86+GETPIVOTDATA(\"Sum of 23\",$B$2,\"Day  \",\"Prob 1st instars\")","v":1.0918695998120596},null,null,"Sum of 23",0,23,{"$f":"K86+GETPIVOTDATA(\"Sum of 23\",H$2,\"Day  \",\"Prob 1st instars\")","v":1.2754309563933237},null,null,"Sum of 23",0,23,{"$f":"Q86+GETPIVOTDATA(\"Sum of 23\",N$2,\"Day  \",\"Prob 1st instars\")","v":0.70777433780529753},null,null,"Sum of 23",0,23,{"$f":"W86+GETPIVOTDATA(\"Sum of 23\",T$2,\"Day  \",\"Prob 1st instars\")","v":0.96951496842081508},null,null,"Sum of 23",0,23,{"$f":"AC86+GETPIVOTDATA(\"Sum of 23\",Z$2,\"Day  \",\"Prob 1st instars\")","v":0.69786118909260353},null,null,"Sum of 23",0,23,{"$f":"AI86+GETPIVOTDATA(\"Sum of 23\",AF$2,\"Day  \",\"Prob 1st instars\")","v":1.1706532326285661},null,null,"Sum of 23",0,23,{"$f":"AO86+GETPIVOTDATA(\"Sum of 23\",AL$2,\"Day  \",\"Prob 1st instars\")","v":0},null,null,"Sum of 23",0,23,{"$f":"AU86+GETPIVOTDATA(\"Sum of 23\",AR$2,\"Day  \",\"Prob 1st instars\")","v":0},null,null,"Sum of 23",0,23,{"$f":"BA86+GETPIVOTDATA(\"Sum of 23\",AX$2,\"Day  \",\"Prob 1st instars\")","v":0},null,null,"Sum of 23",0,23,{"$f":"BG86+GETPIVOTDATA(\"Sum of 23\",BD$2,\"Day  \",\"Prob 1st instars\")","v":0}]
[null,"Sum of 24",0,24,{"$f":"E87+GETPIVOTDATA(\"Sum of 24\",$B$2,\"Day  \",\"Prob 1st instars\")","v":1.0918695998120596},null,null,"Sum of 24",0,24,{"$f":"K87+GETPIVOTDATA(\"Sum of 24\",H$2,\"Day  \",\"Prob 1st instars\")","v":1.2754309563933237},null,null,"Sum of 24",0,24,{"$f":"Q87+GETPIVOTDATA(\"Sum of 24\",N$2,\"Day  \",\"Prob 1st instars\")","v":0.70777433780529753},null,null,"Sum of 24",0,24,{"$f":"W87+GETPIVOTDATA(\"Sum of 24\",T$2,\"Day  \",\"Prob 1st instars\")","v":0.96951496842081508},null,null,"Sum of 24",0,24,{"$f":"AC87+GETPIVOTDATA(\"Sum of 24\",Z$2,\"Day  \",\"Prob 1st instars\")","v":0.69786118909260353},null,null,"Sum of 24",0,24,{"$f":"AI87+GETPIVOTDATA(\"Sum of 24\",AF$2,\"Day  \",\"Prob 1st instars\")","v":1.1706532326285661},null,null,"Sum of 24",0,24,{"$f":"AO87+GETPIVOTDATA(\"Sum of 24\",AL$2,\"Day  \",\"Prob 1st instars\")","v":0},null,null,"Sum of 24",0,24,{"$f":"AU87+GETPIVOTDATA(\"Sum of 24\",AR$2,\"Day  \",\"Prob 1st instars\")","v":0},null,null,"Sum of 24",0,24,{"$f":"BA87+GETPIVOTDATA(\"Sum of 24\",AX$2,\"Day  \",\"Prob 1st instars\")","v":0},null,null,"Sum of 24",0,24,{"$f":"BG87+GETPIVOTDATA(\"Sum of 24\",BD$2,\"Day  \",\"Prob 1st instars\")","v":0}]
[null,"Sum of 25",0,25,{"$f":"E88+GETPIVOTDATA(\"Sum of 25\",$B$2,\"Day  \",\"Prob 1st instars\")","v":1.0918695998120596},null,null,"Sum of 25",0,25,{"$f":"K88+GETPIVOTDATA(\"Sum of 25\",H$2,\"Day  \",\"Prob 1st instars\")","v":1.2754309563933237},null,null,"Sum of 25",0,25,{"$f":"Q88+GETPIVOTDATA(\"Sum of 25\",N$2,\"Day  \",\"Prob 1st instars\")","v":0.70777433780529753},null,null,"Sum of 25",0,25,{"$f":"W88+GETPIVOTDATA(\"Sum of 25\",T$2,\"Day  \",\"Prob 1st instars\")","v":0.96951496842081508},null,null,"Sum of 25",0,25,{"$f":"AC88+GETPIVOTDATA(\"Sum of 25\",Z$2,\"Day  \",\"Prob 1st instars\")","v":0.69786118909260353},null,null,"Sum of 25",0,25,{"$f":"AI88+GETPIVOTDATA(\"Sum of 25\",AF$2,\"Day  \",\"Prob 1st instars\")","v":1.1706532326285661},null,null,"Sum of 25",0,25,{"$f":"AO88+GETPIVOTDATA(\"Sum of 25\",AL$2,\"Day  \",\"Prob 1st instars\")","v":0},null,null,"Sum of 25",0,25,{"$f":"AU88+GETPIVOTDATA(\"Sum of 25\",AR$2,\"Day  \",\"Prob 1st instars\")","v":0},null,null,"Sum of 25",0,25,{"$f":"BA88+GETPIVOTDATA(\"Sum of 25\",AX$2,\"Day  \",\"Prob 1st instars\")","v":0},null,null,"Sum of 25",0,25,{"$f":"BG88+GETPIVOTDATA(\"Sum of 25\",BD$2,\"Day  \",\"Prob 1st instars\")","v":0}]
[null,"Sum of 26",0,26,{"$f":"E89+GETPIVOTDATA(\"Sum of 26\",$B$2,\"Day  \",\"Prob 1st instars\")","v":1.0918695998120596},null,null,"Sum of 26",0,26,{"$f":"K89+GETPIVOTDATA(\"Sum of 26\",H$2,\"Day  \",\"Prob 1st instars\")","v":1.2754309563933237},null,null,"Sum of 26",0,26,{"$f":"Q89+GETPIVOTDATA(\"Sum of 26\",N$2,\"Day  \",\"Prob 1st instars\")","v":0.70777433780529753},null,null,"Sum of 26",0,26,{"$f":"W89+GETPIVOTDATA(\"Sum of 26\",T$2,\"Day  \",\"Prob 1st instars\")","v":0.96951496842081508},null,null,"Sum of 26",0,26,{"$f":"AC89+GETPIVOTDATA(\"Sum of 26\",Z$2,\"Day  \",\"Prob 1st instars\")","v":0.69786118909260353},null,null,"Sum of 26",0,26,{"$f":"AI89+GETPIVOTDATA(\"Sum of 26\",AF$2,\"Day  \",\"Prob 1st instars\")","v":1.1706532326285661},null,null,"Sum of 26",0,26,{"$f":"AO89+GETPIVOTDATA(\"Sum of 26\",AL$2,\"Day  \",\"Prob 1st instars\")","v":0},null,null,"Sum of 26",0,26,{"$f":"AU89+GETPIVOTDATA(\"Sum of 26\",AR$2,\"Day  \",\"Prob 1st instars\")","v":0},null,null,"Sum of 26",0,26,{"$f":"BA89+GETPIVOTDATA(\"Sum of 26\",AX$2,\"Day  \",\"Prob 1st instars\")","v":0},null,null,"Sum of 26",0,26,{"$f":"BG89+GETPIVOTDATA(\"Sum of 26\",BD$2,\"Day  \",\"Prob 1st instars\")","v":0}]
[null,"Sum of 27",0,27,{"$f":"E90+GETPIVOTDATA(\"Sum of 27\",$B$2,\"Day  \",\"Prob 1st instars\")","v":1.0918695998120596},null,null,"Sum of 27",0,27,{"$f":"K90+GETPIVOTDATA(\"Sum of 27\",H$2,\"Day  \",\"Prob 1st instars\")","v":1.2754309563933237},null,null,"Sum of 27",0,27,{"$f":"Q90+GETPIVOTDATA(\"Sum of 27\",N$2,\"Day  \",\"Prob 1st instars\")","v":0.70777433780529753},null,null,"Sum of 27",0,27,{"$f":"W90+GETPIVOTDATA(\"Sum of 27\",T$2,\"Day  \",\"Prob 1st instars\")","v":0.96951496842081508},null,null,"Sum of 27",0,27,{"$f":"AC90+GETPIVOTDATA(\"Sum of 27\",Z$2,\"Day  \",\"Prob 1st instars\")","v":0.69786118909260353},null,null,"Sum of 27",0,27,{"$f":"AI90+GETPIVOTDATA(\"Sum of 27\",AF$2,\"Day  \",\"Prob 1st instars\")","v":1.1706532326285661},null,null,"Sum of 27",0,27,{"$f":"AO90+GETPIVOTDATA(\"Sum of 27\",AL$2,\"Day  \",\"Prob 1st instars\")","v":0},null,null,"Sum of 27",0,27,{"$f":"AU90+GETPIVOTDATA(\"Sum of 27\",AR$2,\"Day  \",\"Prob 1st instars\")","v":0},null,null,"Sum of 27",0,27,{"$f":"BA90+GETPIVOTDATA(\"Sum of 27\",AX$2,\"Day  \",\"Prob 1st instars\")","v":0},null,null,"Sum of 27",0,27,{"$f":"BG90+GETPIVOTDATA(\"Sum of 27\",BD$2,\"Day  \",\"Prob 1st instars\")","v":0}]
[null,"Sum of 28",0,28,{"$f":"E91+GETPIVOTDATA(\"Sum of 28\",$B$2,\"Day  \",\"Prob 1st instars\")","v":1.0918695998120596},null,null,"Sum of 28",0,28,{"$f":"K91+GETPIVOTDATA(\"Sum of 28\",H$2,\"Day  \",\"Prob 1st instars\")","v":1.2754309563933237},null,null,"Sum of 28",0,28,{"$f":"Q91+GETPIVOTDATA(\"Sum of 28\",N$2,\"Day  \",\"Prob 1st instars\")","v":0.70777433780529753},null,null,"Sum of 28",0,28,{"$f":"W91+GETPIVOTDATA(\"Sum of 28\",T$2,\"Day  \",\"Prob 1st instars\")","v":0.96951496842081508},null,null,"Sum of 28",0,28,{"$f":"AC91+GETPIVOTDATA(\"Sum of 28\",Z$2,\"Day  \",\"Prob 1st instars\")","v":0.69786118909260353},null,null,"Sum of 28",0,28,{"$f":"AI91+GETPIVOTDATA(\"Sum of 28\",AF$2,\"Day  \",\"Prob 1st instars\")","v":1.1706532326285661},null,null,"Sum of 28",0,28,{"$f":"AO91+GETPIVOTDATA(\"Sum of 28\",AL$2,\"Day  \",\"Prob 1st instars\")","v":0},null,null,"Sum of 28",0,28,{"$f":"AU91+GETPIVOTDATA(\"Sum of 28\",AR$2,\"Day  \",\"Prob 1st instars\")","v":0},null,null,"Sum of 28",0,28,{"$f":"BA91+GETPIVOTDATA(\"Sum of 28\",AX$2,\"Day  \",\"Prob 1st instars\")","v":0},null,null,"Sum of 28",0,28,{"$f":"BG91+GETPIVOTDATA(\"Sum of 28\",BD$2,\"Day  \",\"Prob 1st instars\")","v":0}]
[null,"Sum of 29",0,29,{"$f":"E92+GETPIVOTDATA(\"Sum of 29\",$B$2,\"Day  \",\"Prob 1st instars\")","v":1.0918695998120596},null,null,"Sum of 29",0,29,{"$f":"K92+GETPIVOTDATA(\"Sum of 29\",H$2,\"Day  \",\"Prob 1st instars\")","v":1.2754309563933237},null,null,"Sum of 29",0,29,{"$f":"Q92+GETPIVOTDATA(\"Sum of 29\",N$2,\"Day  \",\"Prob 1st instars\")","v":0.70777433780529753},null,null,"Sum of 29",0,29,{"$f":"W92+GETPIVOTDATA(\"Sum of 29\",T$2,\"Day  \",\"Prob 1st instars\")","v":0.96951496842081508},null,null,"Sum of 29",0,29,{"$f":"AC92+GETPIVOTDATA(\"Sum of 29\",Z$2,\"Day  \",\"Prob 1st instars\")","v":0.69786118909260353},null,null,"Sum of 29",0,29,{"$f":"AI92+GETPIVOTDATA(\"Sum of 29\",AF$2,\"Day  \",\"Prob 1st instars\")","v":1.1706532326285661},null,null,"Sum of 29",0,29,{"$f":"AO92+GETPIVOTDATA(\"Sum of 29\",AL$2,\"Day  \",\"Prob 1st instars\")","v":0},null,null,"Sum of 29",0,29,{"$f":"AU92+GETPIVOTDATA(\"Sum of 29\",AR$2,\"Day  \",\"Prob 1st instars\")","v":0},null,null,"Sum of 29",0,29,{"$f":"BA92+GETPIVOTDATA(\"Sum of 29\",AX$2,\"Day  \",\"Prob 1st instars\")","v":0},null,null,"Sum of 29",0,29,{"$f":"BG92+GETPIVOTDATA(\"Sum of 29\",BD$2,\"Day  \",\"Prob 1st instars\")","v":0}]
[null,"Sum of 30",0,30,{"$f":"E93+GETPIVOTDATA(\"Sum of 30\",$B$2,\"Day  \",\"Prob 1st instars\")","v":1.0918695998120596},null,null,"Sum of 30",0,30,{"$f":"K93+GETPIVOTDATA(\"Sum of 30\",H$2,\"Day  \",\"Prob 1st instars\")","v":1.2754309563933237},null,null,"Sum of 30",0,30,{"$f":"Q93+GETPIVOTDATA(\"Sum of 30\",N$2,\"Day  \",\"Prob 1st instars\")","v":0.70777433780529753},null,null,"Sum of 30",0,30,{"$f":"W93+GETPIVOTDATA(\"Sum of 30\",T$2,\"Day  \",\"Prob 1st instars\")","v":0.96951496842081508},null,null,"Sum of 30",0,30,{"$f":"AC93+GETPIVOTDATA(\"Sum of 30\",Z$2,\"Day  \",\"Prob 1st instars\")","v":0.69786118909260353},null,null,"Sum of 30",0,30,{"$f":"AI93+GETPIVOTDATA(\"Sum of 30\",AF$2,\"Day  \",\"Prob 1st instars\")","v":1.1706532326285661},null,null,"Sum of 30",0,30,{"$f":"AO93+GETPIVOTDATA(\"Sum of 30\",AL$2,\"Day  \",\"Prob 1st instars\")","v":0},null,null,"Sum of 30",0,30,{"$f":"AU93+GETPIVOTDATA(\"Sum of 30\",AR$2,\"Day  \",\"Prob 1st instars\")","v":0},null,null,"Sum of 30",0,30,{"$f":"BA93+GETPIVOTDATA(\"Sum of 30\",AX$2,\"Day  \",\"Prob 1st instars\")","v":0},null,null,"Sum of 30",0,30,{"$f":"BG93+GETPIVOTDATA(\"Sum of 30\",BD$2,\"Day  \",\"Prob 1st instars\")","v":0}]
[null,"Sum of 31",0,31,{"$f":"E94+GETPIVOTDATA(\"Sum of 31\",$B$2,\"Day  \",\"Prob 1st instars\")","v":1.0918695998120596},null,null,"Sum of 31",0,31,{"$f":"K94+GETPIVOTDATA(\"Sum of 31\",H$2,\"Day  \",\"Prob 1st instars\")","v":1.2754309563933237},null,null,"Sum of 31",0,31,{"$f":"Q94+GETPIVOTDATA(\"Sum of 31\",N$2,\"Day  \",\"Prob 1st instars\")","v":0.70777433780529753},null,null,"Sum of 31",0,31,{"$f":"W94+GETPIVOTDATA(\"Sum of 31\",T$2,\"Day  \",\"Prob 1st instars\")","v":0.96951496842081508},null,null,"Sum of 31",0,31,{"$f":"AC94+GETPIVOTDATA(\"Sum of 31\",Z$2,\"Day  \",\"Prob 1st instars\")","v":0.69786118909260353},null,null,"Sum of 31",0,31,{"$f":"AI94+GETPIVOTDATA(\"Sum of 31\",AF$2,\"Day  \",\"Prob 1st instars\")","v":1.1706532326285661},null,null,"Sum of 31",0,31,{"$f":"AO94+GETPIVOTDATA(\"Sum of 31\",AL$2,\"Day  \",\"Prob 1st instars\")","v":0},null,null,"Sum of 31",0,31,{"$f":"AU94+GETPIVOTDATA(\"Sum of 31\",AR$2,\"Day  \",\"Prob 1st instars\")","v":0},null,null,"Sum of 31",0,31,{"$f":"BA94+GETPIVOTDATA(\"Sum of 31\",AX$2,\"Day  \",\"Prob 1st instars\")","v":0},null,null,"Sum of 31",0,31,{"$f":"BG94+GETPIVOTDATA(\"Sum of 31\",BD$2,\"Day  \",\"Prob 1st instars\")","v":0}]
[null,"Sum of 32",0,32,{"$f":"E95+GETPIVOTDATA(\"Sum of 32\",$B$2,\"Day  \",\"Prob 1st instars\")","v":1.0918695998120596},null,null,"Sum of 32",0,32,{"$f":"K95+GETPIVOTDATA(\"Sum of 32\",H$2,\"Day  \",\"Prob 1st instars\")","v":1.2754309563933237},null,null,"Sum of 32",0,32,{"$f":"Q95+GETPIVOTDATA(\"Sum of 32\",N$2,\"Day  \",\"Prob 1st instars\")","v":0.70777433780529753},null,null,"Sum of 32",0,32,{"$f":"W95+GETPIVOTDATA(\"Sum of 32\",T$2,\"Day  \",\"Prob 1st instars\")","v":0.96951496842081508},null,null,"Sum of 32",0,32,{"$f":"AC95+GETPIVOTDATA(\"Sum of 32\",Z$2,\"Day  \",\"Prob 1st instars\")","v":0.69786118909260353},null,null,"Sum of 32",0,32,{"$f":"AI95+GETPIVOTDATA(\"Sum of 32\",AF$2,\"Day  \",\"Prob 1st instars\")","v":1.1706532326285661},null,null,"Sum of 32",0,32,{"$f":"AO95+GETPIVOTDATA(\"Sum of 32\",AL$2,\"Day  \",\"Prob 1st instars\")","v":0},null,null,"Sum of 32",0,32,{"$f":"AU95+GETPIVOTDATA(\"Sum of 32\",AR$2,\"Day  \",\"Prob 1st instars\")","v":0},null,null,"Sum of 32",0,32,{"$f":"BA95+GETPIVOTDATA(\"Sum of 32\",AX$2,\"Day  \",\"Prob 1st instars\")","v":0},null,null,"Sum of 32",0,32,{"$f":"BG95+GETPIVOTDATA(\"Sum of 32\",BD$2,\"Day  \",\"Prob 1st instars\")","v":0}]
[null,"Sum of 33",0,33,{"$f":"E96+GETPIVOTDATA(\"Sum of 33\",$B$2,\"Day  \",\"Prob 1st instars\")","v":1.0918695998120596},null,null,"Sum of 33",0,33,{"$f":"K96+GETPIVOTDATA(\"Sum of 33\",H$2,\"Day  \",\"Prob 1st instars\")","v":1.2754309563933237},null,null,"Sum of 33",0,33,{"$f":"Q96+GETPIVOTDATA(\"Sum of 33\",N$2,\"Day  \",\"Prob 1st instars\")","v":0.70777433780529753},null,null,"Sum of 33",0,33,{"$f":"W96+GETPIVOTDATA(\"Sum of 33\",T$2,\"Day  \",\"Prob 1st instars\")","v":0.96951496842081508},null,null,"Sum of 33",0,33,{"$f":"AC96+GETPIVOTDATA(\"Sum of 33\",Z$2,\"Day  \",\"Prob 1st instars\")","v":0.69786118909260353},null,null,"Sum of 33",0,33,{"$f":"AI96+GETPIVOTDATA(\"Sum of 33\",AF$2,\"Day  \",\"Prob 1st instars\")","v":1.1706532326285661},null,null,"Sum of 33",0,33,{"$f":"AO96+GETPIVOTDATA(\"Sum of 33\",AL$2,\"Day  \",\"Prob 1st instars\")","v":0},null,null,"Sum of 33",0,33,{"$f":"AU96+GETPIVOTDATA(\"Sum of 33\",AR$2,\"Day  \",\"Prob 1st instars\")","v":0},null,null,"Sum of 33",0,33,{"$f":"BA96+GETPIVOTDATA(\"Sum of 33\",AX$2,\"Day  \",\"Prob 1st instars\")","v":0},null,null,"Sum of 33",0,33,{"$f":"BG96+GETPIVOTDATA(\"Sum of 33\",BD$2,\"Day  \",\"Prob 1st instars\")","v":0}]
[null,"Sum of 34",0,34,{"$f":"E97+GETPIVOTDATA(\"Sum of 34\",$B$2,\"Day  \",\"Prob 1st instars\")","v":1.0918695998120596},null,null,"Sum of 34",0,34,{"$f":"K97+GETPIVOTDATA(\"Sum of 34\",H$2,\"Day  \",\"Prob 1st instars\")","v":1.2754309563933237},null,null,"Sum of 34",0,34,{"$f":"Q97+GETPIVOTDATA(\"Sum of 34\",N$2,\"Day  \",\"Prob 1st instars\")","v":0.70777433780529753},null,null,"Sum of 34",0,34,{"$f":"W97+GETPIVOTDATA(\"Sum of 34\",T$2,\"Day  \",\"Prob 1st instars\")","v":0.96951496842081508},null,null,"Sum of 34",0,34,{"$f":"AC97+GETPIVOTDATA(\"Sum of 34\",Z$2,\"Day  \",\"Prob 1st instars\")","v":0.69786118909260353},null,null,"Sum of 34",0,34,{"$f":"AI97+GETPIVOTDATA(\"Sum of 34\",AF$2,\"Day  \",\"Prob 1st instars\")","v":1.1706532326285661},null,null,"Sum of 34",0,34,{"$f":"AO97+GETPIVOTDATA(\"Sum of 34\",AL$2,\"Day  \",\"Prob 1st instars\")","v":0},null,null,"Sum of 34",0,34,{"$f":"AU97+GETPIVOTDATA(\"Sum of 34\",AR$2,\"Day  \",\"Prob 1st instars\")","v":0},null,null,"Sum of 34",0,34,{"$f":"BA97+GETPIVOTDATA(\"Sum of 34\",AX$2,\"Day  \",\"Prob 1st instars\")","v":0},null,null,"Sum of 34",0,34,{"$f":"BG97+GETPIVOTDATA(\"Sum of 34\",BD$2,\"Day  \",\"Prob 1st instars\")","v":0}]
[null,"Sum of 35",0,35,{"$f":"E98+GETPIVOTDATA(\"Sum of 35\",$B$2,\"Day  \",\"Prob 1st instars\")","v":1.0918695998120596},null,null,"Sum of 35",0,35,{"$f":"K98+GETPIVOTDATA(\"Sum of 35\",H$2,\"Day  \",\"Prob 1st instars\")","v":1.2754309563933237},null,null,"Sum of 35",0,35,{"$f":"Q98+GETPIVOTDATA(\"Sum of 35\",N$2,\"Day  \",\"Prob 1st instars\")","v":0.70777433780529753},null,null,"Sum of 35",0,35,{"$f":"W98+GETPIVOTDATA(\"Sum of 35\",T$2,\"Day  \",\"Prob 1st instars\")","v":0.96951496842081508},null,null,"Sum of 35",0,35,{"$f":"AC98+GETPIVOTDATA(\"Sum of 35\",Z$2,\"Day  \",\"Prob 1st instars\")","v":0.69786118909260353},null,null,"Sum of 35",0,35,{"$f":"AI98+GETPIVOTDATA(\"Sum of 35\",AF$2,\"Day  \",\"Prob 1st instars\")","v":1.1706532326285661},null,null,"Sum of 35",0,35,{"$f":"AO98+GETPIVOTDATA(\"Sum of 35\",AL$2,\"Day  \",\"Prob 1st instars\")","v":0},null,null,"Sum of 35",0,35,{"$f":"AU98+GETPIVOTDATA(\"Sum of 35\",AR$2,\"Day  \",\"Prob 1st instars\")","v":0},null,null,"Sum of 35",0,35,{"$f":"BA98+GETPIVOTDATA(\"Sum of 35\",AX$2,\"Day  \",\"Prob 1st instars\")","v":0},null,null,"Sum of 35",0,35,{"$f":"BG98+GETPIVOTDATA(\"Sum of 35\",BD$2,\"Day  \",\"Prob 1st instars\")","v":0}]
[null,"Sum of 36",0,36,{"$f":"E99+GETPIVOTDATA(\"Sum of 36\",$B$2,\"Day  \",\"Prob 1st instars\")","v":1.0918695998120596},null,null,"Sum of 36",0,36,{"$f":"K99+GETPIVOTDATA(\"Sum of 36\",H$2,\"Day  \",\"Prob 1st instars\")","v":1.2754309563933237},null,null,"Sum of 36",0,36,{"$f":"Q99+GETPIVOTDATA(\"Sum of 36\",N$2,\"Day  \",\"Prob 1st instars\")","v":0.70777433780529753},null,null,"Sum of 36",0,36,{"$f":"W99+GETPIVOTDATA(\"Sum of 36\",T$2,\"Day  \",\"Prob 1st instars\")","v":0.96951496842081508},null,null,"Sum of 36",0,36,{"$f":"AC99+GETPIVOTDATA(\"Sum of 36\",Z$2,\"Day  \",\"Prob 1st instars\")","v":0.69786118909260353},null,null,"Sum of 36",0,36,{"$f":"AI99+GETPIVOTDATA(\"Sum of 36\",AF$2,\"Day  \",\"Prob 1st instars\")","v":1.1706532326285661},null,null,"Sum of 36",0,36,{"$f":"AO99+GETPIVOTDATA(\"Sum of 36\",AL$2,\"Day  \",\"Prob 1st instars\")","v":0},null,null,"Sum of 36",0,36,{"$f":"AU99+GETPIVOTDATA(\"Sum of 36\",AR$2,\"Day  \",\"Prob 1st instars\")","v":0},null,null,"Sum of 36",0,36,{"$f":"BA99+GETPIVOTDATA(\"Sum of 36\",AX$2,\"Day  \",\"Prob 1st instars\")","v":0},null,null,"Sum of 36",0,36,{"$f":"BG99+GETPIVOTDATA(\"Sum of 36\",BD$2,\"Day  \",\"Prob 1st instars\")","v":0}]
[null,"Sum of 37",0,37,{"$f":"E100+GETPIVOTDATA(\"Sum of 37\",$B$2,\"Day  \",\"Prob 1st instars\")","v":1.0918695998120596},null,null,"Sum of 37",0,37,{"$f":"K100+GETPIVOTDATA(\"Sum of 37\",H$2,\"Day  \",\"Prob 1st instars\")","v":1.2754309563933237},null,null,"Sum of 37",0,37,{"$f":"Q100+GETPIVOTDATA(\"Sum of 37\",N$2,\"Day  \",\"Prob 1st instars\")","v":0.70777433780529753},null,null,"Sum of 37",0,37,{"$f":"W100+GETPIVOTDATA(\"Sum of 37\",T$2,\"Day  \",\"Prob 1st instars\")","v":0.96951496842081508},null,null,"Sum of 37",0,37,{"$f":"AC100+GETPIVOTDATA(\"Sum of 37\",Z$2,\"Day  \",\"Prob 1st instars\")","v":0.69786118909260353},null,null,"Sum of 37",0,37,{"$f":"AI100+GETPIVOTDATA(\"Sum of 37\",AF$2,\"Day  \",\"Prob 1st instars\")","v":1.1706532326285661},null,null,"Sum of 37",0,37,{"$f":"AO100+GETPIVOTDATA(\"Sum of 37\",AL$2,\"Day  \",\"Prob 1st instars\")","v":0},null,null,"Sum of 37",0,37,{"$f":"AU100+GETPIVOTDATA(\"Sum of 37\",AR$2,\"Day  \",\"Prob 1st instars\")","v":0},null,null,"Sum of 37",0,37,{"$f":"BA100+GETPIVOTDATA(\"Sum of 37\",AX$2,\"Day  \",\"Prob 1st instars\")","v":0},null,null,"Sum of 37",0,37,{"$f":"BG100+GETPIVOTDATA(\"Sum of 37\",BD$2,\"Day  \",\"Prob 1st instars\")","v":0}]
[null,"Sum of 38",0,38,{"$f":"E101+GETPIVOTDATA(\"Sum of 38\",$B$2,\"Day  \",\"Prob 1st instars\")","v":1.0918695998120596},null,null,"Sum of 38",0,38,{"$f":"K101+GETPIVOTDATA(\"Sum of 38\",H$2,\"Day  \",\"Prob 1st instars\")","v":1.2754309563933237},null,null,"Sum of 38",0,38,{"$f":"Q101+GETPIVOTDATA(\"Sum of 38\",N$2,\"Day  \",\"Prob 1st instars\")","v":0.70777433780529753},null,null,"Sum of 38",0,38,{"$f":"W101+GETPIVOTDATA(\"Sum of 38\",T$2,\"Day  \",\"Prob 1st instars\")","v":0.96951496842081508},null,null,"Sum of 38",0,38,{"$f":"AC101+GETPIVOTDATA(\"Sum of 38\",Z$2,\"Day  \",\"Prob 1st instars\")","v":0.69786118909260353},null,null,"Sum of 38",0,38,{"$f":"AI101+GETPIVOTDATA(\"Sum of 38\",AF$2,\"Day  \",\"Prob 1st instars\")","v":1.1706532326285661},null,null,"Sum of 38",0,38,{"$f":"AO101+GETPIVOTDATA(\"Sum of 38\",AL$2,\"Day  \",\"Prob 1st instars\")","v":0},null,null,"Sum of 38",0,38,{"$f":"AU101+GETPIVOTDATA(\"Sum of 38\",AR$2,\"Day  \",\"Prob 1st instars\")","v":0},null,null,"Sum of 38",0,38,{"$f":"BA101+GETPIVOTDATA(\"Sum of 38\",AX$2,\"Day  \",\"Prob 1st instars\")","v":0},null,null,"Sum of 38",0,38,{"$f":"BG101+GETPIVOTDATA(\"Sum of 38\",BD$2,\"Day  \",\"Prob 1st instars\")","v":0}]
[null,"Sum of 39",0,39,{"$f":"E102+GETPIVOTDATA(\"Sum of 39\",$B$2,\"Day  \",\"Prob 1st instars\")","v":1.0918695998120596},null,null,"Sum of 39",0,39,{"$f":"K102+GETPIVOTDATA(\"Sum of 39\",H$2,\"Day  \",\"Prob 1st instars\")","v":1.2754309563933237},null,null,"Sum of 39",0,39,{"$f":"Q102+GETPIVOTDATA(\"Sum of 39\",N$2,\"Day  \",\"Prob 1st instars\")","v":0.70777433780529753},null,null,"Sum of 39",0,39,{"$f":"W102+GETPIVOTDATA(\"Sum of 39\",T$2,\"Day  \",\"Prob 1st instars\")","v":0.96951496842081508},null,null,"Sum of 39",0,39,{"$f":"AC102+GETPIVOTDATA(\"Sum of 39\",Z$2,\"Day  \",\"Prob 1st instars\")","v":0.69786118909260353},null,null,"Sum of 39",0,39,{"$f":"AI102+GETPIVOTDATA(\"Sum of 39\",AF$2,\"Day  \",\"Prob 1st instars\")","v":1.1706532326285661},null,null,"Sum of 39",0,39,{"$f":"AO102+GETPIVOTDATA(\"Sum of 39\",AL$2,\"Day  \",\"Prob 1st instars\")","v":0},null,null,"Sum of 39",0,39,{"$f":"AU102+GETPIVOTDATA(\"Sum of 39\",AR$2,\"Day  \",\"Prob 1st instars\")","v":0},null,null,"Sum of 39",0,39,{"$f":"BA102+GETPIVOTDATA(\"Sum of 39\",AX$2,\"Day  \",\"Prob 1st instars\")","v":0},null,null,"Sum of 39",0,39,{"$f":"BG102+GETPIVOTDATA(\"Sum of 39\",BD$2,\"Day  \",\"Prob 1st instars\")","v":0}]
[null,"Sum of 40",0,40,{"$f":"E103+GETPIVOTDATA(\"Sum of 40\",$B$2,\"Day  \",\"Prob 1st instars\")","v":1.0918695998120596},null,null,"Sum of 40",0,40,{"$f":"K103+GETPIVOTDATA(\"Sum of 40\",H$2,\"Day  \",\"Prob 1st instars\")","v":1.2754309563933237},null,null,"Sum of 40",0,40,{"$f":"Q103+GETPIVOTDATA(\"Sum of 40\",N$2,\"Day  \",\"Prob 1st instars\")","v":0.70777433780529753},null,null,"Sum of 40",0,40,{"$f":"W103+GETPIVOTDATA(\"Sum of 40\",T$2,\"Day  \",\"Prob 1st instars\")","v":0.96951496842081508},null,null,"Sum of 40",0,40,{"$f":"AC103+GETPIVOTDATA(\"Sum of 40\",Z$2,\"Day  \",\"Prob 1st instars\")","v":0.69786118909260353},null,null,"Sum of 40",0,40,{"$f":"AI103+GETPIVOTDATA(\"Sum of 40\",AF$2,\"Day  \",\"Prob 1st instars\")","v":1.1706532326285661},null,null,"Sum of 40",0,40,{"$f":"AO103+GETPIVOTDATA(\"Sum of 40\",AL$2,\"Day  \",\"Prob 1st instars\")","v":0},null,null,"Sum of 40",0,40,{"$f":"AU103+GETPIVOTDATA(\"Sum of 40\",AR$2,\"Day  \",\"Prob 1st instars\")","v":0},null,null,"Sum of 40",0,40,{"$f":"BA103+GETPIVOTDATA(\"Sum of 40\",AX$2,\"Day  \",\"Prob 1st instars\")","v":0},null,null,"Sum of 40",0,40,{"$f":"BG103+GETPIVOTDATA(\"Sum of 40\",BD$2,\"Day  \",\"Prob 1st instars\")","v":0}]
[null,"Sum of 41",0,41,{"$f":"E104+GETPIVOTDATA(\"Sum of 41\",$B$2,\"Day  \",\"Prob 1st instars\")","v":1.0918695998120596},null,null,"Sum of 41",0,41,{"$f":"K104+GETPIVOTDATA(\"Sum of 41\",H$2,\"Day  \",\"Prob 1st instars\")","v":1.2754309563933237},null,null,"Sum of 41",0,41,{"$f":"Q104+GETPIVOTDATA(\"Sum of 41\",N$2,\"Day  \",\"Prob 1st instars\")","v":0.70777433780529753},null,null,"Sum of 41",0,41,{"$f":"W104+GETPIVOTDATA(\"Sum of 41\",T$2,\"Day  \",\"Prob 1st instars\")","v":0.96951496842081508},null,null,"Sum of 41",0,41,{"$f":"AC104+GETPIVOTDATA(\"Sum of 41\",Z$2,\"Day  \",\"Prob 1st instars\")","v":0.69786118909260353},null,null,"Sum of 41",0,41,{"$f":"AI104+GETPIVOTDATA(\"Sum of 41\",AF$2,\"Day  \",\"Prob 1st instars\")","v":1.1706532326285661},null,null,"Sum of 41",0,41,{"$f":"AO104+GETPIVOTDATA(\"Sum of 41\",AL$2,\"Day  \",\"Prob 1st instars\")","v":0},null,null,"Sum of 41",0,41,{"$f":"AU104+GETPIVOTDATA(\"Sum of 41\",AR$2,\"Day  \",\"Prob 1st instars\")","v":0},null,null,"Sum of 41",0,41,{"$f":"BA104+GETPIVOTDATA(\"Sum of 41\",AX$2,\"Day  \",\"Prob 1st instars\")","v":0},null,null,"Sum of 41",0,41,{"$f":"BG104+GETPIVOTDATA(\"Sum of 41\",BD$2,\"Day  \",\"Prob 1st instars\")","v":0}]
[null,"Sum of 42",0,42,{"$f":"E105+GETPIVOTDATA(\"Sum of 42\",$B$2,\"Day  \",\"Prob 1st instars\")","v":1.0918695998120596},null,null,"Sum of 42",0,42,{"$f":"K105+GETPIVOTDATA(\"Sum of 42\",H$2,\"Day  \",\"Prob 1st instars\")","v":1.2754309563933237},null,null,"Sum of 42",0,42,{"$f":"Q105+GETPIVOTDATA(\"Sum of 42\",N$2,\"Day  \",\"Prob 1st instars\")","v":0.70777433780529753},null,null,"Sum of 42",0,42,{"$f":"W105+GETPIVOTDATA(\"Sum of 42\",T$2,\"Day  \",\"Prob 1st instars\")","v":0.96951496842081508},null,null,"Sum of 42",0,42,{"$f":"AC105+GETPIVOTDATA(\"Sum of 42\",Z$2,\"Day  \",\"Prob 1st instars\")","v":0.69786118909260353},null,null,"Sum of 42",0,42,{"$f":"AI105+GETPIVOTDATA(\"Sum of 42\",AF$2,\"Day  \",\"Prob 1st instars\")","v":1.1706532326285661},null,null,"Sum of 42",0,42,{"$f":"AO105+GETPIVOTDATA(\"Sum of 42\",AL$2,\"Day  \",\"Prob 1st instars\")","v":0},null,null,"Sum of 42",0,42,{"$f":"AU105+GETPIVOTDATA(\"Sum of 42\",AR$2,\"Day  \",\"Prob 1st instars\")","v":0},null,null,"Sum of 42",0,42,{"$f":"BA105+GETPIVOTDATA(\"Sum of 42\",AX$2,\"Day  \",\"Prob 1st instars\")","v":0},null,null,"Sum of 42",0,42,{"$f":"BG105+GETPIVOTDATA(\"Sum of 42\",BD$2,\"Day  \",\"Prob 1st instars\")","v":0}]
[null,"Sum of 43",0,43,{"$f":"E106+GETPIVOTDATA(\"Sum of 43\",$B$2,\"Day  \",\"Prob 1st instars\")","v":1.0918695998120596},null,null,"Sum of 43",0,43,{"$f":"K106+GETPIVOTDATA(\"Sum of 43\",H$2,\"Day  \",\"Prob 1st instars\")","v":1.2754309563933237},null,null,"Sum of 43",0,43,{"$f":"Q106+GETPIVOTDATA(\"Sum of 43\",N$2,\"Day  \",\"Prob 1st instars\")","v":0.70777433780529753},null,null,"Sum of 43",0,43,{"$f":"W106+GETPIVOTDATA(\"Sum of 43\",T$2,\"Day  \",\"Prob 1st instars\")","v":0.96951496842081508},null,null,"Sum of 43",0,43,{"$f":"AC106+GETPIVOTDATA(\"Sum of 43\",Z$2,\"Day  \",\"Prob 1st instars\")","v":0.69786118909260353},null,null,"Sum of 43",0,43,{"$f":"AI106+GETPIVOTDATA(\"Sum of 43\",AF$2,\"Day  \",\"Prob 1st instars\")","v":1.1706532326285661},null,null,"Sum of 43",0,43,{"$f":"AO106+GETPIVOTDATA(\"Sum of 43\",AL$2,\"Day  \",\"Prob 1st instars\")","v":0},null,null,"Sum of 43",0,43,{"$f":"AU106+GETPIVOTDATA(\"Sum of 43\",AR$2,\"Day  \",\"Prob 1st instars\")","v":0},null,null,"Sum of 43",0,43,{"$f":"BA106+GETPIVOTDATA(\"Sum of 43\",AX$2,\"Day  \",\"Prob 1st instars\")","v":0},null,null,"Sum of 43",0,43,{"$f":"BG106+GETPIVOTDATA(\"Sum of 43\",BD$2,\"Day  \",\"Prob 1st instars\")","v":0}]
[null,"Sum of 44",0,44,{"$f":"E107+GETPIVOTDATA(\"Sum of 44\",$B$2,\"Day  \",\"Prob 1st instars\")","v":1.0918695998120596},null,null,"Sum of 44",0,44,{"$f":"K107+GETPIVOTDATA(\"Sum of 44\",H$2,\"Day  \",\"Prob 1st instars\")","v":1.2754309563933237},null,null,"Sum of 44",0,44,{"$f":"Q107+GETPIVOTDATA(\"Sum of 44\",N$2,\"Day  \",\"Prob 1st instars\")","v":0.70777433780529753},null,null,"Sum of 44",0,44,{"$f":"W107+GETPIVOTDATA(\"Sum of 44\",T$2,\"Day  \",\"Prob 1st instars\")","v":0.96951496842081508},null,null,"Sum of 44",0,44,{"$f":"AC107+GETPIVOTDATA(\"Sum of 44\",Z$2,\"Day  \",\"Prob 1st instars\")","v":0.69786118909260353},null,null,"Sum of 44",0,44,{"$f":"AI107+GETPIVOTDATA(\"Sum of 44\",AF$2,\"Day  \",\"Prob 1st instars\")","v":1.1706532326285661},null,null,"Sum of 44",0,44,{"$f":"AO107+GETPIVOTDATA(\"Sum of 44\",AL$2,\"Day  \",\"Prob 1st instars\")","v":0},null,null,"Sum of 44",0,44,{"$f":"AU107+GETPIVOTDATA(\"Sum of 44\",AR$2,\"Day  \",\"Prob 1st instars\")","v":0},null,null,"Sum of 44",0,44,{"$f":"BA107+GETPIVOTDATA(\"Sum of 44\",AX$2,\"Day  \",\"Prob 1st instars\")","v":0},null,null,"Sum of 44",0,44,{"$f":"BG107+GETPIVOTDATA(\"Sum of 44\",BD$2,\"Day  \",\"Prob 1st instars\")","v":0}]
[null,"Sum of 45",0,45,{"$f":"E108+GETPIVOTDATA(\"Sum of 45\",$B$2,\"Day  \",\"Prob 1st instars\")","v":1.0918695998120596},null,null,"Sum of 45",0,45,{"$f":"K108+GETPIVOTDATA(\"Sum of 45\",H$2,\"Day  \",\"Prob 1st instars\")","v":1.2754309563933237},null,null,"Sum of 45",0,45,{"$f":"Q108+GETPIVOTDATA(\"Sum of 45\",N$2,\"Day  \",\"Prob 1st instars\")","v":0.70777433780529753},null,null,"Sum of 45",0,45,{"$f":"W108+GETPIVOTDATA(\"Sum of 45\",T$2,\"Day  \",\"Prob 1st instars\")","v":0.96951496842081508},null,null,"Sum of 45",0,45,{"$f":"AC108+GETPIVOTDATA(\"Sum of 45\",Z$2,\"Day  \",\"Prob 1st instars\")","v":0.69786118909260353},null,null,"Sum of 45",0,45,{"$f":"AI108+GETPIVOTDATA(\"Sum of 45\",AF$2,\"Day  \",\"Prob 1st instars\")","v":1.1706532326285661},null,null,"Sum of 45",0,45,{"$f":"AO108+GETPIVOTDATA(\"Sum of 45\",AL$2,\"Day  \",\"Prob 1st instars\")","v":0},null,null,"Sum of 45",0,45,{"$f":"AU108+GETPIVOTDATA(\"Sum of 45\",AR$2,\"Day  \",\"Prob 1st instars\")","v":0},null,null,"Sum of 45",0,45,{"$f":"BA108+GETPIVOTDATA(\"Sum of 45\",AX$2,\"Day  \",\"Prob 1st instars\")","v":0},null,null,"Sum of 45",0,45,{"$f":"BG108+GETPIVOTDATA(\"Sum of 45\",BD$2,\"Day  \",\"Prob 1st instars\")","v":0}]
[null,"Sum of 47",0,46,{"$f":"E109+GETPIVOTDATA(\"Sum of 46\",$B$2,\"Day  \",\"Prob 1st instars\")","v":1.0918695998120596},null,null,"Sum of 46",0,46,{"$f":"K109+GETPIVOTDATA(\"Sum of 46\",H$2,\"Day  \",\"Prob 1st instars\")","v":1.2754309563933237},null,null,"Sum of 46",0,46,{"$f":"Q109+GETPIVOTDATA(\"Sum of 46\",N$2,\"Day  \",\"Prob 1st instars\")","v":0.70777433780529753},null,null,"Sum of 46",0,46,{"$f":"W109+GETPIVOTDATA(\"Sum of 46\",T$2,\"Day  \",\"Prob 1st instars\")","v":0.96951496842081508},null,null,"Sum of 46",0,46,{"$f":"AC109+GETPIVOTDATA(\"Sum of 46\",Z$2,\"Day  \",\"Prob 1st instars\")","v":0.69786118909260353},null,null,"Sum of 46",0,46,{"$f":"AI109+GETPIVOTDATA(\"Sum of 46\",AF$2,\"Day  \",\"Prob 1st instars\")","v":1.1706532326285661},null,null,"Sum of 46",0,46,{"$f":"AO109+GETPIVOTDATA(\"Sum of 46\",AL$2,\"Day  \",\"Prob 1st instars\")","v":0},null,null,"Sum of 46",0,46,{"$f":"AU109+GETPIVOTDATA(\"Sum of 46\",AR$2,\"Day  \",\"Prob 1st instars\")","v":0},null,null,"Sum of 46",0,46,{"$f":"BA109+GETPIVOTDATA(\"Sum of 46\",AX$2,\"Day  \",\"Prob 1st instars\")","v":0},null,null,"Sum of 46",0,46,{"$f":"BG109+GETPIVOTDATA(\"Sum of 46\",BD$2,\"Day  \",\"Prob 1st instars\")","v":0}]
[null,"Sum of 46",0,47,{"$f":"E110+GETPIVOTDATA(\"Sum of 47\",$B$2,\"Day  \",\"Prob 1st instars\")","v":1.0918695998120596},null,null,"Sum of 47",0,47,{"$f":"K110+GETPIVOTDATA(\"Sum of 47\",H$2,\"Day  \",\"Prob 1st instars\")","v":1.2754309563933237},null,null,"Sum of 47",0,47,{"$f":"Q110+GETPIVOTDATA(\"Sum of 47\",N$2,\"Day  \",\"Prob 1st instars\")","v":0.70777433780529753},null,null,"Sum of 47",0,47,{"$f":"W110+GETPIVOTDATA(\"Sum of 47\",T$2,\"Day  \",\"Prob 1st instars\")","v":0.96951496842081508},null,null,"Sum of 47",0,47,{"$f":"AC110+GETPIVOTDATA(\"Sum of 47\",Z$2,\"Day  \",\"Prob 1st instars\")","v":0.69786118909260353},null,null,"Sum of 47",0,47,{"$f":"AI110+GETPIVOTDATA(\"Sum of 47\",AF$2,\"Day  \",\"Prob 1st instars\")","v":1.1706532326285661},null,null,"Sum of 47",0,47,{"$f":"AO110+GETPIVOTDATA(\"Sum of 47\",AL$2,\"Day  \",\"Prob 1st instars\")","v":0},null,null,"Sum of 47",0,47,{"$f":"AU110+GETPIVOTDATA(\"Sum of 47\",AR$2,\"Day  \",\"Prob 1st instars\")","v":0},null,null,"Sum of 47",0,47,{"$f":"BA110+GETPIVOTDATA(\"Sum of 47\",AX$2,\"Day  \",\"Prob 1st instars\")","v":0},null,null,"Sum of 47",0,47,{"$f":"BG110+GETPIVOTDATA(\"Sum of 47\",BD$2,\"Day  \",\"Prob 1st instars\")","v":0}]
[null,"Sum of 48",0,48,{"$f":"E111+GETPIVOTDATA(\"Sum of 48\",$B$2,\"Day  \",\"Prob 1st instars\")","v":1.0918695998120596},null,null,"Sum of 48",0,48,{"$f":"K111+GETPIVOTDATA(\"Sum of 48\",H$2,\"Day  \",\"Prob 1st instars\")","v":1.2754309563933237},null,null,"Sum of 48",0,48,{"$f":"Q111+GETPIVOTDATA(\"Sum of 48\",N$2,\"Day  \",\"Prob 1st instars\")","v":0.70777433780529753},null,null,"Sum of 48",0,48,{"$f":"W111+GETPIVOTDATA(\"Sum of 48\",T$2,\"Day  \",\"Prob 1st instars\")","v":0.96951496842081508},null,null,"Sum of 48",0,48,{"$f":"AC111+GETPIVOTDATA(\"Sum of 48\",Z$2,\"Day  \",\"Prob 1st instars\")","v":0.69786118909260353},null,null,"Sum of 48",0,48,{"$f":"AI111+GETPIVOTDATA(\"Sum of 48\",AF$2,\"Day  \",\"Prob 1st instars\")","v":1.1706532326285661},null,null,"Sum of 48",0,48,{"$f":"AO111+GETPIVOTDATA(\"Sum of 48\",AL$2,\"Day  \",\"Prob 1st instars\")","v":0},null,null,"Sum of 48",0,48,{"$f":"AU111+GETPIVOTDATA(\"Sum of 48\",AR$2,\"Day  \",\"Prob 1st instars\")","v":0},null,null,"Sum of 48",0,48,{"$f":"BA111+GETPIVOTDATA(\"Sum of 48\",AX$2,\"Day  \",\"Prob 1st instars\")","v":0},null,null,"Sum of 48",0,48,{"$f":"BG111+GETPIVOTDATA(\"Sum of 48\",BD$2,\"Day  \",\"Prob 1st instars\")","v":0}]
[null,"Sum of 49",0,49,{"$f":"E112+GETPIVOTDATA(\"Sum of 49\",$B$2,\"Day  \",\"Prob 1st instars\")","v":1.0918695998120596},null,null,"Sum of 49",0,49,{"$f":"K112+GETPIVOTDATA(\"Sum of 49\",H$2,\"Day  \",\"Prob 1st instars\")","v":1.2754309563933237},null,null,"Sum of 49",0,49,{"$f":"Q112+GETPIVOTDATA(\"Sum of 49\",N$2,\"Day  \",\"Prob 1st instars\")","v":0.70777433780529753},null,null,"Sum of 49",0,49,{"$f":"W112+GETPIVOTDATA(\"Sum of 49\",T$2,\"Day  \",\"Prob 1st instars\")","v":0.96951496842081508},null,null,"Sum of 49",0,49,{"$f":"AC112+GETPIVOTDATA(\"Sum of 49\",Z$2,\"Day  \",\"Prob 1st instars\")","v":0.69786118909260353},null,null,"Sum of 49",0,49,{"$f":"AI112+GETPIVOTDATA(\"Sum of 49\",AF$2,\"Day  \",\"Prob 1st instars\")","v":1.1706532326285661},null,null,"Sum of 49",0,49,{"$f":"AO112+GETPIVOTDATA(\"Sum of 49\",AL$2,\"Day  \",\"Prob 1st instars\")","v":0},null,null,"Sum of 49",0,49,{"$f":"AU112+GETPIVOTDATA(\"Sum of 49\",AR$2,\"Day  \",\"Prob 1st instars\")","v":0},null,null,"Sum of 49",0,49,{"$f":"BA112+GETPIVOTDATA(\"Sum of 49\",AX$2,\"Day  \",\"Prob 1st instars\")","v":0},null,null,"Sum of 49",0,49,{"$f":"BG112+GETPIVOTDATA(\"Sum of 49\",BD$2,\"Day  \",\"Prob 1st instars\")","v":0}]
[null,"Sum of 50",0,50,{"$f":"E113+GETPIVOTDATA(\"Sum of 50\",$B$2,\"Day  \",\"Prob 1st instars\")","v":1.0918695998120596},null,null,"Sum of 50",0,50,{"$f":"K113+GETPIVOTDATA(\"Sum of 50\",H$2,\"Day  \",\"Prob 1st instars\")","v":1.2754309563933237},null,null,"Sum of 50",0,50,{"$f":"Q113+GETPIVOTDATA(\"Sum of 50\",N$2,\"Day  \",\"Prob 1st instars\")","v":0.70777433780529753},null,null,"Sum of 50",0,50,{"$f":"W113+GETPIVOTDATA(\"Sum of 50\",T$2,\"Day  \",\"Prob 1st instars\")","v":0.96951496842081508},null,null,"Sum of 50",0,50,{"$f":"AC113+GETPIVOTDATA(\"Sum of 50\",Z$2,\"Day  \",\"Prob 1st instars\")","v":0.69786118909260353},null,null,"Sum of 50",0,50,{"$f":"AI113+GETPIVOTDATA(\"Sum of 50\",AF$2,\"Day  \",\"Prob 1st instars\")","v":1.1706532326285661},null,null,"Sum of 50",0,50,{"$f":"AO113+GETPIVOTDATA(\"Sum of 50\",AL$2,\"Day  \",\"Prob 1st instars\")","v":0},null,null,"Sum of 50",0,50,{"$f":"AU113+GETPIVOTDATA(\"Sum of 50\",AR$2,\"Day  \",\"Prob 1st instars\")","v":0},null,null,"Sum of 50",0,50,{"$f":"BA113+GETPIVOTDATA(\"Sum of 50\",AX$2,\"Day  \",\"Prob 1st instars\")","v":0},null,null,"Sum of 50",0,50,{"$f":"BG113+GETPIVOTDATA(\"Sum of 50\",BD$2,\"Day  \",\"Prob 1st instars\")","v":0}]
[null,"Sum of 51",0,51,{"$f":"E114+GETPIVOTDATA(\"Sum of 51\",$B$2,\"Day  \",\"Prob 1st instars\")","v":1.0918695998120596},null,null,"Sum of 51",0,51,{"$f":"K114+GETPIVOTDATA(\"Sum of 51\",H$2,\"Day  \",\"Prob 1st instars\")","v":1.2754309563933237},null,null,"Sum of 51",0,51,{"$f":"Q114+GETPIVOTDATA(\"Sum of 51\",N$2,\"Day  \",\"Prob 1st instars\")","v":0.70777433780529753},null,null,"Sum of 51",0,51,{"$f":"W114+GETPIVOTDATA(\"Sum of 51\",T$2,\"Day  \",\"Prob 1st instars\")","v":0.96951496842081508},null,null,"Sum of 51",0,51,{"$f":"AC114+GETPIVOTDATA(\"Sum of 51\",Z$2,\"Day  \",\"Prob 1st instars\")","v":0.69786118909260353},null,null,"Sum of 51",0,51,{"$f":"AI114+GETPIVOTDATA(\"Sum of 51\",AF$2,\"Day  \",\"Prob 1st instars\")","v":1.1706532326285661},null,null,"Sum of 51",0,51,{"$f":"AO114+GETPIVOTDATA(\"Sum of 51\",AL$2,\"Day  \",\"Prob 1st instars\")","v":0},null,null,"Sum of 51",0,51,{"$f":"AU114+GETPIVOTDATA(\"Sum of 51\",AR$2,\"Day  \",\"Prob 1st instars\")","v":0},null,null,"Sum of 51",0,51,{"$f":"BA114+GETPIVOTDATA(\"Sum of 51\",AX$2,\"Day  \",\"Prob 1st instars\")","v":0},null,null,"Sum of 51",0,51,{"$f":"BG114+GETPIVOTDATA(\"Sum of 51\",BD$2,\"Day  \",\"Prob 1st instars\")","v":0}]
[null,"Sum of 52",0,52,{"$f":"E115+GETPIVOTDATA(\"Sum of 52\",$B$2,\"Day  \",\"Prob 1st instars\")","v":1.0918695998120596},null,null,"Sum of 52",0,52,{"$f":"K115+GETPIVOTDATA(\"Sum of 52\",H$2,\"Day  \",\"Prob 1st instars\")","v":1.2754309563933237},null,null,"Sum of 52",0,52,{"$f":"Q115+GETPIVOTDATA(\"Sum of 52\",N$2,\"Day  \",\"Prob 1st instars\")","v":0.70777433780529753},null,null,"Sum of 52",0,52,{"$f":"W115+GETPIVOTDATA(\"Sum of 52\",T$2,\"Day  \",\"Prob 1st instars\")","v":0.96951496842081508},null,null,"Sum of 52",0,52,{"$f":"AC115+GETPIVOTDATA(\"Sum of 52\",Z$2,\"Day  \",\"Prob 1st instars\")","v":0.69786118909260353},null,null,"Sum of 52",0,52,{"$f":"AI115+GETPIVOTDATA(\"Sum of 52\",AF$2,\"Day  \",\"Prob 1st instars\")","v":1.1706532326285661},null,null,"Sum of 52",0,52,{"$f":"AO115+GETPIVOTDATA(\"Sum of 52\",AL$2,\"Day  \",\"Prob 1st instars\")","v":0},null,null,"Sum of 52",0,52,{"$f":"AU115+GETPIVOTDATA(\"Sum of 52\",AR$2,\"Day  \",\"Prob 1st instars\")","v":0},null,null,"Sum of 52",0,52,{"$f":"BA115+GETPIVOTDATA(\"Sum of 52\",AX$2,\"Day  \",\"Prob 1st instars\")","v":0},null,null,"Sum of 52",0,52,{"$f":"BG115+GETPIVOTDATA(\"Sum of 52\",BD$2,\"Day  \",\"Prob 1st instars\")","v":0}]
[null,"Sum of 53",0,53,{"$f":"E116+GETPIVOTDATA(\"Sum of 53\",$B$2,\"Day  \",\"Prob 1st instars\")","v":1.0918695998120596},null,null,"Sum of 53",0,53,{"$f":"K116+GETPIVOTDATA(\"Sum of 53\",H$2,\"Day  \",\"Prob 1st instars\")","v":1.2754309563933237},null,null,"Sum of 53",0,53,{"$f":"Q116+GETPIVOTDATA(\"Sum of 53\",N$2,\"Day  \",\"Prob 1st instars\")","v":0.70777433780529753},null,null,"Sum of 53",0,53,{"$f":"W116+GETPIVOTDATA(\"Sum of 53\",T$2,\"Day  \",\"Prob 1st instars\")","v":0.96951496842081508},null,null,"Sum of 53",0,53,{"$f":"AC116+GETPIVOTDATA(\"Sum of 53\",Z$2,\"Day  \",\"Prob 1st instars\")","v":0.69786118909260353},null,null,"Sum of 53",0,53,{"$f":"AI116+GETPIVOTDATA(\"Sum of 53\",AF$2,\"Day  \",\"Prob 1st instars\")","v":1.1706532326285661},null,null,"Sum of 53",0,53,{"$f":"AO116+GETPIVOTDATA(\"Sum of 53\",AL$2,\"Day  \",\"Prob 1st instars\")","v":0},null,null,"Sum of 53",0,53,{"$f":"AU116+GETPIVOTDATA(\"Sum of 53\",AR$2,\"Day  \",\"Prob 1st instars\")","v":0},null,null,"Sum of 53",0,53,{"$f":"BA116+GETPIVOTDATA(\"Sum of 53\",AX$2,\"Day  \",\"Prob 1st instars\")","v":0},null,null,"Sum of 53",0,53,{"$f":"BG116+GETPIVOTDATA(\"Sum of 53\",BD$2,\"Day  \",\"Prob 1st instars\")","v":0}]
[null,"Sum of 54",0,54,{"$f":"E117+GETPIVOTDATA(\"Sum of 54\",$B$2,\"Day  \",\"Prob 1st instars\")","v":1.0918695998120596},null,null,"Sum of 54",0,54,{"$f":"K117+GETPIVOTDATA(\"Sum of 54\",H$2,\"Day  \",\"Prob 1st instars\")","v":1.2754309563933237},null,null,"Sum of 54",0,54,{"$f":"Q117+GETPIVOTDATA(\"Sum of 54\",N$2,\"Day  \",\"Prob 1st instars\")","v":0.70777433780529753},null,null,"Sum of 54",0,54,{"$f":"W117+GETPIVOTDATA(\"Sum of 54\",T$2,\"Day  \",\"Prob 1st instars\")","v":0.96951496842081508},null,null,"Sum of 54",0,54,{"$f":"AC117+GETPIVOTDATA(\"Sum of 54\",Z$2,\"Day  \",\"Prob 1st instars\")","v":0.69786118909260353},null,null,"Sum of 54",0,54,{"$f":"AI117+GETPIVOTDATA(\"Sum of 54\",AF$2,\"Day  \",\"Prob 1st instars\")","v":1.1706532326285661},null,null,"Sum of 54",0,54,{"$f":"AO117+GETPIVOTDATA(\"Sum of 54\",AL$2,\"Day  \",\"Prob 1st instars\")","v":0},null,null,"Sum of 54",0,54,{"$f":"AU117+GETPIVOTDATA(\"Sum of 54\",AR$2,\"Day  \",\"Prob 1st instars\")","v":0},null,null,"Sum of 54",0,54,{"$f":"BA117+GETPIVOTDATA(\"Sum of 54\",AX$2,\"Day  \",\"Prob 1st instars\")","v":0},null,null,"Sum of 54",0,54,{"$f":"BG117+GETPIVOTDATA(\"Sum of 54\",BD$2,\"Day  \",\"Prob 1st instars\")","v":0}]
[null,"Sum of 55",0,55,{"$f":"E118+GETPIVOTDATA(\"Sum of 55\",$B$2,\"Day  \",\"Prob 1st instars\")","v":1.0918695998120596},null,null,"Sum of 55",0,55,{"$f":"K118+GETPIVOTDATA(\"Sum of 55\",H$2,\"Day  \",\"Prob 1st instars\")","v":1.2754309563933237},null,null,"Sum of 55",0,55,{"$f":"Q118+GETPIVOTDATA(\"Sum of 55\",N$2,\"Day  \",\"Prob 1st instars\")","v":0.70777433780529753},null,null,"Sum of 55",0,55,{"$f":"W118+GETPIVOTDATA(\"Sum of 55\",T$2,\"Day  \",\"Prob 1st instars\")","v":0.96951496842081508},null,null,"Sum of 55",0,55,{"$f":"AC118+GETPIVOTDATA(\"Sum of 55\",Z$2,\"Day  \",\"Prob 1st instars\")","v":0.69786118909260353},null,null,"Sum of 55",0,55,{"$f":"AI118+GETPIVOTDATA(\"Sum of 55\",AF$2,\"Day  \",\"Prob 1st instars\")","v":1.1706532326285661},null,null,"Sum of 55",0,55,{"$f":"AO118+GETPIVOTDATA(\"Sum of 55\",AL$2,\"Day  \",\"Prob 1st instars\")","v":0},null,null,"Sum of 55",0,55,{"$f":"AU118+GETPIVOTDATA(\"Sum of 55\",AR$2,\"Day  \",\"Prob 1st instars\")","v":0},null,null,"Sum of 55",0,55,{"$f":"BA118+GETPIVOTDATA(\"Sum of 55\",AX$2,\"Day  \",\"Prob 1st instars\")","v":0},null,null,"Sum of 55",0,55,{"$f":"BG118+GETPIVOTDATA(\"Sum of 55\",BD$2,\"Day  \",\"Prob 1st instars\")","v":0}]
[null,"Sum of 56",0,56,{"$f":"E119+GETPIVOTDATA(\"Sum of 56\",$B$2,\"Day  \",\"Prob 1st instars\")","v":1.0918695998120596},null,null,"Sum of 56",0,56,{"$f":"K119+GETPIVOTDATA(\"Sum of 56\",H$2,\"Day  \",\"Prob 1st instars\")","v":1.2754309563933237},null,null,"Sum of 56",0,56,{"$f":"Q119+GETPIVOTDATA(\"Sum of 56\",N$2,\"Day  \",\"Prob 1st instars\")","v":0.70777433780529753},null,null,"Sum of 56",0,56,{"$f":"W119+GETPIVOTDATA(\"Sum of 56\",T$2,\"Day  \",\"Prob 1st instars\")","v":0.96951496842081508},null,null,"Sum of 56",0,56,{"$f":"AC119+GETPIVOTDATA(\"Sum of 56\",Z$2,\"Day  \",\"Prob 1st instars\")","v":0.69786118909260353},null,null,"Sum of 56",0,56,{"$f":"AI119+GETPIVOTDATA(\"Sum of 56\",AF$2,\"Day  \",\"Prob 1st instars\")","v":1.1706532326285661},null,null,"Sum of 56",0,56,{"$f":"AO119+GETPIVOTDATA(\"Sum of 56\",AL$2,\"Day  \",\"Prob 1st instars\")","v":0},null,null,"Sum of 56",0,56,{"$f":"AU119+GETPIVOTDATA(\"Sum of 56\",AR$2,\"Day  \",\"Prob 1st instars\")","v":0},null,null,"Sum of 56",0,56,{"$f":"BA119+GETPIVOTDATA(\"Sum of 56\",AX$2,\"Day  \",\"Prob 1st instars\")","v":0},null,null,"Sum of 56",0,56,{"$f":"BG119+GETPIVOTDATA(\"Sum of 56\",BD$2,\"Day  \",\"Prob 1st instars\")","v":0}]
[null,"Sum of 57",0,57,{"$f":"E120+GETPIVOTDATA(\"Sum of 57\",$B$2,\"Day  \",\"Prob 1st instars\")","v":1.0918695998120596},null,null,"Sum of 57",0,57,{"$f":"K120+GETPIVOTDATA(\"Sum of 57\",H$2,\"Day  \",\"Prob 1st instars\")","v":1.2754309563933237},null,null,"Sum of 57",0,57,{"$f":"Q120+GETPIVOTDATA(\"Sum of 57\",N$2,\"Day  \",\"Prob 1st instars\")","v":0.70777433780529753},null,null,"Sum of 57",0,57,{"$f":"W120+GETPIVOTDATA(\"Sum of 57\",T$2,\"Day  \",\"Prob 1st instars\")","v":0.96951496842081508},null,null,"Sum of 57",0,57,{"$f":"AC120+GETPIVOTDATA(\"Sum of 57\",Z$2,\"Day  \",\"Prob 1st instars\")","v":0.69786118909260353},null,null,"Sum of 57",0,57,{"$f":"AI120+GETPIVOTDATA(\"Sum of 57\",AF$2,\"Day  \",\"Prob 1st instars\")","v":1.1706532326285661},null,null,"Sum of 57",0,57,{"$f":"AO120+GETPIVOTDATA(\"Sum of 57\",AL$2,\"Day  \",\"Prob 1st instars\")","v":0},null,null,"Sum of 57",0,57,{"$f":"AU120+GETPIVOTDATA(\"Sum of 57\",AR$2,\"Day  \",\"Prob 1st instars\")","v":0},null,null,"Sum of 57",0,57,{"$f":"BA120+GETPIVOTDATA(\"Sum of 57\",AX$2,\"Day  \",\"Prob 1st instars\")","v":0},null,null,"Sum of 57",0,57,{"$f":"BG120+GETPIVOTDATA(\"Sum of 57\",BD$2,\"Day  \",\"Prob 1st instars\")","v":0}]
[null,"Sum of 58",0,58,{"$f":"E121+GETPIVOTDATA(\"Sum of 58\",$B$2,\"Day  \",\"Prob 1st instars\")","v":1.0918695998120596},null,null,"Sum of 58",0,58,{"$f":"K121+GETPIVOTDATA(\"Sum of 58\",H$2,\"Day  \",\"Prob 1st instars\")","v":1.2754309563933237},null,null,"Sum of 58",0,58,{"$f":"Q121+GETPIVOTDATA(\"Sum of 58\",N$2,\"Day  \",\"Prob 1st instars\")","v":0.70777433780529753},null,null,"Sum of 58",0,58,{"$f":"W121+GETPIVOTDATA(\"Sum of 58\",T$2,\"Day  \",\"Prob 1st instars\")","v":0.96951496842081508},null,null,"Sum of 58",0,58,{"$f":"AC121+GETPIVOTDATA(\"Sum of 58\",Z$2,\"Day  \",\"Prob 1st instars\")","v":0.69786118909260353},null,null,"Sum of 58",0,58,{"$f":"AI121+GETPIVOTDATA(\"Sum of 58\",AF$2,\"Day  \",\"Prob 1st instars\")","v":1.1706532326285661},null,null,"Sum of 58",0,58,{"$f":"AO121+GETPIVOTDATA(\"Sum of 58\",AL$2,\"Day  \",\"Prob 1st instars\")","v":0},null,null,"Sum of 58",0,58,{"$f":"AU121+GETPIVOTDATA(\"Sum of 58\",AR$2,\"Day  \",\"Prob 1st instars\")","v":0},null,null,"Sum of 58",0,58,{"$f":"BA121+GETPIVOTDATA(\"Sum of 58\",AX$2,\"Day  \",\"Prob 1st instars\")","v":0},null,null,"Sum of 58",0,58,{"$f":"BG121+GETPIVOTDATA(\"Sum of 58\",BD$2,\"Day  \",\"Prob 1st instars\")","v":0}]
[null,"Sum of 59",0,59,{"$f":"E122+GETPIVOTDATA(\"Sum of 59\",$B$2,\"Day  \",\"Prob 1st instars\")","v":1.0918695998120596},null,null,"Sum of 59",0,59,{"$f":"K122+GETPIVOTDATA(\"Sum of 59\",H$2,\"Day  \",\"Prob 1st instars\")","v":1.2754309563933237},null,null,"Sum of 59",0,59,{"$f":"Q122+GETPIVOTDATA(\"Sum of 59\",N$2,\"Day  \",\"Prob 1st instars\")","v":0.70777433780529753},null,null,"Sum of 59",0,59,{"$f":"W122+GETPIVOTDATA(\"Sum of 59\",T$2,\"Day  \",\"Prob 1st instars\")","v":0.96951496842081508},null,null,"Sum of 59",0,59,{"$f":"AC122+GETPIVOTDATA(\"Sum of 59\",Z$2,\"Day  \",\"Prob 1st instars\")","v":0.69786118909260353},null,null,"Sum of 59",0,59,{"$f":"AI122+GETPIVOTDATA(\"Sum of 59\",AF$2,\"Day  \",\"Prob 1st instars\")","v":1.1706532326285661},null,null,"Sum of 59",0,59,{"$f":"AO122+GETPIVOTDATA(\"Sum of 59\",AL$2,\"Day  \",\"Prob 1st instars\")","v":0},null,null,"Sum of 59",0,59,{"$f":"AU122+GETPIVOTDATA(\"Sum of 59\",AR$2,\"Day  \",\"Prob 1st instars\")","v":0},null,null,"Sum of 59",0,59,{"$f":"BA122+GETPIVOTDATA(\"Sum of 59\",AX$2,\"Day  \",\"Prob 1st instars\")","v":0},null,null,"Sum of 59",0,59,{"$f":"BG122+GETPIVOTDATA(\"Sum of 59\",BD$2,\"Day  \",\"Prob 1st instars\")","v":0}]
[null,"Sum of 60",0,60,{"$f":"E123+GETPIVOTDATA(\"Sum of 60\",$B$2,\"Day  \",\"Prob 1st instars\")","v":1.0918695998120596},null,null,"Sum of 60",0,60,{"$f":"K123+GETPIVOTDATA(\"Sum of 60\",H$2,\"Day  \",\"Prob 1st instars\")","v":1.2754309563933237},null,null,"Sum of 60",0,60,{"$f":"Q123+GETPIVOTDATA(\"Sum of 60\",N$2,\"Day  \",\"Prob 1st instars\")","v":0.70777433780529753},null,null,"Sum of 60",0,60,{"$f":"W123+GETPIVOTDATA(\"Sum of 60\",T$2,\"Day  \",\"Prob 1st instars\")","v":0.96951496842081508},null,null,"Sum of 60",0,60,{"$f":"AC123+GETPIVOTDATA(\"Sum of 60\",Z$2,\"Day  \",\"Prob 1st instars\")","v":0.69786118909260353},null,null,"Sum of 60",0,60,{"$f":"AI123+GETPIVOTDATA(\"Sum of 60\",AF$2,\"Day  \",\"Prob 1st instars\")","v":1.1706532326285661},null,null,"Sum of 60",0,60,{"$f":"AO123+GETPIVOTDATA(\"Sum of 60\",AL$2,\"Day  \",\"Prob 1st instars\")","v":0},null,null,"Sum of 60",0,60,{"$f":"AU123+GETPIVOTDATA(\"Sum of 60\",AR$2,\"Day  \",\"Prob 1st instars\")","v":0},null,null,"Sum of 60",0,60,{"$f":"BA123+GETPIVOTDATA(\"Sum of 60\",AX$2,\"Day  \",\"Prob 1st instars\")","v":0},null,null,"Sum of 60",0,60,{"$f":"BG123+GETPIVOTDATA(\"Sum of 60\",BD$2,\"Day  \",\"Prob 1st instars\")","v":0}]
[null,"Prob 2nd instars",null,"LSTOT/LSHT","Cum Total","LSComm12nd",null,"Prob 2nd instars",null,"LSTOT/LSHT","Cum Total","LSComm22nd",null,"Prob 2nd instars",null,"LSTOT/LSHT","Cum Total","LSComm32nd",null,"Prob 2nd instars",null,"LSTOT/LSHT","Cum Total","LSComm42nd",null,"Prob 2nd instars",null,"LSTOT/LSHT","Cum Total","LSComm52nd",null,"Prob 2nd instars",null,"LSTOT/LSHT","Cum Total","LSComm62nd",null,"Prob 2nd instars",null,"LSTOT/LSHT","Cum Total","LSComm72nd",null,"Prob 2nd instars",null,"LSTOT/LSHT","Cum Total","LSComm82nd",null,"Prob 2nd instars",null,"LSTOT/LSHT","Cum Total","LSComm92nd",null,"Prob 2nd instars",null,"LSTOT/LSHT","Cum Total","LSComm102nd"]
[null,"Sum of 1",0,1,{"$f":"GETPIVOTDATA(\"Sum of 1\",$B$2,\"Day  \",\"Prob 2nd instars\")","v":0},{"$f":"IF(LSCheck2nd=\"n\",0,(((VLOOKUP(LSTOT,D126:E185,2))-(IF(LSHT=0,0,(VLOOKUP(LSHT,D126:E185,2)))))/LSIT))","v":8.9219330855018542E-2},null,"Sum of 1",0,1,{"$f":"GETPIVOTDATA(\"Sum of 1\",H$2,\"Day  \",\"Prob 2nd instars\")","v":0},{"$f":"IF(LSCheck2nd=\"n\",0,(((VLOOKUP(LSTOT,J126:K185,2))-(IF(LSHT=0,0,(VLOOKUP(LSHT,J126:K185,2)))))/LSIT))","v":0.77678571428571441},null,"Sum of 1",0,1,{"$f":"GETPIVOTDATA(\"Sum of 1\",N$2,\"Day  \",\"Prob 2nd instars\")","v":0},{"$f":"IF(LSCheck2nd=\"n\",0,(((VLOOKUP(LSTOT,P126:Q185,2))-(IF(LSHT=0,0,(VLOOKUP(LSHT,P126:Q185,2)))))/LSIT))","v":0.25531914893617014},null,"Sum of 1",0,1,{"$f":"GETPIVOTDATA(\"Sum of 1\",T$2,\"Day  \",\"Prob 2nd instars\")","v":0},{"$f":"IF(LSCheck2nd=\"n\",0,(((VLOOKUP(LSTOT,V126:W185,2))-(IF(LSHT=0,0,(VLOOKUP(LSHT,V126:W185,2)))))/LSIT))","v":0.25510204081632648},null,"Sum of 1",7.0707070707070704E-2,1,{"$f":"GETPIVOTDATA(\"Sum of 1\",Z$2,\"Day  \",\"Prob 2nd instars\")","v":7.0707070707070704E-2},{"$f":"IF(LSCheck2nd=\"n\",0,(((VLOOKUP(LSTOT,AB126:AC185,2))-(IF(LSHT=0,0,(VLOOKUP(LSHT,AB126:AC185,2)))))/LSIT))","v":7.0707070707070718E-2},null,"Sum of 1",0,1,{"$f":"GETPIVOTDATA(\"Sum of 1\",AF$2,\"Day  \",\"Prob 2nd instars\")","v":0},{"$f":"IF(LSCheck2nd=\"n\",0,(((VLOOKUP(LSTOT,AH126:AI185,2))-(IF(LSHT=0,0,(VLOOKUP(LSHT,AH126:AI185,2)))))/LSIT))","v":0.21710526315789469},null,"Sum of 1",0,1,{"$f":"GETPIVOTDATA(\"Sum of 1\",AL$2,\"Day  \",\"Prob 2nd instars\")","v":0},{"$f":"IF(LSCheck2nd=\"n\",0,(((VLOOKUP(LSTOT,AN126:AO185,2))-(IF(LSHT=0,0,(VLOOKUP(LSHT,AN126:AO185,2)))))/LSIT))","v":0},null,"Sum of 1",0,1,{"$f":"GETPIVOTDATA(\"Sum of 1\",AR$2,\"Day  \",\"Prob 2nd instars\")","v":0},{"$f":"IF(LSCheck2nd=\"n\",0,(((VLOOKUP(LSTOT,AT126:AU185,2))-(IF(LSHT=0,0,(VLOOKUP(LSHT,AT126:AU185,2)))))/LSIT))","v":0},null,"Sum of 1",0,1,{"$f":"GETPIVOTDATA(\"Sum of 1\",AX$2,\"Day  \",\"Prob 2nd instars\")","v":0},{"$f":"IF(LSCheck2nd=\"n\",0,(((VLOOKUP(LSTOT,AZ126:BA185,2))-(IF(LSHT=0,0,(VLOOKUP(LSHT,AZ126:BA185,2)))))/LSIT))","v":0},null,"Sum of 1",0,1,{"$f":"GETPIVOTDATA(\"Sum of 1\",BD$2,\"Day  \",\"Prob 2nd instars\")","v":0},{"$f":"IF(LSCheck2nd=\"n\",0,(((VLOOKUP(LSTOT,BF126:BG185,2))-(IF(LSHT=0,0,(VLOOKUP(LSHT,BF126:BG185,2)))))/LSIT))","v":0}]
[null,"Sum of 2",5.181347150259067E-2,2,{"$f":"E126+GETPIVOTDATA(\"Sum of 2\",$B$2,\"Day  \",\"Prob 2nd instars\")","v":5.181347150259067E-2},null,null,"Sum of 2",0.1111111111111111,2,{"$f":"K126+GETPIVOTDATA(\"Sum of 2\",H$2,\"Day  \",\"Prob 2nd instars\")","v":0.1111111111111111},null,null,"Sum of 2",0.22807017543859648,2,{"$f":"Q126+GETPIVOTDATA(\"Sum of 2\",N$2,\"Day  \",\"Prob 2nd instars\")","v":0.22807017543859648},null,null,"Sum of 2",0.15671641791044777,2,{"$f":"W126+GETPIVOTDATA(\"Sum of 2\",T$2,\"Day  \",\"Prob 2nd instars\")","v":0.15671641791044777},null,null,"Sum of 2",0.44186046511627908,2,{"$f":"AC126+GETPIVOTDATA(\"Sum of 2\",Z$2,\"Day  \",\"Prob 2nd instars\")","v":0.5125675358233498},null,null,"Sum of 2",2.766798418972332E-2,2,{"$f":"AI126+GETPIVOTDATA(\"Sum of 2\",AF$2,\"Day  \",\"Prob 2nd instars\")","v":2.766798418972332E-2},null,null,"Sum of 2",0,2,{"$f":"AO126+GETPIVOTDATA(\"Sum of 2\",AL$2,\"Day  \",\"Prob 2nd instars\")","v":0},null,null,"Sum of 2",0,2,{"$f":"AU126+GETPIVOTDATA(\"Sum of 2\",AR$2,\"Day  \",\"Prob 2nd instars\")","v":0},null,null,"Sum of 2",0,2,{"$f":"BA126+GETPIVOTDATA(\"Sum of 2\",AX$2,\"Day  \",\"Prob 2nd instars\")","v":0},null,null,"Sum of 2",0,2,{"$f":"BG126+GETPIVOTDATA(\"Sum of 2\",BD$2,\"Day  \",\"Prob 2nd instars\")","v":0}]
[null,"Sum of 3",0.8571428571428571,3,{"$f":"E127+GETPIVOTDATA(\"Sum of 3\",$B$2,\"Day  \",\"Prob 2nd instars\")","v":0.90895632864544773},null,null,"Sum of 3",0.63013698630136983,3,{"$f":"K127+GETPIVOTDATA(\"Sum of 3\",H$2,\"Day  \",\"Prob 2nd instars\")","v":0.74124809741248088},null,null,"Sum of 3",0.67647058823529416,3,{"$f":"Q127+GETPIVOTDATA(\"Sum of 3\",N$2,\"Day  \",\"Prob 2nd instars\")","v":0.90454076367389069},null,null,"Sum of 3",0.62037037037037035,3,{"$f":"W127+GETPIVOTDATA(\"Sum of 3\",T$2,\"Day  \",\"Prob 2nd instars\")","v":0.77708678828081812},null,null,"Sum of 3",0.69672131147540983,3,{"$f":"AC127+GETPIVOTDATA(\"Sum of 3\",Z$2,\"Day  \",\"Prob 2nd instars\")","v":1.2092888472987595},null,null,"Sum of 3",0.79153094462540718,3,{"$f":"AI127+GETPIVOTDATA(\"Sum of 3\",AF$2,\"Day  \",\"Prob 2nd instars\")","v":0.81919892881513046},null,null,"Sum of 3",0,3,{"$f":"AO127+GETPIVOTDATA(\"Sum of 3\",AL$2,\"Day  \",\"Prob 2nd instars\")","v":0},null,null,"Sum of 3",0,3,{"$f":"AU127+GETPIVOTDATA(\"Sum of 3\",AR$2,\"Day  \",\"Prob 2nd instars\")","v":0},null,null,"Sum of 3",0,3,{"$f":"BA127+GETPIVOTDATA(\"Sum of 3\",AX$2,\"Day  \",\"Prob 2nd instars\")","v":0},null,null,"Sum of 3",0,3,{"$f":"BG127+GETPIVOTDATA(\"Sum of 3\",BD$2,\"Day  \",\"Prob 2nd instars\")","v":0}]
[null,"Sum of 4",8.9219330855018583E-2,4,{"$f":"E128+GETPIVOTDATA(\"Sum of 4\",$B$2,\"Day  \",\"Prob 2nd instars\")","v":0.99817565950046627},null,null,"Sum of 4",0.7767857142857143,4,{"$f":"K128+GETPIVOTDATA(\"Sum of 4\",H$2,\"Day  \",\"Prob 2nd instars\")","v":1.5180338116981953},null,null,"Sum of 4",0.25531914893617019,4,{"$f":"Q128+GETPIVOTDATA(\"Sum of 4\",N$2,\"Day  \",\"Prob 2nd instars\")","v":1.1598599126100608},null,null,"Sum of 4",0.25510204081632654,4,{"$f":"W128+GETPIVOTDATA(\"Sum of 4\",T$2,\"Day  \",\"Prob 2nd instars\")","v":1.0321888290971446},null,null,"Sum of 4",7.0707070707070704E-2,4,{"$f":"AC128+GETPIVOTDATA(\"Sum of 4\",Z$2,\"Day  \",\"Prob 2nd instars\")","v":1.2799959180058302},null,null,"Sum of 4",0.21710526315789475,4,{"$f":"AI128+GETPIVOTDATA(\"Sum of 4\",AF$2,\"Day  \",\"Prob 2nd instars\")","v":1.0363041919730251},null,null,"Sum of 4",0,4,{"$f":"AO128+GETPIVOTDATA(\"Sum of 4\",AL$2,\"Day  \",\"Prob 2nd instars\")","v":0},null,null,"Sum of 4",0,4,{"$f":"AU128+GETPIVOTDATA(\"Sum of 4\",AR$2,\"Day  \",\"Prob 2nd instars\")","v":0},null,null,"Sum of 4",0,4,{"$f":"BA128+GETPIVOTDATA(\"Sum of 4\",AX$2,\"Day  \",\"Prob 2nd instars\")","v":0},null,null,"Sum of 4",0,4,{"$f":"BG128+GETPIVOTDATA(\"Sum of 4\",BD$2,\"Day  \",\"Prob 2nd instars\")","v":0}]
[null,"Sum of 5",1.3468013468013467E-2,5,{"$f":"E129+GETPIVOTDATA(\"Sum of 5\",$B$2,\"Day  \",\"Prob 2nd instars\")","v":1.0116436729684797},null,null,"Sum of 5",0.35,5,{"$f":"K129+GETPIVOTDATA(\"Sum of 5\",H$2,\"Day  \",\"Prob 2nd instars\")","v":1.8680338116981954},null,null,"Sum of 5",9.4117647058823528E-2,5,{"$f":"Q129+GETPIVOTDATA(\"Sum of 5\",N$2,\"Day  \",\"Prob 2nd instars\")","v":1.2539775596688845},null,null,"Sum of 5",0.20689655172413793,5,{"$f":"W129+GETPIVOTDATA(\"Sum of 5\",T$2,\"Day  \",\"Prob 2nd instars\")","v":1.2390853808212825},null,null,"Sum of 5",1.0752688172043012E-2,5,{"$f":"AC129+GETPIVOTDATA(\"Sum of 5\",Z$2,\"Day  \",\"Prob 2nd instars\")","v":1.2907486061778732},null,null,"Sum of 5",6.910569105691057E-2,5,{"$f":"AI129+GETPIVOTDATA(\"Sum of 5\",AF$2,\"Day  \",\"Prob 2nd instars\")","v":1.1054098830299357},null,null,"Sum of 5",0,5,{"$f":"AO129+GETPIVOTDATA(\"Sum of 5\",AL$2,\"Day  \",\"Prob 2nd instars\")","v":0},null,null,"Sum of 5",0,5,{"$f":"AU129+GETPIVOTDATA(\"Sum of 5\",AR$2,\"Day  \",\"Prob 2nd instars\")","v":0},null,null,"Sum of 5",0,5,{"$f":"BA129+GETPIVOTDATA(\"Sum of 5\",AX$2,\"Day  \",\"Prob 2nd instars\")","v":0},null,null,"Sum of 5",0,5,{"$f":"BG129+GETPIVOTDATA(\"Sum of 5\",BD$2,\"Day  \",\"Prob 2nd instars\")","v":0}]
[null,"Sum of 6",2.8653295128939827E-3,6,{"$f":"E130+GETPIVOTDATA(\"Sum of 6\",$B$2,\"Day  \",\"Prob 2nd instars\")","v":1.0145090024813737},null,null,"Sum of 6",0.3258426966292135,6,{"$f":"K130+GETPIVOTDATA(\"Sum of 6\",H$2,\"Day  \",\"Prob 2nd instars\")","v":2.193876508327409},null,null,"Sum of 6",0,6,{"$f":"Q130+GETPIVOTDATA(\"Sum of 6\",N$2,\"Day  \",\"Prob 2nd instars\")","v":1.2539775596688845},null,null,"Sum of 6",0.04,6,{"$f":"W130+GETPIVOTDATA(\"Sum of 6\",T$2,\"Day  \",\"Prob 2nd instars\")","v":1.2790853808212825},null,null,"Sum of 6",0,6,{"$f":"AC130+GETPIVOTDATA(\"Sum of 6\",Z$2,\"Day  \",\"Prob 2nd instars\")","v":1.2907486061778732},null,null,"Sum of 6",4.3668122270742356E-3,6,{"$f":"AI130+GETPIVOTDATA(\"Sum of 6\",AF$2,\"Day  \",\"Prob 2nd instars\")","v":1.1097766952570098},null,null,"Sum of 6",0,6,{"$f":"AO130+GETPIVOTDATA(\"Sum of 6\",AL$2,\"Day  \",\"Prob 2nd instars\")","v":0},null,null,"Sum of 6",0,6,{"$f":"AU130+GETPIVOTDATA(\"Sum of 6\",AR$2,\"Day  \",\"Prob 2nd instars\")","v":0},null,null,"Sum of 6",0,6,{"$f":"BA130+GETPIVOTDATA(\"Sum of 6\",AX$2,\"Day  \",\"Prob 2nd instars\")","v":0},null,null,"Sum of 6",0,6,{"$f":"BG130+GETPIVOTDATA(\"Sum of 6\",BD$2,\"Day  \",\"Prob 2nd instars\")","v":0}]
[null,"Sum of 7",0,7,{"$f":"E131+GETPIVOTDATA(\"Sum of 7\",$B$2,\"Day  \",\"Prob 2nd instars\")","v":1.0145090024813737},null,null,"Sum of 7",6.5789473684210523E-2,7,{"$f":"K131+GETPIVOTDATA(\"Sum of 7\",H$2,\"Day  \",\"Prob 2nd instars\")","v":2.2596659820116196},null,null,"Sum of 7",0,7,{"$f":"Q131+GETPIVOTDATA(\"Sum of 7\",N$2,\"Day  \",\"Prob 2nd instars\")","v":1.2539775596688845},null,null,"Sum of 7",0.22058823529411764,7,{"$f":"W131+GETPIVOTDATA(\"Sum of 7\",T$2,\"Day  \",\"Prob 2nd instars\")","v":1.4996736161154001},null,null,"Sum of 7",0,7,{"$f":"AC131+GETPIVOTDATA(\"Sum of 7\",Z$2,\"Day  \",\"Prob 2nd instars\")","v":1.2907486061778732},null,null,"Sum of 7",0,7,{"$f":"AI131+GETPIVOTDATA(\"Sum of 7\",AF$2,\"Day  \",\"Prob 2nd instars\")","v":1.1097766952570098},null,null,"Sum of 7",0,7,{"$f":"AO131+GETPIVOTDATA(\"Sum of 7\",AL$2,\"Day  \",\"Prob 2nd instars\")","v":0},null,null,"Sum of 7",0,7,{"$f":"AU131+GETPIVOTDATA(\"Sum of 7\",AR$2,\"Day  \",\"Prob 2nd instars\")","v":0},null,null,"Sum of 7",0,7,{"$f":"BA131+GETPIVOTDATA(\"Sum of 7\",AX$2,\"Day  \",\"Prob 2nd instars\")","v":0},null,null,"Sum of 7",0,7,{"$f":"BG131+GETPIVOTDATA(\"Sum of 7\",BD$2,\"Day  \",\"Prob 2nd instars\")","v":0}]
[null,"Sum of 8",0,8,{"$f":"E132+GETPIVOTDATA(\"Sum of 8\",$B$2,\"Day  \",\"Prob 2nd instars\")","v":1.0145090024813737},null,null,"Sum of 8",0,8,{"$f":"K132+GETPIVOTDATA(\"Sum of 8\",H$2,\"Day  \",\"Prob 2nd instars\")","v":2.2596659820116196},null,null,"Sum of 8",0,8,{"$f":"Q132+GETPIVOTDATA(\"Sum of 8\",N$2,\"Day  \",\"Prob 2nd instars\")","v":1.2539775596688845},null,null,"Sum of 8",0.10884353741496598,8,{"$f":"W132+GETPIVOTDATA(\"Sum of 8\",T$2,\"Day  \",\"Prob 2nd instars\")","v":1.608517153530366},null,null,"Sum of 8",0,8,{"$f":"AC132+GETPIVOTDATA(\"Sum of 8\",Z$2,\"Day  \",\"Prob 2nd instars\")","v":1.2907486061778732},null,null,"Sum of 8",0,8,{"$f":"AI132+GETPIVOTDATA(\"Sum of 8\",AF$2,\"Day  \",\"Prob 2nd instars\")","v":1.1097766952570098},null,null,"Sum of 8",0,8,{"$f":"AO132+GETPIVOTDATA(\"Sum of 8\",AL$2,\"Day  \",\"Prob 2nd instars\")","v":0},null,null,"Sum of 8",0,8,{"$f":"AU132+GETPIVOTDATA(\"Sum of 8\",AR$2,\"Day  \",\"Prob 2nd instars\")","v":0},null,null,"Sum of 8",0,8,{"$f":"BA132+GETPIVOTDATA(\"Sum of 8\",AX$2,\"Day  \",\"Prob 2nd instars\")","v":0},null,null,"Sum of 8",0,8,{"$f":"BG132+GETPIVOTDATA(\"Sum of 8\",BD$2,\"Day  \",\"Prob 2nd instars\")","v":0}]
[null,"Sum of 9",0,9,{"$f":"E133+GETPIVOTDATA(\"Sum of 9\",$B$2,\"Day  \",\"Prob 2nd instars\")","v":1.0145090024813737},null,null,"Sum of 9",0,9,{"$f":"K133+GETPIVOTDATA(\"Sum of 9\",H$2,\"Day  \",\"Prob 2nd instars\")","v":2.2596659820116196},null,null,"Sum of 9",0,9,{"$f":"Q133+GETPIVOTDATA(\"Sum of 9\",N$2,\"Day  \",\"Prob 2nd instars\")","v":1.2539775596688845},null,null,"Sum of 9",1.6304347826086956E-2,9,{"$f":"W133+GETPIVOTDATA(\"Sum of 9\",T$2,\"Day  \",\"Prob 2nd instars\")","v":1.6248215013564529},null,null,"Sum of 9",0,9,{"$f":"AC133+GETPIVOTDATA(\"Sum of 9\",Z$2,\"Day  \",\"Prob 2nd instars\")","v":1.2907486061778732},null,null,"Sum of 9",0,9,{"$f":"AI133+GETPIVOTDATA(\"Sum of 9\",AF$2,\"Day  \",\"Prob 2nd instars\")","v":1.1097766952570098},null,null,"Sum of 9",0,9,{"$f":"AO133+GETPIVOTDATA(\"Sum of 9\",AL$2,\"Day  \",\"Prob 2nd instars\")","v":0},null,null,"Sum of 9",0,9,{"$f":"AU133+GETPIVOTDATA(\"Sum of 9\",AR$2,\"Day  \",\"Prob 2nd instars\")","v":0},null,null,"Sum of 9",0,9,{"$f":"BA133+GETPIVOTDATA(\"Sum of 9\",AX$2,\"Day  \",\"Prob 2nd instars\")","v":0},null,null,"Sum of 9",0,9,{"$f":"BG133+GETPIVOTDATA(\"Sum of 9\",BD$2,\"Day  \",\"Prob 2nd instars\")","v":0}]
[null,"Sum of 10",0,10,{"$f":"E134+GETPIVOTDATA(\"Sum of 10\",$B$2,\"Day  \",\"Prob 2nd instars\")","v":1.0145090024813737},null,null,"Sum of 10",0,10,{"$f":"K134+GETPIVOTDATA(\"Sum of 10\",H$2,\"Day  \",\"Prob 2nd instars\")","v":2.2596659820116196},null,null,"Sum of 10",0,10,{"$f":"Q134+GETPIVOTDATA(\"Sum of 10\",N$2,\"Day  \",\"Prob 2nd instars\")","v":1.2539775596688845},null,null,"Sum of 10",0,10,{"$f":"W134+GETPIVOTDATA(\"Sum of 10\",T$2,\"Day  \",\"Prob 2nd instars\")","v":1.6248215013564529},null,null,"Sum of 10",0,10,{"$f":"AC134+GETPIVOTDATA(\"Sum of 10\",Z$2,\"Day  \",\"Prob 2nd instars\")","v":1.2907486061778732},null,null,"Sum of 10",0,10,{"$f":"AI134+GETPIVOTDATA(\"Sum of 10\",AF$2,\"Day  \",\"Prob 2nd instars\")","v":1.1097766952570098},null,null,"Sum of 10",0,10,{"$f":"AO134+GETPIVOTDATA(\"Sum of 10\",AL$2,\"Day  \",\"Prob 2nd instars\")","v":0},null,null,"Sum of 10",0,10,{"$f":"AU134+GETPIVOTDATA(\"Sum of 10\",AR$2,\"Day  \",\"Prob 2nd instars\")","v":0},null,null,"Sum of 10",0,10,{"$f":"BA134+GETPIVOTDATA(\"Sum of 10\",AX$2,\"Day  \",\"Prob 2nd instars\")","v":0},null,null,"Sum of 10",0,10,{"$f":"BG134+GETPIVOTDATA(\"Sum of 10\",BD$2,\"Day  \",\"Prob 2nd instars\")","v":0}]
[null,"Sum of 11",0,11,{"$f":"E135+GETPIVOTDATA(\"Sum of 11\",$B$2,\"Day  \",\"Prob 2nd instars\")","v":1.0145090024813737},null,null,"Sum of 11",0,11,{"$f":"K135+GETPIVOTDATA(\"Sum of 11\",H$2,\"Day  \",\"Prob 2nd instars\")","v":2.2596659820116196},null,null,"Sum of 11",0,11,{"$f":"Q135+GETPIVOTDATA(\"Sum of 11\",N$2,\"Day  \",\"Prob 2nd instars\")","v":1.2539775596688845},null,null,"Sum of 11",0,11,{"$f":"W135+GETPIVOTDATA(\"Sum of 11\",T$2,\"Day  \",\"Prob 2nd instars\")","v":1.6248215013564529},null,null,"Sum of 11",0,11,{"$f":"AC135+GETPIVOTDATA(\"Sum of 11\",Z$2,\"Day  \",\"Prob 2nd instars\")","v":1.2907486061778732},null,null,"Sum of 11",0,11,{"$f":"AI135+GETPIVOTDATA(\"Sum of 11\",AF$2,\"Day  \",\"Prob 2nd instars\")","v":1.1097766952570098},null,null,"Sum of 11",0,11,{"$f":"AO135+GETPIVOTDATA(\"Sum of 11\",AL$2,\"Day  \",\"Prob 2nd instars\")","v":0},null,null,"Sum of 11",0,11,{"$f":"AU135+GETPIVOTDATA(\"Sum of 11\",AR$2,\"Day  \",\"Prob 2nd instars\")","v":0},null,null,"Sum of 11",0,11,{"$f":"BA135+GETPIVOTDATA(\"Sum of 11\",AX$2,\"Day  \",\"Prob 2nd instars\")","v":0},null,null,"Sum of 11",0,11,{"$f":"BG135+GETPIVOTDATA(\"Sum of 11\",BD$2,\"Day  \",\"Prob 2nd instars\")","v":0}]
[null,"Sum of 12",0,12,{"$f":"E136+GETPIVOTDATA(\"Sum of 12\",$B$2,\"Day  \",\"Prob 2nd instars\")","v":1.0145090024813737},null,null,"Sum of 12",0,12,{"$f":"K136+GETPIVOTDATA(\"Sum of 12\",H$2,\"Day  \",\"Prob 2nd instars\")","v":2.2596659820116196},null,null,"Sum of 12",0,12,{"$f":"Q136+GETPIVOTDATA(\"Sum of 12\",N$2,\"Day  \",\"Prob 2nd instars\")","v":1.2539775596688845},null,null,"Sum of 12",0,12,{"$f":"W136+GETPIVOTDATA(\"Sum of 12\",T$2,\"Day  \",\"Prob 2nd instars\")","v":1.6248215013564529},null,null,"Sum of 12",0,12,{"$f":"AC136+GETPIVOTDATA(\"Sum of 12\",Z$2,\"Day  \",\"Prob 2nd instars\")","v":1.2907486061778732},null,null,"Sum of 12",0,12,{"$f":"AI136+GETPIVOTDATA(\"Sum of 12\",AF$2,\"Day  \",\"Prob 2nd instars\")","v":1.1097766952570098},null,null,"Sum of 12",0,12,{"$f":"AO136+GETPIVOTDATA(\"Sum of 12\",AL$2,\"Day  \",\"Prob 2nd instars\")","v":0},null,null,"Sum of 12",0,12,{"$f":"AU136+GETPIVOTDATA(\"Sum of 12\",AR$2,\"Day  \",\"Prob 2nd instars\")","v":0},null,null,"Sum of 12",0,12,{"$f":"BA136+GETPIVOTDATA(\"Sum of 12\",AX$2,\"Day  \",\"Prob 2nd instars\")","v":0},null,null,"Sum of 12",0,12,{"$f":"BG136+GETPIVOTDATA(\"Sum of 12\",BD$2,\"Day  \",\"Prob 2nd instars\")","v":0}]
[null,"Sum of 13",0,13,{"$f":"E137+GETPIVOTDATA(\"Sum of 13\",$B$2,\"Day  \",\"Prob 2nd instars\")","v":1.0145090024813737},null,null,"Sum of 13",0,13,{"$f":"K137+GETPIVOTDATA(\"Sum of 13\",H$2,\"Day  \",\"Prob 2nd instars\")","v":2.2596659820116196},null,null,"Sum of 13",0,13,{"$f":"Q137+GETPIVOTDATA(\"Sum of 13\",N$2,\"Day  \",\"Prob 2nd instars\")","v":1.2539775596688845},null,null,"Sum of 13",0,13,{"$f":"W137+GETPIVOTDATA(\"Sum of 13\",T$2,\"Day  \",\"Prob 2nd instars\")","v":1.6248215013564529},null,null,"Sum of 13",0,13,{"$f":"AC137+GETPIVOTDATA(\"Sum of 13\",Z$2,\"Day  \",\"Prob 2nd instars\")","v":1.2907486061778732},null,null,"Sum of 13",0,13,{"$f":"AI137+GETPIVOTDATA(\"Sum of 13\",AF$2,\"Day  \",\"Prob 2nd instars\")","v":1.1097766952570098},null,null,"Sum of 13",0,13,{"$f":"AO137+GETPIVOTDATA(\"Sum of 13\",AL$2,\"Day  \",\"Prob 2nd instars\")","v":0},null,null,"Sum of 13",0,13,{"$f":"AU137+GETPIVOTDATA(\"Sum of 13\",AR$2,\"Day  \",\"Prob 2nd instars\")","v":0},null,null,"Sum of 13",0,13,{"$f":"BA137+GETPIVOTDATA(\"Sum of 13\",AX$2,\"Day  \",\"Prob 2nd instars\")","v":0},null,null,"Sum of 13",0,13,{"$f":"BG137+GETPIVOTDATA(\"Sum of 13\",BD$2,\"Day  \",\"Prob 2nd instars\")","v":0}]
[null,"Sum of 14",0,14,{"$f":"E138+GETPIVOTDATA(\"Sum of 14\",$B$2,\"Day  \",\"Prob 2nd instars\")","v":1.0145090024813737},null,null,"Sum of 14",0,14,{"$f":"K138+GETPIVOTDATA(\"Sum of 14\",H$2,\"Day  \",\"Prob 2nd instars\")","v":2.2596659820116196},null,null,"Sum of 14",0,14,{"$f":"Q138+GETPIVOTDATA(\"Sum of 14\",N$2,\"Day  \",\"Prob 2nd instars\")","v":1.2539775596688845},null,null,"Sum of 14",0,14,{"$f":"W138+GETPIVOTDATA(\"Sum of 14\",T$2,\"Day  \",\"Prob 2nd instars\")","v":1.6248215013564529},null,null,"Sum of 14",0,14,{"$f":"AC138+GETPIVOTDATA(\"Sum of 14\",Z$2,\"Day  \",\"Prob 2nd instars\")","v":1.2907486061778732},null,null,"Sum of 14",0,14,{"$f":"AI138+GETPIVOTDATA(\"Sum of 14\",AF$2,\"Day  \",\"Prob 2nd instars\")","v":1.1097766952570098},null,null,"Sum of 14",0,14,{"$f":"AO138+GETPIVOTDATA(\"Sum of 14\",AL$2,\"Day  \",\"Prob 2nd instars\")","v":0},null,null,"Sum of 14",0,14,{"$f":"AU138+GETPIVOTDATA(\"Sum of 14\",AR$2,\"Day  \",\"Prob 2nd instars\")","v":0},null,null,"Sum of 14",0,14,{"$f":"BA138+GETPIVOTDATA(\"Sum of 14\",AX$2,\"Day  \",\"Prob 2nd instars\")","v":0},null,null,"Sum of 14",0,14,{"$f":"BG138+GETPIVOTDATA(\"Sum of 14\",BD$2,\"Day  \",\"Prob 2nd instars\")","v":0}]
[null,"Sum of 15",0,15,{"$f":"E139+GETPIVOTDATA(\"Sum of 15\",$B$2,\"Day  \",\"Prob 2nd instars\")","v":1.0145090024813737},null,null,"Sum of 15",0,15,{"$f":"K139+GETPIVOTDATA(\"Sum of 15\",H$2,\"Day  \",\"Prob 2nd instars\")","v":2.2596659820116196},null,null,"Sum of 15",0,15,{"$f":"Q139+GETPIVOTDATA(\"Sum of 15\",N$2,\"Day  \",\"Prob 2nd instars\")","v":1.2539775596688845},null,null,"Sum of 15",0,15,{"$f":"W139+GETPIVOTDATA(\"Sum of 15\",T$2,\"Day  \",\"Prob 2nd instars\")","v":1.6248215013564529},null,null,"Sum of 15",0,15,{"$f":"AC139+GETPIVOTDATA(\"Sum of 15\",Z$2,\"Day  \",\"Prob 2nd instars\")","v":1.2907486061778732},null,null,"Sum of 15",0,15,{"$f":"AI139+GETPIVOTDATA(\"Sum of 15\",AF$2,\"Day  \",\"Prob 2nd instars\")","v":1.1097766952570098},null,null,"Sum of 15",0,15,{"$f":"AO139+GETPIVOTDATA(\"Sum of 15\",AL$2,\"Day  \",\"Prob 2nd instars\")","v":0},null,null,"Sum of 15",0,15,{"$f":"AU139+GETPIVOTDATA(\"Sum of 15\",AR$2,\"Day  \",\"Prob 2nd instars\")","v":0},null,null,"Sum of 15",0,15,{"$f":"BA139+GETPIVOTDATA(\"Sum of 15\",AX$2,\"Day  \",\"Prob 2nd instars\")","v":0},null,null,"Sum of 15",0,15,{"$f":"BG139+GETPIVOTDATA(\"Sum of 15\",BD$2,\"Day  \",\"Prob 2nd instars\")","v":0}]
[null,"Sum of 16",0,16,{"$f":"E140+GETPIVOTDATA(\"Sum of 16\",$B$2,\"Day  \",\"Prob 2nd instars\")","v":1.0145090024813737},null,null,"Sum of 16",0,16,{"$f":"K140+GETPIVOTDATA(\"Sum of 16\",H$2,\"Day  \",\"Prob 2nd instars\")","v":2.2596659820116196},null,null,"Sum of 16",0,16,{"$f":"Q140+GETPIVOTDATA(\"Sum of 16\",N$2,\"Day  \",\"Prob 2nd instars\")","v":1.2539775596688845},null,null,"Sum of 16",0,16,{"$f":"W140+GETPIVOTDATA(\"Sum of 16\",T$2,\"Day  \",\"Prob 2nd instars\")","v":1.6248215013564529},null,null,"Sum of 16",0,16,{"$f":"AC140+GETPIVOTDATA(\"Sum of 16\",Z$2,\"Day  \",\"Prob 2nd instars\")","v":1.2907486061778732},null,null,"Sum of 16",0,16,{"$f":"AI140+GETPIVOTDATA(\"Sum of 16\",AF$2,\"Day  \",\"Prob 2nd instars\")","v":1.1097766952570098},null,null,"Sum of 16",0,16,{"$f":"AO140+GETPIVOTDATA(\"Sum of 16\",AL$2,\"Day  \",\"Prob 2nd instars\")","v":0},null,null,"Sum of 16",0,16,{"$f":"AU140+GETPIVOTDATA(\"Sum of 16\",AR$2,\"Day  \",\"Prob 2nd instars\")","v":0},null,null,"Sum of 16",0,16,{"$f":"BA140+GETPIVOTDATA(\"Sum of 16\",AX$2,\"Day  \",\"Prob 2nd instars\")","v":0},null,null,"Sum of 16",0,16,{"$f":"BG140+GETPIVOTDATA(\"Sum of 16\",BD$2,\"Day  \",\"Prob 2nd instars\")","v":0}]
[null,"Sum of 17",0,17,{"$f":"E141+GETPIVOTDATA(\"Sum of 17\",$B$2,\"Day  \",\"Prob 2nd instars\")","v":1.0145090024813737},null,null,"Sum of 17",0,17,{"$f":"K141+GETPIVOTDATA(\"Sum of 17\",H$2,\"Day  \",\"Prob 2nd instars\")","v":2.2596659820116196},null,null,"Sum of 17",0,17,{"$f":"Q141+GETPIVOTDATA(\"Sum of 17\",N$2,\"Day  \",\"Prob 2nd instars\")","v":1.2539775596688845},null,null,"Sum of 17",0,17,{"$f":"W141+GETPIVOTDATA(\"Sum of 17\",T$2,\"Day  \",\"Prob 2nd instars\")","v":1.6248215013564529},null,null,"Sum of 17",0,17,{"$f":"AC141+GETPIVOTDATA(\"Sum of 17\",Z$2,\"Day  \",\"Prob 2nd instars\")","v":1.2907486061778732},null,null,"Sum of 17",0,17,{"$f":"AI141+GETPIVOTDATA(\"Sum of 17\",AF$2,\"Day  \",\"Prob 2nd instars\")","v":1.1097766952570098},null,null,"Sum of 17",0,17,{"$f":"AO141+GETPIVOTDATA(\"Sum of 17\",AL$2,\"Day  \",\"Prob 2nd instars\")","v":0},null,null,"Sum of 17",0,17,{"$f":"AU141+GETPIVOTDATA(\"Sum of 17\",AR$2,\"Day  \",\"Prob 2nd instars\")","v":0},null,null,"Sum of 17",0,17,{"$f":"BA141+GETPIVOTDATA(\"Sum of 17\",AX$2,\"Day  \",\"Prob 2nd instars\")","v":0},null,null,"Sum of 17",0,17,{"$f":"BG141+GETPIVOTDATA(\"Sum of 17\",BD$2,\"Day  \",\"Prob 2nd instars\")","v":0}]
[null,"Sum of 18",0,18,{"$f":"E142+GETPIVOTDATA(\"Sum of 18\",$B$2,\"Day  \",\"Prob 2nd instars\")","v":1.0145090024813737},null,null,"Sum of 18",0,18,{"$f":"K142+GETPIVOTDATA(\"Sum of 18\",H$2,\"Day  \",\"Prob 2nd instars\")","v":2.2596659820116196},null,null,"Sum of 18",0,18,{"$f":"Q142+GETPIVOTDATA(\"Sum of 18\",N$2,\"Day  \",\"Prob 2nd instars\")","v":1.2539775596688845},null,null,"Sum of 18",0,18,{"$f":"W142+GETPIVOTDATA(\"Sum of 18\",T$2,\"Day  \",\"Prob 2nd instars\")","v":1.6248215013564529},null,null,"Sum of 18",0,18,{"$f":"AC142+GETPIVOTDATA(\"Sum of 18\",Z$2,\"Day  \",\"Prob 2nd instars\")","v":1.2907486061778732},null,null,"Sum of 18",0,18,{"$f":"AI142+GETPIVOTDATA(\"Sum of 18\",AF$2,\"Day  \",\"Prob 2nd instars\")","v":1.1097766952570098},null,null,"Sum of 18",0,18,{"$f":"AO142+GETPIVOTDATA(\"Sum of 18\",AL$2,\"Day  \",\"Prob 2nd instars\")","v":0},null,null,"Sum of 18",0,18,{"$f":"AU142+GETPIVOTDATA(\"Sum of 18\",AR$2,\"Day  \",\"Prob 2nd instars\")","v":0},null,null,"Sum of 18",0,18,{"$f":"BA142+GETPIVOTDATA(\"Sum of 18\",AX$2,\"Day  \",\"Prob 2nd instars\")","v":0},null,null,"Sum of 18",0,18,{"$f":"BG142+GETPIVOTDATA(\"Sum of 18\",BD$2,\"Day  \",\"Prob 2nd instars\")","v":0}]
[null,"Sum of 19",0,19,{"$f":"E143+GETPIVOTDATA(\"Sum of 19\",$B$2,\"Day  \",\"Prob 2nd instars\")","v":1.0145090024813737},null,null,"Sum of 19",0,19,{"$f":"K143+GETPIVOTDATA(\"Sum of 19\",H$2,\"Day  \",\"Prob 2nd instars\")","v":2.2596659820116196},null,null,"Sum of 19",0,19,{"$f":"Q143+GETPIVOTDATA(\"Sum of 19\",N$2,\"Day  \",\"Prob 2nd instars\")","v":1.2539775596688845},null,null,"Sum of 19",0,19,{"$f":"W143+GETPIVOTDATA(\"Sum of 19\",T$2,\"Day  \",\"Prob 2nd instars\")","v":1.6248215013564529},null,null,"Sum of 19",0,19,{"$f":"AC143+GETPIVOTDATA(\"Sum of 19\",Z$2,\"Day  \",\"Prob 2nd instars\")","v":1.2907486061778732},null,null,"Sum of 19",0,19,{"$f":"AI143+GETPIVOTDATA(\"Sum of 19\",AF$2,\"Day  \",\"Prob 2nd instars\")","v":1.1097766952570098},null,null,"Sum of 19",0,19,{"$f":"AO143+GETPIVOTDATA(\"Sum of 19\",AL$2,\"Day  \",\"Prob 2nd instars\")","v":0},null,null,"Sum of 19",0,19,{"$f":"AU143+GETPIVOTDATA(\"Sum of 19\",AR$2,\"Day  \",\"Prob 2nd instars\")","v":0},null,null,"Sum of 19",0,19,{"$f":"BA143+GETPIVOTDATA(\"Sum of 19\",AX$2,\"Day  \",\"Prob 2nd instars\")","v":0},null,null,"Sum of 19",0,19,{"$f":"BG143+GETPIVOTDATA(\"Sum of 19\",BD$2,\"Day  \",\"Prob 2nd instars\")","v":0}]
[null,"Sum of 20",0,20,{"$f":"E144+GETPIVOTDATA(\"Sum of 20\",$B$2,\"Day  \",\"Prob 2nd instars\")","v":1.0145090024813737},null,null,"Sum of 20",0,20,{"$f":"K144+GETPIVOTDATA(\"Sum of 20\",H$2,\"Day  \",\"Prob 2nd instars\")","v":2.2596659820116196},null,null,"Sum of 20",0,20,{"$f":"Q144+GETPIVOTDATA(\"Sum of 20\",N$2,\"Day  \",\"Prob 2nd instars\")","v":1.2539775596688845},null,null,"Sum of 20",0,20,{"$f":"W144+GETPIVOTDATA(\"Sum of 20\",T$2,\"Day  \",\"Prob 2nd instars\")","v":1.6248215013564529},null,null,"Sum of 20",0,20,{"$f":"AC144+GETPIVOTDATA(\"Sum of 20\",Z$2,\"Day  \",\"Prob 2nd instars\")","v":1.2907486061778732},null,null,"Sum of 20",0,20,{"$f":"AI144+GETPIVOTDATA(\"Sum of 20\",AF$2,\"Day  \",\"Prob 2nd instars\")","v":1.1097766952570098},null,null,"Sum of 20",0,20,{"$f":"AO144+GETPIVOTDATA(\"Sum of 20\",AL$2,\"Day  \",\"Prob 2nd instars\")","v":0},null,null,"Sum of 20",0,20,{"$f":"AU144+GETPIVOTDATA(\"Sum of 20\",AR$2,\"Day  \",\"Prob 2nd instars\")","v":0},null,null,"Sum of 20",0,20,{"$f":"BA144+GETPIVOTDATA(\"Sum of 20\",AX$2,\"Day  \",\"Prob 2nd instars\")","v":0},null,null,"Sum of 20",0,20,{"$f":"BG144+GETPIVOTDATA(\"Sum of 20\",BD$2,\"Day  \",\"Prob 2nd instars\")","v":0}]
[null,"Sum of 21",0,21,{"$f":"E145+GETPIVOTDATA(\"Sum of 21\",$B$2,\"Day  \",\"Prob 2nd instars\")","v":1.0145090024813737},null,null,"Sum of 21",0,21,{"$f":"K145+GETPIVOTDATA(\"Sum of 21\",H$2,\"Day  \",\"Prob 2nd instars\")","v":2.2596659820116196},null,null,"Sum of 21",0,21,{"$f":"Q145+GETPIVOTDATA(\"Sum of 21\",N$2,\"Day  \",\"Prob 2nd instars\")","v":1.2539775596688845},null,null,"Sum of 21",0,21,{"$f":"W145+GETPIVOTDATA(\"Sum of 21\",T$2,\"Day  \",\"Prob 2nd instars\")","v":1.6248215013564529},null,null,"Sum of 21",0,21,{"$f":"AC145+GETPIVOTDATA(\"Sum of 21\",Z$2,\"Day  \",\"Prob 2nd instars\")","v":1.2907486061778732},null,null,"Sum of 21",0,21,{"$f":"AI145+GETPIVOTDATA(\"Sum of 21\",AF$2,\"Day  \",\"Prob 2nd instars\")","v":1.1097766952570098},null,null,"Sum of 21",0,21,{"$f":"AO145+GETPIVOTDATA(\"Sum of 21\",AL$2,\"Day  \",\"Prob 2nd instars\")","v":0},null,null,"Sum of 21",0,21,{"$f":"AU145+GETPIVOTDATA(\"Sum of 21\",AR$2,\"Day  \",\"Prob 2nd instars\")","v":0},null,null,"Sum of 21",0,21,{"$f":"BA145+GETPIVOTDATA(\"Sum of 21\",AX$2,\"Day  \",\"Prob 2nd instars\")","v":0},null,null,"Sum of 21",0,21,{"$f":"BG145+GETPIVOTDATA(\"Sum of 21\",BD$2,\"Day  \",\"Prob 2nd instars\")","v":0}]
[null,"Sum of 22",0,22,{"$f":"E146+GETPIVOTDATA(\"Sum of 22\",$B$2,\"Day  \",\"Prob 2nd instars\")","v":1.0145090024813737},null,null,"Sum of 22",0,22,{"$f":"K146+GETPIVOTDATA(\"Sum of 22\",H$2,\"Day  \",\"Prob 2nd instars\")","v":2.2596659820116196},null,null,"Sum of 22",0,22,{"$f":"Q146+GETPIVOTDATA(\"Sum of 22\",N$2,\"Day  \",\"Prob 2nd instars\")","v":1.2539775596688845},null,null,"Sum of 22",0,22,{"$f":"W146+GETPIVOTDATA(\"Sum of 22\",T$2,\"Day  \",\"Prob 2nd instars\")","v":1.6248215013564529},null,null,"Sum of 22",0,22,{"$f":"AC146+GETPIVOTDATA(\"Sum of 22\",Z$2,\"Day  \",\"Prob 2nd instars\")","v":1.2907486061778732},null,null,"Sum of 22",0,22,{"$f":"AI146+GETPIVOTDATA(\"Sum of 22\",AF$2,\"Day  \",\"Prob 2nd instars\")","v":1.1097766952570098},null,null,"Sum of 22",0,22,{"$f":"AO146+GETPIVOTDATA(\"Sum of 22\",AL$2,\"Day  \",\"Prob 2nd instars\")","v":0},null,null,"Sum of 22",0,22,{"$f":"AU146+GETPIVOTDATA(\"Sum of 22\",AR$2,\"Day  \",\"Prob 2nd instars\")","v":0},null,null,"Sum of 22",0,22,{"$f":"BA146+GETPIVOTDATA(\"Sum of 22\",AX$2,\"Day  \",\"Prob 2nd instars\")","v":0},null,null,"Sum of 22",0,22,{"$f":"BG146+GETPIVOTDATA(\"Sum of 22\",BD$2,\"Day  \",\"Prob 2nd instars\")","v":0}]
[null,"Sum of 23",0,23,{"$f":"E147+GETPIVOTDATA(\"Sum of 23\",$B$2,\"Day  \",\"Prob 2nd instars\")","v":1.0145090024813737},null,null,"Sum of 23",0,23,{"$f":"K147+GETPIVOTDATA(\"Sum of 23\",H$2,\"Day  \",\"Prob 2nd instars\")","v":2.2596659820116196},null,null,"Sum of 23",0,23,{"$f":"Q147+GETPIVOTDATA(\"Sum of 23\",N$2,\"Day  \",\"Prob 2nd instars\")","v":1.2539775596688845},null,null,"Sum of 23",0,23,{"$f":"W147+GETPIVOTDATA(\"Sum of 23\",T$2,\"Day  \",\"Prob 2nd instars\")","v":1.6248215013564529},null,null,"Sum of 23",0,23,{"$f":"AC147+GETPIVOTDATA(\"Sum of 23\",Z$2,\"Day  \",\"Prob 2nd instars\")","v":1.2907486061778732},null,null,"Sum of 23",0,23,{"$f":"AI147+GETPIVOTDATA(\"Sum of 23\",AF$2,\"Day  \",\"Prob 2nd instars\")","v":1.1097766952570098},null,null,"Sum of 23",0,23,{"$f":"AO147+GETPIVOTDATA(\"Sum of 23\",AL$2,\"Day  \",\"Prob 2nd instars\")","v":0},null,null,"Sum of 23",0,23,{"$f":"AU147+GETPIVOTDATA(\"Sum of 23\",AR$2,\"Day  \",\"Prob 2nd instars\")","v":0},null,null,"Sum of 23",0,23,{"$f":"BA147+GETPIVOTDATA(\"Sum of 23\",AX$2,\"Day  \",\"Prob 2nd instars\")","v":0},null,null,"Sum of 23",0,23,{"$f":"BG147+GETPIVOTDATA(\"Sum of 23\",BD$2,\"Day  \",\"Prob 2nd instars\")","v":0}]
[null,"Sum of 24",0,24,{"$f":"E148+GETPIVOTDATA(\"Sum of 24\",$B$2,\"Day  \",\"Prob 2nd instars\")","v":1.0145090024813737},null,null,"Sum of 24",0,24,{"$f":"K148+GETPIVOTDATA(\"Sum of 24\",H$2,\"Day  \",\"Prob 2nd instars\")","v":2.2596659820116196},null,null,"Sum of 24",0,24,{"$f":"Q148+GETPIVOTDATA(\"Sum of 24\",N$2,\"Day  \",\"Prob 2nd instars\")","v":1.2539775596688845},null,null,"Sum of 24",0,24,{"$f":"W148+GETPIVOTDATA(\"Sum of 24\",T$2,\"Day  \",\"Prob 2nd instars\")","v":1.6248215013564529},null,null,"Sum of 24",0,24,{"$f":"AC148+GETPIVOTDATA(\"Sum of 24\",Z$2,\"Day  \",\"Prob 2nd instars\")","v":1.2907486061778732},null,null,"Sum of 24",0,24,{"$f":"AI148+GETPIVOTDATA(\"Sum of 24\",AF$2,\"Day  \",\"Prob 2nd instars\")","v":1.1097766952570098},null,null,"Sum of 24",0,24,{"$f":"AO148+GETPIVOTDATA(\"Sum of 24\",AL$2,\"Day  \",\"Prob 2nd instars\")","v":0},null,null,"Sum of 24",0,24,{"$f":"AU148+GETPIVOTDATA(\"Sum of 24\",AR$2,\"Day  \",\"Prob 2nd instars\")","v":0},null,null,"Sum of 24",0,24,{"$f":"BA148+GETPIVOTDATA(\"Sum of 24\",AX$2,\"Day  \",\"Prob 2nd instars\")","v":0},null,null,"Sum of 24",0,24,{"$f":"BG148+GETPIVOTDATA(\"Sum of 24\",BD$2,\"Day  \",\"Prob 2nd instars\")","v":0}]
[null,"Sum of 25",0,25,{"$f":"E149+GETPIVOTDATA(\"Sum of 25\",$B$2,\"Day  \",\"Prob 2nd instars\")","v":1.0145090024813737},null,null,"Sum of 25",0,25,{"$f":"K149+GETPIVOTDATA(\"Sum of 25\",H$2,\"Day  \",\"Prob 2nd instars\")","v":2.2596659820116196},null,null,"Sum of 25",0,25,{"$f":"Q149+GETPIVOTDATA(\"Sum of 25\",N$2,\"Day  \",\"Prob 2nd instars\")","v":1.2539775596688845},null,null,"Sum of 25",0,25,{"$f":"W149+GETPIVOTDATA(\"Sum of 25\",T$2,\"Day  \",\"Prob 2nd instars\")","v":1.6248215013564529},null,null,"Sum of 25",0,25,{"$f":"AC149+GETPIVOTDATA(\"Sum of 25\",Z$2,\"Day  \",\"Prob 2nd instars\")","v":1.2907486061778732},null,null,"Sum of 25",0,25,{"$f":"AI149+GETPIVOTDATA(\"Sum of 25\",AF$2,\"Day  \",\"Prob 2nd instars\")","v":1.1097766952570098},null,null,"Sum of 25",0,25,{"$f":"AO149+GETPIVOTDATA(\"Sum of 25\",AL$2,\"Day  \",\"Prob 2nd instars\")","v":0},null,null,"Sum of 25",0,25,{"$f":"AU149+GETPIVOTDATA(\"Sum of 25\",AR$2,\"Day  \",\"Prob 2nd instars\")","v":0},null,null,"Sum of 25",0,25,{"$f":"BA149+GETPIVOTDATA(\"Sum of 25\",AX$2,\"Day  \",\"Prob 2nd instars\")","v":0},null,null,"Sum of 25",0,25,{"$f":"BG149+GETPIVOTDATA(\"Sum of 25\",BD$2,\"Day  \",\"Prob 2nd instars\")","v":0}]
[null,"Sum of 26",0,26,{"$f":"E150+GETPIVOTDATA(\"Sum of 26\",$B$2,\"Day  \",\"Prob 2nd instars\")","v":1.0145090024813737},null,null,"Sum of 26",0,26,{"$f":"K150+GETPIVOTDATA(\"Sum of 26\",H$2,\"Day  \",\"Prob 2nd instars\")","v":2.2596659820116196},null,null,"Sum of 26",0,26,{"$f":"Q150+GETPIVOTDATA(\"Sum of 26\",N$2,\"Day  \",\"Prob 2nd instars\")","v":1.2539775596688845},null,null,"Sum of 26",0,26,{"$f":"W150+GETPIVOTDATA(\"Sum of 26\",T$2,\"Day  \",\"Prob 2nd instars\")","v":1.6248215013564529},null,null,"Sum of 26",0,26,{"$f":"AC150+GETPIVOTDATA(\"Sum of 26\",Z$2,\"Day  \",\"Prob 2nd instars\")","v":1.2907486061778732},null,null,"Sum of 26",0,26,{"$f":"AI150+GETPIVOTDATA(\"Sum of 26\",AF$2,\"Day  \",\"Prob 2nd instars\")","v":1.1097766952570098},null,null,"Sum of 26",0,26,{"$f":"AO150+GETPIVOTDATA(\"Sum of 26\",AL$2,\"Day  \",\"Prob 2nd instars\")","v":0},null,null,"Sum of 26",0,26,{"$f":"AU150+GETPIVOTDATA(\"Sum of 26\",AR$2,\"Day  \",\"Prob 2nd instars\")","v":0},null,null,"Sum of 26",0,26,{"$f":"BA150+GETPIVOTDATA(\"Sum of 26\",AX$2,\"Day  \",\"Prob 2nd instars\")","v":0},null,null,"Sum of 26",0,26,{"$f":"BG150+GETPIVOTDATA(\"Sum of 26\",BD$2,\"Day  \",\"Prob 2nd instars\")","v":0}]
[null,"Sum of 27",0,27,{"$f":"E151+GETPIVOTDATA(\"Sum of 27\",$B$2,\"Day  \",\"Prob 2nd instars\")","v":1.0145090024813737},null,null,"Sum of 27",0,27,{"$f":"K151+GETPIVOTDATA(\"Sum of 27\",H$2,\"Day  \",\"Prob 2nd instars\")","v":2.2596659820116196},null,null,"Sum of 27",0,27,{"$f":"Q151+GETPIVOTDATA(\"Sum of 27\",N$2,\"Day  \",\"Prob 2nd instars\")","v":1.2539775596688845},null,null,"Sum of 27",0,27,{"$f":"W151+GETPIVOTDATA(\"Sum of 27\",T$2,\"Day  \",\"Prob 2nd instars\")","v":1.6248215013564529},null,null,"Sum of 27",0,27,{"$f":"AC151+GETPIVOTDATA(\"Sum of 27\",Z$2,\"Day  \",\"Prob 2nd instars\")","v":1.2907486061778732},null,null,"Sum of 27",0,27,{"$f":"AI151+GETPIVOTDATA(\"Sum of 27\",AF$2,\"Day  \",\"Prob 2nd instars\")","v":1.1097766952570098},null,null,"Sum of 27",0,27,{"$f":"AO151+GETPIVOTDATA(\"Sum of 27\",AL$2,\"Day  \",\"Prob 2nd instars\")","v":0},null,null,"Sum of 27",0,27,{"$f":"AU151+GETPIVOTDATA(\"Sum of 27\",AR$2,\"Day  \",\"Prob 2nd instars\")","v":0},null,null,"Sum of 27",0,27,{"$f":"BA151+GETPIVOTDATA(\"Sum of 27\",AX$2,\"Day  \",\"Prob 2nd instars\")","v":0},null,null,"Sum of 27",0,27,{"$f":"BG151+GETPIVOTDATA(\"Sum of 27\",BD$2,\"Day  \",\"Prob 2nd instars\")","v":0}]
[null,"Sum of 28",0,28,{"$f":"E152+GETPIVOTDATA(\"Sum of 28\",$B$2,\"Day  \",\"Prob 2nd instars\")","v":1.0145090024813737},null,null,"Sum of 28",0,28,{"$f":"K152+GETPIVOTDATA(\"Sum of 28\",H$2,\"Day  \",\"Prob 2nd instars\")","v":2.2596659820116196},null,null,"Sum of 28",0,28,{"$f":"Q152+GETPIVOTDATA(\"Sum of 28\",N$2,\"Day  \",\"Prob 2nd instars\")","v":1.2539775596688845},null,null,"Sum of 28",0,28,{"$f":"W152+GETPIVOTDATA(\"Sum of 28\",T$2,\"Day  \",\"Prob 2nd instars\")","v":1.6248215013564529},null,null,"Sum of 28",0,28,{"$f":"AC152+GETPIVOTDATA(\"Sum of 28\",Z$2,\"Day  \",\"Prob 2nd instars\")","v":1.2907486061778732},null,null,"Sum of 28",0,28,{"$f":"AI152+GETPIVOTDATA(\"Sum of 28\",AF$2,\"Day  \",\"Prob 2nd instars\")","v":1.1097766952570098},null,null,"Sum of 28",0,28,{"$f":"AO152+GETPIVOTDATA(\"Sum of 28\",AL$2,\"Day  \",\"Prob 2nd instars\")","v":0},null,null,"Sum of 28",0,28,{"$f":"AU152+GETPIVOTDATA(\"Sum of 28\",AR$2,\"Day  \",\"Prob 2nd instars\")","v":0},null,null,"Sum of 28",0,28,{"$f":"BA152+GETPIVOTDATA(\"Sum of 28\",AX$2,\"Day  \",\"Prob 2nd instars\")","v":0},null,null,"Sum of 28",0,28,{"$f":"BG152+GETPIVOTDATA(\"Sum of 28\",BD$2,\"Day  \",\"Prob 2nd instars\")","v":0}]
[null,"Sum of 29",0,29,{"$f":"E153+GETPIVOTDATA(\"Sum of 29\",$B$2,\"Day  \",\"Prob 2nd instars\")","v":1.0145090024813737},null,null,"Sum of 29",0,29,{"$f":"K153+GETPIVOTDATA(\"Sum of 29\",H$2,\"Day  \",\"Prob 2nd instars\")","v":2.2596659820116196},null,null,"Sum of 29",0,29,{"$f":"Q153+GETPIVOTDATA(\"Sum of 29\",N$2,\"Day  \",\"Prob 2nd instars\")","v":1.2539775596688845},null,null,"Sum of 29",0,29,{"$f":"W153+GETPIVOTDATA(\"Sum of 29\",T$2,\"Day  \",\"Prob 2nd instars\")","v":1.6248215013564529},null,null,"Sum of 29",0,29,{"$f":"AC153+GETPIVOTDATA(\"Sum of 29\",Z$2,\"Day  \",\"Prob 2nd instars\")","v":1.2907486061778732},null,null,"Sum of 29",0,29,{"$f":"AI153+GETPIVOTDATA(\"Sum of 29\",AF$2,\"Day  \",\"Prob 2nd instars\")","v":1.1097766952570098},null,null,"Sum of 29",0,29,{"$f":"AO153+GETPIVOTDATA(\"Sum of 29\",AL$2,\"Day  \",\"Prob 2nd instars\")","v":0},null,null,"Sum of 29",0,29,{"$f":"AU153+GETPIVOTDATA(\"Sum of 29\",AR$2,\"Day  \",\"Prob 2nd instars\")","v":0},null,null,"Sum of 29",0,29,{"$f":"BA153+GETPIVOTDATA(\"Sum of 29\",AX$2,\"Day  \",\"Prob 2nd instars\")","v":0},null,null,"Sum of 29",0,29,{"$f":"BG153+GETPIVOTDATA(\"Sum of 29\",BD$2,\"Day  \",\"Prob 2nd instars\")","v":0}]
[null,"Sum of 30",0,30,{"$f":"E154+GETPIVOTDATA(\"Sum of 30\",$B$2,\"Day  \",\"Prob 2nd instars\")","v":1.0145090024813737},null,null,"Sum of 30",0,30,{"$f":"K154+GETPIVOTDATA(\"Sum of 30\",H$2,\"Day  \",\"Prob 2nd instars\")","v":2.2596659820116196},null,null,"Sum of 30",0,30,{"$f":"Q154+GETPIVOTDATA(\"Sum of 30\",N$2,\"Day  \",\"Prob 2nd instars\")","v":1.2539775596688845},null,null,"Sum of 30",0,30,{"$f":"W154+GETPIVOTDATA(\"Sum of 30\",T$2,\"Day  \",\"Prob 2nd instars\")","v":1.6248215013564529},null,null,"Sum of 30",0,30,{"$f":"AC154+GETPIVOTDATA(\"Sum of 30\",Z$2,\"Day  \",\"Prob 2nd instars\")","v":1.2907486061778732},null,null,"Sum of 30",0,30,{"$f":"AI154+GETPIVOTDATA(\"Sum of 30\",AF$2,\"Day  \",\"Prob 2nd instars\")","v":1.1097766952570098},null,null,"Sum of 30",0,30,{"$f":"AO154+GETPIVOTDATA(\"Sum of 30\",AL$2,\"Day  \",\"Prob 2nd instars\")","v":0},null,null,"Sum of 30",0,30,{"$f":"AU154+GETPIVOTDATA(\"Sum of 30\",AR$2,\"Day  \",\"Prob 2nd instars\")","v":0},null,null,"Sum of 30",0,30,{"$f":"BA154+GETPIVOTDATA(\"Sum of 30\",AX$2,\"Day  \",\"Prob 2nd instars\")","v":0},null,null,"Sum of 30",0,30,{"$f":"BG154+GETPIVOTDATA(\"Sum of 30\",BD$2,\"Day  \",\"Prob 2nd instars\")","v":0}]
[null,"Sum of 31",0,31,{"$f":"E155+GETPIVOTDATA(\"Sum of 31\",$B$2,\"Day  \",\"Prob 2nd instars\")","v":1.0145090024813737},null,null,"Sum of 31",0,31,{"$f":"K155+GETPIVOTDATA(\"Sum of 31\",H$2,\"Day  \",\"Prob 2nd instars\")","v":2.2596659820116196},null,null,"Sum of 31",0,31,{"$f":"Q155+GETPIVOTDATA(\"Sum of 31\",N$2,\"Day  \",\"Prob 2nd instars\")","v":1.2539775596688845},null,null,"Sum of 31",0,31,{"$f":"W155+GETPIVOTDATA(\"Sum of 31\",T$2,\"Day  \",\"Prob 2nd instars\")","v":1.6248215013564529},null,null,"Sum of 31",0,31,{"$f":"AC155+GETPIVOTDATA(\"Sum of 31\",Z$2,\"Day  \",\"Prob 2nd instars\")","v":1.2907486061778732},null,null,"Sum of 31",0,31,{"$f":"AI155+GETPIVOTDATA(\"Sum of 31\",AF$2,\"Day  \",\"Prob 2nd instars\")","v":1.1097766952570098},null,null,"Sum of 31",0,31,{"$f":"AO155+GETPIVOTDATA(\"Sum of 31\",AL$2,\"Day  \",\"Prob 2nd instars\")","v":0},null,null,"Sum of 31",0,31,{"$f":"AU155+GETPIVOTDATA(\"Sum of 31\",AR$2,\"Day  \",\"Prob 2nd instars\")","v":0},null,null,"Sum of 31",0,31,{"$f":"BA155+GETPIVOTDATA(\"Sum of 31\",AX$2,\"Day  \",\"Prob 2nd instars\")","v":0},null,null,"Sum of 31",0,31,{"$f":"BG155+GETPIVOTDATA(\"Sum of 31\",BD$2,\"Day  \",\"Prob 2nd instars\")","v":0}]
[null,"Sum of 32",0,32,{"$f":"E156+GETPIVOTDATA(\"Sum of 32\",$B$2,\"Day  \",\"Prob 2nd instars\")","v":1.0145090024813737},null,null,"Sum of 32",0,32,{"$f":"K156+GETPIVOTDATA(\"Sum of 32\",H$2,\"Day  \",\"Prob 2nd instars\")","v":2.2596659820116196},null,null,"Sum of 32",0,32,{"$f":"Q156+GETPIVOTDATA(\"Sum of 32\",N$2,\"Day  \",\"Prob 2nd instars\")","v":1.2539775596688845},null,null,"Sum of 32",0,32,{"$f":"W156+GETPIVOTDATA(\"Sum of 32\",T$2,\"Day  \",\"Prob 2nd instars\")","v":1.6248215013564529},null,null,"Sum of 32",0,32,{"$f":"AC156+GETPIVOTDATA(\"Sum of 32\",Z$2,\"Day  \",\"Prob 2nd instars\")","v":1.2907486061778732},null,null,"Sum of 32",0,32,{"$f":"AI156+GETPIVOTDATA(\"Sum of 32\",AF$2,\"Day  \",\"Prob 2nd instars\")","v":1.1097766952570098},null,null,"Sum of 32",0,32,{"$f":"AO156+GETPIVOTDATA(\"Sum of 32\",AL$2,\"Day  \",\"Prob 2nd instars\")","v":0},null,null,"Sum of 32",0,32,{"$f":"AU156+GETPIVOTDATA(\"Sum of 32\",AR$2,\"Day  \",\"Prob 2nd instars\")","v":0},null,null,"Sum of 32",0,32,{"$f":"BA156+GETPIVOTDATA(\"Sum of 32\",AX$2,\"Day  \",\"Prob 2nd instars\")","v":0},null,null,"Sum of 32",0,32,{"$f":"BG156+GETPIVOTDATA(\"Sum of 32\",BD$2,\"Day  \",\"Prob 2nd instars\")","v":0}]
[null,"Sum of 33",0,33,{"$f":"E157+GETPIVOTDATA(\"Sum of 33\",$B$2,\"Day  \",\"Prob 2nd instars\")","v":1.0145090024813737},null,null,"Sum of 33",0,33,{"$f":"K157+GETPIVOTDATA(\"Sum of 33\",H$2,\"Day  \",\"Prob 2nd instars\")","v":2.2596659820116196},null,null,"Sum of 33",0,33,{"$f":"Q157+GETPIVOTDATA(\"Sum of 33\",N$2,\"Day  \",\"Prob 2nd instars\")","v":1.2539775596688845},null,null,"Sum of 33",0,33,{"$f":"W157+GETPIVOTDATA(\"Sum of 33\",T$2,\"Day  \",\"Prob 2nd instars\")","v":1.6248215013564529},null,null,"Sum of 33",0,33,{"$f":"AC157+GETPIVOTDATA(\"Sum of 33\",Z$2,\"Day  \",\"Prob 2nd instars\")","v":1.2907486061778732},null,null,"Sum of 33",0,33,{"$f":"AI157+GETPIVOTDATA(\"Sum of 33\",AF$2,\"Day  \",\"Prob 2nd instars\")","v":1.1097766952570098},null,null,"Sum of 33",0,33,{"$f":"AO157+GETPIVOTDATA(\"Sum of 33\",AL$2,\"Day  \",\"Prob 2nd instars\")","v":0},null,null,"Sum of 33",0,33,{"$f":"AU157+GETPIVOTDATA(\"Sum of 33\",AR$2,\"Day  \",\"Prob 2nd instars\")","v":0},null,null,"Sum of 33",0,33,{"$f":"BA157+GETPIVOTDATA(\"Sum of 33\",AX$2,\"Day  \",\"Prob 2nd instars\")","v":0},null,null,"Sum of 33",0,33,{"$f":"BG157+GETPIVOTDATA(\"Sum of 33\",BD$2,\"Day  \",\"Prob 2nd instars\")","v":0}]
[null,"Sum of 34",0,34,{"$f":"E158+GETPIVOTDATA(\"Sum of 34\",$B$2,\"Day  \",\"Prob 2nd instars\")","v":1.0145090024813737},null,null,"Sum of 34",0,34,{"$f":"K158+GETPIVOTDATA(\"Sum of 34\",H$2,\"Day  \",\"Prob 2nd instars\")","v":2.2596659820116196},null,null,"Sum of 34",0,34,{"$f":"Q158+GETPIVOTDATA(\"Sum of 34\",N$2,\"Day  \",\"Prob 2nd instars\")","v":1.2539775596688845},null,null,"Sum of 34",0,34,{"$f":"W158+GETPIVOTDATA(\"Sum of 34\",T$2,\"Day  \",\"Prob 2nd instars\")","v":1.6248215013564529},null,null,"Sum of 34",0,34,{"$f":"AC158+GETPIVOTDATA(\"Sum of 34\",Z$2,\"Day  \",\"Prob 2nd instars\")","v":1.2907486061778732},null,null,"Sum of 34",0,34,{"$f":"AI158+GETPIVOTDATA(\"Sum of 34\",AF$2,\"Day  \",\"Prob 2nd instars\")","v":1.1097766952570098},null,null,"Sum of 34",0,34,{"$f":"AO158+GETPIVOTDATA(\"Sum of 34\",AL$2,\"Day  \",\"Prob 2nd instars\")","v":0},null,null,"Sum of 34",0,34,{"$f":"AU158+GETPIVOTDATA(\"Sum of 34\",AR$2,\"Day  \",\"Prob 2nd instars\")","v":0},null,null,"Sum of 34",0,34,{"$f":"BA158+GETPIVOTDATA(\"Sum of 34\",AX$2,\"Day  \",\"Prob 2nd instars\")","v":0},null,null,"Sum of 34",0,34,{"$f":"BG158+GETPIVOTDATA(\"Sum of 34\",BD$2,\"Day  \",\"Prob 2nd instars\")","v":0}]
[null,"Sum of 35",0,35,{"$f":"E159+GETPIVOTDATA(\"Sum of 35\",$B$2,\"Day  \",\"Prob 2nd instars\")","v":1.0145090024813737},null,null,"Sum of 35",0,35,{"$f":"K159+GETPIVOTDATA(\"Sum of 35\",H$2,\"Day  \",\"Prob 2nd instars\")","v":2.2596659820116196},null,null,"Sum of 35",0,35,{"$f":"Q159+GETPIVOTDATA(\"Sum of 35\",N$2,\"Day  \",\"Prob 2nd instars\")","v":1.2539775596688845},null,null,"Sum of 35",0,35,{"$f":"W159+GETPIVOTDATA(\"Sum of 35\",T$2,\"Day  \",\"Prob 2nd instars\")","v":1.6248215013564529},null,null,"Sum of 35",0,35,{"$f":"AC159+GETPIVOTDATA(\"Sum of 35\",Z$2,\"Day  \",\"Prob 2nd instars\")","v":1.2907486061778732},null,null,"Sum of 35",0,35,{"$f":"AI159+GETPIVOTDATA(\"Sum of 35\",AF$2,\"Day  \",\"Prob 2nd instars\")","v":1.1097766952570098},null,null,"Sum of 35",0,35,{"$f":"AO159+GETPIVOTDATA(\"Sum of 35\",AL$2,\"Day  \",\"Prob 2nd instars\")","v":0},null,null,"Sum of 35",0,35,{"$f":"AU159+GETPIVOTDATA(\"Sum of 35\",AR$2,\"Day  \",\"Prob 2nd instars\")","v":0},null,null,"Sum of 35",0,35,{"$f":"BA159+GETPIVOTDATA(\"Sum of 35\",AX$2,\"Day  \",\"Prob 2nd instars\")","v":0},null,null,"Sum of 35",0,35,{"$f":"BG159+GETPIVOTDATA(\"Sum of 35\",BD$2,\"Day  \",\"Prob 2nd instars\")","v":0}]
[null,"Sum of 36",0,36,{"$f":"E160+GETPIVOTDATA(\"Sum of 36\",$B$2,\"Day  \",\"Prob 2nd instars\")","v":1.0145090024813737},null,null,"Sum of 36",0,36,{"$f":"K160+GETPIVOTDATA(\"Sum of 36\",H$2,\"Day  \",\"Prob 2nd instars\")","v":2.2596659820116196},null,null,"Sum of 36",0,36,{"$f":"Q160+GETPIVOTDATA(\"Sum of 36\",N$2,\"Day  \",\"Prob 2nd instars\")","v":1.2539775596688845},null,null,"Sum of 36",0,36,{"$f":"W160+GETPIVOTDATA(\"Sum of 36\",T$2,\"Day  \",\"Prob 2nd instars\")","v":1.6248215013564529},null,null,"Sum of 36",0,36,{"$f":"AC160+GETPIVOTDATA(\"Sum of 36\",Z$2,\"Day  \",\"Prob 2nd instars\")","v":1.2907486061778732},null,null,"Sum of 36",0,36,{"$f":"AI160+GETPIVOTDATA(\"Sum of 36\",AF$2,\"Day  \",\"Prob 2nd instars\")","v":1.1097766952570098},null,null,"Sum of 36",0,36,{"$f":"AO160+GETPIVOTDATA(\"Sum of 36\",AL$2,\"Day  \",\"Prob 2nd instars\")","v":0},null,null,"Sum of 36",0,36,{"$f":"AU160+GETPIVOTDATA(\"Sum of 36\",AR$2,\"Day  \",\"Prob 2nd instars\")","v":0},null,null,"Sum of 36",0,36,{"$f":"BA160+GETPIVOTDATA(\"Sum of 36\",AX$2,\"Day  \",\"Prob 2nd instars\")","v":0},null,null,"Sum of 36",0,36,{"$f":"BG160+GETPIVOTDATA(\"Sum of 36\",BD$2,\"Day  \",\"Prob 2nd instars\")","v":0}]
[null,"Sum of 37",0,37,{"$f":"E161+GETPIVOTDATA(\"Sum of 37\",$B$2,\"Day  \",\"Prob 2nd instars\")","v":1.0145090024813737},null,null,"Sum of 37",0,37,{"$f":"K161+GETPIVOTDATA(\"Sum of 37\",H$2,\"Day  \",\"Prob 2nd instars\")","v":2.2596659820116196},null,null,"Sum of 37",0,37,{"$f":"Q161+GETPIVOTDATA(\"Sum of 37\",N$2,\"Day  \",\"Prob 2nd instars\")","v":1.2539775596688845},null,null,"Sum of 37",0,37,{"$f":"W161+GETPIVOTDATA(\"Sum of 37\",T$2,\"Day  \",\"Prob 2nd instars\")","v":1.6248215013564529},null,null,"Sum of 37",0,37,{"$f":"AC161+GETPIVOTDATA(\"Sum of 37\",Z$2,\"Day  \",\"Prob 2nd instars\")","v":1.2907486061778732},null,null,"Sum of 37",0,37,{"$f":"AI161+GETPIVOTDATA(\"Sum of 37\",AF$2,\"Day  \",\"Prob 2nd instars\")","v":1.1097766952570098},null,null,"Sum of 37",0,37,{"$f":"AO161+GETPIVOTDATA(\"Sum of 37\",AL$2,\"Day  \",\"Prob 2nd instars\")","v":0},null,null,"Sum of 37",0,37,{"$f":"AU161+GETPIVOTDATA(\"Sum of 37\",AR$2,\"Day  \",\"Prob 2nd instars\")","v":0},null,null,"Sum of 37",0,37,{"$f":"BA161+GETPIVOTDATA(\"Sum of 37\",AX$2,\"Day  \",\"Prob 2nd instars\")","v":0},null,null,"Sum of 37",0,37,{"$f":"BG161+GETPIVOTDATA(\"Sum of 37\",BD$2,\"Day  \",\"Prob 2nd instars\")","v":0}]
[null,"Sum of 38",0,38,{"$f":"E162+GETPIVOTDATA(\"Sum of 38\",$B$2,\"Day  \",\"Prob 2nd instars\")","v":1.0145090024813737},null,null,"Sum of 38",0,38,{"$f":"K162+GETPIVOTDATA(\"Sum of 38\",H$2,\"Day  \",\"Prob 2nd instars\")","v":2.2596659820116196},null,null,"Sum of 38",0,38,{"$f":"Q162+GETPIVOTDATA(\"Sum of 38\",N$2,\"Day  \",\"Prob 2nd instars\")","v":1.2539775596688845},null,null,"Sum of 38",0,38,{"$f":"W162+GETPIVOTDATA(\"Sum of 38\",T$2,\"Day  \",\"Prob 2nd instars\")","v":1.6248215013564529},null,null,"Sum of 38",0,38,{"$f":"AC162+GETPIVOTDATA(\"Sum of 38\",Z$2,\"Day  \",\"Prob 2nd instars\")","v":1.2907486061778732},null,null,"Sum of 38",0,38,{"$f":"AI162+GETPIVOTDATA(\"Sum of 38\",AF$2,\"Day  \",\"Prob 2nd instars\")","v":1.1097766952570098},null,null,"Sum of 38",0,38,{"$f":"AO162+GETPIVOTDATA(\"Sum of 38\",AL$2,\"Day  \",\"Prob 2nd instars\")","v":0},null,null,"Sum of 38",0,38,{"$f":"AU162+GETPIVOTDATA(\"Sum of 38\",AR$2,\"Day  \",\"Prob 2nd instars\")","v":0},null,null,"Sum of 38",0,38,{"$f":"BA162+GETPIVOTDATA(\"Sum of 38\",AX$2,\"Day  \",\"Prob 2nd instars\")","v":0},null,null,"Sum of 38",0,38,{"$f":"BG162+GETPIVOTDATA(\"Sum of 38\",BD$2,\"Day  \",\"Prob 2nd instars\")","v":0}]
[null,"Sum of 39",0,39,{"$f":"E163+GETPIVOTDATA(\"Sum of 39\",$B$2,\"Day  \",\"Prob 2nd instars\")","v":1.0145090024813737},null,null,"Sum of 39",0,39,{"$f":"K163+GETPIVOTDATA(\"Sum of 39\",H$2,\"Day  \",\"Prob 2nd instars\")","v":2.2596659820116196},null,null,"Sum of 39",0,39,{"$f":"Q163+GETPIVOTDATA(\"Sum of 39\",N$2,\"Day  \",\"Prob 2nd instars\")","v":1.2539775596688845},null,null,"Sum of 39",0,39,{"$f":"W163+GETPIVOTDATA(\"Sum of 39\",T$2,\"Day  \",\"Prob 2nd instars\")","v":1.6248215013564529},null,null,"Sum of 39",0,39,{"$f":"AC163+GETPIVOTDATA(\"Sum of 39\",Z$2,\"Day  \",\"Prob 2nd instars\")","v":1.2907486061778732},null,null,"Sum of 39",0,39,{"$f":"AI163+GETPIVOTDATA(\"Sum of 39\",AF$2,\"Day  \",\"Prob 2nd instars\")","v":1.1097766952570098},null,null,"Sum of 39",0,39,{"$f":"AO163+GETPIVOTDATA(\"Sum of 39\",AL$2,\"Day  \",\"Prob 2nd instars\")","v":0},null,null,"Sum of 39",0,39,{"$f":"AU163+GETPIVOTDATA(\"Sum of 39\",AR$2,\"Day  \",\"Prob 2nd instars\")","v":0},null,null,"Sum of 39",0,39,{"$f":"BA163+GETPIVOTDATA(\"Sum of 39\",AX$2,\"Day  \",\"Prob 2nd instars\")","v":0},null,null,"Sum of 39",0,39,{"$f":"BG163+GETPIVOTDATA(\"Sum of 39\",BD$2,\"Day  \",\"Prob 2nd instars\")","v":0}]
[null,"Sum of 40",0,40,{"$f":"E164+GETPIVOTDATA(\"Sum of 40\",$B$2,\"Day  \",\"Prob 2nd instars\")","v":1.0145090024813737},null,null,"Sum of 40",0,40,{"$f":"K164+GETPIVOTDATA(\"Sum of 40\",H$2,\"Day  \",\"Prob 2nd instars\")","v":2.2596659820116196},null,null,"Sum of 40",0,40,{"$f":"Q164+GETPIVOTDATA(\"Sum of 40\",N$2,\"Day  \",\"Prob 2nd instars\")","v":1.2539775596688845},null,null,"Sum of 40",0,40,{"$f":"W164+GETPIVOTDATA(\"Sum of 40\",T$2,\"Day  \",\"Prob 2nd instars\")","v":1.6248215013564529},null,null,"Sum of 40",0,40,{"$f":"AC164+GETPIVOTDATA(\"Sum of 40\",Z$2,\"Day  \",\"Prob 2nd instars\")","v":1.2907486061778732},null,null,"Sum of 40",0,40,{"$f":"AI164+GETPIVOTDATA(\"Sum of 40\",AF$2,\"Day  \",\"Prob 2nd instars\")","v":1.1097766952570098},null,null,"Sum of 40",0,40,{"$f":"AO164+GETPIVOTDATA(\"Sum of 40\",AL$2,\"Day  \",\"Prob 2nd instars\")","v":0},null,null,"Sum of 40",0,40,{"$f":"AU164+GETPIVOTDATA(\"Sum of 40\",AR$2,\"Day  \",\"Prob 2nd instars\")","v":0},null,null,"Sum of 40",0,40,{"$f":"BA164+GETPIVOTDATA(\"Sum of 40\",AX$2,\"Day  \",\"Prob 2nd instars\")","v":0},null,null,"Sum of 40",0,40,{"$f":"BG164+GETPIVOTDATA(\"Sum of 40\",BD$2,\"Day  \",\"Prob 2nd instars\")","v":0}]
[null,"Sum of 41",0,41,{"$f":"E165+GETPIVOTDATA(\"Sum of 41\",$B$2,\"Day  \",\"Prob 2nd instars\")","v":1.0145090024813737},null,null,"Sum of 41",0,41,{"$f":"K165+GETPIVOTDATA(\"Sum of 41\",H$2,\"Day  \",\"Prob 2nd instars\")","v":2.2596659820116196},null,null,"Sum of 41",0,41,{"$f":"Q165+GETPIVOTDATA(\"Sum of 41\",N$2,\"Day  \",\"Prob 2nd instars\")","v":1.2539775596688845},null,null,"Sum of 41",0,41,{"$f":"W165+GETPIVOTDATA(\"Sum of 41\",T$2,\"Day  \",\"Prob 2nd instars\")","v":1.6248215013564529},null,null,"Sum of 41",0,41,{"$f":"AC165+GETPIVOTDATA(\"Sum of 41\",Z$2,\"Day  \",\"Prob 2nd instars\")","v":1.2907486061778732},null,null,"Sum of 41",0,41,{"$f":"AI165+GETPIVOTDATA(\"Sum of 41\",AF$2,\"Day  \",\"Prob 2nd instars\")","v":1.1097766952570098},null,null,"Sum of 41",0,41,{"$f":"AO165+GETPIVOTDATA(\"Sum of 41\",AL$2,\"Day  \",\"Prob 2nd instars\")","v":0},null,null,"Sum of 41",0,41,{"$f":"AU165+GETPIVOTDATA(\"Sum of 41\",AR$2,\"Day  \",\"Prob 2nd instars\")","v":0},null,null,"Sum of 41",0,41,{"$f":"BA165+GETPIVOTDATA(\"Sum of 41\",AX$2,\"Day  \",\"Prob 2nd instars\")","v":0},null,null,"Sum of 41",0,41,{"$f":"BG165+GETPIVOTDATA(\"Sum of 41\",BD$2,\"Day  \",\"Prob 2nd instars\")","v":0}]
[null,"Sum of 42",0,42,{"$f":"E166+GETPIVOTDATA(\"Sum of 42\",$B$2,\"Day  \",\"Prob 2nd instars\")","v":1.0145090024813737},null,null,"Sum of 42",0,42,{"$f":"K166+GETPIVOTDATA(\"Sum of 42\",$B$2,\"Day  \",\"Prob 2nd instars\")","v":2.2596659820116196},null,null,"Sum of 42",0,42,{"$f":"Q166+GETPIVOTDATA(\"Sum of 42\",$B$2,\"Day  \",\"Prob 2nd instars\")","v":1.2539775596688845},null,null,"Sum of 42",0,42,{"$f":"W166+GETPIVOTDATA(\"Sum of 42\",$B$2,\"Day  \",\"Prob 2nd instars\")","v":1.6248215013564529},null,null,"Sum of 42",0,42,{"$f":"AC166+GETPIVOTDATA(\"Sum of 42\",$B$2,\"Day  \",\"Prob 2nd instars\")","v":1.2907486061778732},null,null,"Sum of 42",0,42,{"$f":"AI166+GETPIVOTDATA(\"Sum of 42\",$B$2,\"Day  \",\"Prob 2nd instars\")","v":1.1097766952570098},null,null,"Sum of 42",0,42,{"$f":"AO166+GETPIVOTDATA(\"Sum of 42\",$B$2,\"Day  \",\"Prob 2nd instars\")","v":0},null,null,"Sum of 42",0,42,{"$f":"AU166+GETPIVOTDATA(\"Sum of 42\",$B$2,\"Day  \",\"Prob 2nd instars\")","v":0},null,null,"Sum of 42",0,42,{"$f":"BA166+GETPIVOTDATA(\"Sum of 42\",$B$2,\"Day  \",\"Prob 2nd instars\")","v":0},null,null,"Sum of 42",0,42,{"$f":"BG166+GETPIVOTDATA(\"Sum of 42\",$B$2,\"Day  \",\"Prob 2nd instars\")","v":0}]
[null,"Sum of 43",0,43,{"$f":"E167+GETPIVOTDATA(\"Sum of 43\",$B$2,\"Day  \",\"Prob 2nd instars\")","v":1.0145090024813737},null,null,"Sum of 43",0,43,{"$f":"K167+GETPIVOTDATA(\"Sum of 43\",H$2,\"Day  \",\"Prob 2nd instars\")","v":2.2596659820116196},null,null,"Sum of 43",0,43,{"$f":"Q167+GETPIVOTDATA(\"Sum of 43\",N$2,\"Day  \",\"Prob 2nd instars\")","v":1.2539775596688845},null,null,"Sum of 43",0,43,{"$f":"W167+GETPIVOTDATA(\"Sum of 43\",T$2,\"Day  \",\"Prob 2nd instars\")","v":1.6248215013564529},null,null,"Sum of 43",0,43,{"$f":"AC167+GETPIVOTDATA(\"Sum of 43\",Z$2,\"Day  \",\"Prob 2nd instars\")","v":1.2907486061778732},null,null,"Sum of 43",0,43,{"$f":"AI167+GETPIVOTDATA(\"Sum of 43\",AF$2,\"Day  \",\"Prob 2nd instars\")","v":1.1097766952570098},null,null,"Sum of 43",0,43,{"$f":"AO167+GETPIVOTDATA(\"Sum of 43\",AL$2,\"Day  \",\"Prob 2nd instars\")","v":0},null,null,"Sum of 43",0,43,{"$f":"AU167+GETPIVOTDATA(\"Sum of 43\",AR$2,\"Day  \",\"Prob 2nd instars\")","v":0},null,null,"Sum of 43",0,43,{"$f":"BA167+GETPIVOTDATA(\"Sum of 43\",AX$2,\"Day  \",\"Prob 2nd instars\")","v":0},null,null,"Sum of 43",0,43,{"$f":"BG167+GETPIVOTDATA(\"Sum of 43\",BD$2,\"Day  \",\"Prob 2nd instars\")","v":0}]
[null,"Sum of 44",0,44,{"$f":"E168+GETPIVOTDATA(\"Sum of 44\",$B$2,\"Day  \",\"Prob 2nd instars\")","v":1.0145090024813737},null,null,"Sum of 44",0,44,{"$f":"K168+GETPIVOTDATA(\"Sum of 44\",H$2,\"Day  \",\"Prob 2nd instars\")","v":2.2596659820116196},null,null,"Sum of 44",0,44,{"$f":"Q168+GETPIVOTDATA(\"Sum of 44\",N$2,\"Day  \",\"Prob 2nd instars\")","v":1.2539775596688845},null,null,"Sum of 44",0,44,{"$f":"W168+GETPIVOTDATA(\"Sum of 44\",T$2,\"Day  \",\"Prob 2nd instars\")","v":1.6248215013564529},null,null,"Sum of 44",0,44,{"$f":"AC168+GETPIVOTDATA(\"Sum of 44\",Z$2,\"Day  \",\"Prob 2nd instars\")","v":1.2907486061778732},null,null,"Sum of 44",0,44,{"$f":"AI168+GETPIVOTDATA(\"Sum of 44\",AF$2,\"Day  \",\"Prob 2nd instars\")","v":1.1097766952570098},null,null,"Sum of 44",0,44,{"$f":"AO168+GETPIVOTDATA(\"Sum of 44\",AL$2,\"Day  \",\"Prob 2nd instars\")","v":0},null,null,"Sum of 44",0,44,{"$f":"AU168+GETPIVOTDATA(\"Sum of 44\",AR$2,\"Day  \",\"Prob 2nd instars\")","v":0},null,null,"Sum of 44",0,44,{"$f":"BA168+GETPIVOTDATA(\"Sum of 44\",AX$2,\"Day  \",\"Prob 2nd instars\")","v":0},null,null,"Sum of 44",0,44,{"$f":"BG168+GETPIVOTDATA(\"Sum of 44\",BD$2,\"Day  \",\"Prob 2nd instars\")","v":0}]
[null,"Sum of 45",0,45,{"$f":"E169+GETPIVOTDATA(\"Sum of 45\",$B$2,\"Day  \",\"Prob 2nd instars\")","v":1.0145090024813737},null,null,"Sum of 45",0,45,{"$f":"K169+GETPIVOTDATA(\"Sum of 45\",H$2,\"Day  \",\"Prob 2nd instars\")","v":2.2596659820116196},null,null,"Sum of 45",0,45,{"$f":"Q169+GETPIVOTDATA(\"Sum of 45\",N$2,\"Day  \",\"Prob 2nd instars\")","v":1.2539775596688845},null,null,"Sum of 45",0,45,{"$f":"W169+GETPIVOTDATA(\"Sum of 45\",T$2,\"Day  \",\"Prob 2nd instars\")","v":1.6248215013564529},null,null,"Sum of 45",0,45,{"$f":"AC169+GETPIVOTDATA(\"Sum of 45\",Z$2,\"Day  \",\"Prob 2nd instars\")","v":1.2907486061778732},null,null,"Sum of 45",0,45,{"$f":"AI169+GETPIVOTDATA(\"Sum of 45\",AF$2,\"Day  \",\"Prob 2nd instars\")","v":1.1097766952570098},null,null,"Sum of 45",0,45,{"$f":"AO169+GETPIVOTDATA(\"Sum of 45\",AL$2,\"Day  \",\"Prob 2nd instars\")","v":0},null,null,"Sum of 45",0,45,{"$f":"AU169+GETPIVOTDATA(\"Sum of 45\",AR$2,\"Day  \",\"Prob 2nd instars\")","v":0},null,null,"Sum of 45",0,45,{"$f":"BA169+GETPIVOTDATA(\"Sum of 45\",AX$2,\"Day  \",\"Prob 2nd instars\")","v":0},null,null,"Sum of 45",0,45,{"$f":"BG169+GETPIVOTDATA(\"Sum of 45\",BD$2,\"Day  \",\"Prob 2nd instars\")","v":0}]
[null,"Sum of 47",0,46,{"$f":"E170+GETPIVOTDATA(\"Sum of 46\",$B$2,\"Day  \",\"Prob 2nd instars\")","v":1.0145090024813737},null,null,"Sum of 46",0,46,{"$f":"K170+GETPIVOTDATA(\"Sum of 46\",H$2,\"Day  \",\"Prob 2nd instars\")","v":2.2596659820116196},null,null,"Sum of 46",0,46,{"$f":"Q170+GETPIVOTDATA(\"Sum of 46\",N$2,\"Day  \",\"Prob 2nd instars\")","v":1.2539775596688845},null,null,"Sum of 46",0,46,{"$f":"W170+GETPIVOTDATA(\"Sum of 46\",T$2,\"Day  \",\"Prob 2nd instars\")","v":1.6248215013564529},null,null,"Sum of 46",0,46,{"$f":"AC170+GETPIVOTDATA(\"Sum of 46\",Z$2,\"Day  \",\"Prob 2nd instars\")","v":1.2907486061778732},null,null,"Sum of 46",0,46,{"$f":"AI170+GETPIVOTDATA(\"Sum of 46\",AF$2,\"Day  \",\"Prob 2nd instars\")","v":1.1097766952570098},null,null,"Sum of 46",0,46,{"$f":"AO170+GETPIVOTDATA(\"Sum of 46\",AL$2,\"Day  \",\"Prob 2nd instars\")","v":0},null,null,"Sum of 46",0,46,{"$f":"AU170+GETPIVOTDATA(\"Sum of 46\",AR$2,\"Day  \",\"Prob 2nd instars\")","v":0},null,null,"Sum of 46",0,46,{"$f":"BA170+GETPIVOTDATA(\"Sum of 46\",AX$2,\"Day  \",\"Prob 2nd instars\")","v":0},null,null,"Sum of 46",0,46,{"$f":"BG170+GETPIVOTDATA(\"Sum of 46\",BD$2,\"Day  \",\"Prob 2nd instars\")","v":0}]
[null,"Sum of 46",0,47,{"$f":"E171+GETPIVOTDATA(\"Sum of 47\",$B$2,\"Day  \",\"Prob 2nd instars\")","v":1.0145090024813737},null,null,"Sum of 47",0,47,{"$f":"K171+GETPIVOTDATA(\"Sum of 47\",H$2,\"Day  \",\"Prob 2nd instars\")","v":2.2596659820116196},null,null,"Sum of 47",0,47,{"$f":"Q171+GETPIVOTDATA(\"Sum of 47\",N$2,\"Day  \",\"Prob 2nd instars\")","v":1.2539775596688845},null,null,"Sum of 47",0,47,{"$f":"W171+GETPIVOTDATA(\"Sum of 47\",T$2,\"Day  \",\"Prob 2nd instars\")","v":1.6248215013564529},null,null,"Sum of 47",0,47,{"$f":"AC171+GETPIVOTDATA(\"Sum of 47\",Z$2,\"Day  \",\"Prob 2nd instars\")","v":1.2907486061778732},null,null,"Sum of 47",0,47,{"$f":"AI171+GETPIVOTDATA(\"Sum of 47\",AF$2,\"Day  \",\"Prob 2nd instars\")","v":1.1097766952570098},null,null,"Sum of 47",0,47,{"$f":"AO171+GETPIVOTDATA(\"Sum of 47\",AL$2,\"Day  \",\"Prob 2nd instars\")","v":0},null,null,"Sum of 47",0,47,{"$f":"AU171+GETPIVOTDATA(\"Sum of 47\",AR$2,\"Day  \",\"Prob 2nd instars\")","v":0},null,null,"Sum of 47",0,47,{"$f":"BA171+GETPIVOTDATA(\"Sum of 47\",AX$2,\"Day  \",\"Prob 2nd instars\")","v":0},null,null,"Sum of 47",0,47,{"$f":"BG171+GETPIVOTDATA(\"Sum of 47\",BD$2,\"Day  \",\"Prob 2nd instars\")","v":0}]
[null,"Sum of 48",0,48,{"$f":"E172+GETPIVOTDATA(\"Sum of 48\",$B$2,\"Day  \",\"Prob 2nd instars\")","v":1.0145090024813737},null,null,"Sum of 48",0,48,{"$f":"K172+GETPIVOTDATA(\"Sum of 48\",H$2,\"Day  \",\"Prob 2nd instars\")","v":2.2596659820116196},null,null,"Sum of 48",0,48,{"$f":"Q172+GETPIVOTDATA(\"Sum of 48\",N$2,\"Day  \",\"Prob 2nd instars\")","v":1.2539775596688845},null,null,"Sum of 48",0,48,{"$f":"W172+GETPIVOTDATA(\"Sum of 48\",T$2,\"Day  \",\"Prob 2nd instars\")","v":1.6248215013564529},null,null,"Sum of 48",0,48,{"$f":"AC172+GETPIVOTDATA(\"Sum of 48\",Z$2,\"Day  \",\"Prob 2nd instars\")","v":1.2907486061778732},null,null,"Sum of 48",0,48,{"$f":"AI172+GETPIVOTDATA(\"Sum of 48\",AF$2,\"Day  \",\"Prob 2nd instars\")","v":1.1097766952570098},null,null,"Sum of 48",0,48,{"$f":"AO172+GETPIVOTDATA(\"Sum of 48\",AL$2,\"Day  \",\"Prob 2nd instars\")","v":0},null,null,"Sum of 48",0,48,{"$f":"AU172+GETPIVOTDATA(\"Sum of 48\",AR$2,\"Day  \",\"Prob 2nd instars\")","v":0},null,null,"Sum of 48",0,48,{"$f":"BA172+GETPIVOTDATA(\"Sum of 48\",AX$2,\"Day  \",\"Prob 2nd instars\")","v":0},null,null,"Sum of 48",0,48,{"$f":"BG172+GETPIVOTDATA(\"Sum of 48\",BD$2,\"Day  \",\"Prob 2nd instars\")","v":0}]
[null,"Sum of 49",0,49,{"$f":"E173+GETPIVOTDATA(\"Sum of 49\",$B$2,\"Day  \",\"Prob 2nd instars\")","v":1.0145090024813737},null,null,"Sum of 49",0,49,{"$f":"K173+GETPIVOTDATA(\"Sum of 49\",H$2,\"Day  \",\"Prob 2nd instars\")","v":2.2596659820116196},null,null,"Sum of 49",0,49,{"$f":"Q173+GETPIVOTDATA(\"Sum of 49\",N$2,\"Day  \",\"Prob 2nd instars\")","v":1.2539775596688845},null,null,"Sum of 49",0,49,{"$f":"W173+GETPIVOTDATA(\"Sum of 49\",T$2,\"Day  \",\"Prob 2nd instars\")","v":1.6248215013564529},null,null,"Sum of 49",0,49,{"$f":"AC173+GETPIVOTDATA(\"Sum of 49\",Z$2,\"Day  \",\"Prob 2nd instars\")","v":1.2907486061778732},null,null,"Sum of 49",0,49,{"$f":"AI173+GETPIVOTDATA(\"Sum of 49\",AF$2,\"Day  \",\"Prob 2nd instars\")","v":1.1097766952570098},null,null,"Sum of 49",0,49,{"$f":"AO173+GETPIVOTDATA(\"Sum of 49\",AL$2,\"Day  \",\"Prob 2nd instars\")","v":0},null,null,"Sum of 49",0,49,{"$f":"AU173+GETPIVOTDATA(\"Sum of 49\",AR$2,\"Day  \",\"Prob 2nd instars\")","v":0},null,null,"Sum of 49",0,49,{"$f":"BA173+GETPIVOTDATA(\"Sum of 49\",AX$2,\"Day  \",\"Prob 2nd instars\")","v":0},null,null,"Sum of 49",0,49,{"$f":"BG173+GETPIVOTDATA(\"Sum of 49\",BD$2,\"Day  \",\"Prob 2nd instars\")","v":0}]
[null,"Sum of 50",0,50,{"$f":"E174+GETPIVOTDATA(\"Sum of 50\",$B$2,\"Day  \",\"Prob 2nd instars\")","v":1.0145090024813737},null,null,"Sum of 50",0,50,{"$f":"K174+GETPIVOTDATA(\"Sum of 50\",H$2,\"Day  \",\"Prob 2nd instars\")","v":2.2596659820116196},null,null,"Sum of 50",0,50,{"$f":"Q174+GETPIVOTDATA(\"Sum of 50\",N$2,\"Day  \",\"Prob 2nd instars\")","v":1.2539775596688845},null,null,"Sum of 50",0,50,{"$f":"W174+GETPIVOTDATA(\"Sum of 50\",T$2,\"Day  \",\"Prob 2nd instars\")","v":1.6248215013564529},null,null,"Sum of 50",0,50,{"$f":"AC174+GETPIVOTDATA(\"Sum of 50\",Z$2,\"Day  \",\"Prob 2nd instars\")","v":1.2907486061778732},null,null,"Sum of 50",0,50,{"$f":"AI174+GETPIVOTDATA(\"Sum of 50\",AF$2,\"Day  \",\"Prob 2nd instars\")","v":1.1097766952570098},null,null,"Sum of 50",0,50,{"$f":"AO174+GETPIVOTDATA(\"Sum of 50\",AL$2,\"Day  \",\"Prob 2nd instars\")","v":0},null,null,"Sum of 50",0,50,{"$f":"AU174+GETPIVOTDATA(\"Sum of 50\",AR$2,\"Day  \",\"Prob 2nd instars\")","v":0},null,null,"Sum of 50",0,50,{"$f":"BA174+GETPIVOTDATA(\"Sum of 50\",AX$2,\"Day  \",\"Prob 2nd instars\")","v":0},null,null,"Sum of 50",0,50,{"$f":"BG174+GETPIVOTDATA(\"Sum of 50\",BD$2,\"Day  \",\"Prob 2nd instars\")","v":0}]
[null,"Sum of 51",0,51,{"$f":"E175+GETPIVOTDATA(\"Sum of 51\",$B$2,\"Day  \",\"Prob 2nd instars\")","v":1.0145090024813737},null,null,"Sum of 51",0,51,{"$f":"K175+GETPIVOTDATA(\"Sum of 51\",H$2,\"Day  \",\"Prob 2nd instars\")","v":2.2596659820116196},null,null,"Sum of 51",0,51,{"$f":"Q175+GETPIVOTDATA(\"Sum of 51\",N$2,\"Day  \",\"Prob 2nd instars\")","v":1.2539775596688845},null,null,"Sum of 51",0,51,{"$f":"W175+GETPIVOTDATA(\"Sum of 51\",T$2,\"Day  \",\"Prob 2nd instars\")","v":1.6248215013564529},null,null,"Sum of 51",0,51,{"$f":"AC175+GETPIVOTDATA(\"Sum of 51\",Z$2,\"Day  \",\"Prob 2nd instars\")","v":1.2907486061778732},null,null,"Sum of 51",0,51,{"$f":"AI175+GETPIVOTDATA(\"Sum of 51\",AF$2,\"Day  \",\"Prob 2nd instars\")","v":1.1097766952570098},null,null,"Sum of 51",0,51,{"$f":"AO175+GETPIVOTDATA(\"Sum of 51\",AL$2,\"Day  \",\"Prob 2nd instars\")","v":0},null,null,"Sum of 51",0,51,{"$f":"AU175+GETPIVOTDATA(\"Sum of 51\",AR$2,\"Day  \",\"Prob 2nd instars\")","v":0},null,null,"Sum of 51",0,51,{"$f":"BA175+GETPIVOTDATA(\"Sum of 51\",AX$2,\"Day  \",\"Prob 2nd instars\")","v":0},null,null,"Sum of 51",0,51,{"$f":"BG175+GETPIVOTDATA(\"Sum of 51\",BD$2,\"Day  \",\"Prob 2nd instars\")","v":0}]
[null,"Sum of 52",0,52,{"$f":"E176+GETPIVOTDATA(\"Sum of 52\",$B$2,\"Day  \",\"Prob 2nd instars\")","v":1.0145090024813737},null,null,"Sum of 52",0,52,{"$f":"K176+GETPIVOTDATA(\"Sum of 52\",H$2,\"Day  \",\"Prob 2nd instars\")","v":2.2596659820116196},null,null,"Sum of 52",0,52,{"$f":"Q176+GETPIVOTDATA(\"Sum of 52\",N$2,\"Day  \",\"Prob 2nd instars\")","v":1.2539775596688845},null,null,"Sum of 52",0,52,{"$f":"W176+GETPIVOTDATA(\"Sum of 52\",T$2,\"Day  \",\"Prob 2nd instars\")","v":1.6248215013564529},null,null,"Sum of 52",0,52,{"$f":"AC176+GETPIVOTDATA(\"Sum of 52\",Z$2,\"Day  \",\"Prob 2nd instars\")","v":1.2907486061778732},null,null,"Sum of 52",0,52,{"$f":"AI176+GETPIVOTDATA(\"Sum of 52\",AF$2,\"Day  \",\"Prob 2nd instars\")","v":1.1097766952570098},null,null,"Sum of 52",0,52,{"$f":"AO176+GETPIVOTDATA(\"Sum of 52\",AL$2,\"Day  \",\"Prob 2nd instars\")","v":0},null,null,"Sum of 52",0,52,{"$f":"AU176+GETPIVOTDATA(\"Sum of 52\",AR$2,\"Day  \",\"Prob 2nd instars\")","v":0},null,null,"Sum of 52",0,52,{"$f":"BA176+GETPIVOTDATA(\"Sum of 52\",AX$2,\"Day  \",\"Prob 2nd instars\")","v":0},null,null,"Sum of 52",0,52,{"$f":"BG176+GETPIVOTDATA(\"Sum of 52\",BD$2,\"Day  \",\"Prob 2nd instars\")","v":0}]
[null,"Sum of 53",0,53,{"$f":"E177+GETPIVOTDATA(\"Sum of 53\",$B$2,\"Day  \",\"Prob 2nd instars\")","v":1.0145090024813737},null,null,"Sum of 53",0,53,{"$f":"K177+GETPIVOTDATA(\"Sum of 53\",H$2,\"Day  \",\"Prob 2nd instars\")","v":2.2596659820116196},null,null,"Sum of 53",0,53,{"$f":"Q177+GETPIVOTDATA(\"Sum of 53\",N$2,\"Day  \",\"Prob 2nd instars\")","v":1.2539775596688845},null,null,"Sum of 53",0,53,{"$f":"W177+GETPIVOTDATA(\"Sum of 53\",T$2,\"Day  \",\"Prob 2nd instars\")","v":1.6248215013564529},null,null,"Sum of 53",0,53,{"$f":"AC177+GETPIVOTDATA(\"Sum of 53\",Z$2,\"Day  \",\"Prob 2nd instars\")","v":1.2907486061778732},null,null,"Sum of 53",0,53,{"$f":"AI177+GETPIVOTDATA(\"Sum of 53\",AF$2,\"Day  \",\"Prob 2nd instars\")","v":1.1097766952570098},null,null,"Sum of 53",0,53,{"$f":"AO177+GETPIVOTDATA(\"Sum of 53\",AL$2,\"Day  \",\"Prob 2nd instars\")","v":0},null,null,"Sum of 53",0,53,{"$f":"AU177+GETPIVOTDATA(\"Sum of 53\",AR$2,\"Day  \",\"Prob 2nd instars\")","v":0},null,null,"Sum of 53",0,53,{"$f":"BA177+GETPIVOTDATA(\"Sum of 53\",AX$2,\"Day  \",\"Prob 2nd instars\")","v":0},null,null,"Sum of 53",0,53,{"$f":"BG177+GETPIVOTDATA(\"Sum of 53\",BD$2,\"Day  \",\"Prob 2nd instars\")","v":0}]
[null,"Sum of 54",0,54,{"$f":"E178+GETPIVOTDATA(\"Sum of 54\",$B$2,\"Day  \",\"Prob 2nd instars\")","v":1.0145090024813737},null,null,"Sum of 54",0,54,{"$f":"K178+GETPIVOTDATA(\"Sum of 54\",H$2,\"Day  \",\"Prob 2nd instars\")","v":2.2596659820116196},null,null,"Sum of 54",0,54,{"$f":"Q178+GETPIVOTDATA(\"Sum of 54\",N$2,\"Day  \",\"Prob 2nd instars\")","v":1.2539775596688845},null,null,"Sum of 54",0,54,{"$f":"W178+GETPIVOTDATA(\"Sum of 54\",T$2,\"Day  \",\"Prob 2nd instars\")","v":1.6248215013564529},null,null,"Sum of 54",0,54,{"$f":"AC178+GETPIVOTDATA(\"Sum of 54\",Z$2,\"Day  \",\"Prob 2nd instars\")","v":1.2907486061778732},null,null,"Sum of 54",0,54,{"$f":"AI178+GETPIVOTDATA(\"Sum of 54\",AF$2,\"Day  \",\"Prob 2nd instars\")","v":1.1097766952570098},null,null,"Sum of 54",0,54,{"$f":"AO178+GETPIVOTDATA(\"Sum of 54\",AL$2,\"Day  \",\"Prob 2nd instars\")","v":0},null,null,"Sum of 54",0,54,{"$f":"AU178+GETPIVOTDATA(\"Sum of 54\",AR$2,\"Day  \",\"Prob 2nd instars\")","v":0},null,null,"Sum of 54",0,54,{"$f":"BA178+GETPIVOTDATA(\"Sum of 54\",AX$2,\"Day  \",\"Prob 2nd instars\")","v":0},null,null,"Sum of 54",0,54,{"$f":"BG178+GETPIVOTDATA(\"Sum of 54\",BD$2,\"Day  \",\"Prob 2nd instars\")","v":0}]
[null,"Sum of 55",0,55,{"$f":"E179+GETPIVOTDATA(\"Sum of 55\",$B$2,\"Day  \",\"Prob 2nd instars\")","v":1.0145090024813737},null,null,"Sum of 55",0,55,{"$f":"K179+GETPIVOTDATA(\"Sum of 55\",H$2,\"Day  \",\"Prob 2nd instars\")","v":2.2596659820116196},null,null,"Sum of 55",0,55,{"$f":"Q179+GETPIVOTDATA(\"Sum of 55\",N$2,\"Day  \",\"Prob 2nd instars\")","v":1.2539775596688845},null,null,"Sum of 55",0,55,{"$f":"W179+GETPIVOTDATA(\"Sum of 55\",T$2,\"Day  \",\"Prob 2nd instars\")","v":1.6248215013564529},null,null,"Sum of 55",0,55,{"$f":"AC179+GETPIVOTDATA(\"Sum of 55\",Z$2,\"Day  \",\"Prob 2nd instars\")","v":1.2907486061778732},null,null,"Sum of 55",0,55,{"$f":"AI179+GETPIVOTDATA(\"Sum of 55\",AF$2,\"Day  \",\"Prob 2nd instars\")","v":1.1097766952570098},null,null,"Sum of 55",0,55,{"$f":"AO179+GETPIVOTDATA(\"Sum of 55\",AL$2,\"Day  \",\"Prob 2nd instars\")","v":0},null,null,"Sum of 55",0,55,{"$f":"AU179+GETPIVOTDATA(\"Sum of 55\",AR$2,\"Day  \",\"Prob 2nd instars\")","v":0},null,null,"Sum of 55",0,55,{"$f":"BA179+GETPIVOTDATA(\"Sum of 55\",AX$2,\"Day  \",\"Prob 2nd instars\")","v":0},null,null,"Sum of 55",0,55,{"$f":"BG179+GETPIVOTDATA(\"Sum of 55\",BD$2,\"Day  \",\"Prob 2nd instars\")","v":0}]
[null,"Sum of 56",0,56,{"$f":"E180+GETPIVOTDATA(\"Sum of 56\",$B$2,\"Day  \",\"Prob 2nd instars\")","v":1.0145090024813737},null,null,"Sum of 56",0,56,{"$f":"K180+GETPIVOTDATA(\"Sum of 56\",H$2,\"Day  \",\"Prob 2nd instars\")","v":2.2596659820116196},null,null,"Sum of 56",0,56,{"$f":"Q180+GETPIVOTDATA(\"Sum of 56\",N$2,\"Day  \",\"Prob 2nd instars\")","v":1.2539775596688845},null,null,"Sum of 56",0,56,{"$f":"W180+GETPIVOTDATA(\"Sum of 56\",T$2,\"Day  \",\"Prob 2nd instars\")","v":1.6248215013564529},null,null,"Sum of 56",0,56,{"$f":"AC180+GETPIVOTDATA(\"Sum of 56\",Z$2,\"Day  \",\"Prob 2nd instars\")","v":1.2907486061778732},null,null,"Sum of 56",0,56,{"$f":"AI180+GETPIVOTDATA(\"Sum of 56\",AF$2,\"Day  \",\"Prob 2nd instars\")","v":1.1097766952570098},null,null,"Sum of 56",0,56,{"$f":"AO180+GETPIVOTDATA(\"Sum of 56\",AL$2,\"Day  \",\"Prob 2nd instars\")","v":0},null,null,"Sum of 56",0,56,{"$f":"AU180+GETPIVOTDATA(\"Sum of 56\",AR$2,\"Day  \",\"Prob 2nd instars\")","v":0},null,null,"Sum of 56",0,56,{"$f":"BA180+GETPIVOTDATA(\"Sum of 56\",AX$2,\"Day  \",\"Prob 2nd instars\")","v":0},null,null,"Sum of 56",0,56,{"$f":"BG180+GETPIVOTDATA(\"Sum of 56\",BD$2,\"Day  \",\"Prob 2nd instars\")","v":0}]
[null,"Sum of 57",0,57,{"$f":"E181+GETPIVOTDATA(\"Sum of 57\",$B$2,\"Day  \",\"Prob 2nd instars\")","v":1.0145090024813737},null,null,"Sum of 57",0,57,{"$f":"K181+GETPIVOTDATA(\"Sum of 57\",H$2,\"Day  \",\"Prob 2nd instars\")","v":2.2596659820116196},null,null,"Sum of 57",0,57,{"$f":"Q181+GETPIVOTDATA(\"Sum of 57\",N$2,\"Day  \",\"Prob 2nd instars\")","v":1.2539775596688845},null,null,"Sum of 57",0,57,{"$f":"W181+GETPIVOTDATA(\"Sum of 57\",T$2,\"Day  \",\"Prob 2nd instars\")","v":1.6248215013564529},null,null,"Sum of 57",0,57,{"$f":"AC181+GETPIVOTDATA(\"Sum of 57\",Z$2,\"Day  \",\"Prob 2nd instars\")","v":1.2907486061778732},null,null,"Sum of 57",0,57,{"$f":"AI181+GETPIVOTDATA(\"Sum of 57\",AF$2,\"Day  \",\"Prob 2nd instars\")","v":1.1097766952570098},null,null,"Sum of 57",0,57,{"$f":"AO181+GETPIVOTDATA(\"Sum of 57\",AL$2,\"Day  \",\"Prob 2nd instars\")","v":0},null,null,"Sum of 57",0,57,{"$f":"AU181+GETPIVOTDATA(\"Sum of 57\",AR$2,\"Day  \",\"Prob 2nd instars\")","v":0},null,null,"Sum of 57",0,57,{"$f":"BA181+GETPIVOTDATA(\"Sum of 57\",AX$2,\"Day  \",\"Prob 2nd instars\")","v":0},null,null,"Sum of 57",0,57,{"$f":"BG181+GETPIVOTDATA(\"Sum of 57\",BD$2,\"Day  \",\"Prob 2nd instars\")","v":0}]
[null,"Sum of 58",0,58,{"$f":"E182+GETPIVOTDATA(\"Sum of 58\",$B$2,\"Day  \",\"Prob 2nd instars\")","v":1.0145090024813737},null,null,"Sum of 58",0,58,{"$f":"K182+GETPIVOTDATA(\"Sum of 58\",H$2,\"Day  \",\"Prob 2nd instars\")","v":2.2596659820116196},null,null,"Sum of 58",0,58,{"$f":"Q182+GETPIVOTDATA(\"Sum of 58\",N$2,\"Day  \",\"Prob 2nd instars\")","v":1.2539775596688845},null,null,"Sum of 58",0,58,{"$f":"W182+GETPIVOTDATA(\"Sum of 58\",T$2,\"Day  \",\"Prob 2nd instars\")","v":1.6248215013564529},null,null,"Sum of 58",0,58,{"$f":"AC182+GETPIVOTDATA(\"Sum of 58\",Z$2,\"Day  \",\"Prob 2nd instars\")","v":1.2907486061778732},null,null,"Sum of 58",0,58,{"$f":"AI182+GETPIVOTDATA(\"Sum of 58\",AF$2,\"Day  \",\"Prob 2nd instars\")","v":1.1097766952570098},null,null,"Sum of 58",0,58,{"$f":"AO182+GETPIVOTDATA(\"Sum of 58\",AL$2,\"Day  \",\"Prob 2nd instars\")","v":0},null,null,"Sum of 58",0,58,{"$f":"AU182+GETPIVOTDATA(\"Sum of 58\",AR$2,\"Day  \",\"Prob 2nd instars\")","v":0},null,null,"Sum of 58",0,58,{"$f":"BA182+GETPIVOTDATA(\"Sum of 58\",AX$2,\"Day  \",\"Prob 2nd instars\")","v":0},null,null,"Sum of 58",0,58,{"$f":"BG182+GETPIVOTDATA(\"Sum of 58\",BD$2,\"Day  \",\"Prob 2nd instars\")","v":0}]
[null,"Sum of 59",0,59,{"$f":"E183+GETPIVOTDATA(\"Sum of 59\",$B$2,\"Day  \",\"Prob 2nd instars\")","v":1.0145090024813737},null,null,"Sum of 59",0,59,{"$f":"K183+GETPIVOTDATA(\"Sum of 59\",H$2,\"Day  \",\"Prob 2nd instars\")","v":2.2596659820116196},null,null,"Sum of 59",0,59,{"$f":"Q183+GETPIVOTDATA(\"Sum of 59\",N$2,\"Day  \",\"Prob 2nd instars\")","v":1.2539775596688845},null,null,"Sum of 59",0,59,{"$f":"W183+GETPIVOTDATA(\"Sum of 59\",T$2,\"Day  \",\"Prob 2nd instars\")","v":1.6248215013564529},null,null,"Sum of 59",0,59,{"$f":"AC183+GETPIVOTDATA(\"Sum of 59\",Z$2,\"Day  \",\"Prob 2nd instars\")","v":1.2907486061778732},null,null,"Sum of 59",0,59,{"$f":"AI183+GETPIVOTDATA(\"Sum of 59\",AF$2,\"Day  \",\"Prob 2nd instars\")","v":1.1097766952570098},null,null,"Sum of 59",0,59,{"$f":"AO183+GETPIVOTDATA(\"Sum of 59\",AL$2,\"Day  \",\"Prob 2nd instars\")","v":0},null,null,"Sum of 59",0,59,{"$f":"AU183+GETPIVOTDATA(\"Sum of 59\",AR$2,\"Day  \",\"Prob 2nd instars\")","v":0},null,null,"Sum of 59",0,59,{"$f":"BA183+GETPIVOTDATA(\"Sum of 59\",AX$2,\"Day  \",\"Prob 2nd instars\")","v":0},null,null,"Sum of 59",0,59,{"$f":"BG183+GETPIVOTDATA(\"Sum of 59\",BD$2,\"Day  \",\"Prob 2nd instars\")","v":0}]
[null,"Sum of 60",0,60,{"$f":"E184+GETPIVOTDATA(\"Sum of 60\",$B$2,\"Day  \",\"Prob 2nd instars\")","v":1.0145090024813737},null,null,"Sum of 60",0,60,{"$f":"K184+GETPIVOTDATA(\"Sum of 60\",H$2,\"Day  \",\"Prob 2nd instars\")","v":2.2596659820116196},null,null,"Sum of 60",0,60,{"$f":"Q184+GETPIVOTDATA(\"Sum of 60\",N$2,\"Day  \",\"Prob 2nd instars\")","v":1.2539775596688845},null,null,"Sum of 60",0,60,{"$f":"W184+GETPIVOTDATA(\"Sum of 60\",T$2,\"Day  \",\"Prob 2nd instars\")","v":1.6248215013564529},null,null,"Sum of 60",0,60,{"$f":"AC184+GETPIVOTDATA(\"Sum of 60\",Z$2,\"Day  \",\"Prob 2nd instars\")","v":1.2907486061778732},null,null,"Sum of 60",0,60,{"$f":"AI184+GETPIVOTDATA(\"Sum of 60\",AF$2,\"Day  \",\"Prob 2nd instars\")","v":1.1097766952570098},null,null,"Sum of 60",0,60,{"$f":"AO184+GETPIVOTDATA(\"Sum of 60\",AL$2,\"Day  \",\"Prob 2nd instars\")","v":0},null,null,"Sum of 60",0,60,{"$f":"AU184+GETPIVOTDATA(\"Sum of 60\",AR$2,\"Day  \",\"Prob 2nd instars\")","v":0},null,null,"Sum of 60",0,60,{"$f":"BA184+GETPIVOTDATA(\"Sum of 60\",AX$2,\"Day  \",\"Prob 2nd instars\")","v":0},null,null,"Sum of 60",0,60,{"$f":"BG184+GETPIVOTDATA(\"Sum of 60\",BD$2,\"Day  \",\"Prob 2nd instars\")","v":0}]
[null,"Prob 3rd instars",null,"LSTOT/LSHT","Cum Total","LSComm13rd",null,"Prob 3rd instars",null,"LSTOT/LSHT","Cum Total","LSComm23rd",null,"Prob 3rd instars",null,"LSTOT/LSHT","Cum Total","LSComm33rd",null,"Prob 3rd instars",null,"LSTOT/LSHT","Cum Total","LSComm43rd",null,"Prob 3rd instars",null,"LSTOT/LSHT","Cum Total","LSComm53rd",null,"Prob 3rd instars",null,"LSTOT/LSHT","Cum Total","LSComm63rd",null,"Prob 3rd instars",null,"LSTOT/LSHT","Cum Total","LSComm73rd",null,"Prob 3rd instars",null,"LSTOT/LSHT","Cum Total","LSComm83rd",null,"Prob 3rd instars",null,"LSTOT/LSHT","Cum Total","LSComm93rd",null,"Prob 3rd instars",null,"LSTOT/LSHT","Cum Total","LSComm103rd"]
[null,"Sum of 1",0,1,{"$f":"GETPIVOTDATA(\"Sum of 1\",$B$2,\"Day  \",\"Prob 3rd instars\")","v":0},{"$f":"IF(LSCheck3rd=\"n\",0,(((VLOOKUP(LSTOT,D187:E246,2))-(IF(LSHT=0,0,(VLOOKUP(LSHT,D187:E246,2)))))/LSIT))","v":0.91078066914498135},null,"Sum of 1",0,1,{"$f":"GETPIVOTDATA(\"Sum of 1\",H$2,\"Day  \",\"Prob 3rd instars\")","v":0},{"$f":"IF(LSCheck3rd=\"n\",0,(((VLOOKUP(LSTOT,J187:K246,2))-(IF(LSHT=0,0,(VLOOKUP(LSHT,J187:K246,2)))))/LSIT))","v":0.1785714285714286},null,"Sum of 1",0,1,{"$f":"GETPIVOTDATA(\"Sum of 1\",N$2,\"Day  \",\"Prob 3rd instars\")","v":0},{"$f":"IF(LSCheck3rd=\"n\",0,(((VLOOKUP(LSTOT,P187:Q246,2))-(IF(LSHT=0,0,(VLOOKUP(LSHT,P187:Q246,2)))))/LSIT))","v":0.74468085106382964},null,"Sum of 1",0,1,{"$f":"GETPIVOTDATA(\"Sum of 1\",T$2,\"Day  \",\"Prob 3rd instars\")","v":0},{"$f":"IF(LSCheck3rd=\"n\",0,(((VLOOKUP(LSTOT,V187:W246,2))-(IF(LSHT=0,0,(VLOOKUP(LSHT,V187:W246,2)))))/LSIT))","v":0.72448979591836737},null,"Sum of 1",0,1,{"$f":"GETPIVOTDATA(\"Sum of 1\",Z$2,\"Day  \",\"Prob 3rd instars\")","v":0},{"$f":"IF(LSCheck3rd=\"n\",0,(((VLOOKUP(LSTOT,AB187:AC246,2))-(IF(LSHT=0,0,(VLOOKUP(LSHT,AB187:AC246,2)))))/LSIT))","v":0.90909090909090895},null,"Sum of 1",0,1,{"$f":"GETPIVOTDATA(\"Sum of 1\",AF$2,\"Day  \",\"Prob 3rd instars\")","v":0},{"$f":"IF(LSCheck3rd=\"n\",0,(((VLOOKUP(LSTOT,AH187:AI246,2))-(IF(LSHT=0,0,(VLOOKUP(LSHT,AH187:AI246,2)))))/LSIT))","v":0.70394736842105265},null,"Sum of 1",0,1,{"$f":"GETPIVOTDATA(\"Sum of 1\",AL$2,\"Day  \",\"Prob 3rd instars\")","v":0},{"$f":"IF(LSCheck3rd=\"n\",0,(((VLOOKUP(LSTOT,AN187:AO246,2))-(IF(LSHT=0,0,(VLOOKUP(LSHT,AN187:AO246,2)))))/LSIT))","v":0},null,"Sum of 1",0,1,{"$f":"GETPIVOTDATA(\"Sum of 1\",AR$2,\"Day  \",\"Prob 3rd instars\")","v":0},{"$f":"IF(LSCheck3rd=\"n\",0,(((VLOOKUP(LSTOT,AT187:AU246,2))-(IF(LSHT=0,0,(VLOOKUP(LSHT,AT187:AU246,2)))))/LSIT))","v":0},null,"Sum of 1",0,1,{"$f":"GETPIVOTDATA(\"Sum of 1\",AX$2,\"Day  \",\"Prob 3rd instars\")","v":0},{"$f":"IF(LSCheck3rd=\"n\",0,(((VLOOKUP(LSTOT,AZ187:BA246,2))-(IF(LSHT=0,0,(VLOOKUP(LSHT,AZ187:BA246,2)))))/LSIT))","v":0},null,"Sum of 1",0,1,{"$f":"GETPIVOTDATA(\"Sum of 1\",BD$2,\"Day  \",\"Prob 3rd instars\")","v":0},{"$f":"IF(LSCheck3rd=\"n\",0,(((VLOOKUP(LSTOT,BF187:BG246,2))-(IF(LSHT=0,0,(VLOOKUP(LSHT,BF187:BG246,2)))))/LSIT))","v":0}]
[null,"Sum of 2",0,2,{"$f":"E187+GETPIVOTDATA(\"Sum of 2\",$B$2,\"Day  \",\"Prob 3rd instars\")","v":0},null,null,"Sum of 2",0,2,{"$f":"K187+GETPIVOTDATA(\"Sum of 2\",H$2,\"Day  \",\"Prob 3rd instars\")","v":0},null,null,"Sum of 2",0,2,{"$f":"Q187+GETPIVOTDATA(\"Sum of 2\",N$2,\"Day  \",\"Prob 3rd instars\")","v":0},null,null,"Sum of 2",0,2,{"$f":"W187+GETPIVOTDATA(\"Sum of 2\",T$2,\"Day  \",\"Prob 3rd instars\")","v":0},null,null,"Sum of 2",0,2,{"$f":"AC187+GETPIVOTDATA(\"Sum of 2\",Z$2,\"Day  \",\"Prob 3rd instars\")","v":0},null,null,"Sum of 2",0,2,{"$f":"AI187+GETPIVOTDATA(\"Sum of 2\",AF$2,\"Day  \",\"Prob 3rd instars\")","v":0},null,null,"Sum of 2",0,2,{"$f":"AO187+GETPIVOTDATA(\"Sum of 2\",AL$2,\"Day  \",\"Prob 3rd instars\")","v":0},null,null,"Sum of 2",0,2,{"$f":"AU187+GETPIVOTDATA(\"Sum of 2\",AR$2,\"Day  \",\"Prob 3rd instars\")","v":0},null,null,"Sum of 2",0,2,{"$f":"BA187+GETPIVOTDATA(\"Sum of 2\",AX$2,\"Day  \",\"Prob 3rd instars\")","v":0},null,null,"Sum of 2",0,2,{"$f":"BG187+GETPIVOTDATA(\"Sum of 2\",BD$2,\"Day  \",\"Prob 3rd instars\")","v":0}]
[null,"Sum of 3",0.10902255639097744,3,{"$f":"E188+GETPIVOTDATA(\"Sum of 3\",$B$2,\"Day  \",\"Prob 3rd instars\")","v":0.10902255639097744},null,null,"Sum of 3",0.21917808219178081,3,{"$f":"K188+GETPIVOTDATA(\"Sum of 3\",H$2,\"Day  \",\"Prob 3rd instars\")","v":0.21917808219178081},null,null,"Sum of 3",0.29411764705882354,3,{"$f":"Q188+GETPIVOTDATA(\"Sum of 3\",N$2,\"Day  \",\"Prob 3rd instars\")","v":0.29411764705882354},null,null,"Sum of 3",0.1388888888888889,3,{"$f":"W188+GETPIVOTDATA(\"Sum of 3\",T$2,\"Day  \",\"Prob 3rd instars\")","v":0.1388888888888889},null,null,"Sum of 3",0.15573770491803279,3,{"$f":"AC188+GETPIVOTDATA(\"Sum of 3\",Z$2,\"Day  \",\"Prob 3rd instars\")","v":0.15573770491803279},null,null,"Sum of 3",2.2801302931596091E-2,3,{"$f":"AI188+GETPIVOTDATA(\"Sum of 3\",AF$2,\"Day  \",\"Prob 3rd instars\")","v":2.2801302931596091E-2},null,null,"Sum of 3",0,3,{"$f":"AO188+GETPIVOTDATA(\"Sum of 3\",AL$2,\"Day  \",\"Prob 3rd instars\")","v":0},null,null,"Sum of 3",0,3,{"$f":"AU188+GETPIVOTDATA(\"Sum of 3\",AR$2,\"Day  \",\"Prob 3rd instars\")","v":0},null,null,"Sum of 3",0,3,{"$f":"BA188+GETPIVOTDATA(\"Sum of 3\",AX$2,\"Day  \",\"Prob 3rd instars\")","v":0},null,null,"Sum of 3",0,3,{"$f":"BG188+GETPIVOTDATA(\"Sum of 3\",BD$2,\"Day  \",\"Prob 3rd instars\")","v":0}]
[null,"Sum of 4",0.91078066914498146,4,{"$f":"E189+GETPIVOTDATA(\"Sum of 4\",$B$2,\"Day  \",\"Prob 3rd instars\")","v":1.0198032255359588},null,null,"Sum of 4",0.17857142857142858,4,{"$f":"K189+GETPIVOTDATA(\"Sum of 4\",H$2,\"Day  \",\"Prob 3rd instars\")","v":0.39774951076320941},null,null,"Sum of 4",0.74468085106382975,4,{"$f":"Q189+GETPIVOTDATA(\"Sum of 4\",N$2,\"Day  \",\"Prob 3rd instars\")","v":1.0387984981226532},null,null,"Sum of 4",0.72448979591836737,4,{"$f":"W189+GETPIVOTDATA(\"Sum of 4\",T$2,\"Day  \",\"Prob 3rd instars\")","v":0.86337868480725621},null,null,"Sum of 4",0.90909090909090906,4,{"$f":"AC189+GETPIVOTDATA(\"Sum of 4\",Z$2,\"Day  \",\"Prob 3rd instars\")","v":1.0648286140089418},null,null,"Sum of 4",0.70394736842105265,4,{"$f":"AI189+GETPIVOTDATA(\"Sum of 4\",AF$2,\"Day  \",\"Prob 3rd instars\")","v":0.72674867135264876},null,null,"Sum of 4",0,4,{"$f":"AO189+GETPIVOTDATA(\"Sum of 4\",AL$2,\"Day  \",\"Prob 3rd instars\")","v":0},null,null,"Sum of 4",0,4,{"$f":"AU189+GETPIVOTDATA(\"Sum of 4\",AR$2,\"Day  \",\"Prob 3rd instars\")","v":0},null,null,"Sum of 4",0,4,{"$f":"BA189+GETPIVOTDATA(\"Sum of 4\",AX$2,\"Day  \",\"Prob 3rd instars\")","v":0},null,null,"Sum of 4",0,4,{"$f":"BG189+GETPIVOTDATA(\"Sum of 4\",BD$2,\"Day  \",\"Prob 3rd instars\")","v":0}]
[null,"Sum of 5",0.96296296296296291,5,{"$f":"E190+GETPIVOTDATA(\"Sum of 5\",$B$2,\"Day  \",\"Prob 3rd instars\")","v":1.9827661884989216},null,null,"Sum of 5",0.5,5,{"$f":"K190+GETPIVOTDATA(\"Sum of 5\",H$2,\"Day  \",\"Prob 3rd instars\")","v":0.89774951076320941},null,null,"Sum of 5",0.87058823529411766,5,{"$f":"Q190+GETPIVOTDATA(\"Sum of 5\",N$2,\"Day  \",\"Prob 3rd instars\")","v":1.9093867334167709},null,null,"Sum of 5",0.7931034482758621,5,{"$f":"W190+GETPIVOTDATA(\"Sum of 5\",T$2,\"Day  \",\"Prob 3rd instars\")","v":1.6564821330831183},null,null,"Sum of 5",0.978494623655914,5,{"$f":"AC190+GETPIVOTDATA(\"Sum of 5\",Z$2,\"Day  \",\"Prob 3rd instars\")","v":2.0433232376648558},null,null,"Sum of 5",0.89837398373983735,5,{"$f":"AI190+GETPIVOTDATA(\"Sum of 5\",AF$2,\"Day  \",\"Prob 3rd instars\")","v":1.6251226550924862},null,null,"Sum of 5",0,5,{"$f":"AO190+GETPIVOTDATA(\"Sum of 5\",AL$2,\"Day  \",\"Prob 3rd instars\")","v":0},null,null,"Sum of 5",0,5,{"$f":"AU190+GETPIVOTDATA(\"Sum of 5\",AR$2,\"Day  \",\"Prob 3rd instars\")","v":0},null,null,"Sum of 5",0,5,{"$f":"BA190+GETPIVOTDATA(\"Sum of 5\",AX$2,\"Day  \",\"Prob 3rd instars\")","v":0},null,null,"Sum of 5",0,5,{"$f":"BG190+GETPIVOTDATA(\"Sum of 5\",BD$2,\"Day  \",\"Prob 3rd instars\")","v":0}]
[null,"Sum of 6",0.8452722063037249,6,{"$f":"E191+GETPIVOTDATA(\"Sum of 6\",$B$2,\"Day  \",\"Prob 3rd instars\")","v":2.8280383948026464},null,null,"Sum of 6",0.651685393258427,6,{"$f":"K191+GETPIVOTDATA(\"Sum of 6\",H$2,\"Day  \",\"Prob 3rd instars\")","v":1.5494349040216364},null,null,"Sum of 6",0.93421052631578949,6,{"$f":"Q191+GETPIVOTDATA(\"Sum of 6\",N$2,\"Day  \",\"Prob 3rd instars\")","v":2.8435972597325603},null,null,"Sum of 6",0.88,6,{"$f":"W191+GETPIVOTDATA(\"Sum of 6\",T$2,\"Day  \",\"Prob 3rd instars\")","v":2.5364821330831182},null,null,"Sum of 6",0.53793103448275859,6,{"$f":"AC191+GETPIVOTDATA(\"Sum of 6\",Z$2,\"Day  \",\"Prob 3rd instars\")","v":2.5812542721476142},null,null,"Sum of 6",0.8253275109170306,6,{"$f":"AI191+GETPIVOTDATA(\"Sum of 6\",AF$2,\"Day  \",\"Prob 3rd instars\")","v":2.4504501660095168},null,null,"Sum of 6",0,6,{"$f":"AO191+GETPIVOTDATA(\"Sum of 6\",AL$2,\"Day  \",\"Prob 3rd instars\")","v":0},null,null,"Sum of 6",0,6,{"$f":"AU191+GETPIVOTDATA(\"Sum of 6\",AR$2,\"Day  \",\"Prob 3rd instars\")","v":0},null,null,"Sum of 6",0,6,{"$f":"BA191+GETPIVOTDATA(\"Sum of 6\",AX$2,\"Day  \",\"Prob 3rd instars\")","v":0},null,null,"Sum of 6",0,6,{"$f":"BG191+GETPIVOTDATA(\"Sum of 6\",BD$2,\"Day  \",\"Prob 3rd instars\")","v":0}]
[null,"Sum of 7",0.42857142857142855,7,{"$f":"E192+GETPIVOTDATA(\"Sum of 7\",$B$2,\"Day  \",\"Prob 3rd instars\")","v":3.2566098233740748},null,null,"Sum of 7",0.73684210526315785,7,{"$f":"K192+GETPIVOTDATA(\"Sum of 7\",H$2,\"Day  \",\"Prob 3rd instars\")","v":2.2862770092847944},null,null,"Sum of 7",0.57281553398058249,7,{"$f":"Q192+GETPIVOTDATA(\"Sum of 7\",N$2,\"Day  \",\"Prob 3rd instars\")","v":3.4164127937131425},null,null,"Sum of 7",0.7279411764705882,7,{"$f":"W192+GETPIVOTDATA(\"Sum of 7\",T$2,\"Day  \",\"Prob 3rd instars\")","v":3.2644233095537065},null,null,"Sum of 7",0,7,{"$f":"AC192+GETPIVOTDATA(\"Sum of 7\",Z$2,\"Day  \",\"Prob 3rd instars\")","v":2.5812542721476142},null,null,"Sum of 7",8.7649402390438252E-2,7,{"$f":"AI192+GETPIVOTDATA(\"Sum of 7\",AF$2,\"Day  \",\"Prob 3rd instars\")","v":2.538099568399955},null,null,"Sum of 7",0,7,{"$f":"AO192+GETPIVOTDATA(\"Sum of 7\",AL$2,\"Day  \",\"Prob 3rd instars\")","v":0},null,null,"Sum of 7",0,7,{"$f":"AU192+GETPIVOTDATA(\"Sum of 7\",AR$2,\"Day  \",\"Prob 3rd instars\")","v":0},null,null,"Sum of 7",0,7,{"$f":"BA192+GETPIVOTDATA(\"Sum of 7\",AX$2,\"Day  \",\"Prob 3rd instars\")","v":0},null,null,"Sum of 7",0,7,{"$f":"BG192+GETPIVOTDATA(\"Sum of 7\",BD$2,\"Day  \",\"Prob 3rd instars\")","v":0}]
[null,"Sum of 8",1.7857142857142856E-2,8,{"$f":"E193+GETPIVOTDATA(\"Sum of 8\",$B$2,\"Day  \",\"Prob 3rd instars\")","v":3.2744669662312176},null,null,"Sum of 8",0.76923076923076927,8,{"$f":"K193+GETPIVOTDATA(\"Sum of 8\",H$2,\"Day  \",\"Prob 3rd instars\")","v":3.0555077785155635},null,null,"Sum of 8",0.17391304347826086,8,{"$f":"Q193+GETPIVOTDATA(\"Sum of 8\",N$2,\"Day  \",\"Prob 3rd instars\")","v":3.5903258371914033},null,null,"Sum of 8",0.53061224489795922,8,{"$f":"W193+GETPIVOTDATA(\"Sum of 8\",T$2,\"Day  \",\"Prob 3rd instars\")","v":3.7950355544516658},null,null,"Sum of 8",0,8,{"$f":"AC193+GETPIVOTDATA(\"Sum of 8\",Z$2,\"Day  \",\"Prob 3rd instars\")","v":2.5812542721476142},null,null,"Sum of 8",0,8,{"$f":"AI193+GETPIVOTDATA(\"Sum of 8\",AF$2,\"Day  \",\"Prob 3rd instars\")","v":2.538099568399955},null,null,"Sum of 8",0,8,{"$f":"AO193+GETPIVOTDATA(\"Sum of 8\",AL$2,\"Day  \",\"Prob 3rd instars\")","v":0},null,null,"Sum of 8",0,8,{"$f":"AU193+GETPIVOTDATA(\"Sum of 8\",AR$2,\"Day  \",\"Prob 3rd instars\")","v":0},null,null,"Sum of 8",0,8,{"$f":"BA193+GETPIVOTDATA(\"Sum of 8\",AX$2,\"Day  \",\"Prob 3rd instars\")","v":0},null,null,"Sum of 8",0,8,{"$f":"BG193+GETPIVOTDATA(\"Sum of 8\",BD$2,\"Day  \",\"Prob 3rd instars\")","v":0}]
[null,"Sum of 9",0,9,{"$f":"E194+GETPIVOTDATA(\"Sum of 9\",$B$2,\"Day  \",\"Prob 3rd instars\")","v":3.2744669662312176},null,null,"Sum of 9",2.8089887640449437E-2,9,{"$f":"K194+GETPIVOTDATA(\"Sum of 9\",H$2,\"Day  \",\"Prob 3rd instars\")","v":3.0835976661560132},null,null,"Sum of 9",0,9,{"$f":"Q194+GETPIVOTDATA(\"Sum of 9\",N$2,\"Day  \",\"Prob 3rd instars\")","v":3.5903258371914033},null,null,"Sum of 9",0.21739130434782608,9,{"$f":"W194+GETPIVOTDATA(\"Sum of 9\",T$2,\"Day  \",\"Prob 3rd instars\")","v":4.0124268587994916},null,null,"Sum of 9",0,9,{"$f":"AC194+GETPIVOTDATA(\"Sum of 9\",Z$2,\"Day  \",\"Prob 3rd instars\")","v":2.5812542721476142},null,null,"Sum of 9",0,9,{"$f":"AI194+GETPIVOTDATA(\"Sum of 9\",AF$2,\"Day  \",\"Prob 3rd instars\")","v":2.538099568399955},null,null,"Sum of 9",0,9,{"$f":"AO194+GETPIVOTDATA(\"Sum of 9\",AL$2,\"Day  \",\"Prob 3rd instars\")","v":0},null,null,"Sum of 9",0,9,{"$f":"AU194+GETPIVOTDATA(\"Sum of 9\",AR$2,\"Day  \",\"Prob 3rd instars\")","v":0},null,null,"Sum of 9",0,9,{"$f":"BA194+GETPIVOTDATA(\"Sum of 9\",AX$2,\"Day  \",\"Prob 3rd instars\")","v":0},null,null,"Sum of 9",0,9,{"$f":"BG194+GETPIVOTDATA(\"Sum of 9\",BD$2,\"Day  \",\"Prob 3rd instars\")","v":0}]
[null,"Sum of 10",0,10,{"$f":"E195+GETPIVOTDATA(\"Sum of 10\",$B$2,\"Day  \",\"Prob 3rd instars\")","v":3.2744669662312176},null,null,"Sum of 10",0,10,{"$f":"K195+GETPIVOTDATA(\"Sum of 10\",H$2,\"Day  \",\"Prob 3rd instars\")","v":3.0835976661560132},null,null,"Sum of 10",0,10,{"$f":"Q195+GETPIVOTDATA(\"Sum of 10\",N$2,\"Day  \",\"Prob 3rd instars\")","v":3.5903258371914033},null,null,"Sum of 10",2.1929824561403508E-2,10,{"$f":"W195+GETPIVOTDATA(\"Sum of 10\",T$2,\"Day  \",\"Prob 3rd instars\")","v":4.0343566833608948},null,null,"Sum of 10",0,10,{"$f":"AC195+GETPIVOTDATA(\"Sum of 10\",Z$2,\"Day  \",\"Prob 3rd instars\")","v":2.5812542721476142},null,null,"Sum of 10",0,10,{"$f":"AI195+GETPIVOTDATA(\"Sum of 10\",AF$2,\"Day  \",\"Prob 3rd instars\")","v":2.538099568399955},null,null,"Sum of 10",0,10,{"$f":"AO195+GETPIVOTDATA(\"Sum of 10\",AL$2,\"Day  \",\"Prob 3rd instars\")","v":0},null,null,"Sum of 10",0,10,{"$f":"AU195+GETPIVOTDATA(\"Sum of 10\",AR$2,\"Day  \",\"Prob 3rd instars\")","v":0},null,null,"Sum of 10",0,10,{"$f":"BA195+GETPIVOTDATA(\"Sum of 10\",AX$2,\"Day  \",\"Prob 3rd instars\")","v":0},null,null,"Sum of 10",0,10,{"$f":"BG195+GETPIVOTDATA(\"Sum of 10\",BD$2,\"Day  \",\"Prob 3rd instars\")","v":0}]
[null,"Sum of 11",0,11,{"$f":"E196+GETPIVOTDATA(\"Sum of 11\",$B$2,\"Day  \",\"Prob 3rd instars\")","v":3.2744669662312176},null,null,"Sum of 11",0,11,{"$f":"K196+GETPIVOTDATA(\"Sum of 11\",H$2,\"Day  \",\"Prob 3rd instars\")","v":3.0835976661560132},null,null,"Sum of 11",0,11,{"$f":"Q196+GETPIVOTDATA(\"Sum of 11\",N$2,\"Day  \",\"Prob 3rd instars\")","v":3.5903258371914033},null,null,"Sum of 11",0,11,{"$f":"W196+GETPIVOTDATA(\"Sum of 11\",T$2,\"Day  \",\"Prob 3rd instars\")","v":4.0343566833608948},null,null,"Sum of 11",0,11,{"$f":"AC196+GETPIVOTDATA(\"Sum of 11\",Z$2,\"Day  \",\"Prob 3rd instars\")","v":2.5812542721476142},null,null,"Sum of 11",0,11,{"$f":"AI196+GETPIVOTDATA(\"Sum of 11\",AF$2,\"Day  \",\"Prob 3rd instars\")","v":2.538099568399955},null,null,"Sum of 11",0,11,{"$f":"AO196+GETPIVOTDATA(\"Sum of 11\",AL$2,\"Day  \",\"Prob 3rd instars\")","v":0},null,null,"Sum of 11",0,11,{"$f":"AU196+GETPIVOTDATA(\"Sum of 11\",AR$2,\"Day  \",\"Prob 3rd instars\")","v":0},null,null,"Sum of 11",0,11,{"$f":"BA196+GETPIVOTDATA(\"Sum of 11\",AX$2,\"Day  \",\"Prob 3rd instars\")","v":0},null,null,"Sum of 11",0,11,{"$f":"BG196+GETPIVOTDATA(\"Sum of 11\",BD$2,\"Day  \",\"Prob 3rd instars\")","v":0}]
[null,"Sum of 12",0,12,{"$f":"E197+GETPIVOTDATA(\"Sum of 12\",$B$2,\"Day  \",\"Prob 3rd instars\")","v":3.2744669662312176},null,null,"Sum of 12",0,12,{"$f":"K197+GETPIVOTDATA(\"Sum of 12\",H$2,\"Day  \",\"Prob 3rd instars\")","v":3.0835976661560132},null,null,"Sum of 12",0,12,{"$f":"Q197+GETPIVOTDATA(\"Sum of 12\",N$2,\"Day  \",\"Prob 3rd instars\")","v":3.5903258371914033},null,null,"Sum of 12",0,12,{"$f":"W197+GETPIVOTDATA(\"Sum of 12\",T$2,\"Day  \",\"Prob 3rd instars\")","v":4.0343566833608948},null,null,"Sum of 12",0,12,{"$f":"AC197+GETPIVOTDATA(\"Sum of 12\",Z$2,\"Day  \",\"Prob 3rd instars\")","v":2.5812542721476142},null,null,"Sum of 12",0,12,{"$f":"AI197+GETPIVOTDATA(\"Sum of 12\",AF$2,\"Day  \",\"Prob 3rd instars\")","v":2.538099568399955},null,null,"Sum of 12",0,12,{"$f":"AO197+GETPIVOTDATA(\"Sum of 12\",AL$2,\"Day  \",\"Prob 3rd instars\")","v":0},null,null,"Sum of 12",0,12,{"$f":"AU197+GETPIVOTDATA(\"Sum of 12\",AR$2,\"Day  \",\"Prob 3rd instars\")","v":0},null,null,"Sum of 12",0,12,{"$f":"BA197+GETPIVOTDATA(\"Sum of 12\",AX$2,\"Day  \",\"Prob 3rd instars\")","v":0},null,null,"Sum of 12",0,12,{"$f":"BG197+GETPIVOTDATA(\"Sum of 12\",BD$2,\"Day  \",\"Prob 3rd instars\")","v":0}]
[null,"Sum of 13",0,13,{"$f":"E198+GETPIVOTDATA(\"Sum of 13\",$B$2,\"Day  \",\"Prob 3rd instars\")","v":3.2744669662312176},null,null,"Sum of 13",0,13,{"$f":"K198+GETPIVOTDATA(\"Sum of 13\",H$2,\"Day  \",\"Prob 3rd instars\")","v":3.0835976661560132},null,null,"Sum of 13",0,13,{"$f":"Q198+GETPIVOTDATA(\"Sum of 13\",N$2,\"Day  \",\"Prob 3rd instars\")","v":3.5903258371914033},null,null,"Sum of 13",0,13,{"$f":"W198+GETPIVOTDATA(\"Sum of 13\",T$2,\"Day  \",\"Prob 3rd instars\")","v":4.0343566833608948},null,null,"Sum of 13",0,13,{"$f":"AC198+GETPIVOTDATA(\"Sum of 13\",Z$2,\"Day  \",\"Prob 3rd instars\")","v":2.5812542721476142},null,null,"Sum of 13",0,13,{"$f":"AI198+GETPIVOTDATA(\"Sum of 13\",AF$2,\"Day  \",\"Prob 3rd instars\")","v":2.538099568399955},null,null,"Sum of 13",0,13,{"$f":"AO198+GETPIVOTDATA(\"Sum of 13\",AL$2,\"Day  \",\"Prob 3rd instars\")","v":0},null,null,"Sum of 13",0,13,{"$f":"AU198+GETPIVOTDATA(\"Sum of 13\",AR$2,\"Day  \",\"Prob 3rd instars\")","v":0},null,null,"Sum of 13",0,13,{"$f":"BA198+GETPIVOTDATA(\"Sum of 13\",AX$2,\"Day  \",\"Prob 3rd instars\")","v":0},null,null,"Sum of 13",0,13,{"$f":"BG198+GETPIVOTDATA(\"Sum of 13\",BD$2,\"Day  \",\"Prob 3rd instars\")","v":0}]
[null,"Sum of 14",0,14,{"$f":"E199+GETPIVOTDATA(\"Sum of 14\",$B$2,\"Day  \",\"Prob 3rd instars\")","v":3.2744669662312176},null,null,"Sum of 14",0,14,{"$f":"K199+GETPIVOTDATA(\"Sum of 14\",H$2,\"Day  \",\"Prob 3rd instars\")","v":3.0835976661560132},null,null,"Sum of 14",0,14,{"$f":"Q199+GETPIVOTDATA(\"Sum of 14\",N$2,\"Day  \",\"Prob 3rd instars\")","v":3.5903258371914033},null,null,"Sum of 14",0,14,{"$f":"W199+GETPIVOTDATA(\"Sum of 14\",T$2,\"Day  \",\"Prob 3rd instars\")","v":4.0343566833608948},null,null,"Sum of 14",0,14,{"$f":"AC199+GETPIVOTDATA(\"Sum of 14\",Z$2,\"Day  \",\"Prob 3rd instars\")","v":2.5812542721476142},null,null,"Sum of 14",0,14,{"$f":"AI199+GETPIVOTDATA(\"Sum of 14\",AF$2,\"Day  \",\"Prob 3rd instars\")","v":2.538099568399955},null,null,"Sum of 14",0,14,{"$f":"AO199+GETPIVOTDATA(\"Sum of 14\",AL$2,\"Day  \",\"Prob 3rd instars\")","v":0},null,null,"Sum of 14",0,14,{"$f":"AU199+GETPIVOTDATA(\"Sum of 14\",AR$2,\"Day  \",\"Prob 3rd instars\")","v":0},null,null,"Sum of 14",0,14,{"$f":"BA199+GETPIVOTDATA(\"Sum of 14\",AX$2,\"Day  \",\"Prob 3rd instars\")","v":0},null,null,"Sum of 14",0,14,{"$f":"BG199+GETPIVOTDATA(\"Sum of 14\",BD$2,\"Day  \",\"Prob 3rd instars\")","v":0}]
[null,"Sum of 15",0,15,{"$f":"E200+GETPIVOTDATA(\"Sum of 15\",$B$2,\"Day  \",\"Prob 3rd instars\")","v":3.2744669662312176},null,null,"Sum of 15",0,15,{"$f":"K200+GETPIVOTDATA(\"Sum of 15\",H$2,\"Day  \",\"Prob 3rd instars\")","v":3.0835976661560132},null,null,"Sum of 15",0,15,{"$f":"Q200+GETPIVOTDATA(\"Sum of 15\",N$2,\"Day  \",\"Prob 3rd instars\")","v":3.5903258371914033},null,null,"Sum of 15",0,15,{"$f":"W200+GETPIVOTDATA(\"Sum of 15\",T$2,\"Day  \",\"Prob 3rd instars\")","v":4.0343566833608948},null,null,"Sum of 15",0,15,{"$f":"AC200+GETPIVOTDATA(\"Sum of 15\",Z$2,\"Day  \",\"Prob 3rd instars\")","v":2.5812542721476142},null,null,"Sum of 15",0,15,{"$f":"AI200+GETPIVOTDATA(\"Sum of 15\",AF$2,\"Day  \",\"Prob 3rd instars\")","v":2.538099568399955},null,null,"Sum of 15",0,15,{"$f":"AO200+GETPIVOTDATA(\"Sum of 15\",AL$2,\"Day  \",\"Prob 3rd instars\")","v":0},null,null,"Sum of 15",0,15,{"$f":"AU200+GETPIVOTDATA(\"Sum of 15\",AR$2,\"Day  \",\"Prob 3rd instars\")","v":0},null,null,"Sum of 15",0,15,{"$f":"BA200+GETPIVOTDATA(\"Sum of 15\",AX$2,\"Day  \",\"Prob 3rd instars\")","v":0},null,null,"Sum of 15",0,15,{"$f":"BG200+GETPIVOTDATA(\"Sum of 15\",BD$2,\"Day  \",\"Prob 3rd instars\")","v":0}]
[null,"Sum of 16",0,16,{"$f":"E201+GETPIVOTDATA(\"Sum of 16\",$B$2,\"Day  \",\"Prob 3rd instars\")","v":3.2744669662312176},null,null,"Sum of 16",0,16,{"$f":"K201+GETPIVOTDATA(\"Sum of 16\",H$2,\"Day  \",\"Prob 3rd instars\")","v":3.0835976661560132},null,null,"Sum of 16",0,16,{"$f":"Q201+GETPIVOTDATA(\"Sum of 16\",N$2,\"Day  \",\"Prob 3rd instars\")","v":3.5903258371914033},null,null,"Sum of 16",0,16,{"$f":"W201+GETPIVOTDATA(\"Sum of 16\",T$2,\"Day  \",\"Prob 3rd instars\")","v":4.0343566833608948},null,null,"Sum of 16",0,16,{"$f":"AC201+GETPIVOTDATA(\"Sum of 16\",Z$2,\"Day  \",\"Prob 3rd instars\")","v":2.5812542721476142},null,null,"Sum of 16",0,16,{"$f":"AI201+GETPIVOTDATA(\"Sum of 16\",AF$2,\"Day  \",\"Prob 3rd instars\")","v":2.538099568399955},null,null,"Sum of 16",0,16,{"$f":"AO201+GETPIVOTDATA(\"Sum of 16\",AL$2,\"Day  \",\"Prob 3rd instars\")","v":0},null,null,"Sum of 16",0,16,{"$f":"AU201+GETPIVOTDATA(\"Sum of 16\",AR$2,\"Day  \",\"Prob 3rd instars\")","v":0},null,null,"Sum of 16",0,16,{"$f":"BA201+GETPIVOTDATA(\"Sum of 16\",AX$2,\"Day  \",\"Prob 3rd instars\")","v":0},null,null,"Sum of 16",0,16,{"$f":"BG201+GETPIVOTDATA(\"Sum of 16\",BD$2,\"Day  \",\"Prob 3rd instars\")","v":0}]
[null,"Sum of 17",0,17,{"$f":"E202+GETPIVOTDATA(\"Sum of 17\",$B$2,\"Day  \",\"Prob 3rd instars\")","v":3.2744669662312176},null,null,"Sum of 17",0,17,{"$f":"K202+GETPIVOTDATA(\"Sum of 17\",H$2,\"Day  \",\"Prob 3rd instars\")","v":3.0835976661560132},null,null,"Sum of 17",0,17,{"$f":"Q202+GETPIVOTDATA(\"Sum of 17\",N$2,\"Day  \",\"Prob 3rd instars\")","v":3.5903258371914033},null,null,"Sum of 17",0,17,{"$f":"W202+GETPIVOTDATA(\"Sum of 17\",T$2,\"Day  \",\"Prob 3rd instars\")","v":4.0343566833608948},null,null,"Sum of 17",0,17,{"$f":"AC202+GETPIVOTDATA(\"Sum of 17\",Z$2,\"Day  \",\"Prob 3rd instars\")","v":2.5812542721476142},null,null,"Sum of 17",0,17,{"$f":"AI202+GETPIVOTDATA(\"Sum of 17\",AF$2,\"Day  \",\"Prob 3rd instars\")","v":2.538099568399955},null,null,"Sum of 17",0,17,{"$f":"AO202+GETPIVOTDATA(\"Sum of 17\",AL$2,\"Day  \",\"Prob 3rd instars\")","v":0},null,null,"Sum of 17",0,17,{"$f":"AU202+GETPIVOTDATA(\"Sum of 17\",AR$2,\"Day  \",\"Prob 3rd instars\")","v":0},null,null,"Sum of 17",0,17,{"$f":"BA202+GETPIVOTDATA(\"Sum of 17\",AX$2,\"Day  \",\"Prob 3rd instars\")","v":0},null,null,"Sum of 17",0,17,{"$f":"BG202+GETPIVOTDATA(\"Sum of 17\",BD$2,\"Day  \",\"Prob 3rd instars\")","v":0}]
[null,"Sum of 18",0,18,{"$f":"E203+GETPIVOTDATA(\"Sum of 18\",$B$2,\"Day  \",\"Prob 3rd instars\")","v":3.2744669662312176},null,null,"Sum of 18",0,18,{"$f":"K203+GETPIVOTDATA(\"Sum of 18\",H$2,\"Day  \",\"Prob 3rd instars\")","v":3.0835976661560132},null,null,"Sum of 18",0,18,{"$f":"Q203+GETPIVOTDATA(\"Sum of 18\",N$2,\"Day  \",\"Prob 3rd instars\")","v":3.5903258371914033},null,null,"Sum of 18",0,18,{"$f":"W203+GETPIVOTDATA(\"Sum of 18\",T$2,\"Day  \",\"Prob 3rd instars\")","v":4.0343566833608948},null,null,"Sum of 18",0,18,{"$f":"AC203+GETPIVOTDATA(\"Sum of 18\",Z$2,\"Day  \",\"Prob 3rd instars\")","v":2.5812542721476142},null,null,"Sum of 18",0,18,{"$f":"AI203+GETPIVOTDATA(\"Sum of 18\",AF$2,\"Day  \",\"Prob 3rd instars\")","v":2.538099568399955},null,null,"Sum of 18",0,18,{"$f":"AO203+GETPIVOTDATA(\"Sum of 18\",AL$2,\"Day  \",\"Prob 3rd instars\")","v":0},null,null,"Sum of 18",0,18,{"$f":"AU203+GETPIVOTDATA(\"Sum of 18\",AR$2,\"Day  \",\"Prob 3rd instars\")","v":0},null,null,"Sum of 18",0,18,{"$f":"BA203+GETPIVOTDATA(\"Sum of 18\",AX$2,\"Day  \",\"Prob 3rd instars\")","v":0},null,null,"Sum of 18",0,18,{"$f":"BG203+GETPIVOTDATA(\"Sum of 18\",BD$2,\"Day  \",\"Prob 3rd instars\")","v":0}]
[null,"Sum of 19",0,19,{"$f":"E204+GETPIVOTDATA(\"Sum of 19\",$B$2,\"Day  \",\"Prob 3rd instars\")","v":3.2744669662312176},null,null,"Sum of 19",0,19,{"$f":"K204+GETPIVOTDATA(\"Sum of 19\",H$2,\"Day  \",\"Prob 3rd instars\")","v":3.0835976661560132},null,null,"Sum of 19",0,19,{"$f":"Q204+GETPIVOTDATA(\"Sum of 19\",N$2,\"Day  \",\"Prob 3rd instars\")","v":3.5903258371914033},null,null,"Sum of 19",0,19,{"$f":"W204+GETPIVOTDATA(\"Sum of 19\",T$2,\"Day  \",\"Prob 3rd instars\")","v":4.0343566833608948},null,null,"Sum of 19",0,19,{"$f":"AC204+GETPIVOTDATA(\"Sum of 19\",Z$2,\"Day  \",\"Prob 3rd instars\")","v":2.5812542721476142},null,null,"Sum of 19",0,19,{"$f":"AI204+GETPIVOTDATA(\"Sum of 19\",AF$2,\"Day  \",\"Prob 3rd instars\")","v":2.538099568399955},null,null,"Sum of 19",0,19,{"$f":"AO204+GETPIVOTDATA(\"Sum of 19\",AL$2,\"Day  \",\"Prob 3rd instars\")","v":0},null,null,"Sum of 19",0,19,{"$f":"AU204+GETPIVOTDATA(\"Sum of 19\",AR$2,\"Day  \",\"Prob 3rd instars\")","v":0},null,null,"Sum of 19",0,19,{"$f":"BA204+GETPIVOTDATA(\"Sum of 19\",AX$2,\"Day  \",\"Prob 3rd instars\")","v":0},null,null,"Sum of 19",0,19,{"$f":"BG204+GETPIVOTDATA(\"Sum of 19\",BD$2,\"Day  \",\"Prob 3rd instars\")","v":0}]
[null,"Sum of 20",0,20,{"$f":"E205+GETPIVOTDATA(\"Sum of 20\",$B$2,\"Day  \",\"Prob 3rd instars\")","v":3.2744669662312176},null,null,"Sum of 20",0,20,{"$f":"K205+GETPIVOTDATA(\"Sum of 20\",H$2,\"Day  \",\"Prob 3rd instars\")","v":3.0835976661560132},null,null,"Sum of 20",0,20,{"$f":"Q205+GETPIVOTDATA(\"Sum of 20\",N$2,\"Day  \",\"Prob 3rd instars\")","v":3.5903258371914033},null,null,"Sum of 20",0,20,{"$f":"W205+GETPIVOTDATA(\"Sum of 20\",T$2,\"Day  \",\"Prob 3rd instars\")","v":4.0343566833608948},null,null,"Sum of 20",0,20,{"$f":"AC205+GETPIVOTDATA(\"Sum of 20\",Z$2,\"Day  \",\"Prob 3rd instars\")","v":2.5812542721476142},null,null,"Sum of 20",0,20,{"$f":"AI205+GETPIVOTDATA(\"Sum of 20\",AF$2,\"Day  \",\"Prob 3rd instars\")","v":2.538099568399955},null,null,"Sum of 20",0,20,{"$f":"AO205+GETPIVOTDATA(\"Sum of 20\",AL$2,\"Day  \",\"Prob 3rd instars\")","v":0},null,null,"Sum of 20",0,20,{"$f":"AU205+GETPIVOTDATA(\"Sum of 20\",AR$2,\"Day  \",\"Prob 3rd instars\")","v":0},null,null,"Sum of 20",0,20,{"$f":"BA205+GETPIVOTDATA(\"Sum of 20\",AX$2,\"Day  \",\"Prob 3rd instars\")","v":0},null,null,"Sum of 20",0,20,{"$f":"BG205+GETPIVOTDATA(\"Sum of 20\",BD$2,\"Day  \",\"Prob 3rd instars\")","v":0}]
[null,"Sum of 21",0,21,{"$f":"E206+GETPIVOTDATA(\"Sum of 21\",$B$2,\"Day  \",\"Prob 3rd instars\")","v":3.2744669662312176},null,null,"Sum of 21",0,21,{"$f":"K206+GETPIVOTDATA(\"Sum of 21\",H$2,\"Day  \",\"Prob 3rd instars\")","v":3.0835976661560132},null,null,"Sum of 21",0,21,{"$f":"Q206+GETPIVOTDATA(\"Sum of 21\",N$2,\"Day  \",\"Prob 3rd instars\")","v":3.5903258371914033},null,null,"Sum of 21",0,21,{"$f":"W206+GETPIVOTDATA(\"Sum of 21\",T$2,\"Day  \",\"Prob 3rd instars\")","v":4.0343566833608948},null,null,"Sum of 21",0,21,{"$f":"AC206+GETPIVOTDATA(\"Sum of 21\",Z$2,\"Day  \",\"Prob 3rd instars\")","v":2.5812542721476142},null,null,"Sum of 21",0,21,{"$f":"AI206+GETPIVOTDATA(\"Sum of 21\",AF$2,\"Day  \",\"Prob 3rd instars\")","v":2.538099568399955},null,null,"Sum of 21",0,21,{"$f":"AO206+GETPIVOTDATA(\"Sum of 21\",AL$2,\"Day  \",\"Prob 3rd instars\")","v":0},null,null,"Sum of 21",0,21,{"$f":"AU206+GETPIVOTDATA(\"Sum of 21\",AR$2,\"Day  \",\"Prob 3rd instars\")","v":0},null,null,"Sum of 21",0,21,{"$f":"BA206+GETPIVOTDATA(\"Sum of 21\",AX$2,\"Day  \",\"Prob 3rd instars\")","v":0},null,null,"Sum of 21",0,21,{"$f":"BG206+GETPIVOTDATA(\"Sum of 21\",BD$2,\"Day  \",\"Prob 3rd instars\")","v":0}]
[null,"Sum of 22",0,22,{"$f":"E207+GETPIVOTDATA(\"Sum of 22\",$B$2,\"Day  \",\"Prob 3rd instars\")","v":3.2744669662312176},null,null,"Sum of 22",0,22,{"$f":"K207+GETPIVOTDATA(\"Sum of 22\",H$2,\"Day  \",\"Prob 3rd instars\")","v":3.0835976661560132},null,null,"Sum of 22",0,22,{"$f":"Q207+GETPIVOTDATA(\"Sum of 22\",N$2,\"Day  \",\"Prob 3rd instars\")","v":3.5903258371914033},null,null,"Sum of 22",0,22,{"$f":"W207+GETPIVOTDATA(\"Sum of 22\",T$2,\"Day  \",\"Prob 3rd instars\")","v":4.0343566833608948},null,null,"Sum of 22",0,22,{"$f":"AC207+GETPIVOTDATA(\"Sum of 22\",Z$2,\"Day  \",\"Prob 3rd instars\")","v":2.5812542721476142},null,null,"Sum of 22",0,22,{"$f":"AI207+GETPIVOTDATA(\"Sum of 22\",AF$2,\"Day  \",\"Prob 3rd instars\")","v":2.538099568399955},null,null,"Sum of 22",0,22,{"$f":"AO207+GETPIVOTDATA(\"Sum of 22\",AL$2,\"Day  \",\"Prob 3rd instars\")","v":0},null,null,"Sum of 22",0,22,{"$f":"AU207+GETPIVOTDATA(\"Sum of 22\",AR$2,\"Day  \",\"Prob 3rd instars\")","v":0},null,null,"Sum of 22",0,22,{"$f":"BA207+GETPIVOTDATA(\"Sum of 22\",AX$2,\"Day  \",\"Prob 3rd instars\")","v":0},null,null,"Sum of 22",0,22,{"$f":"BG207+GETPIVOTDATA(\"Sum of 22\",BD$2,\"Day  \",\"Prob 3rd instars\")","v":0}]
[null,"Sum of 23",0,23,{"$f":"E208+GETPIVOTDATA(\"Sum of 23\",$B$2,\"Day  \",\"Prob 3rd instars\")","v":3.2744669662312176},null,null,"Sum of 23",0,23,{"$f":"K208+GETPIVOTDATA(\"Sum of 23\",H$2,\"Day  \",\"Prob 3rd instars\")","v":3.0835976661560132},null,null,"Sum of 23",0,23,{"$f":"Q208+GETPIVOTDATA(\"Sum of 23\",N$2,\"Day  \",\"Prob 3rd instars\")","v":3.5903258371914033},null,null,"Sum of 23",0,23,{"$f":"W208+GETPIVOTDATA(\"Sum of 23\",T$2,\"Day  \",\"Prob 3rd instars\")","v":4.0343566833608948},null,null,"Sum of 23",0,23,{"$f":"AC208+GETPIVOTDATA(\"Sum of 23\",Z$2,\"Day  \",\"Prob 3rd instars\")","v":2.5812542721476142},null,null,"Sum of 23",0,23,{"$f":"AI208+GETPIVOTDATA(\"Sum of 23\",AF$2,\"Day  \",\"Prob 3rd instars\")","v":2.538099568399955},null,null,"Sum of 23",0,23,{"$f":"AO208+GETPIVOTDATA(\"Sum of 23\",AL$2,\"Day  \",\"Prob 3rd instars\")","v":0},null,null,"Sum of 23",0,23,{"$f":"AU208+GETPIVOTDATA(\"Sum of 23\",AR$2,\"Day  \",\"Prob 3rd instars\")","v":0},null,null,"Sum of 23",0,23,{"$f":"BA208+GETPIVOTDATA(\"Sum of 23\",AX$2,\"Day  \",\"Prob 3rd instars\")","v":0},null,null,"Sum of 23",0,23,{"$f":"BG208+GETPIVOTDATA(\"Sum of 23\",BD$2,\"Day  \",\"Prob 3rd instars\")","v":0}]
[null,"Sum of 24",0,24,{"$f":"E209+GETPIVOTDATA(\"Sum of 24\",$B$2,\"Day  \",\"Prob 3rd instars\")","v":3.2744669662312176},null,null,"Sum of 24",0,24,{"$f":"K209+GETPIVOTDATA(\"Sum of 24\",H$2,\"Day  \",\"Prob 3rd instars\")","v":3.0835976661560132},null,null,"Sum of 24",0,24,{"$f":"Q209+GETPIVOTDATA(\"Sum of 24\",N$2,\"Day  \",\"Prob 3rd instars\")","v":3.5903258371914033},null,null,"Sum of 24",0,24,{"$f":"W209+GETPIVOTDATA(\"Sum of 24\",T$2,\"Day  \",\"Prob 3rd instars\")","v":4.0343566833608948},null,null,"Sum of 24",0,24,{"$f":"AC209+GETPIVOTDATA(\"Sum of 24\",Z$2,\"Day  \",\"Prob 3rd instars\")","v":2.5812542721476142},null,null,"Sum of 24",0,24,{"$f":"AI209+GETPIVOTDATA(\"Sum of 24\",AF$2,\"Day  \",\"Prob 3rd instars\")","v":2.538099568399955},null,null,"Sum of 24",0,24,{"$f":"AO209+GETPIVOTDATA(\"Sum of 24\",AL$2,\"Day  \",\"Prob 3rd instars\")","v":0},null,null,"Sum of 24",0,24,{"$f":"AU209+GETPIVOTDATA(\"Sum of 24\",AR$2,\"Day  \",\"Prob 3rd instars\")","v":0},null,null,"Sum of 24",0,24,{"$f":"BA209+GETPIVOTDATA(\"Sum of 24\",AX$2,\"Day  \",\"Prob 3rd instars\")","v":0},null,null,"Sum of 24",0,24,{"$f":"BG209+GETPIVOTDATA(\"Sum of 24\",BD$2,\"Day  \",\"Prob 3rd instars\")","v":0}]
[null,"Sum of 25",0,25,{"$f":"E210+GETPIVOTDATA(\"Sum of 25\",$B$2,\"Day  \",\"Prob 3rd instars\")","v":3.2744669662312176},null,null,"Sum of 25",0,25,{"$f":"K210+GETPIVOTDATA(\"Sum of 25\",H$2,\"Day  \",\"Prob 3rd instars\")","v":3.0835976661560132},null,null,"Sum of 25",0,25,{"$f":"Q210+GETPIVOTDATA(\"Sum of 25\",N$2,\"Day  \",\"Prob 3rd instars\")","v":3.5903258371914033},null,null,"Sum of 25",0,25,{"$f":"W210+GETPIVOTDATA(\"Sum of 25\",T$2,\"Day  \",\"Prob 3rd instars\")","v":4.0343566833608948},null,null,"Sum of 25",0,25,{"$f":"AC210+GETPIVOTDATA(\"Sum of 25\",Z$2,\"Day  \",\"Prob 3rd instars\")","v":2.5812542721476142},null,null,"Sum of 25",0,25,{"$f":"AI210+GETPIVOTDATA(\"Sum of 25\",AF$2,\"Day  \",\"Prob 3rd instars\")","v":2.538099568399955},null,null,"Sum of 25",0,25,{"$f":"AO210+GETPIVOTDATA(\"Sum of 25\",AL$2,\"Day  \",\"Prob 3rd instars\")","v":0},null,null,"Sum of 25",0,25,{"$f":"AU210+GETPIVOTDATA(\"Sum of 25\",AR$2,\"Day  \",\"Prob 3rd instars\")","v":0},null,null,"Sum of 25",0,25,{"$f":"BA210+GETPIVOTDATA(\"Sum of 25\",AX$2,\"Day  \",\"Prob 3rd instars\")","v":0},null,null,"Sum of 25",0,25,{"$f":"BG210+GETPIVOTDATA(\"Sum of 25\",BD$2,\"Day  \",\"Prob 3rd instars\")","v":0}]
[null,"Sum of 26",0,26,{"$f":"E211+GETPIVOTDATA(\"Sum of 26\",$B$2,\"Day  \",\"Prob 3rd instars\")","v":3.2744669662312176},null,null,"Sum of 26",0,26,{"$f":"K211+GETPIVOTDATA(\"Sum of 26\",H$2,\"Day  \",\"Prob 3rd instars\")","v":3.0835976661560132},null,null,"Sum of 26",0,26,{"$f":"Q211+GETPIVOTDATA(\"Sum of 26\",N$2,\"Day  \",\"Prob 3rd instars\")","v":3.5903258371914033},null,null,"Sum of 26",0,26,{"$f":"W211+GETPIVOTDATA(\"Sum of 26\",T$2,\"Day  \",\"Prob 3rd instars\")","v":4.0343566833608948},null,null,"Sum of 26",0,26,{"$f":"AC211+GETPIVOTDATA(\"Sum of 26\",Z$2,\"Day  \",\"Prob 3rd instars\")","v":2.5812542721476142},null,null,"Sum of 26",0,26,{"$f":"AI211+GETPIVOTDATA(\"Sum of 26\",AF$2,\"Day  \",\"Prob 3rd instars\")","v":2.538099568399955},null,null,"Sum of 26",0,26,{"$f":"AO211+GETPIVOTDATA(\"Sum of 26\",AL$2,\"Day  \",\"Prob 3rd instars\")","v":0},null,null,"Sum of 26",0,26,{"$f":"AU211+GETPIVOTDATA(\"Sum of 26\",AR$2,\"Day  \",\"Prob 3rd instars\")","v":0},null,null,"Sum of 26",0,26,{"$f":"BA211+GETPIVOTDATA(\"Sum of 26\",AX$2,\"Day  \",\"Prob 3rd instars\")","v":0},null,null,"Sum of 26",0,26,{"$f":"BG211+GETPIVOTDATA(\"Sum of 26\",BD$2,\"Day  \",\"Prob 3rd instars\")","v":0}]
[null,"Sum of 27",0,27,{"$f":"E212+GETPIVOTDATA(\"Sum of 27\",$B$2,\"Day  \",\"Prob 3rd instars\")","v":3.2744669662312176},null,null,"Sum of 27",0,27,{"$f":"K212+GETPIVOTDATA(\"Sum of 27\",H$2,\"Day  \",\"Prob 3rd instars\")","v":3.0835976661560132},null,null,"Sum of 27",0,27,{"$f":"Q212+GETPIVOTDATA(\"Sum of 27\",N$2,\"Day  \",\"Prob 3rd instars\")","v":3.5903258371914033},null,null,"Sum of 27",0,27,{"$f":"W212+GETPIVOTDATA(\"Sum of 27\",T$2,\"Day  \",\"Prob 3rd instars\")","v":4.0343566833608948},null,null,"Sum of 27",0,27,{"$f":"AC212+GETPIVOTDATA(\"Sum of 27\",Z$2,\"Day  \",\"Prob 3rd instars\")","v":2.5812542721476142},null,null,"Sum of 27",0,27,{"$f":"AI212+GETPIVOTDATA(\"Sum of 27\",AF$2,\"Day  \",\"Prob 3rd instars\")","v":2.538099568399955},null,null,"Sum of 27",0,27,{"$f":"AO212+GETPIVOTDATA(\"Sum of 27\",AL$2,\"Day  \",\"Prob 3rd instars\")","v":0},null,null,"Sum of 27",0,27,{"$f":"AU212+GETPIVOTDATA(\"Sum of 27\",AR$2,\"Day  \",\"Prob 3rd instars\")","v":0},null,null,"Sum of 27",0,27,{"$f":"BA212+GETPIVOTDATA(\"Sum of 27\",AX$2,\"Day  \",\"Prob 3rd instars\")","v":0},null,null,"Sum of 27",0,27,{"$f":"BG212+GETPIVOTDATA(\"Sum of 27\",BD$2,\"Day  \",\"Prob 3rd instars\")","v":0}]
[null,"Sum of 28",0,28,{"$f":"E213+GETPIVOTDATA(\"Sum of 28\",$B$2,\"Day  \",\"Prob 3rd instars\")","v":3.2744669662312176},null,null,"Sum of 28",0,28,{"$f":"K213+GETPIVOTDATA(\"Sum of 28\",H$2,\"Day  \",\"Prob 3rd instars\")","v":3.0835976661560132},null,null,"Sum of 28",0,28,{"$f":"Q213+GETPIVOTDATA(\"Sum of 28\",N$2,\"Day  \",\"Prob 3rd instars\")","v":3.5903258371914033},null,null,"Sum of 28",0,28,{"$f":"W213+GETPIVOTDATA(\"Sum of 28\",T$2,\"Day  \",\"Prob 3rd instars\")","v":4.0343566833608948},null,null,"Sum of 28",0,28,{"$f":"AC213+GETPIVOTDATA(\"Sum of 28\",Z$2,\"Day  \",\"Prob 3rd instars\")","v":2.5812542721476142},null,null,"Sum of 28",0,28,{"$f":"AI213+GETPIVOTDATA(\"Sum of 28\",AF$2,\"Day  \",\"Prob 3rd instars\")","v":2.538099568399955},null,null,"Sum of 28",0,28,{"$f":"AO213+GETPIVOTDATA(\"Sum of 28\",AL$2,\"Day  \",\"Prob 3rd instars\")","v":0},null,null,"Sum of 28",0,28,{"$f":"AU213+GETPIVOTDATA(\"Sum of 28\",AR$2,\"Day  \",\"Prob 3rd instars\")","v":0},null,null,"Sum of 28",0,28,{"$f":"BA213+GETPIVOTDATA(\"Sum of 28\",AX$2,\"Day  \",\"Prob 3rd instars\")","v":0},null,null,"Sum of 28",0,28,{"$f":"BG213+GETPIVOTDATA(\"Sum of 28\",BD$2,\"Day  \",\"Prob 3rd instars\")","v":0}]
[null,"Sum of 29",0,29,{"$f":"E214+GETPIVOTDATA(\"Sum of 29\",$B$2,\"Day  \",\"Prob 3rd instars\")","v":3.2744669662312176},null,null,"Sum of 29",0,29,{"$f":"K214+GETPIVOTDATA(\"Sum of 29\",H$2,\"Day  \",\"Prob 3rd instars\")","v":3.0835976661560132},null,null,"Sum of 29",0,29,{"$f":"Q214+GETPIVOTDATA(\"Sum of 29\",N$2,\"Day  \",\"Prob 3rd instars\")","v":3.5903258371914033},null,null,"Sum of 29",0,29,{"$f":"W214+GETPIVOTDATA(\"Sum of 29\",T$2,\"Day  \",\"Prob 3rd instars\")","v":4.0343566833608948},null,null,"Sum of 29",0,29,{"$f":"AC214+GETPIVOTDATA(\"Sum of 29\",Z$2,\"Day  \",\"Prob 3rd instars\")","v":2.5812542721476142},null,null,"Sum of 29",0,29,{"$f":"AI214+GETPIVOTDATA(\"Sum of 29\",AF$2,\"Day  \",\"Prob 3rd instars\")","v":2.538099568399955},null,null,"Sum of 29",0,29,{"$f":"AO214+GETPIVOTDATA(\"Sum of 29\",AL$2,\"Day  \",\"Prob 3rd instars\")","v":0},null,null,"Sum of 29",0,29,{"$f":"AU214+GETPIVOTDATA(\"Sum of 29\",AR$2,\"Day  \",\"Prob 3rd instars\")","v":0},null,null,"Sum of 29",0,29,{"$f":"BA214+GETPIVOTDATA(\"Sum of 29\",AX$2,\"Day  \",\"Prob 3rd instars\")","v":0},null,null,"Sum of 29",0,29,{"$f":"BG214+GETPIVOTDATA(\"Sum of 29\",BD$2,\"Day  \",\"Prob 3rd instars\")","v":0}]
[null,"Sum of 30",0,30,{"$f":"E215+GETPIVOTDATA(\"Sum of 30\",$B$2,\"Day  \",\"Prob 3rd instars\")","v":3.2744669662312176},null,null,"Sum of 30",0,30,{"$f":"K215+GETPIVOTDATA(\"Sum of 30\",H$2,\"Day  \",\"Prob 3rd instars\")","v":3.0835976661560132},null,null,"Sum of 30",0,30,{"$f":"Q215+GETPIVOTDATA(\"Sum of 30\",N$2,\"Day  \",\"Prob 3rd instars\")","v":3.5903258371914033},null,null,"Sum of 30",0,30,{"$f":"W215+GETPIVOTDATA(\"Sum of 30\",T$2,\"Day  \",\"Prob 3rd instars\")","v":4.0343566833608948},null,null,"Sum of 30",0,30,{"$f":"AC215+GETPIVOTDATA(\"Sum of 30\",Z$2,\"Day  \",\"Prob 3rd instars\")","v":2.5812542721476142},null,null,"Sum of 30",0,30,{"$f":"AI215+GETPIVOTDATA(\"Sum of 30\",AF$2,\"Day  \",\"Prob 3rd instars\")","v":2.538099568399955},null,null,"Sum of 30",0,30,{"$f":"AO215+GETPIVOTDATA(\"Sum of 30\",AL$2,\"Day  \",\"Prob 3rd instars\")","v":0},null,null,"Sum of 30",0,30,{"$f":"AU215+GETPIVOTDATA(\"Sum of 30\",AR$2,\"Day  \",\"Prob 3rd instars\")","v":0},null,null,"Sum of 30",0,30,{"$f":"BA215+GETPIVOTDATA(\"Sum of 30\",AX$2,\"Day  \",\"Prob 3rd instars\")","v":0},null,null,"Sum of 30",0,30,{"$f":"BG215+GETPIVOTDATA(\"Sum of 30\",BD$2,\"Day  \",\"Prob 3rd instars\")","v":0}]
[null,"Sum of 31",0,31,{"$f":"E216+GETPIVOTDATA(\"Sum of 31\",$B$2,\"Day  \",\"Prob 3rd instars\")","v":3.2744669662312176},null,null,"Sum of 31",0,31,{"$f":"K216+GETPIVOTDATA(\"Sum of 31\",H$2,\"Day  \",\"Prob 3rd instars\")","v":3.0835976661560132},null,null,"Sum of 31",0,31,{"$f":"Q216+GETPIVOTDATA(\"Sum of 31\",N$2,\"Day  \",\"Prob 3rd instars\")","v":3.5903258371914033},null,null,"Sum of 31",0,31,{"$f":"W216+GETPIVOTDATA(\"Sum of 31\",T$2,\"Day  \",\"Prob 3rd instars\")","v":4.0343566833608948},null,null,"Sum of 31",0,31,{"$f":"AC216+GETPIVOTDATA(\"Sum of 31\",Z$2,\"Day  \",\"Prob 3rd instars\")","v":2.5812542721476142},null,null,"Sum of 31",0,31,{"$f":"AI216+GETPIVOTDATA(\"Sum of 31\",AF$2,\"Day  \",\"Prob 3rd instars\")","v":2.538099568399955},null,null,"Sum of 31",0,31,{"$f":"AO216+GETPIVOTDATA(\"Sum of 31\",AL$2,\"Day  \",\"Prob 3rd instars\")","v":0},null,null,"Sum of 31",0,31,{"$f":"AU216+GETPIVOTDATA(\"Sum of 31\",AR$2,\"Day  \",\"Prob 3rd instars\")","v":0},null,null,"Sum of 31",0,31,{"$f":"BA216+GETPIVOTDATA(\"Sum of 31\",AX$2,\"Day  \",\"Prob 3rd instars\")","v":0},null,null,"Sum of 31",0,31,{"$f":"BG216+GETPIVOTDATA(\"Sum of 31\",BD$2,\"Day  \",\"Prob 3rd instars\")","v":0}]
[null,"Sum of 32",0,32,{"$f":"E217+GETPIVOTDATA(\"Sum of 32\",$B$2,\"Day  \",\"Prob 3rd instars\")","v":3.2744669662312176},null,null,"Sum of 32",0,32,{"$f":"K217+GETPIVOTDATA(\"Sum of 32\",H$2,\"Day  \",\"Prob 3rd instars\")","v":3.0835976661560132},null,null,"Sum of 32",0,32,{"$f":"Q217+GETPIVOTDATA(\"Sum of 32\",N$2,\"Day  \",\"Prob 3rd instars\")","v":3.5903258371914033},null,null,"Sum of 32",0,32,{"$f":"W217+GETPIVOTDATA(\"Sum of 32\",T$2,\"Day  \",\"Prob 3rd instars\")","v":4.0343566833608948},null,null,"Sum of 32",0,32,{"$f":"AC217+GETPIVOTDATA(\"Sum of 32\",Z$2,\"Day  \",\"Prob 3rd instars\")","v":2.5812542721476142},null,null,"Sum of 32",0,32,{"$f":"AI217+GETPIVOTDATA(\"Sum of 32\",AF$2,\"Day  \",\"Prob 3rd instars\")","v":2.538099568399955},null,null,"Sum of 32",0,32,{"$f":"AO217+GETPIVOTDATA(\"Sum of 32\",AL$2,\"Day  \",\"Prob 3rd instars\")","v":0},null,null,"Sum of 32",0,32,{"$f":"AU217+GETPIVOTDATA(\"Sum of 32\",AR$2,\"Day  \",\"Prob 3rd instars\")","v":0},null,null,"Sum of 32",0,32,{"$f":"BA217+GETPIVOTDATA(\"Sum of 32\",AX$2,\"Day  \",\"Prob 3rd instars\")","v":0},null,null,"Sum of 32",0,32,{"$f":"BG217+GETPIVOTDATA(\"Sum of 32\",BD$2,\"Day  \",\"Prob 3rd instars\")","v":0}]
[null,"Sum of 33",0,33,{"$f":"E218+GETPIVOTDATA(\"Sum of 33\",$B$2,\"Day  \",\"Prob 3rd instars\")","v":3.2744669662312176},null,null,"Sum of 33",0,33,{"$f":"K218+GETPIVOTDATA(\"Sum of 33\",H$2,\"Day  \",\"Prob 3rd instars\")","v":3.0835976661560132},null,null,"Sum of 33",0,33,{"$f":"Q218+GETPIVOTDATA(\"Sum of 33\",N$2,\"Day  \",\"Prob 3rd instars\")","v":3.5903258371914033},null,null,"Sum of 33",0,33,{"$f":"W218+GETPIVOTDATA(\"Sum of 33\",T$2,\"Day  \",\"Prob 3rd instars\")","v":4.0343566833608948},null,null,"Sum of 33",0,33,{"$f":"AC218+GETPIVOTDATA(\"Sum of 33\",Z$2,\"Day  \",\"Prob 3rd instars\")","v":2.5812542721476142},null,null,"Sum of 33",0,33,{"$f":"AI218+GETPIVOTDATA(\"Sum of 33\",AF$2,\"Day  \",\"Prob 3rd instars\")","v":2.538099568399955},null,null,"Sum of 33",0,33,{"$f":"AO218+GETPIVOTDATA(\"Sum of 33\",AL$2,\"Day  \",\"Prob 3rd instars\")","v":0},null,null,"Sum of 33",0,33,{"$f":"AU218+GETPIVOTDATA(\"Sum of 33\",AR$2,\"Day  \",\"Prob 3rd instars\")","v":0},null,null,"Sum of 33",0,33,{"$f":"BA218+GETPIVOTDATA(\"Sum of 33\",AX$2,\"Day  \",\"Prob 3rd instars\")","v":0},null,null,"Sum of 33",0,33,{"$f":"BG218+GETPIVOTDATA(\"Sum of 33\",BD$2,\"Day  \",\"Prob 3rd instars\")","v":0}]
[null,"Sum of 34",0,34,{"$f":"E219+GETPIVOTDATA(\"Sum of 34\",$B$2,\"Day  \",\"Prob 3rd instars\")","v":3.2744669662312176},null,null,"Sum of 34",0,34,{"$f":"K219+GETPIVOTDATA(\"Sum of 34\",H$2,\"Day  \",\"Prob 3rd instars\")","v":3.0835976661560132},null,null,"Sum of 34",0,34,{"$f":"Q219+GETPIVOTDATA(\"Sum of 34\",N$2,\"Day  \",\"Prob 3rd instars\")","v":3.5903258371914033},null,null,"Sum of 34",0,34,{"$f":"W219+GETPIVOTDATA(\"Sum of 34\",T$2,\"Day  \",\"Prob 3rd instars\")","v":4.0343566833608948},null,null,"Sum of 34",0,34,{"$f":"AC219+GETPIVOTDATA(\"Sum of 34\",Z$2,\"Day  \",\"Prob 3rd instars\")","v":2.5812542721476142},null,null,"Sum of 34",0,34,{"$f":"AI219+GETPIVOTDATA(\"Sum of 34\",AF$2,\"Day  \",\"Prob 3rd instars\")","v":2.538099568399955},null,null,"Sum of 34",0,34,{"$f":"AO219+GETPIVOTDATA(\"Sum of 34\",AL$2,\"Day  \",\"Prob 3rd instars\")","v":0},null,null,"Sum of 34",0,34,{"$f":"AU219+GETPIVOTDATA(\"Sum of 34\",AR$2,\"Day  \",\"Prob 3rd instars\")","v":0},null,null,"Sum of 34",0,34,{"$f":"BA219+GETPIVOTDATA(\"Sum of 34\",AX$2,\"Day  \",\"Prob 3rd instars\")","v":0},null,null,"Sum of 34",0,34,{"$f":"BG219+GETPIVOTDATA(\"Sum of 34\",BD$2,\"Day  \",\"Prob 3rd instars\")","v":0}]
[null,"Sum of 35",0,35,{"$f":"E220+GETPIVOTDATA(\"Sum of 35\",$B$2,\"Day  \",\"Prob 3rd instars\")","v":3.2744669662312176},null,null,"Sum of 35",0,35,{"$f":"K220+GETPIVOTDATA(\"Sum of 35\",H$2,\"Day  \",\"Prob 3rd instars\")","v":3.0835976661560132},null,null,"Sum of 35",0,35,{"$f":"Q220+GETPIVOTDATA(\"Sum of 35\",N$2,\"Day  \",\"Prob 3rd instars\")","v":3.5903258371914033},null,null,"Sum of 35",0,35,{"$f":"W220+GETPIVOTDATA(\"Sum of 35\",T$2,\"Day  \",\"Prob 3rd instars\")","v":4.0343566833608948},null,null,"Sum of 35",0,35,{"$f":"AC220+GETPIVOTDATA(\"Sum of 35\",Z$2,\"Day  \",\"Prob 3rd instars\")","v":2.5812542721476142},null,null,"Sum of 35",0,35,{"$f":"AI220+GETPIVOTDATA(\"Sum of 35\",AF$2,\"Day  \",\"Prob 3rd instars\")","v":2.538099568399955},null,null,"Sum of 35",0,35,{"$f":"AO220+GETPIVOTDATA(\"Sum of 35\",AL$2,\"Day  \",\"Prob 3rd instars\")","v":0},null,null,"Sum of 35",0,35,{"$f":"AU220+GETPIVOTDATA(\"Sum of 35\",AR$2,\"Day  \",\"Prob 3rd instars\")","v":0},null,null,"Sum of 35",0,35,{"$f":"BA220+GETPIVOTDATA(\"Sum of 35\",AX$2,\"Day  \",\"Prob 3rd instars\")","v":0},null,null,"Sum of 35",0,35,{"$f":"BG220+GETPIVOTDATA(\"Sum of 35\",BD$2,\"Day  \",\"Prob 3rd instars\")","v":0}]
[null,"Sum of 36",0,36,{"$f":"E221+GETPIVOTDATA(\"Sum of 36\",$B$2,\"Day  \",\"Prob 3rd instars\")","v":3.2744669662312176},null,null,"Sum of 36",0,36,{"$f":"K221+GETPIVOTDATA(\"Sum of 36\",H$2,\"Day  \",\"Prob 3rd instars\")","v":3.0835976661560132},null,null,"Sum of 36",0,36,{"$f":"Q221+GETPIVOTDATA(\"Sum of 36\",N$2,\"Day  \",\"Prob 3rd instars\")","v":3.5903258371914033},null,null,"Sum of 36",0,36,{"$f":"W221+GETPIVOTDATA(\"Sum of 36\",T$2,\"Day  \",\"Prob 3rd instars\")","v":4.0343566833608948},null,null,"Sum of 36",0,36,{"$f":"AC221+GETPIVOTDATA(\"Sum of 36\",Z$2,\"Day  \",\"Prob 3rd instars\")","v":2.5812542721476142},null,null,"Sum of 36",0,36,{"$f":"AI221+GETPIVOTDATA(\"Sum of 36\",AF$2,\"Day  \",\"Prob 3rd instars\")","v":2.538099568399955},null,null,"Sum of 36",0,36,{"$f":"AO221+GETPIVOTDATA(\"Sum of 36\",AL$2,\"Day  \",\"Prob 3rd instars\")","v":0},null,null,"Sum of 36",0,36,{"$f":"AU221+GETPIVOTDATA(\"Sum of 36\",AR$2,\"Day  \",\"Prob 3rd instars\")","v":0},null,null,"Sum of 36",0,36,{"$f":"BA221+GETPIVOTDATA(\"Sum of 36\",AX$2,\"Day  \",\"Prob 3rd instars\")","v":0},null,null,"Sum of 36",0,36,{"$f":"BG221+GETPIVOTDATA(\"Sum of 36\",BD$2,\"Day  \",\"Prob 3rd instars\")","v":0}]
[null,"Sum of 37",0,37,{"$f":"E222+GETPIVOTDATA(\"Sum of 37\",$B$2,\"Day  \",\"Prob 3rd instars\")","v":3.2744669662312176},null,null,"Sum of 37",0,37,{"$f":"K222+GETPIVOTDATA(\"Sum of 37\",H$2,\"Day  \",\"Prob 3rd instars\")","v":3.0835976661560132},null,null,"Sum of 37",0,37,{"$f":"Q222+GETPIVOTDATA(\"Sum of 37\",N$2,\"Day  \",\"Prob 3rd instars\")","v":3.5903258371914033},null,null,"Sum of 37",0,37,{"$f":"W222+GETPIVOTDATA(\"Sum of 37\",T$2,\"Day  \",\"Prob 3rd instars\")","v":4.0343566833608948},null,null,"Sum of 37",0,37,{"$f":"AC222+GETPIVOTDATA(\"Sum of 37\",Z$2,\"Day  \",\"Prob 3rd instars\")","v":2.5812542721476142},null,null,"Sum of 37",0,37,{"$f":"AI222+GETPIVOTDATA(\"Sum of 37\",AF$2,\"Day  \",\"Prob 3rd instars\")","v":2.538099568399955},null,null,"Sum of 37",0,37,{"$f":"AO222+GETPIVOTDATA(\"Sum of 37\",AL$2,\"Day  \",\"Prob 3rd instars\")","v":0},null,null,"Sum of 37",0,37,{"$f":"AU222+GETPIVOTDATA(\"Sum of 37\",AR$2,\"Day  \",\"Prob 3rd instars\")","v":0},null,null,"Sum of 37",0,37,{"$f":"BA222+GETPIVOTDATA(\"Sum of 37\",AX$2,\"Day  \",\"Prob 3rd instars\")","v":0},null,null,"Sum of 37",0,37,{"$f":"BG222+GETPIVOTDATA(\"Sum of 37\",BD$2,\"Day  \",\"Prob 3rd instars\")","v":0}]
[null,"Sum of 38",0,38,{"$f":"E223+GETPIVOTDATA(\"Sum of 38\",$B$2,\"Day  \",\"Prob 3rd instars\")","v":3.2744669662312176},null,null,"Sum of 38",0,38,{"$f":"K223+GETPIVOTDATA(\"Sum of 38\",H$2,\"Day  \",\"Prob 3rd instars\")","v":3.0835976661560132},null,null,"Sum of 38",0,38,{"$f":"Q223+GETPIVOTDATA(\"Sum of 38\",N$2,\"Day  \",\"Prob 3rd instars\")","v":3.5903258371914033},null,null,"Sum of 38",0,38,{"$f":"W223+GETPIVOTDATA(\"Sum of 38\",T$2,\"Day  \",\"Prob 3rd instars\")","v":4.0343566833608948},null,null,"Sum of 38",0,38,{"$f":"AC223+GETPIVOTDATA(\"Sum of 38\",Z$2,\"Day  \",\"Prob 3rd instars\")","v":2.5812542721476142},null,null,"Sum of 38",0,38,{"$f":"AI223+GETPIVOTDATA(\"Sum of 38\",AF$2,\"Day  \",\"Prob 3rd instars\")","v":2.538099568399955},null,null,"Sum of 38",0,38,{"$f":"AO223+GETPIVOTDATA(\"Sum of 38\",AL$2,\"Day  \",\"Prob 3rd instars\")","v":0},null,null,"Sum of 38",0,38,{"$f":"AU223+GETPIVOTDATA(\"Sum of 38\",AR$2,\"Day  \",\"Prob 3rd instars\")","v":0},null,null,"Sum of 38",0,38,{"$f":"BA223+GETPIVOTDATA(\"Sum of 38\",AX$2,\"Day  \",\"Prob 3rd instars\")","v":0},null,null,"Sum of 38",0,38,{"$f":"BG223+GETPIVOTDATA(\"Sum of 38\",BD$2,\"Day  \",\"Prob 3rd instars\")","v":0}]
[null,"Sum of 39",0,39,{"$f":"E224+GETPIVOTDATA(\"Sum of 39\",$B$2,\"Day  \",\"Prob 3rd instars\")","v":3.2744669662312176},null,null,"Sum of 39",0,39,{"$f":"K224+GETPIVOTDATA(\"Sum of 39\",H$2,\"Day  \",\"Prob 3rd instars\")","v":3.0835976661560132},null,null,"Sum of 39",0,39,{"$f":"Q224+GETPIVOTDATA(\"Sum of 39\",N$2,\"Day  \",\"Prob 3rd instars\")","v":3.5903258371914033},null,null,"Sum of 39",0,39,{"$f":"W224+GETPIVOTDATA(\"Sum of 39\",T$2,\"Day  \",\"Prob 3rd instars\")","v":4.0343566833608948},null,null,"Sum of 39",0,39,{"$f":"AC224+GETPIVOTDATA(\"Sum of 39\",Z$2,\"Day  \",\"Prob 3rd instars\")","v":2.5812542721476142},null,null,"Sum of 39",0,39,{"$f":"AI224+GETPIVOTDATA(\"Sum of 39\",AF$2,\"Day  \",\"Prob 3rd instars\")","v":2.538099568399955},null,null,"Sum of 39",0,39,{"$f":"AO224+GETPIVOTDATA(\"Sum of 39\",AL$2,\"Day  \",\"Prob 3rd instars\")","v":0},null,null,"Sum of 39",0,39,{"$f":"AU224+GETPIVOTDATA(\"Sum of 39\",AR$2,\"Day  \",\"Prob 3rd instars\")","v":0},null,null,"Sum of 39",0,39,{"$f":"BA224+GETPIVOTDATA(\"Sum of 39\",AX$2,\"Day  \",\"Prob 3rd instars\")","v":0},null,null,"Sum of 39",0,39,{"$f":"BG224+GETPIVOTDATA(\"Sum of 39\",BD$2,\"Day  \",\"Prob 3rd instars\")","v":0}]
[null,"Sum of 40",0,40,{"$f":"E225+GETPIVOTDATA(\"Sum of 40\",$B$2,\"Day  \",\"Prob 3rd instars\")","v":3.2744669662312176},null,null,"Sum of 40",0,40,{"$f":"K225+GETPIVOTDATA(\"Sum of 40\",H$2,\"Day  \",\"Prob 3rd instars\")","v":3.0835976661560132},null,null,"Sum of 40",0,40,{"$f":"Q225+GETPIVOTDATA(\"Sum of 40\",N$2,\"Day  \",\"Prob 3rd instars\")","v":3.5903258371914033},null,null,"Sum of 40",0,40,{"$f":"W225+GETPIVOTDATA(\"Sum of 40\",T$2,\"Day  \",\"Prob 3rd instars\")","v":4.0343566833608948},null,null,"Sum of 40",0,40,{"$f":"AC225+GETPIVOTDATA(\"Sum of 40\",Z$2,\"Day  \",\"Prob 3rd instars\")","v":2.5812542721476142},null,null,"Sum of 40",0,40,{"$f":"AI225+GETPIVOTDATA(\"Sum of 40\",AF$2,\"Day  \",\"Prob 3rd instars\")","v":2.538099568399955},null,null,"Sum of 40",0,40,{"$f":"AO225+GETPIVOTDATA(\"Sum of 40\",AL$2,\"Day  \",\"Prob 3rd instars\")","v":0},null,null,"Sum of 40",0,40,{"$f":"AU225+GETPIVOTDATA(\"Sum of 40\",AR$2,\"Day  \",\"Prob 3rd instars\")","v":0},null,null,"Sum of 40",0,40,{"$f":"BA225+GETPIVOTDATA(\"Sum of 40\",AX$2,\"Day  \",\"Prob 3rd instars\")","v":0},null,null,"Sum of 40",0,40,{"$f":"BG225+GETPIVOTDATA(\"Sum of 40\",BD$2,\"Day  \",\"Prob 3rd instars\")","v":0}]
[null,"Sum of 41",0,41,{"$f":"E226+GETPIVOTDATA(\"Sum of 41\",$B$2,\"Day  \",\"Prob 3rd instars\")","v":3.2744669662312176},null,null,"Sum of 41",0,41,{"$f":"K226+GETPIVOTDATA(\"Sum of 41\",H$2,\"Day  \",\"Prob 3rd instars\")","v":3.0835976661560132},null,null,"Sum of 41",0,41,{"$f":"Q226+GETPIVOTDATA(\"Sum of 41\",N$2,\"Day  \",\"Prob 3rd instars\")","v":3.5903258371914033},null,null,"Sum of 41",0,41,{"$f":"W226+GETPIVOTDATA(\"Sum of 41\",T$2,\"Day  \",\"Prob 3rd instars\")","v":4.0343566833608948},null,null,"Sum of 41",0,41,{"$f":"AC226+GETPIVOTDATA(\"Sum of 41\",Z$2,\"Day  \",\"Prob 3rd instars\")","v":2.5812542721476142},null,null,"Sum of 41",0,41,{"$f":"AI226+GETPIVOTDATA(\"Sum of 41\",AF$2,\"Day  \",\"Prob 3rd instars\")","v":2.538099568399955},null,null,"Sum of 41",0,41,{"$f":"AO226+GETPIVOTDATA(\"Sum of 41\",AL$2,\"Day  \",\"Prob 3rd instars\")","v":0},null,null,"Sum of 41",0,41,{"$f":"AU226+GETPIVOTDATA(\"Sum of 41\",AR$2,\"Day  \",\"Prob 3rd instars\")","v":0},null,null,"Sum of 41",0,41,{"$f":"BA226+GETPIVOTDATA(\"Sum of 41\",AX$2,\"Day  \",\"Prob 3rd instars\")","v":0},null,null,"Sum of 41",0,41,{"$f":"BG226+GETPIVOTDATA(\"Sum of 41\",BD$2,\"Day  \",\"Prob 3rd instars\")","v":0}]
[null,"Sum of 42",0,42,{"$f":"E227+GETPIVOTDATA(\"Sum of 42\",$B$2,\"Day  \",\"Prob 3rd instars\")","v":3.2744669662312176},null,null,"Sum of 42",0,42,{"$f":"K227+GETPIVOTDATA(\"Sum of 42\",H$2,\"Day  \",\"Prob 3rd instars\")","v":3.0835976661560132},null,null,"Sum of 42",0,42,{"$f":"Q227+GETPIVOTDATA(\"Sum of 42\",N$2,\"Day  \",\"Prob 3rd instars\")","v":3.5903258371914033},null,null,"Sum of 42",0,42,{"$f":"W227+GETPIVOTDATA(\"Sum of 42\",T$2,\"Day  \",\"Prob 3rd instars\")","v":4.0343566833608948},null,null,"Sum of 42",0,42,{"$f":"AC227+GETPIVOTDATA(\"Sum of 42\",Z$2,\"Day  \",\"Prob 3rd instars\")","v":2.5812542721476142},null,null,"Sum of 42",0,42,{"$f":"AI227+GETPIVOTDATA(\"Sum of 42\",AF$2,\"Day  \",\"Prob 3rd instars\")","v":2.538099568399955},null,null,"Sum of 42",0,42,{"$f":"AO227+GETPIVOTDATA(\"Sum of 42\",AL$2,\"Day  \",\"Prob 3rd instars\")","v":0},null,null,"Sum of 42",0,42,{"$f":"AU227+GETPIVOTDATA(\"Sum of 42\",AR$2,\"Day  \",\"Prob 3rd instars\")","v":0},null,null,"Sum of 42",0,42,{"$f":"BA227+GETPIVOTDATA(\"Sum of 42\",AX$2,\"Day  \",\"Prob 3rd instars\")","v":0},null,null,"Sum of 42",0,42,{"$f":"BG227+GETPIVOTDATA(\"Sum of 42\",BD$2,\"Day  \",\"Prob 3rd instars\")","v":0}]
[null,"Sum of 43",0,43,{"$f":"E228+GETPIVOTDATA(\"Sum of 43\",$B$2,\"Day  \",\"Prob 3rd instars\")","v":3.2744669662312176},null,null,"Sum of 43",0,43,{"$f":"K228+GETPIVOTDATA(\"Sum of 43\",H$2,\"Day  \",\"Prob 3rd instars\")","v":3.0835976661560132},null,null,"Sum of 43",0,43,{"$f":"Q228+GETPIVOTDATA(\"Sum of 43\",N$2,\"Day  \",\"Prob 3rd instars\")","v":3.5903258371914033},null,null,"Sum of 43",0,43,{"$f":"W228+GETPIVOTDATA(\"Sum of 43\",T$2,\"Day  \",\"Prob 3rd instars\")","v":4.0343566833608948},null,null,"Sum of 43",0,43,{"$f":"AC228+GETPIVOTDATA(\"Sum of 43\",Z$2,\"Day  \",\"Prob 3rd instars\")","v":2.5812542721476142},null,null,"Sum of 43",0,43,{"$f":"AI228+GETPIVOTDATA(\"Sum of 43\",AF$2,\"Day  \",\"Prob 3rd instars\")","v":2.538099568399955},null,null,"Sum of 43",0,43,{"$f":"AO228+GETPIVOTDATA(\"Sum of 43\",AL$2,\"Day  \",\"Prob 3rd instars\")","v":0},null,null,"Sum of 43",0,43,{"$f":"AU228+GETPIVOTDATA(\"Sum of 43\",AR$2,\"Day  \",\"Prob 3rd instars\")","v":0},null,null,"Sum of 43",0,43,{"$f":"BA228+GETPIVOTDATA(\"Sum of 43\",AX$2,\"Day  \",\"Prob 3rd instars\")","v":0},null,null,"Sum of 43",0,43,{"$f":"BG228+GETPIVOTDATA(\"Sum of 43\",BD$2,\"Day  \",\"Prob 3rd instars\")","v":0}]
[null,"Sum of 44",0,44,{"$f":"E229+GETPIVOTDATA(\"Sum of 44\",$B$2,\"Day  \",\"Prob 3rd instars\")","v":3.2744669662312176},null,null,"Sum of 44",0,44,{"$f":"K229+GETPIVOTDATA(\"Sum of 44\",H$2,\"Day  \",\"Prob 3rd instars\")","v":3.0835976661560132},null,null,"Sum of 44",0,44,{"$f":"Q229+GETPIVOTDATA(\"Sum of 44\",N$2,\"Day  \",\"Prob 3rd instars\")","v":3.5903258371914033},null,null,"Sum of 44",0,44,{"$f":"W229+GETPIVOTDATA(\"Sum of 44\",T$2,\"Day  \",\"Prob 3rd instars\")","v":4.0343566833608948},null,null,"Sum of 44",0,44,{"$f":"AC229+GETPIVOTDATA(\"Sum of 44\",Z$2,\"Day  \",\"Prob 3rd instars\")","v":2.5812542721476142},null,null,"Sum of 44",0,44,{"$f":"AI229+GETPIVOTDATA(\"Sum of 44\",AF$2,\"Day  \",\"Prob 3rd instars\")","v":2.538099568399955},null,null,"Sum of 44",0,44,{"$f":"AO229+GETPIVOTDATA(\"Sum of 44\",AL$2,\"Day  \",\"Prob 3rd instars\")","v":0},null,null,"Sum of 44",0,44,{"$f":"AU229+GETPIVOTDATA(\"Sum of 44\",AR$2,\"Day  \",\"Prob 3rd instars\")","v":0},null,null,"Sum of 44",0,44,{"$f":"BA229+GETPIVOTDATA(\"Sum of 44\",AX$2,\"Day  \",\"Prob 3rd instars\")","v":0},null,null,"Sum of 44",0,44,{"$f":"BG229+GETPIVOTDATA(\"Sum of 44\",BD$2,\"Day  \",\"Prob 3rd instars\")","v":0}]
[null,"Sum of 45",0,45,{"$f":"E230+GETPIVOTDATA(\"Sum of 45\",$B$2,\"Day  \",\"Prob 3rd instars\")","v":3.2744669662312176},null,null,"Sum of 45",0,45,{"$f":"K230+GETPIVOTDATA(\"Sum of 45\",H$2,\"Day  \",\"Prob 3rd instars\")","v":3.0835976661560132},null,null,"Sum of 45",0,45,{"$f":"Q230+GETPIVOTDATA(\"Sum of 45\",N$2,\"Day  \",\"Prob 3rd instars\")","v":3.5903258371914033},null,null,"Sum of 45",0,45,{"$f":"W230+GETPIVOTDATA(\"Sum of 45\",T$2,\"Day  \",\"Prob 3rd instars\")","v":4.0343566833608948},null,null,"Sum of 45",0,45,{"$f":"AC230+GETPIVOTDATA(\"Sum of 45\",Z$2,\"Day  \",\"Prob 3rd instars\")","v":2.5812542721476142},null,null,"Sum of 45",0,45,{"$f":"AI230+GETPIVOTDATA(\"Sum of 45\",AF$2,\"Day  \",\"Prob 3rd instars\")","v":2.538099568399955},null,null,"Sum of 45",0,45,{"$f":"AO230+GETPIVOTDATA(\"Sum of 45\",AL$2,\"Day  \",\"Prob 3rd instars\")","v":0},null,null,"Sum of 45",0,45,{"$f":"AU230+GETPIVOTDATA(\"Sum of 45\",AR$2,\"Day  \",\"Prob 3rd instars\")","v":0},null,null,"Sum of 45",0,45,{"$f":"BA230+GETPIVOTDATA(\"Sum of 45\",AX$2,\"Day  \",\"Prob 3rd instars\")","v":0},null,null,"Sum of 45",0,45,{"$f":"BG230+GETPIVOTDATA(\"Sum of 45\",BD$2,\"Day  \",\"Prob 3rd instars\")","v":0}]
[null,"Sum of 47",0,46,{"$f":"E231+GETPIVOTDATA(\"Sum of 46\",$B$2,\"Day  \",\"Prob 3rd instars\")","v":3.2744669662312176},null,null,"Sum of 46",0,46,{"$f":"K231+GETPIVOTDATA(\"Sum of 46\",H$2,\"Day  \",\"Prob 3rd instars\")","v":3.0835976661560132},null,null,"Sum of 46",0,46,{"$f":"Q231+GETPIVOTDATA(\"Sum of 46\",N$2,\"Day  \",\"Prob 3rd instars\")","v":3.5903258371914033},null,null,"Sum of 46",0,46,{"$f":"W231+GETPIVOTDATA(\"Sum of 46\",T$2,\"Day  \",\"Prob 3rd instars\")","v":4.0343566833608948},null,null,"Sum of 46",0,46,{"$f":"AC231+GETPIVOTDATA(\"Sum of 46\",Z$2,\"Day  \",\"Prob 3rd instars\")","v":2.5812542721476142},null,null,"Sum of 46",0,46,{"$f":"AI231+GETPIVOTDATA(\"Sum of 46\",AF$2,\"Day  \",\"Prob 3rd instars\")","v":2.538099568399955},null,null,"Sum of 46",0,46,{"$f":"AO231+GETPIVOTDATA(\"Sum of 46\",AL$2,\"Day  \",\"Prob 3rd instars\")","v":0},null,null,"Sum of 46",0,46,{"$f":"AU231+GETPIVOTDATA(\"Sum of 46\",AR$2,\"Day  \",\"Prob 3rd instars\")","v":0},null,null,"Sum of 46",0,46,{"$f":"BA231+GETPIVOTDATA(\"Sum of 46\",AX$2,\"Day  \",\"Prob 3rd instars\")","v":0},null,null,"Sum of 46",0,46,{"$f":"BG231+GETPIVOTDATA(\"Sum of 46\",BD$2,\"Day  \",\"Prob 3rd instars\")","v":0}]
[null,"Sum of 46",0,47,{"$f":"E232+GETPIVOTDATA(\"Sum of 47\",$B$2,\"Day  \",\"Prob 3rd instars\")","v":3.2744669662312176},null,null,"Sum of 47",0,47,{"$f":"K232+GETPIVOTDATA(\"Sum of 47\",H$2,\"Day  \",\"Prob 3rd instars\")","v":3.0835976661560132},null,null,"Sum of 47",0,47,{"$f":"Q232+GETPIVOTDATA(\"Sum of 47\",N$2,\"Day  \",\"Prob 3rd instars\")","v":3.5903258371914033},null,null,"Sum of 47",0,47,{"$f":"W232+GETPIVOTDATA(\"Sum of 47\",T$2,\"Day  \",\"Prob 3rd instars\")","v":4.0343566833608948},null,null,"Sum of 47",0,47,{"$f":"AC232+GETPIVOTDATA(\"Sum of 47\",Z$2,\"Day  \",\"Prob 3rd instars\")","v":2.5812542721476142},null,null,"Sum of 47",0,47,{"$f":"AI232+GETPIVOTDATA(\"Sum of 47\",AF$2,\"Day  \",\"Prob 3rd instars\")","v":2.538099568399955},null,null,"Sum of 47",0,47,{"$f":"AO232+GETPIVOTDATA(\"Sum of 47\",AL$2,\"Day  \",\"Prob 3rd instars\")","v":0},null,null,"Sum of 47",0,47,{"$f":"AU232+GETPIVOTDATA(\"Sum of 47\",AR$2,\"Day  \",\"Prob 3rd instars\")","v":0},null,null,"Sum of 47",0,47,{"$f":"BA232+GETPIVOTDATA(\"Sum of 47\",AX$2,\"Day  \",\"Prob 3rd instars\")","v":0},null,null,"Sum of 47",0,47,{"$f":"BG232+GETPIVOTDATA(\"Sum of 47\",BD$2,\"Day  \",\"Prob 3rd instars\")","v":0}]
[null,"Sum of 48",0,48,{"$f":"E233+GETPIVOTDATA(\"Sum of 48\",$B$2,\"Day  \",\"Prob 3rd instars\")","v":3.2744669662312176},null,null,"Sum of 48",0,48,{"$f":"K233+GETPIVOTDATA(\"Sum of 48\",H$2,\"Day  \",\"Prob 3rd instars\")","v":3.0835976661560132},null,null,"Sum of 48",0,48,{"$f":"Q233+GETPIVOTDATA(\"Sum of 48\",N$2,\"Day  \",\"Prob 3rd instars\")","v":3.5903258371914033},null,null,"Sum of 48",0,48,{"$f":"W233+GETPIVOTDATA(\"Sum of 48\",T$2,\"Day  \",\"Prob 3rd instars\")","v":4.0343566833608948},null,null,"Sum of 48",0,48,{"$f":"AC233+GETPIVOTDATA(\"Sum of 48\",Z$2,\"Day  \",\"Prob 3rd instars\")","v":2.5812542721476142},null,null,"Sum of 48",0,48,{"$f":"AI233+GETPIVOTDATA(\"Sum of 48\",AF$2,\"Day  \",\"Prob 3rd instars\")","v":2.538099568399955},null,null,"Sum of 48",0,48,{"$f":"AO233+GETPIVOTDATA(\"Sum of 48\",AL$2,\"Day  \",\"Prob 3rd instars\")","v":0},null,null,"Sum of 48",0,48,{"$f":"AU233+GETPIVOTDATA(\"Sum of 48\",AR$2,\"Day  \",\"Prob 3rd instars\")","v":0},null,null,"Sum of 48",0,48,{"$f":"BA233+GETPIVOTDATA(\"Sum of 48\",AX$2,\"Day  \",\"Prob 3rd instars\")","v":0},null,null,"Sum of 48",0,48,{"$f":"BG233+GETPIVOTDATA(\"Sum of 48\",BD$2,\"Day  \",\"Prob 3rd instars\")","v":0}]
[null,"Sum of 49",0,49,{"$f":"E234+GETPIVOTDATA(\"Sum of 49\",$B$2,\"Day  \",\"Prob 3rd instars\")","v":3.2744669662312176},null,null,"Sum of 49",0,49,{"$f":"K234+GETPIVOTDATA(\"Sum of 49\",H$2,\"Day  \",\"Prob 3rd instars\")","v":3.0835976661560132},null,null,"Sum of 49",0,49,{"$f":"Q234+GETPIVOTDATA(\"Sum of 49\",N$2,\"Day  \",\"Prob 3rd instars\")","v":3.5903258371914033},null,null,"Sum of 49",0,49,{"$f":"W234+GETPIVOTDATA(\"Sum of 49\",T$2,\"Day  \",\"Prob 3rd instars\")","v":4.0343566833608948},null,null,"Sum of 49",0,49,{"$f":"AC234+GETPIVOTDATA(\"Sum of 49\",Z$2,\"Day  \",\"Prob 3rd instars\")","v":2.5812542721476142},null,null,"Sum of 49",0,49,{"$f":"AI234+GETPIVOTDATA(\"Sum of 49\",AF$2,\"Day  \",\"Prob 3rd instars\")","v":2.538099568399955},null,null,"Sum of 49",0,49,{"$f":"AO234+GETPIVOTDATA(\"Sum of 49\",AL$2,\"Day  \",\"Prob 3rd instars\")","v":0},null,null,"Sum of 49",0,49,{"$f":"AU234+GETPIVOTDATA(\"Sum of 49\",AR$2,\"Day  \",\"Prob 3rd instars\")","v":0},null,null,"Sum of 49",0,49,{"$f":"BA234+GETPIVOTDATA(\"Sum of 49\",AX$2,\"Day  \",\"Prob 3rd instars\")","v":0},null,null,"Sum of 49",0,49,{"$f":"BG234+GETPIVOTDATA(\"Sum of 49\",BD$2,\"Day  \",\"Prob 3rd instars\")","v":0}]
[null,"Sum of 50",0,50,{"$f":"E235+GETPIVOTDATA(\"Sum of 50\",$B$2,\"Day  \",\"Prob 3rd instars\")","v":3.2744669662312176},null,null,"Sum of 50",0,50,{"$f":"K235+GETPIVOTDATA(\"Sum of 50\",H$2,\"Day  \",\"Prob 3rd instars\")","v":3.0835976661560132},null,null,"Sum of 50",0,50,{"$f":"Q235+GETPIVOTDATA(\"Sum of 50\",N$2,\"Day  \",\"Prob 3rd instars\")","v":3.5903258371914033},null,null,"Sum of 50",0,50,{"$f":"W235+GETPIVOTDATA(\"Sum of 50\",T$2,\"Day  \",\"Prob 3rd instars\")","v":4.0343566833608948},null,null,"Sum of 50",0,50,{"$f":"AC235+GETPIVOTDATA(\"Sum of 50\",Z$2,\"Day  \",\"Prob 3rd instars\")","v":2.5812542721476142},null,null,"Sum of 50",0,50,{"$f":"AI235+GETPIVOTDATA(\"Sum of 50\",AF$2,\"Day  \",\"Prob 3rd instars\")","v":2.538099568399955},null,null,"Sum of 50",0,50,{"$f":"AO235+GETPIVOTDATA(\"Sum of 50\",AL$2,\"Day  \",\"Prob 3rd instars\")","v":0},null,null,"Sum of 50",0,50,{"$f":"AU235+GETPIVOTDATA(\"Sum of 50\",AR$2,\"Day  \",\"Prob 3rd instars\")","v":0},null,null,"Sum of 50",0,50,{"$f":"BA235+GETPIVOTDATA(\"Sum of 50\",AX$2,\"Day  \",\"Prob 3rd instars\")","v":0},null,null,"Sum of 50",0,50,{"$f":"BG235+GETPIVOTDATA(\"Sum of 50\",BD$2,\"Day  \",\"Prob 3rd instars\")","v":0}]
[null,"Sum of 51",0,51,{"$f":"E236+GETPIVOTDATA(\"Sum of 51\",$B$2,\"Day  \",\"Prob 3rd instars\")","v":3.2744669662312176},null,null,"Sum of 51",0,51,{"$f":"K236+GETPIVOTDATA(\"Sum of 51\",H$2,\"Day  \",\"Prob 3rd instars\")","v":3.0835976661560132},null,null,"Sum of 51",0,51,{"$f":"Q236+GETPIVOTDATA(\"Sum of 51\",N$2,\"Day  \",\"Prob 3rd instars\")","v":3.5903258371914033},null,null,"Sum of 51",0,51,{"$f":"W236+GETPIVOTDATA(\"Sum of 51\",T$2,\"Day  \",\"Prob 3rd instars\")","v":4.0343566833608948},null,null,"Sum of 51",0,51,{"$f":"AC236+GETPIVOTDATA(\"Sum of 51\",Z$2,\"Day  \",\"Prob 3rd instars\")","v":2.5812542721476142},null,null,"Sum of 51",0,51,{"$f":"AI236+GETPIVOTDATA(\"Sum of 51\",AF$2,\"Day  \",\"Prob 3rd instars\")","v":2.538099568399955},null,null,"Sum of 51",0,51,{"$f":"AO236+GETPIVOTDATA(\"Sum of 51\",AL$2,\"Day  \",\"Prob 3rd instars\")","v":0},null,null,"Sum of 51",0,51,{"$f":"AU236+GETPIVOTDATA(\"Sum of 51\",AR$2,\"Day  \",\"Prob 3rd instars\")","v":0},null,null,"Sum of 51",0,51,{"$f":"BA236+GETPIVOTDATA(\"Sum of 51\",AX$2,\"Day  \",\"Prob 3rd instars\")","v":0},null,null,"Sum of 51",0,51,{"$f":"BG236+GETPIVOTDATA(\"Sum of 51\",BD$2,\"Day  \",\"Prob 3rd instars\")","v":0}]
[null,"Sum of 52",0,52,{"$f":"E237+GETPIVOTDATA(\"Sum of 52\",$B$2,\"Day  \",\"Prob 3rd instars\")","v":3.2744669662312176},null,null,"Sum of 52",0,52,{"$f":"K237+GETPIVOTDATA(\"Sum of 52\",H$2,\"Day  \",\"Prob 3rd instars\")","v":3.0835976661560132},null,null,"Sum of 52",0,52,{"$f":"Q237+GETPIVOTDATA(\"Sum of 52\",N$2,\"Day  \",\"Prob 3rd instars\")","v":3.5903258371914033},null,null,"Sum of 52",0,52,{"$f":"W237+GETPIVOTDATA(\"Sum of 52\",T$2,\"Day  \",\"Prob 3rd instars\")","v":4.0343566833608948},null,null,"Sum of 52",0,52,{"$f":"AC237+GETPIVOTDATA(\"Sum of 52\",Z$2,\"Day  \",\"Prob 3rd instars\")","v":2.5812542721476142},null,null,"Sum of 52",0,52,{"$f":"AI237+GETPIVOTDATA(\"Sum of 52\",AF$2,\"Day  \",\"Prob 3rd instars\")","v":2.538099568399955},null,null,"Sum of 52",0,52,{"$f":"AO237+GETPIVOTDATA(\"Sum of 52\",AL$2,\"Day  \",\"Prob 3rd instars\")","v":0},null,null,"Sum of 52",0,52,{"$f":"AU237+GETPIVOTDATA(\"Sum of 52\",AR$2,\"Day  \",\"Prob 3rd instars\")","v":0},null,null,"Sum of 52",0,52,{"$f":"BA237+GETPIVOTDATA(\"Sum of 52\",AX$2,\"Day  \",\"Prob 3rd instars\")","v":0},null,null,"Sum of 52",0,52,{"$f":"BG237+GETPIVOTDATA(\"Sum of 52\",BD$2,\"Day  \",\"Prob 3rd instars\")","v":0}]
[null,"Sum of 53",0,53,{"$f":"E238+GETPIVOTDATA(\"Sum of 53\",$B$2,\"Day  \",\"Prob 3rd instars\")","v":3.2744669662312176},null,null,"Sum of 53",0,53,{"$f":"K238+GETPIVOTDATA(\"Sum of 53\",H$2,\"Day  \",\"Prob 3rd instars\")","v":3.0835976661560132},null,null,"Sum of 53",0,53,{"$f":"Q238+GETPIVOTDATA(\"Sum of 53\",N$2,\"Day  \",\"Prob 3rd instars\")","v":3.5903258371914033},null,null,"Sum of 53",0,53,{"$f":"W238+GETPIVOTDATA(\"Sum of 53\",T$2,\"Day  \",\"Prob 3rd instars\")","v":4.0343566833608948},null,null,"Sum of 53",0,53,{"$f":"AC238+GETPIVOTDATA(\"Sum of 53\",Z$2,\"Day  \",\"Prob 3rd instars\")","v":2.5812542721476142},null,null,"Sum of 53",0,53,{"$f":"AI238+GETPIVOTDATA(\"Sum of 53\",AF$2,\"Day  \",\"Prob 3rd instars\")","v":2.538099568399955},null,null,"Sum of 53",0,53,{"$f":"AO238+GETPIVOTDATA(\"Sum of 53\",AL$2,\"Day  \",\"Prob 3rd instars\")","v":0},null,null,"Sum of 53",0,53,{"$f":"AU238+GETPIVOTDATA(\"Sum of 53\",AR$2,\"Day  \",\"Prob 3rd instars\")","v":0},null,null,"Sum of 53",0,53,{"$f":"BA238+GETPIVOTDATA(\"Sum of 53\",AX$2,\"Day  \",\"Prob 3rd instars\")","v":0},null,null,"Sum of 53",0,53,{"$f":"BG238+GETPIVOTDATA(\"Sum of 53\",BD$2,\"Day  \",\"Prob 3rd instars\")","v":0}]
[null,"Sum of 54",0,54,{"$f":"E239+GETPIVOTDATA(\"Sum of 54\",$B$2,\"Day  \",\"Prob 3rd instars\")","v":3.2744669662312176},null,null,"Sum of 54",0,54,{"$f":"K239+GETPIVOTDATA(\"Sum of 54\",H$2,\"Day  \",\"Prob 3rd instars\")","v":3.0835976661560132},null,null,"Sum of 54",0,54,{"$f":"Q239+GETPIVOTDATA(\"Sum of 54\",N$2,\"Day  \",\"Prob 3rd instars\")","v":3.5903258371914033},null,null,"Sum of 54",0,54,{"$f":"W239+GETPIVOTDATA(\"Sum of 54\",T$2,\"Day  \",\"Prob 3rd instars\")","v":4.0343566833608948},null,null,"Sum of 54",0,54,{"$f":"AC239+GETPIVOTDATA(\"Sum of 54\",Z$2,\"Day  \",\"Prob 3rd instars\")","v":2.5812542721476142},null,null,"Sum of 54",0,54,{"$f":"AI239+GETPIVOTDATA(\"Sum of 54\",AF$2,\"Day  \",\"Prob 3rd instars\")","v":2.538099568399955},null,null,"Sum of 54",0,54,{"$f":"AO239+GETPIVOTDATA(\"Sum of 54\",AL$2,\"Day  \",\"Prob 3rd instars\")","v":0},null,null,"Sum of 54",0,54,{"$f":"AU239+GETPIVOTDATA(\"Sum of 54\",AR$2,\"Day  \",\"Prob 3rd instars\")","v":0},null,null,"Sum of 54",0,54,{"$f":"BA239+GETPIVOTDATA(\"Sum of 54\",AX$2,\"Day  \",\"Prob 3rd instars\")","v":0},null,null,"Sum of 54",0,54,{"$f":"BG239+GETPIVOTDATA(\"Sum of 54\",BD$2,\"Day  \",\"Prob 3rd instars\")","v":0}]
[null,"Sum of 55",0,55,{"$f":"E240+GETPIVOTDATA(\"Sum of 55\",$B$2,\"Day  \",\"Prob 3rd instars\")","v":3.2744669662312176},null,null,"Sum of 55",0,55,{"$f":"K240+GETPIVOTDATA(\"Sum of 55\",H$2,\"Day  \",\"Prob 3rd instars\")","v":3.0835976661560132},null,null,"Sum of 55",0,55,{"$f":"Q240+GETPIVOTDATA(\"Sum of 55\",N$2,\"Day  \",\"Prob 3rd instars\")","v":3.5903258371914033},null,null,"Sum of 55",0,55,{"$f":"W240+GETPIVOTDATA(\"Sum of 55\",T$2,\"Day  \",\"Prob 3rd instars\")","v":4.0343566833608948},null,null,"Sum of 55",0,55,{"$f":"AC240+GETPIVOTDATA(\"Sum of 55\",Z$2,\"Day  \",\"Prob 3rd instars\")","v":2.5812542721476142},null,null,"Sum of 55",0,55,{"$f":"AI240+GETPIVOTDATA(\"Sum of 55\",AF$2,\"Day  \",\"Prob 3rd instars\")","v":2.538099568399955},null,null,"Sum of 55",0,55,{"$f":"AO240+GETPIVOTDATA(\"Sum of 55\",AL$2,\"Day  \",\"Prob 3rd instars\")","v":0},null,null,"Sum of 55",0,55,{"$f":"AU240+GETPIVOTDATA(\"Sum of 55\",AR$2,\"Day  \",\"Prob 3rd instars\")","v":0},null,null,"Sum of 55",0,55,{"$f":"BA240+GETPIVOTDATA(\"Sum of 55\",AX$2,\"Day  \",\"Prob 3rd instars\")","v":0},null,null,"Sum of 55",0,55,{"$f":"BG240+GETPIVOTDATA(\"Sum of 55\",BD$2,\"Day  \",\"Prob 3rd instars\")","v":0}]
[null,"Sum of 56",0,56,{"$f":"E241+GETPIVOTDATA(\"Sum of 56\",$B$2,\"Day  \",\"Prob 3rd instars\")","v":3.2744669662312176},null,null,"Sum of 56",0,56,{"$f":"K241+GETPIVOTDATA(\"Sum of 56\",H$2,\"Day  \",\"Prob 3rd instars\")","v":3.0835976661560132},null,null,"Sum of 56",0,56,{"$f":"Q241+GETPIVOTDATA(\"Sum of 56\",N$2,\"Day  \",\"Prob 3rd instars\")","v":3.5903258371914033},null,null,"Sum of 56",0,56,{"$f":"W241+GETPIVOTDATA(\"Sum of 56\",T$2,\"Day  \",\"Prob 3rd instars\")","v":4.0343566833608948},null,null,"Sum of 56",0,56,{"$f":"AC241+GETPIVOTDATA(\"Sum of 56\",Z$2,\"Day  \",\"Prob 3rd instars\")","v":2.5812542721476142},null,null,"Sum of 56",0,56,{"$f":"AI241+GETPIVOTDATA(\"Sum of 56\",AF$2,\"Day  \",\"Prob 3rd instars\")","v":2.538099568399955},null,null,"Sum of 56",0,56,{"$f":"AO241+GETPIVOTDATA(\"Sum of 56\",AL$2,\"Day  \",\"Prob 3rd instars\")","v":0},null,null,"Sum of 56",0,56,{"$f":"AU241+GETPIVOTDATA(\"Sum of 56\",AR$2,\"Day  \",\"Prob 3rd instars\")","v":0},null,null,"Sum of 56",0,56,{"$f":"BA241+GETPIVOTDATA(\"Sum of 56\",AX$2,\"Day  \",\"Prob 3rd instars\")","v":0},null,null,"Sum of 56",0,56,{"$f":"BG241+GETPIVOTDATA(\"Sum of 56\",BD$2,\"Day  \",\"Prob 3rd instars\")","v":0}]
[null,"Sum of 57",0,57,{"$f":"E242+GETPIVOTDATA(\"Sum of 57\",$B$2,\"Day  \",\"Prob 3rd instars\")","v":3.2744669662312176},null,null,"Sum of 57",0,57,{"$f":"K242+GETPIVOTDATA(\"Sum of 57\",H$2,\"Day  \",\"Prob 3rd instars\")","v":3.0835976661560132},null,null,"Sum of 57",0,57,{"$f":"Q242+GETPIVOTDATA(\"Sum of 57\",N$2,\"Day  \",\"Prob 3rd instars\")","v":3.5903258371914033},null,null,"Sum of 57",0,57,{"$f":"W242+GETPIVOTDATA(\"Sum of 57\",T$2,\"Day  \",\"Prob 3rd instars\")","v":4.0343566833608948},null,null,"Sum of 57",0,57,{"$f":"AC242+GETPIVOTDATA(\"Sum of 57\",Z$2,\"Day  \",\"Prob 3rd instars\")","v":2.5812542721476142},null,null,"Sum of 57",0,57,{"$f":"AI242+GETPIVOTDATA(\"Sum of 57\",AF$2,\"Day  \",\"Prob 3rd instars\")","v":2.538099568399955},null,null,"Sum of 57",0,57,{"$f":"AO242+GETPIVOTDATA(\"Sum of 57\",AL$2,\"Day  \",\"Prob 3rd instars\")","v":0},null,null,"Sum of 57",0,57,{"$f":"AU242+GETPIVOTDATA(\"Sum of 57\",AR$2,\"Day  \",\"Prob 3rd instars\")","v":0},null,null,"Sum of 57",0,57,{"$f":"BA242+GETPIVOTDATA(\"Sum of 57\",AX$2,\"Day  \",\"Prob 3rd instars\")","v":0},null,null,"Sum of 57",0,57,{"$f":"BG242+GETPIVOTDATA(\"Sum of 57\",BD$2,\"Day  \",\"Prob 3rd instars\")","v":0}]
[null,"Sum of 58",0,58,{"$f":"E243+GETPIVOTDATA(\"Sum of 58\",$B$2,\"Day  \",\"Prob 3rd instars\")","v":3.2744669662312176},null,null,"Sum of 58",0,58,{"$f":"K243+GETPIVOTDATA(\"Sum of 58\",H$2,\"Day  \",\"Prob 3rd instars\")","v":3.0835976661560132},null,null,"Sum of 58",0,58,{"$f":"Q243+GETPIVOTDATA(\"Sum of 58\",N$2,\"Day  \",\"Prob 3rd instars\")","v":3.5903258371914033},null,null,"Sum of 58",0,58,{"$f":"W243+GETPIVOTDATA(\"Sum of 58\",T$2,\"Day  \",\"Prob 3rd instars\")","v":4.0343566833608948},null,null,"Sum of 58",0,58,{"$f":"AC243+GETPIVOTDATA(\"Sum of 58\",Z$2,\"Day  \",\"Prob 3rd instars\")","v":2.5812542721476142},null,null,"Sum of 58",0,58,{"$f":"AI243+GETPIVOTDATA(\"Sum of 58\",AF$2,\"Day  \",\"Prob 3rd instars\")","v":2.538099568399955},null,null,"Sum of 58",0,58,{"$f":"AO243+GETPIVOTDATA(\"Sum of 58\",AL$2,\"Day  \",\"Prob 3rd instars\")","v":0},null,null,"Sum of 58",0,58,{"$f":"AU243+GETPIVOTDATA(\"Sum of 58\",AR$2,\"Day  \",\"Prob 3rd instars\")","v":0},null,null,"Sum of 58",0,58,{"$f":"BA243+GETPIVOTDATA(\"Sum of 58\",AX$2,\"Day  \",\"Prob 3rd instars\")","v":0},null,null,"Sum of 58",0,58,{"$f":"BG243+GETPIVOTDATA(\"Sum of 58\",BD$2,\"Day  \",\"Prob 3rd instars\")","v":0}]
[null,"Sum of 59",0,59,{"$f":"E244+GETPIVOTDATA(\"Sum of 59\",$B$2,\"Day  \",\"Prob 3rd instars\")","v":3.2744669662312176},null,null,"Sum of 59",0,59,{"$f":"K244+GETPIVOTDATA(\"Sum of 59\",H$2,\"Day  \",\"Prob 3rd instars\")","v":3.0835976661560132},null,null,"Sum of 59",0,59,{"$f":"Q244+GETPIVOTDATA(\"Sum of 59\",N$2,\"Day  \",\"Prob 3rd instars\")","v":3.5903258371914033},null,null,"Sum of 59",0,59,{"$f":"W244+GETPIVOTDATA(\"Sum of 59\",T$2,\"Day  \",\"Prob 3rd instars\")","v":4.0343566833608948},null,null,"Sum of 59",0,59,{"$f":"AC244+GETPIVOTDATA(\"Sum of 59\",Z$2,\"Day  \",\"Prob 3rd instars\")","v":2.5812542721476142},null,null,"Sum of 59",0,59,{"$f":"AI244+GETPIVOTDATA(\"Sum of 59\",AF$2,\"Day  \",\"Prob 3rd instars\")","v":2.538099568399955},null,null,"Sum of 59",0,59,{"$f":"AO244+GETPIVOTDATA(\"Sum of 59\",AL$2,\"Day  \",\"Prob 3rd instars\")","v":0},null,null,"Sum of 59",0,59,{"$f":"AU244+GETPIVOTDATA(\"Sum of 59\",AR$2,\"Day  \",\"Prob 3rd instars\")","v":0},null,null,"Sum of 59",0,59,{"$f":"BA244+GETPIVOTDATA(\"Sum of 59\",AX$2,\"Day  \",\"Prob 3rd instars\")","v":0},null,null,"Sum of 59",0,59,{"$f":"BG244+GETPIVOTDATA(\"Sum of 59\",BD$2,\"Day  \",\"Prob 3rd instars\")","v":0}]
[null,"Sum of 60",0,60,{"$f":"E245+GETPIVOTDATA(\"Sum of 60\",$B$2,\"Day  \",\"Prob 3rd instars\")","v":3.2744669662312176},null,null,"Sum of 60",0,60,{"$f":"K245+GETPIVOTDATA(\"Sum of 60\",H$2,\"Day  \",\"Prob 3rd instars\")","v":3.0835976661560132},null,null,"Sum of 60",0,60,{"$f":"Q245+GETPIVOTDATA(\"Sum of 60\",N$2,\"Day  \",\"Prob 3rd instars\")","v":3.5903258371914033},null,null,"Sum of 60",0,60,{"$f":"W245+GETPIVOTDATA(\"Sum of 60\",T$2,\"Day  \",\"Prob 3rd instars\")","v":4.0343566833608948},null,null,"Sum of 60",0,60,{"$f":"AC245+GETPIVOTDATA(\"Sum of 60\",Z$2,\"Day  \",\"Prob 3rd instars\")","v":2.5812542721476142},null,null,"Sum of 60",0,60,{"$f":"AI245+GETPIVOTDATA(\"Sum of 60\",AF$2,\"Day  \",\"Prob 3rd instars\")","v":2.538099568399955},null,null,"Sum of 60",0,60,{"$f":"AO245+GETPIVOTDATA(\"Sum of 60\",AL$2,\"Day  \",\"Prob 3rd instars\")","v":0},null,null,"Sum of 60",0,60,{"$f":"AU245+GETPIVOTDATA(\"Sum of 60\",AR$2,\"Day  \",\"Prob 3rd instars\")","v":0},null,null,"Sum of 60",0,60,{"$f":"BA245+GETPIVOTDATA(\"Sum of 60\",AX$2,\"Day  \",\"Prob 3rd instars\")","v":0},null,null,"Sum of 60",0,60,{"$f":"BG245+GETPIVOTDATA(\"Sum of 60\",BD$2,\"Day  \",\"Prob 3rd instars\")","v":0}]
[null,"Prob Pupae",null,"LSTOT/LSHT","Cum Total","LSComm14th",null,"Prob Pupae",null,"LSTOT/LSHT","Cum Total","LSComm24th",null,"Prob Pupae",null,"LSTOT/LSHT","Cum Total","LSComm34th",null,"Prob Pupae",null,"LSTOT/LSHT","Cum Total","LSComm44th",null,"Prob Pupae",null,"LSTOT/LSHT","Cum Total","LSComm54th",null,"Prob Pupae",null,"LSTOT/LSHT","Cum Total","LSComm64th",null,"Prob Pupae",null,"LSTOT/LSHT","Cum Total","LSComm74th",null,"Prob Pupae",null,"LSTOT/LSHT","Cum Total","LSComm84th",null,"Prob Pupae",null,"LSTOT/LSHT","Cum Total","LSComm94th",null,"Prob Pupae",null,"LSTOT/LSHT","Cum Total","LSComm104th"]
[null,"Sum of 1",0,1,{"$f":"GETPIVOTDATA(\"Sum of 1\",$B$2,\"Day  \",\"Prob 4th Instars\")","v":{"$error":"#REF!"}},{"$f":"IF(LSCheck4th=\"n\",0,(((VLOOKUP(LSTOT,D248:E307,2))-(IF(LSHT=0,0,(VLOOKUP(LSHT,D248:E307,2)))))/LSIT))","v":0},null,"Sum of 1",0,1,{"$f":"GETPIVOTDATA(\"Sum of 1\",H$2,\"Day  \",\"Prob 4th instars\")","v":{"$error":"#REF!"}},{"$f":"IF(LSCheck4th=\"n\",0,(((VLOOKUP(LSTOT,J248:K307,2))-(IF(LSHT=0,0,(VLOOKUP(LSHT,J248:K307,2)))))/LSIT))","v":0},null,"Sum of 1",0,1,{"$f":"GETPIVOTDATA(\"Sum of 1\",N$2,\"Day  \",\"Prob 4th instars\")","v":{"$error":"#REF!"}},{"$f":"IF(LSCheck4th=\"n\",0,(((VLOOKUP(LSTOT,P248:Q307,2))-(IF(LSHT=0,0,(VLOOKUP(LSHT,P248:Q307,2)))))/LSIT))","v":0},null,"Sum of 1",0,1,{"$f":"GETPIVOTDATA(\"Sum of 1\",T$2,\"Day  \",\"Prob 4th instars\")","v":{"$error":"#REF!"}},{"$f":"IF(LSCheck4th=\"n\",0,(((VLOOKUP(LSTOT,V248:W307,2))-(IF(LSHT=0,0,(VLOOKUP(LSHT,V248:W307,2)))))/LSIT))","v":0},null,"Sum of 1",0,1,{"$f":"GETPIVOTDATA(\"Sum of 1\",Z$2,\"Day  \",\"Prob 4th instars\")","v":{"$error":"#REF!"}},{"$f":"IF(LSCheck4th=\"n\",0,(((VLOOKUP(LSTOT,AB248:AC307,2))-(IF(LSHT=0,0,(VLOOKUP(LSHT,AB248:AC307,2)))))/LSIT))","v":0},null,"Sum of 1",0,1,{"$f":"GETPIVOTDATA(\"Sum of 1\",AF$2,\"Day  \",\"Prob 4th instars\")","v":{"$error":"#REF!"}},{"$f":"IF(LSCheck4th=\"n\",0,(((VLOOKUP(LSTOT,AH248:AI307,2))-(IF(LSHT=0,0,(VLOOKUP(LSHT,AH248:AI307,2)))))/LSIT))","v":0},null,"Sum of 1",0,1,{"$f":"GETPIVOTDATA(\"Sum of 1\",AL$2,\"Day  \",\"Prob 4th instars\")","v":{"$error":"#REF!"}},{"$f":"IF(LSCheck4th=\"n\",0,(((VLOOKUP(LSTOT,AN248:AO307,2))-(IF(LSHT=0,0,(VLOOKUP(LSHT,AN248:AO307,2)))))/LSIT))","v":0},null,"Sum of 1",0,1,{"$f":"GETPIVOTDATA(\"Sum of 1\",AR$2,\"Day  \",\"Prob 4th instars\")","v":{"$error":"#REF!"}},{"$f":"IF(LSCheck4th=\"n\",0,(((VLOOKUP(LSTOT,AT248:AU307,2))-(IF(LSHT=0,0,(VLOOKUP(LSHT,AT248:AU307,2)))))/LSIT))","v":0},null,"Sum of 1",0,1,{"$f":"GETPIVOTDATA(\"Sum of 1\",AX$2,\"Day  \",\"Prob 4th instars\")","v":{"$error":"#REF!"}},{"$f":"IF(LSCheck4th=\"n\",0,(((VLOOKUP(LSTOT,AZ248:BA307,2))-(IF(LSHT=0,0,(VLOOKUP(LSHT,AZ248:BA307,2)))))/LSIT))","v":0},null,"Sum of 1",0,1,{"$f":"GETPIVOTDATA(\"Sum of 1\",BD$2,\"Day  \",\"Prob 4th instars\")","v":{"$error":"#REF!"}},{"$f":"IF(LSCheck4th=\"n\",0,(((VLOOKUP(LSTOT,BF248:BG307,2))-(IF(LSHT=0,0,(VLOOKUP(LSHT,BF248:BG307,2)))))/LSIT))","v":0}]
[null,"Sum of 2",0,2,{"$f":"E248+GETPIVOTDATA(\"Sum of 2\",$B$2,\"Day  \",\"Prob 4th Instars\")","v":{"$error":"#REF!"}},null,null,"Sum of 2",0,2,{"$f":"K248+GETPIVOTDATA(\"Sum of 2\",H$2,\"Day  \",\"Prob 4th instars\")","v":{"$error":"#REF!"}},null,null,"Sum of 2",0,2,{"$f":"Q248+GETPIVOTDATA(\"Sum of 2\",N$2,\"Day  \",\"Prob 4th instars\")","v":{"$error":"#REF!"}},null,null,"Sum of 2",0,2,{"$f":"W248+GETPIVOTDATA(\"Sum of 2\",T$2,\"Day  \",\"Prob 4th instars\")","v":{"$error":"#REF!"}},null,null,"Sum of 2",0,2,{"$f":"AC248+GETPIVOTDATA(\"Sum of 2\",Z$2,\"Day  \",\"Prob 4th instars\")","v":{"$error":"#REF!"}},null,null,"Sum of 2",0,2,{"$f":"AI248+GETPIVOTDATA(\"Sum of 2\",AF$2,\"Day  \",\"Prob 4th instars\")","v":{"$error":"#REF!"}},null,null,"Sum of 2",0,2,{"$f":"AO248+GETPIVOTDATA(\"Sum of 2\",AL$2,\"Day  \",\"Prob 4th instars\")","v":{"$error":"#REF!"}},null,null,"Sum of 2",0,2,{"$f":"AU248+GETPIVOTDATA(\"Sum of 2\",AR$2,\"Day  \",\"Prob 4th instars\")","v":{"$error":"#REF!"}},null,null,"Sum of 2",0,2,{"$f":"BA248+GETPIVOTDATA(\"Sum of 2\",AX$2,\"Day  \",\"Prob 4th instars\")","v":{"$error":"#REF!"}},null,null,"Sum of 2",0,2,{"$f":"BG248+GETPIVOTDATA(\"Sum of 2\",BD$2,\"Day  \",\"Prob 4th instars\")","v":{"$error":"#REF!"}}]
[null,"Sum of 3",0,3,{"$f":"E249+GETPIVOTDATA(\"Sum of 3\",$B$2,\"Day  \",\"Prob 4th Instars\")","v":{"$error":"#REF!"}},null,null,"Sum of 3",0,3,{"$f":"K249+GETPIVOTDATA(\"Sum of 3\",H$2,\"Day  \",\"Prob 4th instars\")","v":{"$error":"#REF!"}},null,null,"Sum of 3",0,3,{"$f":"Q249+GETPIVOTDATA(\"Sum of 3\",N$2,\"Day  \",\"Prob 4th instars\")","v":{"$error":"#REF!"}},null,null,"Sum of 3",0,3,{"$f":"W249+GETPIVOTDATA(\"Sum of 3\",T$2,\"Day  \",\"Prob 4th instars\")","v":{"$error":"#REF!"}},null,null,"Sum of 3",0,3,{"$f":"AC249+GETPIVOTDATA(\"Sum of 3\",Z$2,\"Day  \",\"Prob 4th instars\")","v":{"$error":"#REF!"}},null,null,"Sum of 3",0,3,{"$f":"AI249+GETPIVOTDATA(\"Sum of 3\",AF$2,\"Day  \",\"Prob 4th instars\")","v":{"$error":"#REF!"}},null,null,"Sum of 3",0,3,{"$f":"AO249+GETPIVOTDATA(\"Sum of 3\",AL$2,\"Day  \",\"Prob 4th instars\")","v":{"$error":"#REF!"}},null,null,"Sum of 3",0,3,{"$f":"AU249+GETPIVOTDATA(\"Sum of 3\",AR$2,\"Day  \",\"Prob 4th instars\")","v":{"$error":"#REF!"}},null,null,"Sum of 3",0,3,{"$f":"BA249+GETPIVOTDATA(\"Sum of 3\",AX$2,\"Day  \",\"Prob 4th instars\")","v":{"$error":"#REF!"}},null,null,"Sum of 3",0,3,{"$f":"BG249+GETPIVOTDATA(\"Sum of 3\",BD$2,\"Day  \",\"Prob 4th instars\")","v":{"$error":"#REF!"}}]
[null,"Sum of 4",0,4,{"$f":"E250+GETPIVOTDATA(\"Sum of 4\",$B$2,\"Day  \",\"Prob 4th Instars\")","v":{"$error":"#REF!"}},null,null,"Sum of 4",0,4,{"$f":"K250+GETPIVOTDATA(\"Sum of 4\",H$2,\"Day  \",\"Prob 4th instars\")","v":{"$error":"#REF!"}},null,null,"Sum of 4",0,4,{"$f":"Q250+GETPIVOTDATA(\"Sum of 4\",N$2,\"Day  \",\"Prob 4th instars\")","v":{"$error":"#REF!"}},null,null,"Sum of 4",0,4,{"$f":"W250+GETPIVOTDATA(\"Sum of 4\",T$2,\"Day  \",\"Prob 4th instars\")","v":{"$error":"#REF!"}},null,null,"Sum of 4",2.0202020202020204E-2,4,{"$f":"AC250+GETPIVOTDATA(\"Sum of 4\",Z$2,\"Day  \",\"Prob 4th instars\")","v":{"$error":"#REF!"}},null,null,"Sum of 4",0,4,{"$f":"AI250+GETPIVOTDATA(\"Sum of 4\",AF$2,\"Day  \",\"Prob 4th instars\")","v":{"$error":"#REF!"}},null,null,"Sum of 4",0,4,{"$f":"AO250+GETPIVOTDATA(\"Sum of 4\",AL$2,\"Day  \",\"Prob 4th instars\")","v":{"$error":"#REF!"}},null,null,"Sum of 4",0,4,{"$f":"AU250+GETPIVOTDATA(\"Sum of 4\",AR$2,\"Day  \",\"Prob 4th instars\")","v":{"$error":"#REF!"}},null,null,"Sum of 4",0,4,{"$f":"BA250+GETPIVOTDATA(\"Sum of 4\",AX$2,\"Day  \",\"Prob 4th instars\")","v":{"$error":"#REF!"}},null,null,"Sum of 4",0,4,{"$f":"BG250+GETPIVOTDATA(\"Sum of 4\",BD$2,\"Day  \",\"Prob 4th instars\")","v":{"$error":"#REF!"}}]
[null,"Sum of 5",2.3569023569023569E-2,5,{"$f":"E251+GETPIVOTDATA(\"Sum of 5\",$B$2,\"Day  \",\"Prob 4th Instars\")","v":{"$error":"#REF!"}},null,null,"Sum of 5",0,5,{"$f":"K251+GETPIVOTDATA(\"Sum of 5\",H$2,\"Day  \",\"Prob 4th instars\")","v":{"$error":"#REF!"}},null,null,"Sum of 5",3.5294117647058823E-2,5,{"$f":"Q251+GETPIVOTDATA(\"Sum of 5\",N$2,\"Day  \",\"Prob 4th instars\")","v":{"$error":"#REF!"}},null,null,"Sum of 5",0,5,{"$f":"W251+GETPIVOTDATA(\"Sum of 5\",T$2,\"Day  \",\"Prob 4th instars\")","v":{"$error":"#REF!"}},null,null,"Sum of 5",1.0752688172043012E-2,5,{"$f":"AC251+GETPIVOTDATA(\"Sum of 5\",Z$2,\"Day  \",\"Prob 4th instars\")","v":{"$error":"#REF!"}},null,null,"Sum of 5",0,5,{"$f":"AI251+GETPIVOTDATA(\"Sum of 5\",AF$2,\"Day  \",\"Prob 4th instars\")","v":{"$error":"#REF!"}},null,null,"Sum of 5",0,5,{"$f":"AO251+GETPIVOTDATA(\"Sum of 5\",AL$2,\"Day  \",\"Prob 4th instars\")","v":{"$error":"#REF!"}},null,null,"Sum of 5",0,5,{"$f":"AU251+GETPIVOTDATA(\"Sum of 5\",AR$2,\"Day  \",\"Prob 4th instars\")","v":{"$error":"#REF!"}},null,null,"Sum of 5",0,5,{"$f":"BA251+GETPIVOTDATA(\"Sum of 5\",AX$2,\"Day  \",\"Prob 4th instars\")","v":{"$error":"#REF!"}},null,null,"Sum of 5",0,5,{"$f":"BG251+GETPIVOTDATA(\"Sum of 5\",BD$2,\"Day  \",\"Prob 4th instars\")","v":{"$error":"#REF!"}}]
[null,"Sum of 6",0.15186246418338109,6,{"$f":"E252+GETPIVOTDATA(\"Sum of 6\",$B$2,\"Day  \",\"Prob 4th Instars\")","v":{"$error":"#REF!"}},null,null,"Sum of 6",0,6,{"$f":"K252+GETPIVOTDATA(\"Sum of 6\",H$2,\"Day  \",\"Prob 4th instars\")","v":{"$error":"#REF!"}},null,null,"Sum of 6",6.5789473684210523E-2,6,{"$f":"Q252+GETPIVOTDATA(\"Sum of 6\",N$2,\"Day  \",\"Prob 4th instars\")","v":{"$error":"#REF!"}},null,null,"Sum of 6",0.08,6,{"$f":"W252+GETPIVOTDATA(\"Sum of 6\",T$2,\"Day  \",\"Prob 4th instars\")","v":{"$error":"#REF!"}},null,null,"Sum of 6",0.46206896551724136,6,{"$f":"AC252+GETPIVOTDATA(\"Sum of 6\",Z$2,\"Day  \",\"Prob 4th instars\")","v":{"$error":"#REF!"}},null,null,"Sum of 6",0.1703056768558952,6,{"$f":"AI252+GETPIVOTDATA(\"Sum of 6\",AF$2,\"Day  \",\"Prob 4th instars\")","v":{"$error":"#REF!"}},null,null,"Sum of 6",0,6,{"$f":"AO252+GETPIVOTDATA(\"Sum of 6\",AL$2,\"Day  \",\"Prob 4th instars\")","v":{"$error":"#REF!"}},null,null,"Sum of 6",0,6,{"$f":"AU252+GETPIVOTDATA(\"Sum of 6\",AR$2,\"Day  \",\"Prob 4th instars\")","v":{"$error":"#REF!"}},null,null,"Sum of 6",0,6,{"$f":"BA252+GETPIVOTDATA(\"Sum of 6\",AX$2,\"Day  \",\"Prob 4th instars\")","v":{"$error":"#REF!"}},null,null,"Sum of 6",0,6,{"$f":"BG252+GETPIVOTDATA(\"Sum of 6\",BD$2,\"Day  \",\"Prob 4th instars\")","v":{"$error":"#REF!"}}]
[null,"Sum of 7",0.56935817805383027,7,{"$f":"E253+GETPIVOTDATA(\"Sum of 7\",$B$2,\"Day  \",\"Prob 4th Instars\")","v":{"$error":"#REF!"}},null,null,"Sum of 7",0.19736842105263158,7,{"$f":"K253+GETPIVOTDATA(\"Sum of 7\",H$2,\"Day  \",\"Prob 4th instars\")","v":{"$error":"#REF!"}},null,null,"Sum of 7",0.42718446601941745,7,{"$f":"Q253+GETPIVOTDATA(\"Sum of 7\",N$2,\"Day  \",\"Prob 4th instars\")","v":{"$error":"#REF!"}},null,null,"Sum of 7",5.1470588235294115E-2,7,{"$f":"W253+GETPIVOTDATA(\"Sum of 7\",T$2,\"Day  \",\"Prob 4th instars\")","v":{"$error":"#REF!"}},null,null,"Sum of 7",1,7,{"$f":"AC253+GETPIVOTDATA(\"Sum of 7\",Z$2,\"Day  \",\"Prob 4th instars\")","v":{"$error":"#REF!"}},null,null,"Sum of 7",0.91235059760956172,7,{"$f":"AI253+GETPIVOTDATA(\"Sum of 7\",AF$2,\"Day  \",\"Prob 4th instars\")","v":{"$error":"#REF!"}},null,null,"Sum of 7",0,7,{"$f":"AO253+GETPIVOTDATA(\"Sum of 7\",AL$2,\"Day  \",\"Prob 4th instars\")","v":{"$error":"#REF!"}},null,null,"Sum of 7",0,7,{"$f":"AU253+GETPIVOTDATA(\"Sum of 7\",AR$2,\"Day  \",\"Prob 4th instars\")","v":{"$error":"#REF!"}},null,null,"Sum of 7",0,7,{"$f":"BA253+GETPIVOTDATA(\"Sum of 7\",AX$2,\"Day  \",\"Prob 4th instars\")","v":{"$error":"#REF!"}},null,null,"Sum of 7",0,7,{"$f":"BG253+GETPIVOTDATA(\"Sum of 7\",BD$2,\"Day  \",\"Prob 4th instars\")","v":{"$error":"#REF!"}}]
[null,"Sum of 8",0.80654761904761907,8,{"$f":"E254+GETPIVOTDATA(\"Sum of 8\",$B$2,\"Day  \",\"Prob 4th Instars\")","v":{"$error":"#REF!"}},null,null,"Sum of 8",0.13846153846153847,8,{"$f":"K254+GETPIVOTDATA(\"Sum of 8\",H$2,\"Day  \",\"Prob 4th instars\")","v":{"$error":"#REF!"}},null,null,"Sum of 8",0.76086956521739135,8,{"$f":"Q254+GETPIVOTDATA(\"Sum of 8\",N$2,\"Day  \",\"Prob 4th instars\")","v":{"$error":"#REF!"}},null,null,"Sum of 8",0.3401360544217687,8,{"$f":"W254+GETPIVOTDATA(\"Sum of 8\",T$2,\"Day  \",\"Prob 4th instars\")","v":{"$error":"#REF!"}},null,null,"Sum of 8",0,8,{"$f":"AC254+GETPIVOTDATA(\"Sum of 8\",Z$2,\"Day  \",\"Prob 4th instars\")","v":{"$error":"#REF!"}},null,null,"Sum of 8",0.98067632850241548,8,{"$f":"AI254+GETPIVOTDATA(\"Sum of 8\",AF$2,\"Day  \",\"Prob 4th instars\")","v":{"$error":"#REF!"}},null,null,"Sum of 8",0,8,{"$f":"AO254+GETPIVOTDATA(\"Sum of 8\",AL$2,\"Day  \",\"Prob 4th instars\")","v":{"$error":"#REF!"}},null,null,"Sum of 8",0,8,{"$f":"AU254+GETPIVOTDATA(\"Sum of 8\",AR$2,\"Day  \",\"Prob 4th instars\")","v":{"$error":"#REF!"}},null,null,"Sum of 8",0,8,{"$f":"BA254+GETPIVOTDATA(\"Sum of 8\",AX$2,\"Day  \",\"Prob 4th instars\")","v":{"$error":"#REF!"}},null,null,"Sum of 8",0,8,{"$f":"BG254+GETPIVOTDATA(\"Sum of 8\",BD$2,\"Day  \",\"Prob 4th instars\")","v":{"$error":"#REF!"}}]
[null,"Sum of 9",0.14022842639593908,9,{"$f":"E255+GETPIVOTDATA(\"Sum of 9\",$B$2,\"Day  \",\"Prob 4th Instars\")","v":{"$error":"#REF!"}},null,null,"Sum of 9",0.398876404494382,9,{"$f":"K255+GETPIVOTDATA(\"Sum of 9\",H$2,\"Day  \",\"Prob 4th instars\")","v":{"$error":"#REF!"}},null,null,"Sum of 9",0,9,{"$f":"Q255+GETPIVOTDATA(\"Sum of 9\",N$2,\"Day  \",\"Prob 4th instars\")","v":{"$error":"#REF!"}},null,null,"Sum of 9",0.375,9,{"$f":"W255+GETPIVOTDATA(\"Sum of 9\",T$2,\"Day  \",\"Prob 4th instars\")","v":{"$error":"#REF!"}},null,null,"Sum of 9",0,9,{"$f":"AC255+GETPIVOTDATA(\"Sum of 9\",Z$2,\"Day  \",\"Prob 4th instars\")","v":{"$error":"#REF!"}},null,null,"Sum of 9",0,9,{"$f":"AI255+GETPIVOTDATA(\"Sum of 9\",AF$2,\"Day  \",\"Prob 4th instars\")","v":{"$error":"#REF!"}},null,null,"Sum of 9",0,9,{"$f":"AO255+GETPIVOTDATA(\"Sum of 9\",AL$2,\"Day  \",\"Prob 4th instars\")","v":{"$error":"#REF!"}},null,null,"Sum of 9",0,9,{"$f":"AU255+GETPIVOTDATA(\"Sum of 9\",AR$2,\"Day  \",\"Prob 4th instars\")","v":{"$error":"#REF!"}},null,null,"Sum of 9",0,9,{"$f":"BA255+GETPIVOTDATA(\"Sum of 9\",AX$2,\"Day  \",\"Prob 4th instars\")","v":{"$error":"#REF!"}},null,null,"Sum of 9",0,9,{"$f":"BG255+GETPIVOTDATA(\"Sum of 9\",BD$2,\"Day  \",\"Prob 4th instars\")","v":{"$error":"#REF!"}}]
[null,"Sum of 10",0,10,{"$f":"E256+GETPIVOTDATA(\"Sum of 10\",$B$2,\"Day  \",\"Prob 4th Instars\")","v":{"$error":"#REF!"}},null,null,"Sum of 10",0.16494845360824742,10,{"$f":"K256+GETPIVOTDATA(\"Sum of 10\",H$2,\"Day  \",\"Prob 4th instars\")","v":{"$error":"#REF!"}},null,null,"Sum of 10",0,10,{"$f":"Q256+GETPIVOTDATA(\"Sum of 10\",N$2,\"Day  \",\"Prob 4th instars\")","v":{"$error":"#REF!"}},null,null,"Sum of 10",0.15789473684210525,10,{"$f":"W256+GETPIVOTDATA(\"Sum of 10\",T$2,\"Day  \",\"Prob 4th instars\")","v":{"$error":"#REF!"}},null,null,"Sum of 10",0,10,{"$f":"AC256+GETPIVOTDATA(\"Sum of 10\",Z$2,\"Day  \",\"Prob 4th instars\")","v":{"$error":"#REF!"}},null,null,"Sum of 10",0,10,{"$f":"AI256+GETPIVOTDATA(\"Sum of 10\",AF$2,\"Day  \",\"Prob 4th instars\")","v":{"$error":"#REF!"}},null,null,"Sum of 10",0,10,{"$f":"AO256+GETPIVOTDATA(\"Sum of 10\",AL$2,\"Day  \",\"Prob 4th instars\")","v":{"$error":"#REF!"}},null,null,"Sum of 10",0,10,{"$f":"AU256+GETPIVOTDATA(\"Sum of 10\",AR$2,\"Day  \",\"Prob 4th instars\")","v":{"$error":"#REF!"}},null,null,"Sum of 10",0,10,{"$f":"BA256+GETPIVOTDATA(\"Sum of 10\",AX$2,\"Day  \",\"Prob 4th instars\")","v":{"$error":"#REF!"}},null,null,"Sum of 10",0,10,{"$f":"BG256+GETPIVOTDATA(\"Sum of 10\",BD$2,\"Day  \",\"Prob 4th instars\")","v":{"$error":"#REF!"}}]
[null,"Sum of 11",0,11,{"$f":"E257+GETPIVOTDATA(\"Sum of 11\",$B$2,\"Day  \",\"Prob 4th Instars\")","v":{"$error":"#REF!"}},null,null,"Sum of 11",0,11,{"$f":"K257+GETPIVOTDATA(\"Sum of 11\",H$2,\"Day  \",\"Prob 4th instars\")","v":{"$error":"#REF!"}},null,null,"Sum of 11",0,11,{"$f":"Q257+GETPIVOTDATA(\"Sum of 11\",N$2,\"Day  \",\"Prob 4th instars\")","v":{"$error":"#REF!"}},null,null,"Sum of 11",0,11,{"$f":"W257+GETPIVOTDATA(\"Sum of 11\",T$2,\"Day  \",\"Prob 4th instars\")","v":{"$error":"#REF!"}},null,null,"Sum of 11",0,11,{"$f":"AC257+GETPIVOTDATA(\"Sum of 11\",Z$2,\"Day  \",\"Prob 4th instars\")","v":{"$error":"#REF!"}},null,null,"Sum of 11",0,11,{"$f":"AI257+GETPIVOTDATA(\"Sum of 11\",AF$2,\"Day  \",\"Prob 4th instars\")","v":{"$error":"#REF!"}},null,null,"Sum of 11",0,11,{"$f":"AO257+GETPIVOTDATA(\"Sum of 11\",AL$2,\"Day  \",\"Prob 4th instars\")","v":{"$error":"#REF!"}},null,null,"Sum of 11",0,11,{"$f":"AU257+GETPIVOTDATA(\"Sum of 11\",AR$2,\"Day  \",\"Prob 4th instars\")","v":{"$error":"#REF!"}},null,null,"Sum of 11",0,11,{"$f":"BA257+GETPIVOTDATA(\"Sum of 11\",AX$2,\"Day  \",\"Prob 4th instars\")","v":{"$error":"#REF!"}},null,null,"Sum of 11",0,11,{"$f":"BG257+GETPIVOTDATA(\"Sum of 11\",BD$2,\"Day  \",\"Prob 4th instars\")","v":{"$error":"#REF!"}}]
[null,"Sum of 12",0,12,{"$f":"E258+GETPIVOTDATA(\"Sum of 12\",$B$2,\"Day  \",\"Prob 4th Instars\")","v":{"$error":"#REF!"}},null,null,"Sum of 12",0,12,{"$f":"K258+GETPIVOTDATA(\"Sum of 12\",H$2,\"Day  \",\"Prob 4th instars\")","v":{"$error":"#REF!"}},null,null,"Sum of 12",0,12,{"$f":"Q258+GETPIVOTDATA(\"Sum of 12\",N$2,\"Day  \",\"Prob 4th instars\")","v":{"$error":"#REF!"}},null,null,"Sum of 12",0,12,{"$f":"W258+GETPIVOTDATA(\"Sum of 12\",T$2,\"Day  \",\"Prob 4th instars\")","v":{"$error":"#REF!"}},null,null,"Sum of 12",0,12,{"$f":"AC258+GETPIVOTDATA(\"Sum of 12\",Z$2,\"Day  \",\"Prob 4th instars\")","v":{"$error":"#REF!"}},null,null,"Sum of 12",0,12,{"$f":"AI258+GETPIVOTDATA(\"Sum of 12\",AF$2,\"Day  \",\"Prob 4th instars\")","v":{"$error":"#REF!"}},null,null,"Sum of 12",0,12,{"$f":"AO258+GETPIVOTDATA(\"Sum of 12\",AL$2,\"Day  \",\"Prob 4th instars\")","v":{"$error":"#REF!"}},null,null,"Sum of 12",0,12,{"$f":"AU258+GETPIVOTDATA(\"Sum of 12\",AR$2,\"Day  \",\"Prob 4th instars\")","v":{"$error":"#REF!"}},null,null,"Sum of 12",0,12,{"$f":"BA258+GETPIVOTDATA(\"Sum of 12\",AX$2,\"Day  \",\"Prob 4th instars\")","v":{"$error":"#REF!"}},null,null,"Sum of 12",0,12,{"$f":"BG258+GETPIVOTDATA(\"Sum of 12\",BD$2,\"Day  \",\"Prob 4th instars\")","v":{"$error":"#REF!"}}]
[null,"Sum of 13",0,13,{"$f":"E259+GETPIVOTDATA(\"Sum of 13\",$B$2,\"Day  \",\"Prob 4th Instars\")","v":{"$error":"#REF!"}},null,null,"Sum of 13",0,13,{"$f":"K259+GETPIVOTDATA(\"Sum of 13\",H$2,\"Day  \",\"Prob 4th instars\")","v":{"$error":"#REF!"}},null,null,"Sum of 13",0,13,{"$f":"Q259+GETPIVOTDATA(\"Sum of 13\",N$2,\"Day  \",\"Prob 4th instars\")","v":{"$error":"#REF!"}},null,null,"Sum of 13",0,13,{"$f":"W259+GETPIVOTDATA(\"Sum of 13\",T$2,\"Day  \",\"Prob 4th instars\")","v":{"$error":"#REF!"}},null,null,"Sum of 13",0,13,{"$f":"AC259+GETPIVOTDATA(\"Sum of 13\",Z$2,\"Day  \",\"Prob 4th instars\")","v":{"$error":"#REF!"}},null,null,"Sum of 13",0,13,{"$f":"AI259+GETPIVOTDATA(\"Sum of 13\",AF$2,\"Day  \",\"Prob 4th instars\")","v":{"$error":"#REF!"}},null,null,"Sum of 13",0,13,{"$f":"AO259+GETPIVOTDATA(\"Sum of 13\",AL$2,\"Day  \",\"Prob 4th instars\")","v":{"$error":"#REF!"}},null,null,"Sum of 13",0,13,{"$f":"AU259+GETPIVOTDATA(\"Sum of 13\",AR$2,\"Day  \",\"Prob 4th instars\")","v":{"$error":"#REF!"}},null,null,"Sum of 13",0,13,{"$f":"BA259+GETPIVOTDATA(\"Sum of 13\",AX$2,\"Day  \",\"Prob 4th instars\")","v":{"$error":"#REF!"}},null,null,"Sum of 13",0,13,{"$f":"BG259+GETPIVOTDATA(\"Sum of 13\",BD$2,\"Day  \",\"Prob 4th instars\")","v":{"$error":"#REF!"}}]
[null,"Sum of 14",0,14,{"$f":"E260+GETPIVOTDATA(\"Sum of 14\",$B$2,\"Day  \",\"Prob 4th Instars\")","v":{"$error":"#REF!"}},null,null,"Sum of 14",0,14,{"$f":"K260+GETPIVOTDATA(\"Sum of 14\",H$2,\"Day  \",\"Prob 4th instars\")","v":{"$error":"#REF!"}},null,null,"Sum of 14",0,14,{"$f":"Q260+GETPIVOTDATA(\"Sum of 14\",N$2,\"Day  \",\"Prob 4th instars\")","v":{"$error":"#REF!"}},null,null,"Sum of 14",0,14,{"$f":"W260+GETPIVOTDATA(\"Sum of 14\",T$2,\"Day  \",\"Prob 4th instars\")","v":{"$error":"#REF!"}},null,null,"Sum of 14",0,14,{"$f":"AC260+GETPIVOTDATA(\"Sum of 14\",Z$2,\"Day  \",\"Prob 4th instars\")","v":{"$error":"#REF!"}},null,null,"Sum of 14",0,14,{"$f":"AI260+GETPIVOTDATA(\"Sum of 14\",AF$2,\"Day  \",\"Prob 4th instars\")","v":{"$error":"#REF!"}},null,null,"Sum of 14",0,14,{"$f":"AO260+GETPIVOTDATA(\"Sum of 14\",AL$2,\"Day  \",\"Prob 4th instars\")","v":{"$error":"#REF!"}},null,null,"Sum of 14",0,14,{"$f":"AU260+GETPIVOTDATA(\"Sum of 14\",AR$2,\"Day  \",\"Prob 4th instars\")","v":{"$error":"#REF!"}},null,null,"Sum of 14",0,14,{"$f":"BA260+GETPIVOTDATA(\"Sum of 14\",AX$2,\"Day  \",\"Prob 4th instars\")","v":{"$error":"#REF!"}},null,null,"Sum of 14",0,14,{"$f":"BG260+GETPIVOTDATA(\"Sum of 14\",BD$2,\"Day  \",\"Prob 4th instars\")","v":{"$error":"#REF!"}}]
[null,"Sum of 15",0,15,{"$f":"E261+GETPIVOTDATA(\"Sum of 15\",$B$2,\"Day  \",\"Prob 4th Instars\")","v":{"$error":"#REF!"}},null,null,"Sum of 15",0,15,{"$f":"K261+GETPIVOTDATA(\"Sum of 15\",H$2,\"Day  \",\"Prob 4th instars\")","v":{"$error":"#REF!"}},null,null,"Sum of 15",0,15,{"$f":"Q261+GETPIVOTDATA(\"Sum of 15\",N$2,\"Day  \",\"Prob 4th instars\")","v":{"$error":"#REF!"}},null,null,"Sum of 15",0,15,{"$f":"W261+GETPIVOTDATA(\"Sum of 15\",T$2,\"Day  \",\"Prob 4th instars\")","v":{"$error":"#REF!"}},null,null,"Sum of 15",0,15,{"$f":"AC261+GETPIVOTDATA(\"Sum of 15\",Z$2,\"Day  \",\"Prob 4th instars\")","v":{"$error":"#REF!"}},null,null,"Sum of 15",0,15,{"$f":"AI261+GETPIVOTDATA(\"Sum of 15\",AF$2,\"Day  \",\"Prob 4th instars\")","v":{"$error":"#REF!"}},null,null,"Sum of 15",0,15,{"$f":"AO261+GETPIVOTDATA(\"Sum of 15\",AL$2,\"Day  \",\"Prob 4th instars\")","v":{"$error":"#REF!"}},null,null,"Sum of 15",0,15,{"$f":"AU261+GETPIVOTDATA(\"Sum of 15\",AR$2,\"Day  \",\"Prob 4th instars\")","v":{"$error":"#REF!"}},null,null,"Sum of 15",0,15,{"$f":"BA261+GETPIVOTDATA(\"Sum of 15\",AX$2,\"Day  \",\"Prob 4th instars\")","v":{"$error":"#REF!"}},null,null,"Sum of 15",0,15,{"$f":"BG261+GETPIVOTDATA(\"Sum of 15\",BD$2,\"Day  \",\"Prob 4th instars\")","v":{"$error":"#REF!"}}]
[null,"Sum of 16",0,16,{"$f":"E262+GETPIVOTDATA(\"Sum of 16\",$B$2,\"Day  \",\"Prob 4th Instars\")","v":{"$error":"#REF!"}},null,null,"Sum of 16",0,16,{"$f":"K262+GETPIVOTDATA(\"Sum of 16\",H$2,\"Day  \",\"Prob 4th instars\")","v":{"$error":"#REF!"}},null,null,"Sum of 16",0,16,{"$f":"Q262+GETPIVOTDATA(\"Sum of 16\",N$2,\"Day  \",\"Prob 4th instars\")","v":{"$error":"#REF!"}},null,null,"Sum of 16",0,16,{"$f":"W262+GETPIVOTDATA(\"Sum of 16\",T$2,\"Day  \",\"Prob 4th instars\")","v":{"$error":"#REF!"}},null,null,"Sum of 16",0,16,{"$f":"AC262+GETPIVOTDATA(\"Sum of 16\",Z$2,\"Day  \",\"Prob 4th instars\")","v":{"$error":"#REF!"}},null,null,"Sum of 16",0,16,{"$f":"AI262+GETPIVOTDATA(\"Sum of 16\",AF$2,\"Day  \",\"Prob 4th instars\")","v":{"$error":"#REF!"}},null,null,"Sum of 16",0,16,{"$f":"AO262+GETPIVOTDATA(\"Sum of 16\",AL$2,\"Day  \",\"Prob 4th instars\")","v":{"$error":"#REF!"}},null,null,"Sum of 16",0,16,{"$f":"AU262+GETPIVOTDATA(\"Sum of 16\",AR$2,\"Day  \",\"Prob 4th instars\")","v":{"$error":"#REF!"}},null,null,"Sum of 16",0,16,{"$f":"BA262+GETPIVOTDATA(\"Sum of 16\",AX$2,\"Day  \",\"Prob 4th instars\")","v":{"$error":"#REF!"}},null,null,"Sum of 16",0,16,{"$f":"BG262+GETPIVOTDATA(\"Sum of 16\",BD$2,\"Day  \",\"Prob 4th instars\")","v":{"$error":"#REF!"}}]
[null,"Sum of 17",0,17,{"$f":"E263+GETPIVOTDATA(\"Sum of 17\",$B$2,\"Day  \",\"Prob 4th Instars\")","v":{"$error":"#REF!"}},null,null,"Sum of 17",0,17,{"$f":"K263+GETPIVOTDATA(\"Sum of 17\",H$2,\"Day  \",\"Prob 4th instars\")","v":{"$error":"#REF!"}},null,null,"Sum of 17",0,17,{"$f":"Q263+GETPIVOTDATA(\"Sum of 17\",N$2,\"Day  \",\"Prob 4th instars\")","v":{"$error":"#REF!"}},null,null,"Sum of 17",0,17,{"$f":"W263+GETPIVOTDATA(\"Sum of 17\",T$2,\"Day  \",\"Prob 4th instars\")","v":{"$error":"#REF!"}},null,null,"Sum of 17",0,17,{"$f":"AC263+GETPIVOTDATA(\"Sum of 17\",Z$2,\"Day  \",\"Prob 4th instars\")","v":{"$error":"#REF!"}},null,null,"Sum of 17",0,17,{"$f":"AI263+GETPIVOTDATA(\"Sum of 17\",AF$2,\"Day  \",\"Prob 4th instars\")","v":{"$error":"#REF!"}},null,null,"Sum of 17",0,17,{"$f":"AO263+GETPIVOTDATA(\"Sum of 17\",AL$2,\"Day  \",\"Prob 4th instars\")","v":{"$error":"#REF!"}},null,null,"Sum of 17",0,17,{"$f":"AU263+GETPIVOTDATA(\"Sum of 17\",AR$2,\"Day  \",\"Prob 4th instars\")","v":{"$error":"#REF!"}},null,null,"Sum of 17",0,17,{"$f":"BA263+GETPIVOTDATA(\"Sum of 17\",AX$2,\"Day  \",\"Prob 4th instars\")","v":{"$error":"#REF!"}},null,null,"Sum of 17",0,17,{"$f":"BG263+GETPIVOTDATA(\"Sum of 17\",BD$2,\"Day  \",\"Prob 4th instars\")","v":{"$error":"#REF!"}}]
[null,"Sum of 18",0,18,{"$f":"E264+GETPIVOTDATA(\"Sum of 18\",$B$2,\"Day  \",\"Prob 4th Instars\")","v":{"$error":"#REF!"}},null,null,"Sum of 18",0,18,{"$f":"K264+GETPIVOTDATA(\"Sum of 18\",H$2,\"Day  \",\"Prob 4th instars\")","v":{"$error":"#REF!"}},null,null,"Sum of 18",0,18,{"$f":"Q264+GETPIVOTDATA(\"Sum of 18\",N$2,\"Day  \",\"Prob 4th instars\")","v":{"$error":"#REF!"}},null,null,"Sum of 18",0,18,{"$f":"W264+GETPIVOTDATA(\"Sum of 18\",T$2,\"Day  \",\"Prob 4th instars\")","v":{"$error":"#REF!"}},null,null,"Sum of 18",0,18,{"$f":"AC264+GETPIVOTDATA(\"Sum of 18\",Z$2,\"Day  \",\"Prob 4th instars\")","v":{"$error":"#REF!"}},null,null,"Sum of 18",0,18,{"$f":"AI264+GETPIVOTDATA(\"Sum of 18\",AF$2,\"Day  \",\"Prob 4th instars\")","v":{"$error":"#REF!"}},null,null,"Sum of 18",0,18,{"$f":"AO264+GETPIVOTDATA(\"Sum of 18\",AL$2,\"Day  \",\"Prob 4th instars\")","v":{"$error":"#REF!"}},null,null,"Sum of 18",0,18,{"$f":"AU264+GETPIVOTDATA(\"Sum of 18\",AR$2,\"Day  \",\"Prob 4th instars\")","v":{"$error":"#REF!"}},null,null,"Sum of 18",0,18,{"$f":"BA264+GETPIVOTDATA(\"Sum of 18\",AX$2,\"Day  \",\"Prob 4th instars\")","v":{"$error":"#REF!"}},null,null,"Sum of 18",0,18,{"$f":"BG264+GETPIVOTDATA(\"Sum of 18\",BD$2,\"Day  \",\"Prob 4th instars\")","v":{"$error":"#REF!"}}]
[null,"Sum of 19",0,19,{"$f":"E265+GETPIVOTDATA(\"Sum of 19\",$B$2,\"Day  \",\"Prob 4th Instars\")","v":{"$error":"#REF!"}},null,null,"Sum of 19",0,19,{"$f":"K265+GETPIVOTDATA(\"Sum of 19\",H$2,\"Day  \",\"Prob 4th instars\")","v":{"$error":"#REF!"}},null,null,"Sum of 19",0,19,{"$f":"Q265+GETPIVOTDATA(\"Sum of 19\",N$2,\"Day  \",\"Prob 4th instars\")","v":{"$error":"#REF!"}},null,null,"Sum of 19",0,19,{"$f":"W265+GETPIVOTDATA(\"Sum of 19\",T$2,\"Day  \",\"Prob 4th instars\")","v":{"$error":"#REF!"}},null,null,"Sum of 19",0,19,{"$f":"AC265+GETPIVOTDATA(\"Sum of 19\",Z$2,\"Day  \",\"Prob 4th instars\")","v":{"$error":"#REF!"}},null,null,"Sum of 19",0,19,{"$f":"AI265+GETPIVOTDATA(\"Sum of 19\",AF$2,\"Day  \",\"Prob 4th instars\")","v":{"$error":"#REF!"}},null,null,"Sum of 19",0,19,{"$f":"AO265+GETPIVOTDATA(\"Sum of 19\",AL$2,\"Day  \",\"Prob 4th instars\")","v":{"$error":"#REF!"}},null,null,"Sum of 19",0,19,{"$f":"AU265+GETPIVOTDATA(\"Sum of 19\",AR$2,\"Day  \",\"Prob 4th instars\")","v":{"$error":"#REF!"}},null,null,"Sum of 19",0,19,{"$f":"BA265+GETPIVOTDATA(\"Sum of 19\",AX$2,\"Day  \",\"Prob 4th instars\")","v":{"$error":"#REF!"}},null,null,"Sum of 19",0,19,{"$f":"BG265+GETPIVOTDATA(\"Sum of 19\",BD$2,\"Day  \",\"Prob 4th instars\")","v":{"$error":"#REF!"}}]
[null,"Sum of 20",0,20,{"$f":"E266+GETPIVOTDATA(\"Sum of 20\",$B$2,\"Day  \",\"Prob 4th Instars\")","v":{"$error":"#REF!"}},null,null,"Sum of 20",0,20,{"$f":"K266+GETPIVOTDATA(\"Sum of 20\",H$2,\"Day  \",\"Prob 4th instars\")","v":{"$error":"#REF!"}},null,null,"Sum of 20",0,20,{"$f":"Q266+GETPIVOTDATA(\"Sum of 20\",N$2,\"Day  \",\"Prob 4th instars\")","v":{"$error":"#REF!"}},null,null,"Sum of 20",0,20,{"$f":"W266+GETPIVOTDATA(\"Sum of 20\",T$2,\"Day  \",\"Prob 4th instars\")","v":{"$error":"#REF!"}},null,null,"Sum of 20",0,20,{"$f":"AC266+GETPIVOTDATA(\"Sum of 20\",Z$2,\"Day  \",\"Prob 4th instars\")","v":{"$error":"#REF!"}},null,null,"Sum of 20",0,20,{"$f":"AI266+GETPIVOTDATA(\"Sum of 20\",AF$2,\"Day  \",\"Prob 4th instars\")","v":{"$error":"#REF!"}},null,null,"Sum of 20",0,20,{"$f":"AO266+GETPIVOTDATA(\"Sum of 20\",AL$2,\"Day  \",\"Prob 4th instars\")","v":{"$error":"#REF!"}},null,null,"Sum of 20",0,20,{"$f":"AU266+GETPIVOTDATA(\"Sum of 20\",AR$2,\"Day  \",\"Prob 4th instars\")","v":{"$error":"#REF!"}},null,null,"Sum of 20",0,20,{"$f":"BA266+GETPIVOTDATA(\"Sum of 20\",AX$2,\"Day  \",\"Prob 4th instars\")","v":{"$error":"#REF!"}},null,null,"Sum of 20",0,20,{"$f":"BG266+GETPIVOTDATA(\"Sum of 20\",BD$2,\"Day  \",\"Prob 4th instars\")","v":{"$error":"#REF!"}}]
[null,"Sum of 21",0,21,{"$f":"E267+GETPIVOTDATA(\"Sum of 21\",$B$2,\"Day  \",\"Prob 4th Instars\")","v":{"$error":"#REF!"}},null,null,"Sum of 21",0,21,{"$f":"K267+GETPIVOTDATA(\"Sum of 21\",H$2,\"Day  \",\"Prob 4th instars\")","v":{"$error":"#REF!"}},null,null,"Sum of 21",0,21,{"$f":"Q267+GETPIVOTDATA(\"Sum of 21\",N$2,\"Day  \",\"Prob 4th instars\")","v":{"$error":"#REF!"}},null,null,"Sum of 21",0,21,{"$f":"W267+GETPIVOTDATA(\"Sum of 21\",T$2,\"Day  \",\"Prob 4th instars\")","v":{"$error":"#REF!"}},null,null,"Sum of 21",0,21,{"$f":"AC267+GETPIVOTDATA(\"Sum of 21\",Z$2,\"Day  \",\"Prob 4th instars\")","v":{"$error":"#REF!"}},null,null,"Sum of 21",0,21,{"$f":"AI267+GETPIVOTDATA(\"Sum of 21\",AF$2,\"Day  \",\"Prob 4th instars\")","v":{"$error":"#REF!"}},null,null,"Sum of 21",0,21,{"$f":"AO267+GETPIVOTDATA(\"Sum of 21\",AL$2,\"Day  \",\"Prob 4th instars\")","v":{"$error":"#REF!"}},null,null,"Sum of 21",0,21,{"$f":"AU267+GETPIVOTDATA(\"Sum of 21\",AR$2,\"Day  \",\"Prob 4th instars\")","v":{"$error":"#REF!"}},null,null,"Sum of 21",0,21,{"$f":"BA267+GETPIVOTDATA(\"Sum of 21\",AX$2,\"Day  \",\"Prob 4th instars\")","v":{"$error":"#REF!"}},null,null,"Sum of 21",0,21,{"$f":"BG267+GETPIVOTDATA(\"Sum of 21\",BD$2,\"Day  \",\"Prob 4th instars\")","v":{"$error":"#REF!"}}]
[null,"Sum of 22",0,22,{"$f":"E268+GETPIVOTDATA(\"Sum of 22\",$B$2,\"Day  \",\"Prob 4th Instars\")","v":{"$error":"#REF!"}},null,null,"Sum of 22",0,22,{"$f":"K268+GETPIVOTDATA(\"Sum of 22\",H$2,\"Day  \",\"Prob 4th instars\")","v":{"$error":"#REF!"}},null,null,"Sum of 22",0,22,{"$f":"Q268+GETPIVOTDATA(\"Sum of 22\",N$2,\"Day  \",\"Prob 4th instars\")","v":{"$error":"#REF!"}},null,null,"Sum of 22",0,22,{"$f":"W268+GETPIVOTDATA(\"Sum of 22\",T$2,\"Day  \",\"Prob 4th instars\")","v":{"$error":"#REF!"}},null,null,"Sum of 22",0,22,{"$f":"AC268+GETPIVOTDATA(\"Sum of 22\",Z$2,\"Day  \",\"Prob 4th instars\")","v":{"$error":"#REF!"}},null,null,"Sum of 22",0,22,{"$f":"AI268+GETPIVOTDATA(\"Sum of 22\",AF$2,\"Day  \",\"Prob 4th instars\")","v":{"$error":"#REF!"}},null,null,"Sum of 22",0,22,{"$f":"AO268+GETPIVOTDATA(\"Sum of 22\",AL$2,\"Day  \",\"Prob 4th instars\")","v":{"$error":"#REF!"}},null,null,"Sum of 22",0,22,{"$f":"AU268+GETPIVOTDATA(\"Sum of 22\",AR$2,\"Day  \",\"Prob 4th instars\")","v":{"$error":"#REF!"}},null,null,"Sum of 22",0,22,{"$f":"BA268+GETPIVOTDATA(\"Sum of 22\",AX$2,\"Day  \",\"Prob 4th instars\")","v":{"$error":"#REF!"}},null,null,"Sum of 22",0,22,{"$f":"BG268+GETPIVOTDATA(\"Sum of 22\",BD$2,\"Day  \",\"Prob 4th instars\")","v":{"$error":"#REF!"}}]
[null,"Sum of 23",0,23,{"$f":"E269+GETPIVOTDATA(\"Sum of 23\",$B$2,\"Day  \",\"Prob 4th Instars\")","v":{"$error":"#REF!"}},null,null,"Sum of 23",0,23,{"$f":"K269+GETPIVOTDATA(\"Sum of 23\",H$2,\"Day  \",\"Prob 4th instars\")","v":{"$error":"#REF!"}},null,null,"Sum of 23",0,23,{"$f":"Q269+GETPIVOTDATA(\"Sum of 23\",N$2,\"Day  \",\"Prob 4th instars\")","v":{"$error":"#REF!"}},null,null,"Sum of 23",0,23,{"$f":"W269+GETPIVOTDATA(\"Sum of 23\",T$2,\"Day  \",\"Prob 4th instars\")","v":{"$error":"#REF!"}},null,null,"Sum of 23",0,23,{"$f":"AC269+GETPIVOTDATA(\"Sum of 23\",Z$2,\"Day  \",\"Prob 4th instars\")","v":{"$error":"#REF!"}},null,null,"Sum of 23",0,23,{"$f":"AI269+GETPIVOTDATA(\"Sum of 23\",AF$2,\"Day  \",\"Prob 4th instars\")","v":{"$error":"#REF!"}},null,null,"Sum of 23",0,23,{"$f":"AO269+GETPIVOTDATA(\"Sum of 23\",AL$2,\"Day  \",\"Prob 4th instars\")","v":{"$error":"#REF!"}},null,null,"Sum of 23",0,23,{"$f":"AU269+GETPIVOTDATA(\"Sum of 23\",AR$2,\"Day  \",\"Prob 4th instars\")","v":{"$error":"#REF!"}},null,null,"Sum of 23",0,23,{"$f":"BA269+GETPIVOTDATA(\"Sum of 23\",AX$2,\"Day  \",\"Prob 4th instars\")","v":{"$error":"#REF!"}},null,null,"Sum of 23",0,23,{"$f":"BG269+GETPIVOTDATA(\"Sum of 23\",BD$2,\"Day  \",\"Prob 4th instars\")","v":{"$error":"#REF!"}}]
[null,"Sum of 24",0,24,{"$f":"E270+GETPIVOTDATA(\"Sum of 24\",$B$2,\"Day  \",\"Prob 4th Instars\")","v":{"$error":"#REF!"}},null,null,"Sum of 24",0,24,{"$f":"K270+GETPIVOTDATA(\"Sum of 24\",H$2,\"Day  \",\"Prob 4th instars\")","v":{"$error":"#REF!"}},null,null,"Sum of 24",0,24,{"$f":"Q270+GETPIVOTDATA(\"Sum of 24\",N$2,\"Day  \",\"Prob 4th instars\")","v":{"$error":"#REF!"}},null,null,"Sum of 24",0,24,{"$f":"W270+GETPIVOTDATA(\"Sum of 24\",T$2,\"Day  \",\"Prob 4th instars\")","v":{"$error":"#REF!"}},null,null,"Sum of 24",0,24,{"$f":"AC270+GETPIVOTDATA(\"Sum of 24\",Z$2,\"Day  \",\"Prob 4th instars\")","v":{"$error":"#REF!"}},null,null,"Sum of 24",0,24,{"$f":"AI270+GETPIVOTDATA(\"Sum of 24\",AF$2,\"Day  \",\"Prob 4th instars\")","v":{"$error":"#REF!"}},null,null,"Sum of 24",0,24,{"$f":"AO270+GETPIVOTDATA(\"Sum of 24\",AL$2,\"Day  \",\"Prob 4th instars\")","v":{"$error":"#REF!"}},null,null,"Sum of 24",0,24,{"$f":"AU270+GETPIVOTDATA(\"Sum of 24\",AR$2,\"Day  \",\"Prob 4th instars\")","v":{"$error":"#REF!"}},null,null,"Sum of 24",0,24,{"$f":"BA270+GETPIVOTDATA(\"Sum of 24\",AX$2,\"Day  \",\"Prob 4th instars\")","v":{"$error":"#REF!"}},null,null,"Sum of 24",0,24,{"$f":"BG270+GETPIVOTDATA(\"Sum of 24\",BD$2,\"Day  \",\"Prob 4th instars\")","v":{"$error":"#REF!"}}]
[null,"Sum of 25",0,25,{"$f":"E271+GETPIVOTDATA(\"Sum of 25\",$B$2,\"Day  \",\"Prob 4th Instars\")","v":{"$error":"#REF!"}},null,null,"Sum of 25",0,25,{"$f":"K271+GETPIVOTDATA(\"Sum of 25\",H$2,\"Day  \",\"Prob 4th instars\")","v":{"$error":"#REF!"}},null,null,"Sum of 25",0,25,{"$f":"Q271+GETPIVOTDATA(\"Sum of 25\",N$2,\"Day  \",\"Prob 4th instars\")","v":{"$error":"#REF!"}},null,null,"Sum of 25",0,25,{"$f":"W271+GETPIVOTDATA(\"Sum of 25\",T$2,\"Day  \",\"Prob 4th instars\")","v":{"$error":"#REF!"}},null,null,"Sum of 25",0,25,{"$f":"AC271+GETPIVOTDATA(\"Sum of 25\",Z$2,\"Day  \",\"Prob 4th instars\")","v":{"$error":"#REF!"}},null,null,"Sum of 25",0,25,{"$f":"AI271+GETPIVOTDATA(\"Sum of 25\",AF$2,\"Day  \",\"Prob 4th instars\")","v":{"$error":"#REF!"}},null,null,"Sum of 25",0,25,{"$f":"AO271+GETPIVOTDATA(\"Sum of 25\",AL$2,\"Day  \",\"Prob 4th instars\")","v":{"$error":"#REF!"}},null,null,"Sum of 25",0,25,{"$f":"AU271+GETPIVOTDATA(\"Sum of 25\",AR$2,\"Day  \",\"Prob 4th instars\")","v":{"$error":"#REF!"}},null,null,"Sum of 25",0,25,{"$f":"BA271+GETPIVOTDATA(\"Sum of 25\",AX$2,\"Day  \",\"Prob 4th instars\")","v":{"$error":"#REF!"}},null,null,"Sum of 25",0,25,{"$f":"BG271+GETPIVOTDATA(\"Sum of 25\",BD$2,\"Day  \",\"Prob 4th instars\")","v":{"$error":"#REF!"}}]
[null,"Sum of 26",0,26,{"$f":"E272+GETPIVOTDATA(\"Sum of 26\",$B$2,\"Day  \",\"Prob 4th Instars\")","v":{"$error":"#REF!"}},null,null,"Sum of 26",0,26,{"$f":"K272+GETPIVOTDATA(\"Sum of 26\",H$2,\"Day  \",\"Prob 4th instars\")","v":{"$error":"#REF!"}},null,null,"Sum of 26",0,26,{"$f":"Q272+GETPIVOTDATA(\"Sum of 26\",N$2,\"Day  \",\"Prob 4th instars\")","v":{"$error":"#REF!"}},null,null,"Sum of 26",0,26,{"$f":"W272+GETPIVOTDATA(\"Sum of 26\",T$2,\"Day  \",\"Prob 4th instars\")","v":{"$error":"#REF!"}},null,null,"Sum of 26",0,26,{"$f":"AC272+GETPIVOTDATA(\"Sum of 26\",Z$2,\"Day  \",\"Prob 4th instars\")","v":{"$error":"#REF!"}},null,null,"Sum of 26",0,26,{"$f":"AI272+GETPIVOTDATA(\"Sum of 26\",AF$2,\"Day  \",\"Prob 4th instars\")","v":{"$error":"#REF!"}},null,null,"Sum of 26",0,26,{"$f":"AO272+GETPIVOTDATA(\"Sum of 26\",AL$2,\"Day  \",\"Prob 4th instars\")","v":{"$error":"#REF!"}},null,null,"Sum of 26",0,26,{"$f":"AU272+GETPIVOTDATA(\"Sum of 26\",AR$2,\"Day  \",\"Prob 4th instars\")","v":{"$error":"#REF!"}},null,null,"Sum of 26",0,26,{"$f":"BA272+GETPIVOTDATA(\"Sum of 26\",AX$2,\"Day  \",\"Prob 4th instars\")","v":{"$error":"#REF!"}},null,null,"Sum of 26",0,26,{"$f":"BG272+GETPIVOTDATA(\"Sum of 26\",BD$2,\"Day  \",\"Prob 4th instars\")","v":{"$error":"#REF!"}}]
[null,"Sum of 27",0,27,{"$f":"E273+GETPIVOTDATA(\"Sum of 27\",$B$2,\"Day  \",\"Prob 4th Instars\")","v":{"$error":"#REF!"}},null,null,"Sum of 27",0,27,{"$f":"K273+GETPIVOTDATA(\"Sum of 27\",H$2,\"Day  \",\"Prob 4th instars\")","v":{"$error":"#REF!"}},null,null,"Sum of 27",0,27,{"$f":"Q273+GETPIVOTDATA(\"Sum of 27\",N$2,\"Day  \",\"Prob 4th instars\")","v":{"$error":"#REF!"}},null,null,"Sum of 27",0,27,{"$f":"W273+GETPIVOTDATA(\"Sum of 27\",T$2,\"Day  \",\"Prob 4th instars\")","v":{"$error":"#REF!"}},null,null,"Sum of 27",0,27,{"$f":"AC273+GETPIVOTDATA(\"Sum of 27\",Z$2,\"Day  \",\"Prob 4th instars\")","v":{"$error":"#REF!"}},null,null,"Sum of 27",0,27,{"$f":"AI273+GETPIVOTDATA(\"Sum of 27\",AF$2,\"Day  \",\"Prob 4th instars\")","v":{"$error":"#REF!"}},null,null,"Sum of 27",0,27,{"$f":"AO273+GETPIVOTDATA(\"Sum of 27\",AL$2,\"Day  \",\"Prob 4th instars\")","v":{"$error":"#REF!"}},null,null,"Sum of 27",0,27,{"$f":"AU273+GETPIVOTDATA(\"Sum of 27\",AR$2,\"Day  \",\"Prob 4th instars\")","v":{"$error":"#REF!"}},null,null,"Sum of 27",0,27,{"$f":"BA273+GETPIVOTDATA(\"Sum of 27\",AX$2,\"Day  \",\"Prob 4th instars\")","v":{"$error":"#REF!"}},null,null,"Sum of 27",0,27,{"$f":"BG273+GETPIVOTDATA(\"Sum of 27\",BD$2,\"Day  \",\"Prob 4th instars\")","v":{"$error":"#REF!"}}]
[null,"Sum of 28",0,28,{"$f":"E274+GETPIVOTDATA(\"Sum of 28\",$B$2,\"Day  \",\"Prob 4th Instars\")","v":{"$error":"#REF!"}},null,null,"Sum of 28",0,28,{"$f":"K274+GETPIVOTDATA(\"Sum of 28\",H$2,\"Day  \",\"Prob 4th instars\")","v":{"$error":"#REF!"}},null,null,"Sum of 28",0,28,{"$f":"Q274+GETPIVOTDATA(\"Sum of 28\",N$2,\"Day  \",\"Prob 4th instars\")","v":{"$error":"#REF!"}},null,null,"Sum of 28",0,28,{"$f":"W274+GETPIVOTDATA(\"Sum of 28\",T$2,\"Day  \",\"Prob 4th instars\")","v":{"$error":"#REF!"}},null,null,"Sum of 28",0,28,{"$f":"AC274+GETPIVOTDATA(\"Sum of 28\",Z$2,\"Day  \",\"Prob 4th instars\")","v":{"$error":"#REF!"}},null,null,"Sum of 28",0,28,{"$f":"AI274+GETPIVOTDATA(\"Sum of 28\",AF$2,\"Day  \",\"Prob 4th instars\")","v":{"$error":"#REF!"}},null,null,"Sum of 28",0,28,{"$f":"AO274+GETPIVOTDATA(\"Sum of 28\",AL$2,\"Day  \",\"Prob 4th instars\")","v":{"$error":"#REF!"}},null,null,"Sum of 28",0,28,{"$f":"AU274+GETPIVOTDATA(\"Sum of 28\",AR$2,\"Day  \",\"Prob 4th instars\")","v":{"$error":"#REF!"}},null,null,"Sum of 28",0,28,{"$f":"BA274+GETPIVOTDATA(\"Sum of 28\",AX$2,\"Day  \",\"Prob 4th instars\")","v":{"$error":"#REF!"}},null,null,"Sum of 28",0,28,{"$f":"BG274+GETPIVOTDATA(\"Sum of 28\",BD$2,\"Day  \",\"Prob 4th instars\")","v":{"$error":"#REF!"}}]
[null,"Sum of 29",0,29,{"$f":"E275+GETPIVOTDATA(\"Sum of 29\",$B$2,\"Day  \",\"Prob 4th Instars\")","v":{"$error":"#REF!"}},null,null,"Sum of 29",0,29,{"$f":"K275+GETPIVOTDATA(\"Sum of 29\",H$2,\"Day  \",\"Prob 4th instars\")","v":{"$error":"#REF!"}},null,null,"Sum of 29",0,29,{"$f":"Q275+GETPIVOTDATA(\"Sum of 29\",N$2,\"Day  \",\"Prob 4th instars\")","v":{"$error":"#REF!"}},null,null,"Sum of 29",0,29,{"$f":"W275+GETPIVOTDATA(\"Sum of 29\",T$2,\"Day  \",\"Prob 4th instars\")","v":{"$error":"#REF!"}},null,null,"Sum of 29",0,29,{"$f":"AC275+GETPIVOTDATA(\"Sum of 29\",Z$2,\"Day  \",\"Prob 4th instars\")","v":{"$error":"#REF!"}},null,null,"Sum of 29",0,29,{"$f":"AI275+GETPIVOTDATA(\"Sum of 29\",AF$2,\"Day  \",\"Prob 4th instars\")","v":{"$error":"#REF!"}},null,null,"Sum of 29",0,29,{"$f":"AO275+GETPIVOTDATA(\"Sum of 29\",AL$2,\"Day  \",\"Prob 4th instars\")","v":{"$error":"#REF!"}},null,null,"Sum of 29",0,29,{"$f":"AU275+GETPIVOTDATA(\"Sum of 29\",AR$2,\"Day  \",\"Prob 4th instars\")","v":{"$error":"#REF!"}},null,null,"Sum of 29",0,29,{"$f":"BA275+GETPIVOTDATA(\"Sum of 29\",AX$2,\"Day  \",\"Prob 4th instars\")","v":{"$error":"#REF!"}},null,null,"Sum of 29",0,29,{"$f":"BG275+GETPIVOTDATA(\"Sum of 29\",BD$2,\"Day  \",\"Prob 4th instars\")","v":{"$error":"#REF!"}}]
[null,"Sum of 30",0,30,{"$f":"E276+GETPIVOTDATA(\"Sum of 30\",$B$2,\"Day  \",\"Prob 4th Instars\")","v":{"$error":"#REF!"}},null,null,"Sum of 30",0,30,{"$f":"K276+GETPIVOTDATA(\"Sum of 30\",H$2,\"Day  \",\"Prob 4th instars\")","v":{"$error":"#REF!"}},null,null,"Sum of 30",0,30,{"$f":"Q276+GETPIVOTDATA(\"Sum of 30\",N$2,\"Day  \",\"Prob 4th instars\")","v":{"$error":"#REF!"}},null,null,"Sum of 30",0,30,{"$f":"W276+GETPIVOTDATA(\"Sum of 30\",T$2,\"Day  \",\"Prob 4th instars\")","v":{"$error":"#REF!"}},null,null,"Sum of 30",0,30,{"$f":"AC276+GETPIVOTDATA(\"Sum of 30\",Z$2,\"Day  \",\"Prob 4th instars\")","v":{"$error":"#REF!"}},null,null,"Sum of 30",0,30,{"$f":"AI276+GETPIVOTDATA(\"Sum of 30\",AF$2,\"Day  \",\"Prob 4th instars\")","v":{"$error":"#REF!"}},null,null,"Sum of 30",0,30,{"$f":"AO276+GETPIVOTDATA(\"Sum of 30\",AL$2,\"Day  \",\"Prob 4th instars\")","v":{"$error":"#REF!"}},null,null,"Sum of 30",0,30,{"$f":"AU276+GETPIVOTDATA(\"Sum of 30\",AR$2,\"Day  \",\"Prob 4th instars\")","v":{"$error":"#REF!"}},null,null,"Sum of 30",0,30,{"$f":"BA276+GETPIVOTDATA(\"Sum of 30\",AX$2,\"Day  \",\"Prob 4th instars\")","v":{"$error":"#REF!"}},null,null,"Sum of 30",0,30,{"$f":"BG276+GETPIVOTDATA(\"Sum of 30\",BD$2,\"Day  \",\"Prob 4th instars\")","v":{"$error":"#REF!"}}]
[null,"Sum of 31",0,31,{"$f":"E277+GETPIVOTDATA(\"Sum of 31\",$B$2,\"Day  \",\"Prob 4th Instars\")","v":{"$error":"#REF!"}},null,null,"Sum of 31",0,31,{"$f":"K277+GETPIVOTDATA(\"Sum of 31\",H$2,\"Day  \",\"Prob 4th instars\")","v":{"$error":"#REF!"}},null,null,"Sum of 31",0,31,{"$f":"Q277+GETPIVOTDATA(\"Sum of 31\",N$2,\"Day  \",\"Prob 4th instars\")","v":{"$error":"#REF!"}},null,null,"Sum of 31",0,31,{"$f":"W277+GETPIVOTDATA(\"Sum of 31\",T$2,\"Day  \",\"Prob 4th instars\")","v":{"$error":"#REF!"}},null,null,"Sum of 31",0,31,{"$f":"AC277+GETPIVOTDATA(\"Sum of 31\",Z$2,\"Day  \",\"Prob 4th instars\")","v":{"$error":"#REF!"}},null,null,"Sum of 31",0,31,{"$f":"AI277+GETPIVOTDATA(\"Sum of 31\",AF$2,\"Day  \",\"Prob 4th instars\")","v":{"$error":"#REF!"}},null,null,"Sum of 31",0,31,{"$f":"AO277+GETPIVOTDATA(\"Sum of 31\",AL$2,\"Day  \",\"Prob 4th instars\")","v":{"$error":"#REF!"}},null,null,"Sum of 31",0,31,{"$f":"AU277+GETPIVOTDATA(\"Sum of 31\",AR$2,\"Day  \",\"Prob 4th instars\")","v":{"$error":"#REF!"}},null,null,"Sum of 31",0,31,{"$f":"BA277+GETPIVOTDATA(\"Sum of 31\",AX$2,\"Day  \",\"Prob 4th instars\")","v":{"$error":"#REF!"}},null,null,"Sum of 31",0,31,{"$f":"BG277+GETPIVOTDATA(\"Sum of 31\",BD$2,\"Day  \",\"Prob 4th instars\")","v":{"$error":"#REF!"}}]
[null,"Sum of 32",0,32,{"$f":"E278+GETPIVOTDATA(\"Sum of 32\",$B$2,\"Day  \",\"Prob 4th Instars\")","v":{"$error":"#REF!"}},null,null,"Sum of 32",0,32,{"$f":"K278+GETPIVOTDATA(\"Sum of 32\",H$2,\"Day  \",\"Prob 4th instars\")","v":{"$error":"#REF!"}},null,null,"Sum of 32",0,32,{"$f":"Q278+GETPIVOTDATA(\"Sum of 32\",N$2,\"Day  \",\"Prob 4th instars\")","v":{"$error":"#REF!"}},null,null,"Sum of 32",0,32,{"$f":"W278+GETPIVOTDATA(\"Sum of 32\",T$2,\"Day  \",\"Prob 4th instars\")","v":{"$error":"#REF!"}},null,null,"Sum of 32",0,32,{"$f":"AC278+GETPIVOTDATA(\"Sum of 32\",Z$2,\"Day  \",\"Prob 4th instars\")","v":{"$error":"#REF!"}},null,null,"Sum of 32",0,32,{"$f":"AI278+GETPIVOTDATA(\"Sum of 32\",AF$2,\"Day  \",\"Prob 4th instars\")","v":{"$error":"#REF!"}},null,null,"Sum of 32",0,32,{"$f":"AO278+GETPIVOTDATA(\"Sum of 32\",AL$2,\"Day  \",\"Prob 4th instars\")","v":{"$error":"#REF!"}},null,null,"Sum of 32",0,32,{"$f":"AU278+GETPIVOTDATA(\"Sum of 32\",AR$2,\"Day  \",\"Prob 4th instars\")","v":{"$error":"#REF!"}},null,null,"Sum of 32",0,32,{"$f":"BA278+GETPIVOTDATA(\"Sum of 32\",AX$2,\"Day  \",\"Prob 4th instars\")","v":{"$error":"#REF!"}},null,null,"Sum of 32",0,32,{"$f":"BG278+GETPIVOTDATA(\"Sum of 32\",BD$2,\"Day  \",\"Prob 4th instars\")","v":{"$error":"#REF!"}}]
[null,"Sum of 33",0,33,{"$f":"E279+GETPIVOTDATA(\"Sum of 33\",$B$2,\"Day  \",\"Prob 4th Instars\")","v":{"$error":"#REF!"}},null,null,"Sum of 33",0,33,{"$f":"K279+GETPIVOTDATA(\"Sum of 33\",H$2,\"Day  \",\"Prob 4th instars\")","v":{"$error":"#REF!"}},null,null,"Sum of 33",0,33,{"$f":"Q279+GETPIVOTDATA(\"Sum of 33\",N$2,\"Day  \",\"Prob 4th instars\")","v":{"$error":"#REF!"}},null,null,"Sum of 33",0,33,{"$f":"W279+GETPIVOTDATA(\"Sum of 33\",T$2,\"Day  \",\"Prob 4th instars\")","v":{"$error":"#REF!"}},null,null,"Sum of 33",0,33,{"$f":"AC279+GETPIVOTDATA(\"Sum of 33\",Z$2,\"Day  \",\"Prob 4th instars\")","v":{"$error":"#REF!"}},null,null,"Sum of 33",0,33,{"$f":"AI279+GETPIVOTDATA(\"Sum of 33\",AF$2,\"Day  \",\"Prob 4th instars\")","v":{"$error":"#REF!"}},null,null,"Sum of 33",0,33,{"$f":"AO279+GETPIVOTDATA(\"Sum of 33\",AL$2,\"Day  \",\"Prob 4th instars\")","v":{"$error":"#REF!"}},null,null,"Sum of 33",0,33,{"$f":"AU279+GETPIVOTDATA(\"Sum of 33\",AR$2,\"Day  \",\"Prob 4th instars\")","v":{"$error":"#REF!"}},null,null,"Sum of 33",0,33,{"$f":"BA279+GETPIVOTDATA(\"Sum of 33\",AX$2,\"Day  \",\"Prob 4th instars\")","v":{"$error":"#REF!"}},null,null,"Sum of 33",0,33,{"$f":"BG279+GETPIVOTDATA(\"Sum of 33\",BD$2,\"Day  \",\"Prob 4th instars\")","v":{"$error":"#REF!"}}]
[null,"Sum of 34",0,34,{"$f":"E280+GETPIVOTDATA(\"Sum of 34\",$B$2,\"Day  \",\"Prob 4th Instars\")","v":{"$error":"#REF!"}},null,null,"Sum of 34",0,34,{"$f":"K280+GETPIVOTDATA(\"Sum of 34\",H$2,\"Day  \",\"Prob 4th instars\")","v":{"$error":"#REF!"}},null,null,"Sum of 34",0,34,{"$f":"Q280+GETPIVOTDATA(\"Sum of 34\",N$2,\"Day  \",\"Prob 4th instars\")","v":{"$error":"#REF!"}},null,null,"Sum of 34",0,34,{"$f":"W280+GETPIVOTDATA(\"Sum of 34\",T$2,\"Day  \",\"Prob 4th instars\")","v":{"$error":"#REF!"}},null,null,"Sum of 34",0,34,{"$f":"AC280+GETPIVOTDATA(\"Sum of 34\",Z$2,\"Day  \",\"Prob 4th instars\")","v":{"$error":"#REF!"}},null,null,"Sum of 34",0,34,{"$f":"AI280+GETPIVOTDATA(\"Sum of 34\",AF$2,\"Day  \",\"Prob 4th instars\")","v":{"$error":"#REF!"}},null,null,"Sum of 34",0,34,{"$f":"AO280+GETPIVOTDATA(\"Sum of 34\",AL$2,\"Day  \",\"Prob 4th instars\")","v":{"$error":"#REF!"}},null,null,"Sum of 34",0,34,{"$f":"AU280+GETPIVOTDATA(\"Sum of 34\",AR$2,\"Day  \",\"Prob 4th instars\")","v":{"$error":"#REF!"}},null,null,"Sum of 34",0,34,{"$f":"BA280+GETPIVOTDATA(\"Sum of 34\",AX$2,\"Day  \",\"Prob 4th instars\")","v":{"$error":"#REF!"}},null,null,"Sum of 34",0,34,{"$f":"BG280+GETPIVOTDATA(\"Sum of 34\",BD$2,\"Day  \",\"Prob 4th instars\")","v":{"$error":"#REF!"}}]
[null,"Sum of 35",0,35,{"$f":"E281+GETPIVOTDATA(\"Sum of 35\",$B$2,\"Day  \",\"Prob 4th Instars\")","v":{"$error":"#REF!"}},null,null,"Sum of 35",0,35,{"$f":"K281+GETPIVOTDATA(\"Sum of 35\",H$2,\"Day  \",\"Prob 4th instars\")","v":{"$error":"#REF!"}},null,null,"Sum of 35",0,35,{"$f":"Q281+GETPIVOTDATA(\"Sum of 35\",N$2,\"Day  \",\"Prob 4th instars\")","v":{"$error":"#REF!"}},null,null,"Sum of 35",0,35,{"$f":"W281+GETPIVOTDATA(\"Sum of 35\",T$2,\"Day  \",\"Prob 4th instars\")","v":{"$error":"#REF!"}},null,null,"Sum of 35",0,35,{"$f":"AC281+GETPIVOTDATA(\"Sum of 35\",Z$2,\"Day  \",\"Prob 4th instars\")","v":{"$error":"#REF!"}},null,null,"Sum of 35",0,35,{"$f":"AI281+GETPIVOTDATA(\"Sum of 35\",AF$2,\"Day  \",\"Prob 4th instars\")","v":{"$error":"#REF!"}},null,null,"Sum of 35",0,35,{"$f":"AO281+GETPIVOTDATA(\"Sum of 35\",AL$2,\"Day  \",\"Prob 4th instars\")","v":{"$error":"#REF!"}},null,null,"Sum of 35",0,35,{"$f":"AU281+GETPIVOTDATA(\"Sum of 35\",AR$2,\"Day  \",\"Prob 4th instars\")","v":{"$error":"#REF!"}},null,null,"Sum of 35",0,35,{"$f":"BA281+GETPIVOTDATA(\"Sum of 35\",AX$2,\"Day  \",\"Prob 4th instars\")","v":{"$error":"#REF!"}},null,null,"Sum of 35",0,35,{"$f":"BG281+GETPIVOTDATA(\"Sum of 35\",BD$2,\"Day  \",\"Prob 4th instars\")","v":{"$error":"#REF!"}}]
[null,"Sum of 36",0,36,{"$f":"E282+GETPIVOTDATA(\"Sum of 36\",$B$2,\"Day  \",\"Prob 4th Instars\")","v":{"$error":"#REF!"}},null,null,"Sum of 36",0,36,{"$f":"K282+GETPIVOTDATA(\"Sum of 36\",H$2,\"Day  \",\"Prob 4th instars\")","v":{"$error":"#REF!"}},null,null,"Sum of 36",0,36,{"$f":"Q282+GETPIVOTDATA(\"Sum of 36\",N$2,\"Day  \",\"Prob 4th instars\")","v":{"$error":"#REF!"}},null,null,"Sum of 36",0,36,{"$f":"W282+GETPIVOTDATA(\"Sum of 36\",T$2,\"Day  \",\"Prob 4th instars\")","v":{"$error":"#REF!"}},null,null,"Sum of 36",0,36,{"$f":"AC282+GETPIVOTDATA(\"Sum of 36\",Z$2,\"Day  \",\"Prob 4th instars\")","v":{"$error":"#REF!"}},null,null,"Sum of 36",0,36,{"$f":"AI282+GETPIVOTDATA(\"Sum of 36\",AF$2,\"Day  \",\"Prob 4th instars\")","v":{"$error":"#REF!"}},null,null,"Sum of 36",0,36,{"$f":"AO282+GETPIVOTDATA(\"Sum of 36\",AL$2,\"Day  \",\"Prob 4th instars\")","v":{"$error":"#REF!"}},null,null,"Sum of 36",0,36,{"$f":"AU282+GETPIVOTDATA(\"Sum of 36\",AR$2,\"Day  \",\"Prob 4th instars\")","v":{"$error":"#REF!"}},null,null,"Sum of 36",0,36,{"$f":"BA282+GETPIVOTDATA(\"Sum of 36\",AX$2,\"Day  \",\"Prob 4th instars\")","v":{"$error":"#REF!"}},null,null,"Sum of 36",0,36,{"$f":"BG282+GETPIVOTDATA(\"Sum of 36\",BD$2,\"Day  \",\"Prob 4th instars\")","v":{"$error":"#REF!"}}]
[null,"Sum of 37",0,37,{"$f":"E283+GETPIVOTDATA(\"Sum of 37\",$B$2,\"Day  \",\"Prob 4th Instars\")","v":{"$error":"#REF!"}},null,null,"Sum of 37",0,37,{"$f":"K283+GETPIVOTDATA(\"Sum of 37\",H$2,\"Day  \",\"Prob 4th instars\")","v":{"$error":"#REF!"}},null,null,"Sum of 37",0,37,{"$f":"Q283+GETPIVOTDATA(\"Sum of 37\",N$2,\"Day  \",\"Prob 4th instars\")","v":{"$error":"#REF!"}},null,null,"Sum of 37",0,37,{"$f":"W283+GETPIVOTDATA(\"Sum of 37\",T$2,\"Day  \",\"Prob 4th instars\")","v":{"$error":"#REF!"}},null,null,"Sum of 37",0,37,{"$f":"AC283+GETPIVOTDATA(\"Sum of 37\",Z$2,\"Day  \",\"Prob 4th instars\")","v":{"$error":"#REF!"}},null,null,"Sum of 37",0,37,{"$f":"AI283+GETPIVOTDATA(\"Sum of 37\",AF$2,\"Day  \",\"Prob 4th instars\")","v":{"$error":"#REF!"}},null,null,"Sum of 37",0,37,{"$f":"AO283+GETPIVOTDATA(\"Sum of 37\",AL$2,\"Day  \",\"Prob 4th instars\")","v":{"$error":"#REF!"}},null,null,"Sum of 37",0,37,{"$f":"AU283+GETPIVOTDATA(\"Sum of 37\",AR$2,\"Day  \",\"Prob 4th instars\")","v":{"$error":"#REF!"}},null,null,"Sum of 37",0,37,{"$f":"BA283+GETPIVOTDATA(\"Sum of 37\",AX$2,\"Day  \",\"Prob 4th instars\")","v":{"$error":"#REF!"}},null,null,"Sum of 37",0,37,{"$f":"BG283+GETPIVOTDATA(\"Sum of 37\",BD$2,\"Day  \",\"Prob 4th instars\")","v":{"$error":"#REF!"}}]
[null,"Sum of 38",0,38,{"$f":"E284+GETPIVOTDATA(\"Sum of 38\",$B$2,\"Day  \",\"Prob 4th Instars\")","v":{"$error":"#REF!"}},null,null,"Sum of 38",0,38,{"$f":"K284+GETPIVOTDATA(\"Sum of 38\",H$2,\"Day  \",\"Prob 4th instars\")","v":{"$error":"#REF!"}},null,null,"Sum of 38",0,38,{"$f":"Q284+GETPIVOTDATA(\"Sum of 38\",N$2,\"Day  \",\"Prob 4th instars\")","v":{"$error":"#REF!"}},null,null,"Sum of 38",0,38,{"$f":"W284+GETPIVOTDATA(\"Sum of 38\",T$2,\"Day  \",\"Prob 4th instars\")","v":{"$error":"#REF!"}},null,null,"Sum of 38",0,38,{"$f":"AC284+GETPIVOTDATA(\"Sum of 38\",Z$2,\"Day  \",\"Prob 4th instars\")","v":{"$error":"#REF!"}},null,null,"Sum of 38",0,38,{"$f":"AI284+GETPIVOTDATA(\"Sum of 38\",AF$2,\"Day  \",\"Prob 4th instars\")","v":{"$error":"#REF!"}},null,null,"Sum of 38",0,38,{"$f":"AO284+GETPIVOTDATA(\"Sum of 38\",AL$2,\"Day  \",\"Prob 4th instars\")","v":{"$error":"#REF!"}},null,null,"Sum of 38",0,38,{"$f":"AU284+GETPIVOTDATA(\"Sum of 38\",AR$2,\"Day  \",\"Prob 4th instars\")","v":{"$error":"#REF!"}},null,null,"Sum of 38",0,38,{"$f":"BA284+GETPIVOTDATA(\"Sum of 38\",AX$2,\"Day  \",\"Prob 4th instars\")","v":{"$error":"#REF!"}},null,null,"Sum of 38",0,38,{"$f":"BG284+GETPIVOTDATA(\"Sum of 38\",BD$2,\"Day  \",\"Prob 4th instars\")","v":{"$error":"#REF!"}}]
[null,"Sum of 39",0,39,{"$f":"E285+GETPIVOTDATA(\"Sum of 39\",$B$2,\"Day  \",\"Prob 4th Instars\")","v":{"$error":"#REF!"}},null,null,"Sum of 39",0,39,{"$f":"K285+GETPIVOTDATA(\"Sum of 39\",H$2,\"Day  \",\"Prob 4th instars\")","v":{"$error":"#REF!"}},null,null,"Sum of 39",0,39,{"$f":"Q285+GETPIVOTDATA(\"Sum of 39\",N$2,\"Day  \",\"Prob 4th instars\")","v":{"$error":"#REF!"}},null,null,"Sum of 39",0,39,{"$f":"W285+GETPIVOTDATA(\"Sum of 39\",T$2,\"Day  \",\"Prob 4th instars\")","v":{"$error":"#REF!"}},null,null,"Sum of 39",0,39,{"$f":"AC285+GETPIVOTDATA(\"Sum of 39\",Z$2,\"Day  \",\"Prob 4th instars\")","v":{"$error":"#REF!"}},null,null,"Sum of 39",0,39,{"$f":"AI285+GETPIVOTDATA(\"Sum of 39\",AF$2,\"Day  \",\"Prob 4th instars\")","v":{"$error":"#REF!"}},null,null,"Sum of 39",0,39,{"$f":"AO285+GETPIVOTDATA(\"Sum of 39\",AL$2,\"Day  \",\"Prob 4th instars\")","v":{"$error":"#REF!"}},null,null,"Sum of 39",0,39,{"$f":"AU285+GETPIVOTDATA(\"Sum of 39\",AR$2,\"Day  \",\"Prob 4th instars\")","v":{"$error":"#REF!"}},null,null,"Sum of 39",0,39,{"$f":"BA285+GETPIVOTDATA(\"Sum of 39\",AX$2,\"Day  \",\"Prob 4th instars\")","v":{"$error":"#REF!"}},null,null,"Sum of 39",0,39,{"$f":"BG285+GETPIVOTDATA(\"Sum of 39\",BD$2,\"Day  \",\"Prob 4th instars\")","v":{"$error":"#REF!"}}]
[null,"Sum of 40",0,40,{"$f":"E286+GETPIVOTDATA(\"Sum of 40\",$B$2,\"Day  \",\"Prob 4th Instars\")","v":{"$error":"#REF!"}},null,null,"Sum of 40",0,40,{"$f":"K286+GETPIVOTDATA(\"Sum of 40\",H$2,\"Day  \",\"Prob 4th instars\")","v":{"$error":"#REF!"}},null,null,"Sum of 40",0,40,{"$f":"Q286+GETPIVOTDATA(\"Sum of 40\",N$2,\"Day  \",\"Prob 4th instars\")","v":{"$error":"#REF!"}},null,null,"Sum of 40",0,40,{"$f":"W286+GETPIVOTDATA(\"Sum of 40\",T$2,\"Day  \",\"Prob 4th instars\")","v":{"$error":"#REF!"}},null,null,"Sum of 40",0,40,{"$f":"AC286+GETPIVOTDATA(\"Sum of 40\",Z$2,\"Day  \",\"Prob 4th instars\")","v":{"$error":"#REF!"}},null,null,"Sum of 40",0,40,{"$f":"AI286+GETPIVOTDATA(\"Sum of 40\",AF$2,\"Day  \",\"Prob 4th instars\")","v":{"$error":"#REF!"}},null,null,"Sum of 40",0,40,{"$f":"AO286+GETPIVOTDATA(\"Sum of 40\",AL$2,\"Day  \",\"Prob 4th instars\")","v":{"$error":"#REF!"}},null,null,"Sum of 40",0,40,{"$f":"AU286+GETPIVOTDATA(\"Sum of 40\",AR$2,\"Day  \",\"Prob 4th instars\")","v":{"$error":"#REF!"}},null,null,"Sum of 40",0,40,{"$f":"BA286+GETPIVOTDATA(\"Sum of 40\",AX$2,\"Day  \",\"Prob 4th instars\")","v":{"$error":"#REF!"}},null,null,"Sum of 40",0,40,{"$f":"BG286+GETPIVOTDATA(\"Sum of 40\",BD$2,\"Day  \",\"Prob 4th instars\")","v":{"$error":"#REF!"}}]
[null,"Sum of 41",0,41,{"$f":"E287+GETPIVOTDATA(\"Sum of 41\",$B$2,\"Day  \",\"Prob 4th Instars\")","v":{"$error":"#REF!"}},null,null,"Sum of 41",0,41,{"$f":"K287+GETPIVOTDATA(\"Sum of 41\",H$2,\"Day  \",\"Prob 4th instars\")","v":{"$error":"#REF!"}},null,null,"Sum of 41",0,41,{"$f":"Q287+GETPIVOTDATA(\"Sum of 41\",N$2,\"Day  \",\"Prob 4th instars\")","v":{"$error":"#REF!"}},null,null,"Sum of 41",0,41,{"$f":"W287+GETPIVOTDATA(\"Sum of 41\",T$2,\"Day  \",\"Prob 4th instars\")","v":{"$error":"#REF!"}},null,null,"Sum of 41",0,41,{"$f":"AC287+GETPIVOTDATA(\"Sum of 41\",Z$2,\"Day  \",\"Prob 4th instars\")","v":{"$error":"#REF!"}},null,null,"Sum of 41",0,41,{"$f":"AI287+GETPIVOTDATA(\"Sum of 41\",AF$2,\"Day  \",\"Prob 4th instars\")","v":{"$error":"#REF!"}},null,null,"Sum of 41",0,41,{"$f":"AO287+GETPIVOTDATA(\"Sum of 41\",AL$2,\"Day  \",\"Prob 4th instars\")","v":{"$error":"#REF!"}},null,null,"Sum of 41",0,41,{"$f":"AU287+GETPIVOTDATA(\"Sum of 41\",AR$2,\"Day  \",\"Prob 4th instars\")","v":{"$error":"#REF!"}},null,null,"Sum of 41",0,41,{"$f":"BA287+GETPIVOTDATA(\"Sum of 41\",AX$2,\"Day  \",\"Prob 4th instars\")","v":{"$error":"#REF!"}},null,null,"Sum of 41",0,41,{"$f":"BG287+GETPIVOTDATA(\"Sum of 41\",BD$2,\"Day  \",\"Prob 4th instars\")","v":{"$error":"#REF!"}}]
[null,"Sum of 42",0,42,{"$f":"E288+GETPIVOTDATA(\"Sum of 42\",$B$2,\"Day  \",\"Prob 4th Instars\")","v":{"$error":"#REF!"}},null,null,"Sum of 42",0,42,{"$f":"K288+GETPIVOTDATA(\"Sum of 42\",H$2,\"Day  \",\"Prob 4th instars\")","v":{"$error":"#REF!"}},null,null,"Sum of 42",0,42,{"$f":"Q288+GETPIVOTDATA(\"Sum of 42\",N$2,\"Day  \",\"Prob 4th instars\")","v":{"$error":"#REF!"}},null,null,"Sum of 42",0,42,{"$f":"W288+GETPIVOTDATA(\"Sum of 42\",T$2,\"Day  \",\"Prob 4th instars\")","v":{"$error":"#REF!"}},null,null,"Sum of 42",0,42,{"$f":"AC288+GETPIVOTDATA(\"Sum of 42\",Z$2,\"Day  \",\"Prob 4th instars\")","v":{"$error":"#REF!"}},null,null,"Sum of 42",0,42,{"$f":"AI288+GETPIVOTDATA(\"Sum of 42\",AF$2,\"Day  \",\"Prob 4th instars\")","v":{"$error":"#REF!"}},null,null,"Sum of 42",0,42,{"$f":"AO288+GETPIVOTDATA(\"Sum of 42\",AL$2,\"Day  \",\"Prob 4th instars\")","v":{"$error":"#REF!"}},null,null,"Sum of 42",0,42,{"$f":"AU288+GETPIVOTDATA(\"Sum of 42\",AR$2,\"Day  \",\"Prob 4th instars\")","v":{"$error":"#REF!"}},null,null,"Sum of 42",0,42,{"$f":"BA288+GETPIVOTDATA(\"Sum of 42\",AX$2,\"Day  \",\"Prob 4th instars\")","v":{"$error":"#REF!"}},null,null,"Sum of 42",0,42,{"$f":"BG288+GETPIVOTDATA(\"Sum of 42\",BD$2,\"Day  \",\"Prob 4th instars\")","v":{"$error":"#REF!"}}]
[null,"Sum of 43",0,43,{"$f":"E289+GETPIVOTDATA(\"Sum of 43\",$B$2,\"Day  \",\"Prob 4th Instars\")","v":{"$error":"#REF!"}},null,null,"Sum of 43",0,43,{"$f":"K289+GETPIVOTDATA(\"Sum of 43\",H$2,\"Day  \",\"Prob 4th instars\")","v":{"$error":"#REF!"}},null,null,"Sum of 43",0,43,{"$f":"Q289+GETPIVOTDATA(\"Sum of 43\",N$2,\"Day  \",\"Prob 4th instars\")","v":{"$error":"#REF!"}},null,null,"Sum of 43",0,43,{"$f":"W289+GETPIVOTDATA(\"Sum of 43\",T$2,\"Day  \",\"Prob 4th instars\")","v":{"$error":"#REF!"}},null,null,"Sum of 43",0,43,{"$f":"AC289+GETPIVOTDATA(\"Sum of 43\",Z$2,\"Day  \",\"Prob 4th instars\")","v":{"$error":"#REF!"}},null,null,"Sum of 43",0,43,{"$f":"AI289+GETPIVOTDATA(\"Sum of 43\",AF$2,\"Day  \",\"Prob 4th instars\")","v":{"$error":"#REF!"}},null,null,"Sum of 43",0,43,{"$f":"AO289+GETPIVOTDATA(\"Sum of 43\",AL$2,\"Day  \",\"Prob 4th instars\")","v":{"$error":"#REF!"}},null,null,"Sum of 43",0,43,{"$f":"AU289+GETPIVOTDATA(\"Sum of 43\",AR$2,\"Day  \",\"Prob 4th instars\")","v":{"$error":"#REF!"}},null,null,"Sum of 43",0,43,{"$f":"BA289+GETPIVOTDATA(\"Sum of 43\",AX$2,\"Day  \",\"Prob 4th instars\")","v":{"$error":"#REF!"}},null,null,"Sum of 43",0,43,{"$f":"BG289+GETPIVOTDATA(\"Sum of 43\",BD$2,\"Day  \",\"Prob 4th instars\")","v":{"$error":"#REF!"}}]
[null,"Sum of 44",0,44,{"$f":"E290+GETPIVOTDATA(\"Sum of 44\",$B$2,\"Day  \",\"Prob 4th Instars\")","v":{"$error":"#REF!"}},null,null,"Sum of 44",0,44,{"$f":"K290+GETPIVOTDATA(\"Sum of 44\",H$2,\"Day  \",\"Prob 4th instars\")","v":{"$error":"#REF!"}},null,null,"Sum of 44",0,44,{"$f":"Q290+GETPIVOTDATA(\"Sum of 44\",N$2,\"Day  \",\"Prob 4th instars\")","v":{"$error":"#REF!"}},null,null,"Sum of 44",0,44,{"$f":"W290+GETPIVOTDATA(\"Sum of 44\",T$2,\"Day  \",\"Prob 4th instars\")","v":{"$error":"#REF!"}},null,null,"Sum of 44",0,44,{"$f":"AC290+GETPIVOTDATA(\"Sum of 44\",Z$2,\"Day  \",\"Prob 4th instars\")","v":{"$error":"#REF!"}},null,null,"Sum of 44",0,44,{"$f":"AI290+GETPIVOTDATA(\"Sum of 44\",AF$2,\"Day  \",\"Prob 4th instars\")","v":{"$error":"#REF!"}},null,null,"Sum of 44",0,44,{"$f":"AO290+GETPIVOTDATA(\"Sum of 44\",AL$2,\"Day  \",\"Prob 4th instars\")","v":{"$error":"#REF!"}},null,null,"Sum of 44",0,44,{"$f":"AU290+GETPIVOTDATA(\"Sum of 44\",AR$2,\"Day  \",\"Prob 4th instars\")","v":{"$error":"#REF!"}},null,null,"Sum of 44",0,44,{"$f":"BA290+GETPIVOTDATA(\"Sum of 44\",AX$2,\"Day  \",\"Prob 4th instars\")","v":{"$error":"#REF!"}},null,null,"Sum of 44",0,44,{"$f":"BG290+GETPIVOTDATA(\"Sum of 44\",BD$2,\"Day  \",\"Prob 4th instars\")","v":{"$error":"#REF!"}}]
[null,"Sum of 45",0,45,{"$f":"E291+GETPIVOTDATA(\"Sum of 45\",$B$2,\"Day  \",\"Prob 4th Instars\")","v":{"$error":"#REF!"}},null,null,"Sum of 45",0,45,{"$f":"K291+GETPIVOTDATA(\"Sum of 45\",H$2,\"Day  \",\"Prob 4th instars\")","v":{"$error":"#REF!"}},null,null,"Sum of 45",0,45,{"$f":"Q291+GETPIVOTDATA(\"Sum of 45\",N$2,\"Day  \",\"Prob 4th instars\")","v":{"$error":"#REF!"}},null,null,"Sum of 45",0,45,{"$f":"W291+GETPIVOTDATA(\"Sum of 45\",T$2,\"Day  \",\"Prob 4th instars\")","v":{"$error":"#REF!"}},null,null,"Sum of 45",0,45,{"$f":"AC291+GETPIVOTDATA(\"Sum of 45\",Z$2,\"Day  \",\"Prob 4th instars\")","v":{"$error":"#REF!"}},null,null,"Sum of 45",0,45,{"$f":"AI291+GETPIVOTDATA(\"Sum of 45\",AF$2,\"Day  \",\"Prob 4th instars\")","v":{"$error":"#REF!"}},null,null,"Sum of 45",0,45,{"$f":"AO291+GETPIVOTDATA(\"Sum of 45\",AL$2,\"Day  \",\"Prob 4th instars\")","v":{"$error":"#REF!"}},null,null,"Sum of 45",0,45,{"$f":"AU291+GETPIVOTDATA(\"Sum of 45\",AR$2,\"Day  \",\"Prob 4th instars\")","v":{"$error":"#REF!"}},null,null,"Sum of 45",0,45,{"$f":"BA291+GETPIVOTDATA(\"Sum of 45\",AX$2,\"Day  \",\"Prob 4th instars\")","v":{"$error":"#REF!"}},null,null,"Sum of 45",0,45,{"$f":"BG291+GETPIVOTDATA(\"Sum of 45\",BD$2,\"Day  \",\"Prob 4th instars\")","v":{"$error":"#REF!"}}]
[null,"Sum of 47",0,46,{"$f":"E292+GETPIVOTDATA(\"Sum of 46\",$B$2,\"Day  \",\"Prob 4th Instars\")","v":{"$error":"#REF!"}},null,null,"Sum of 46",0,46,{"$f":"K292+GETPIVOTDATA(\"Sum of 46\",H$2,\"Day  \",\"Prob 4th instars\")","v":{"$error":"#REF!"}},null,null,"Sum of 46",0,46,{"$f":"Q292+GETPIVOTDATA(\"Sum of 46\",N$2,\"Day  \",\"Prob 4th instars\")","v":{"$error":"#REF!"}},null,null,"Sum of 46",0,46,{"$f":"W292+GETPIVOTDATA(\"Sum of 46\",T$2,\"Day  \",\"Prob 4th instars\")","v":{"$error":"#REF!"}},null,null,"Sum of 46",0,46,{"$f":"AC292+GETPIVOTDATA(\"Sum of 46\",Z$2,\"Day  \",\"Prob 4th instars\")","v":{"$error":"#REF!"}},null,null,"Sum of 46",0,46,{"$f":"AI292+GETPIVOTDATA(\"Sum of 46\",AF$2,\"Day  \",\"Prob 4th instars\")","v":{"$error":"#REF!"}},null,null,"Sum of 46",0,46,{"$f":"AO292+GETPIVOTDATA(\"Sum of 46\",AL$2,\"Day  \",\"Prob 4th instars\")","v":{"$error":"#REF!"}},null,null,"Sum of 46",0,46,{"$f":"AU292+GETPIVOTDATA(\"Sum of 46\",AR$2,\"Day  \",\"Prob 4th instars\")","v":{"$error":"#REF!"}},null,null,"Sum of 46",0,46,{"$f":"BA292+GETPIVOTDATA(\"Sum of 46\",AX$2,\"Day  \",\"Prob 4th instars\")","v":{"$error":"#REF!"}},null,null,"Sum of 46",0,46,{"$f":"BG292+GETPIVOTDATA(\"Sum of 46\",BD$2,\"Day  \",\"Prob 4th instars\")","v":{"$error":"#REF!"}}]
[null,"Sum of 46",0,47,{"$f":"E293+GETPIVOTDATA(\"Sum of 47\",$B$2,\"Day  \",\"Prob 4th Instars\")","v":{"$error":"#REF!"}},null,null,"Sum of 47",0,47,{"$f":"K293+GETPIVOTDATA(\"Sum of 47\",H$2,\"Day  \",\"Prob 4th instars\")","v":{"$error":"#REF!"}},null,null,"Sum of 47",0,47,{"$f":"Q293+GETPIVOTDATA(\"Sum of 47\",N$2,\"Day  \",\"Prob 4th instars\")","v":{"$error":"#REF!"}},null,null,"Sum of 47",0,47,{"$f":"W293+GETPIVOTDATA(\"Sum of 47\",T$2,\"Day  \",\"Prob 4th instars\")","v":{"$error":"#REF!"}},null,null,"Sum of 47",0,47,{"$f":"AC293+GETPIVOTDATA(\"Sum of 47\",Z$2,\"Day  \",\"Prob 4th instars\")","v":{"$error":"#REF!"}},null,null,"Sum of 47",0,47,{"$f":"AI293+GETPIVOTDATA(\"Sum of 47\",AF$2,\"Day  \",\"Prob 4th instars\")","v":{"$error":"#REF!"}},null,null,"Sum of 47",0,47,{"$f":"AO293+GETPIVOTDATA(\"Sum of 47\",AL$2,\"Day  \",\"Prob 4th instars\")","v":{"$error":"#REF!"}},null,null,"Sum of 47",0,47,{"$f":"AU293+GETPIVOTDATA(\"Sum of 47\",AR$2,\"Day  \",\"Prob 4th instars\")","v":{"$error":"#REF!"}},null,null,"Sum of 47",0,47,{"$f":"BA293+GETPIVOTDATA(\"Sum of 47\",AX$2,\"Day  \",\"Prob 4th instars\")","v":{"$error":"#REF!"}},null,null,"Sum of 47",0,47,{"$f":"BG293+GETPIVOTDATA(\"Sum of 47\",BD$2,\"Day  \",\"Prob 4th instars\")","v":{"$error":"#REF!"}}]
[null,"Sum of 48",0,48,{"$f":"E294+GETPIVOTDATA(\"Sum of 48\",$B$2,\"Day  \",\"Prob 4th Instars\")","v":{"$error":"#REF!"}},null,null,"Sum of 48",0,48,{"$f":"K294+GETPIVOTDATA(\"Sum of 48\",H$2,\"Day  \",\"Prob 4th instars\")","v":{"$error":"#REF!"}},null,null,"Sum of 48",0,48,{"$f":"Q294+GETPIVOTDATA(\"Sum of 48\",N$2,\"Day  \",\"Prob 4th instars\")","v":{"$error":"#REF!"}},null,null,"Sum of 48",0,48,{"$f":"W294+GETPIVOTDATA(\"Sum of 48\",T$2,\"Day  \",\"Prob 4th instars\")","v":{"$error":"#REF!"}},null,null,"Sum of 48",0,48,{"$f":"AC294+GETPIVOTDATA(\"Sum of 48\",Z$2,\"Day  \",\"Prob 4th instars\")","v":{"$error":"#REF!"}},null,null,"Sum of 48",0,48,{"$f":"AI294+GETPIVOTDATA(\"Sum of 48\",AF$2,\"Day  \",\"Prob 4th instars\")","v":{"$error":"#REF!"}},null,null,"Sum of 48",0,48,{"$f":"AO294+GETPIVOTDATA(\"Sum of 48\",AL$2,\"Day  \",\"Prob 4th instars\")","v":{"$error":"#REF!"}},null,null,"Sum of 48",0,48,{"$f":"AU294+GETPIVOTDATA(\"Sum of 48\",AR$2,\"Day  \",\"Prob 4th instars\")","v":{"$error":"#REF!"}},null,null,"Sum of 48",0,48,{"$f":"BA294+GETPIVOTDATA(\"Sum of 48\",AX$2,\"Day  \",\"Prob 4th instars\")","v":{"$error":"#REF!"}},null,null,"Sum of 48",0,48,{"$f":"BG294+GETPIVOTDATA(\"Sum of 48\",BD$2,\"Day  \",\"Prob 4th instars\")","v":{"$error":"#REF!"}}]
[null,"Sum of 49",0,49,{"$f":"E295+GETPIVOTDATA(\"Sum of 49\",$B$2,\"Day  \",\"Prob 4th Instars\")","v":{"$error":"#REF!"}},null,null,"Sum of 49",0,49,{"$f":"K295+GETPIVOTDATA(\"Sum of 49\",H$2,\"Day  \",\"Prob 4th instars\")","v":{"$error":"#REF!"}},null,null,"Sum of 49",0,49,{"$f":"Q295+GETPIVOTDATA(\"Sum of 49\",N$2,\"Day  \",\"Prob 4th instars\")","v":{"$error":"#REF!"}},null,null,"Sum of 49",0,49,{"$f":"W295+GETPIVOTDATA(\"Sum of 49\",T$2,\"Day  \",\"Prob 4th instars\")","v":{"$error":"#REF!"}},null,null,"Sum of 49",0,49,{"$f":"AC295+GETPIVOTDATA(\"Sum of 49\",Z$2,\"Day  \",\"Prob 4th instars\")","v":{"$error":"#REF!"}},null,null,"Sum of 49",0,49,{"$f":"AI295+GETPIVOTDATA(\"Sum of 49\",AF$2,\"Day  \",\"Prob 4th instars\")","v":{"$error":"#REF!"}},null,null,"Sum of 49",0,49,{"$f":"AO295+GETPIVOTDATA(\"Sum of 49\",AL$2,\"Day  \",\"Prob 4th instars\")","v":{"$error":"#REF!"}},null,null,"Sum of 49",0,49,{"$f":"AU295+GETPIVOTDATA(\"Sum of 49\",AR$2,\"Day  \",\"Prob 4th instars\")","v":{"$error":"#REF!"}},null,null,"Sum of 49",0,49,{"$f":"BA295+GETPIVOTDATA(\"Sum of 49\",AX$2,\"Day  \",\"Prob 4th instars\")","v":{"$error":"#REF!"}},null,null,"Sum of 49",0,49,{"$f":"BG295+GETPIVOTDATA(\"Sum of 49\",BD$2,\"Day  \",\"Prob 4th instars\")","v":{"$error":"#REF!"}}]
[null,"Sum of 50",0,50,{"$f":"E296+GETPIVOTDATA(\"Sum of 50\",$B$2,\"Day  \",\"Prob 4th Instars\")","v":{"$error":"#REF!"}},null,null,"Sum of 50",0,50,{"$f":"K296+GETPIVOTDATA(\"Sum of 50\",H$2,\"Day  \",\"Prob 4th instars\")","v":{"$error":"#REF!"}},null,null,"Sum of 50",0,50,{"$f":"Q296+GETPIVOTDATA(\"Sum of 50\",N$2,\"Day  \",\"Prob 4th instars\")","v":{"$error":"#REF!"}},null,null,"Sum of 50",0,50,{"$f":"W296+GETPIVOTDATA(\"Sum of 50\",T$2,\"Day  \",\"Prob 4th instars\")","v":{"$error":"#REF!"}},null,null,"Sum of 50",0,50,{"$f":"AC296+GETPIVOTDATA(\"Sum of 50\",Z$2,\"Day  \",\"Prob 4th instars\")","v":{"$error":"#REF!"}},null,null,"Sum of 50",0,50,{"$f":"AI296+GETPIVOTDATA(\"Sum of 50\",AF$2,\"Day  \",\"Prob 4th instars\")","v":{"$error":"#REF!"}},null,null,"Sum of 50",0,50,{"$f":"AO296+GETPIVOTDATA(\"Sum of 50\",AL$2,\"Day  \",\"Prob 4th instars\")","v":{"$error":"#REF!"}},null,null,"Sum of 50",0,50,{"$f":"AU296+GETPIVOTDATA(\"Sum of 50\",AR$2,\"Day  \",\"Prob 4th instars\")","v":{"$error":"#REF!"}},null,null,"Sum of 50",0,50,{"$f":"BA296+GETPIVOTDATA(\"Sum of 50\",AX$2,\"Day  \",\"Prob 4th instars\")","v":{"$error":"#REF!"}},null,null,"Sum of 50",0,50,{"$f":"BG296+GETPIVOTDATA(\"Sum of 50\",BD$2,\"Day  \",\"Prob 4th instars\")","v":{"$error":"#REF!"}}]
[null,"Sum of 51",0,51,{"$f":"E297+GETPIVOTDATA(\"Sum of 51\",$B$2,\"Day  \",\"Prob 4th Instars\")","v":{"$error":"#REF!"}},null,null,"Sum of 51",0,51,{"$f":"K297+GETPIVOTDATA(\"Sum of 51\",H$2,\"Day  \",\"Prob 4th instars\")","v":{"$error":"#REF!"}},null,null,"Sum of 51",0,51,{"$f":"Q297+GETPIVOTDATA(\"Sum of 51\",N$2,\"Day  \",\"Prob 4th instars\")","v":{"$error":"#REF!"}},null,null,"Sum of 51",0,51,{"$f":"W297+GETPIVOTDATA(\"Sum of 51\",T$2,\"Day  \",\"Prob 4th instars\")","v":{"$error":"#REF!"}},null,null,"Sum of 51",0,51,{"$f":"AC297+GETPIVOTDATA(\"Sum of 51\",Z$2,\"Day  \",\"Prob 4th instars\")","v":{"$error":"#REF!"}},null,null,"Sum of 51",0,51,{"$f":"AI297+GETPIVOTDATA(\"Sum of 51\",AF$2,\"Day  \",\"Prob 4th instars\")","v":{"$error":"#REF!"}},null,null,"Sum of 51",0,51,{"$f":"AO297+GETPIVOTDATA(\"Sum of 51\",AL$2,\"Day  \",\"Prob 4th instars\")","v":{"$error":"#REF!"}},null,null,"Sum of 51",0,51,{"$f":"AU297+GETPIVOTDATA(\"Sum of 51\",AR$2,\"Day  \",\"Prob 4th instars\")","v":{"$error":"#REF!"}},null,null,"Sum of 51",0,51,{"$f":"BA297+GETPIVOTDATA(\"Sum of 51\",AX$2,\"Day  \",\"Prob 4th instars\")","v":{"$error":"#REF!"}},null,null,"Sum of 51",0,51,{"$f":"BG297+GETPIVOTDATA(\"Sum of 51\",BD$2,\"Day  \",\"Prob 4th instars\")","v":{"$error":"#REF!"}}]
[null,"Sum of 52",0,52,{"$f":"E298+GETPIVOTDATA(\"Sum of 52\",$B$2,\"Day  \",\"Prob 4th Instars\")","v":{"$error":"#REF!"}},null,null,"Sum of 52",0,52,{"$f":"K298+GETPIVOTDATA(\"Sum of 52\",H$2,\"Day  \",\"Prob 4th instars\")","v":{"$error":"#REF!"}},null,null,"Sum of 52",0,52,{"$f":"Q298+GETPIVOTDATA(\"Sum of 52\",N$2,\"Day  \",\"Prob 4th instars\")","v":{"$error":"#REF!"}},null,null,"Sum of 52",0,52,{"$f":"W298+GETPIVOTDATA(\"Sum of 52\",T$2,\"Day  \",\"Prob 4th instars\")","v":{"$error":"#REF!"}},null,null,"Sum of 52",0,52,{"$f":"AC298+GETPIVOTDATA(\"Sum of 52\",Z$2,\"Day  \",\"Prob 4th instars\")","v":{"$error":"#REF!"}},null,null,"Sum of 52",0,52,{"$f":"AI298+GETPIVOTDATA(\"Sum of 52\",AF$2,\"Day  \",\"Prob 4th instars\")","v":{"$error":"#REF!"}},null,null,"Sum of 52",0,52,{"$f":"AO298+GETPIVOTDATA(\"Sum of 52\",AL$2,\"Day  \",\"Prob 4th instars\")","v":{"$error":"#REF!"}},null,null,"Sum of 52",0,52,{"$f":"AU298+GETPIVOTDATA(\"Sum of 52\",AR$2,\"Day  \",\"Prob 4th instars\")","v":{"$error":"#REF!"}},null,null,"Sum of 52",0,52,{"$f":"BA298+GETPIVOTDATA(\"Sum of 52\",AX$2,\"Day  \",\"Prob 4th instars\")","v":{"$error":"#REF!"}},null,null,"Sum of 52",0,52,{"$f":"BG298+GETPIVOTDATA(\"Sum of 52\",BD$2,\"Day  \",\"Prob 4th instars\")","v":{"$error":"#REF!"}}]
[null,"Sum of 53",0,53,{"$f":"E299+GETPIVOTDATA(\"Sum of 53\",$B$2,\"Day  \",\"Prob 4th Instars\")","v":{"$error":"#REF!"}},null,null,"Sum of 53",0,53,{"$f":"K299+GETPIVOTDATA(\"Sum of 53\",H$2,\"Day  \",\"Prob 4th instars\")","v":{"$error":"#REF!"}},null,null,"Sum of 53",0,53,{"$f":"Q299+GETPIVOTDATA(\"Sum of 53\",N$2,\"Day  \",\"Prob 4th instars\")","v":{"$error":"#REF!"}},null,null,"Sum of 53",0,53,{"$f":"W299+GETPIVOTDATA(\"Sum of 53\",T$2,\"Day  \",\"Prob 4th instars\")","v":{"$error":"#REF!"}},null,null,"Sum of 53",0,53,{"$f":"AC299+GETPIVOTDATA(\"Sum of 53\",Z$2,\"Day  \",\"Prob 4th instars\")","v":{"$error":"#REF!"}},null,null,"Sum of 53",0,53,{"$f":"AI299+GETPIVOTDATA(\"Sum of 53\",AF$2,\"Day  \",\"Prob 4th instars\")","v":{"$error":"#REF!"}},null,null,"Sum of 53",0,53,{"$f":"AO299+GETPIVOTDATA(\"Sum of 53\",AL$2,\"Day  \",\"Prob 4th instars\")","v":{"$error":"#REF!"}},null,null,"Sum of 53",0,53,{"$f":"AU299+GETPIVOTDATA(\"Sum of 53\",AR$2,\"Day  \",\"Prob 4th instars\")","v":{"$error":"#REF!"}},null,null,"Sum of 53",0,53,{"$f":"BA299+GETPIVOTDATA(\"Sum of 53\",AX$2,\"Day  \",\"Prob 4th instars\")","v":{"$error":"#REF!"}},null,null,"Sum of 53",0,53,{"$f":"BG299+GETPIVOTDATA(\"Sum of 53\",BD$2,\"Day  \",\"Prob 4th instars\")","v":{"$error":"#REF!"}}]
[null,"Sum of 54",0,54,{"$f":"E300+GETPIVOTDATA(\"Sum of 54\",$B$2,\"Day  \",\"Prob 4th Instars\")","v":{"$error":"#REF!"}},null,null,"Sum of 54",0,54,{"$f":"K300+GETPIVOTDATA(\"Sum of 54\",H$2,\"Day  \",\"Prob 4th instars\")","v":{"$error":"#REF!"}},null,null,"Sum of 54",0,54,{"$f":"Q300+GETPIVOTDATA(\"Sum of 54\",N$2,\"Day  \",\"Prob 4th instars\")","v":{"$error":"#REF!"}},null,null,"Sum of 54",0,54,{"$f":"W300+GETPIVOTDATA(\"Sum of 54\",T$2,\"Day  \",\"Prob 4th instars\")","v":{"$error":"#REF!"}},null,null,"Sum of 54",0,54,{"$f":"AC300+GETPIVOTDATA(\"Sum of 54\",Z$2,\"Day  \",\"Prob 4th instars\")","v":{"$error":"#REF!"}},null,null,"Sum of 54",0,54,{"$f":"AI300+GETPIVOTDATA(\"Sum of 54\",AF$2,\"Day  \",\"Prob 4th instars\")","v":{"$error":"#REF!"}},null,null,"Sum of 54",0,54,{"$f":"AO300+GETPIVOTDATA(\"Sum of 54\",AL$2,\"Day  \",\"Prob 4th instars\")","v":{"$error":"#REF!"}},null,null,"Sum of 54",0,54,{"$f":"AU300+GETPIVOTDATA(\"Sum of 54\",AR$2,\"Day  \",\"Prob 4th instars\")","v":{"$error":"#REF!"}},null,null,"Sum of 54",0,54,{"$f":"BA300+GETPIVOTDATA(\"Sum of 54\",AX$2,\"Day  \",\"Prob 4th instars\")","v":{"$error":"#REF!"}},null,null,"Sum of 54",0,54,{"$f":"BG300+GETPIVOTDATA(\"Sum of 54\",BD$2,\"Day  \",\"Prob 4th instars\")","v":{"$error":"#REF!"}}]
[null,"Sum of 55",0,55,{"$f":"E301+GETPIVOTDATA(\"Sum of 55\",$B$2,\"Day  \",\"Prob 4th Instars\")","v":{"$error":"#REF!"}},null,null,"Sum of 55",0,55,{"$f":"K301+GETPIVOTDATA(\"Sum of 55\",H$2,\"Day  \",\"Prob 4th instars\")","v":{"$error":"#REF!"}},null,null,"Sum of 55",0,55,{"$f":"Q301+GETPIVOTDATA(\"Sum of 55\",N$2,\"Day  \",\"Prob 4th instars\")","v":{"$error":"#REF!"}},null,null,"Sum of 55",0,55,{"$f":"W301+GETPIVOTDATA(\"Sum of 55\",T$2,\"Day  \",\"Prob 4th instars\")","v":{"$error":"#REF!"}},null,null,"Sum of 55",0,55,{"$f":"AC301+GETPIVOTDATA(\"Sum of 55\",Z$2,\"Day  \",\"Prob 4th instars\")","v":{"$error":"#REF!"}},null,null,"Sum of 55",0,55,{"$f":"AI301+GETPIVOTDATA(\"Sum of 55\",AF$2,\"Day  \",\"Prob 4th instars\")","v":{"$error":"#REF!"}},null,null,"Sum of 55",0,55,{"$f":"AO301+GETPIVOTDATA(\"Sum of 55\",AL$2,\"Day  \",\"Prob 4th instars\")","v":{"$error":"#REF!"}},null,null,"Sum of 55",0,55,{"$f":"AU301+GETPIVOTDATA(\"Sum of 55\",AR$2,\"Day  \",\"Prob 4th instars\")","v":{"$error":"#REF!"}},null,null,"Sum of 55",0,55,{"$f":"BA301+GETPIVOTDATA(\"Sum of 55\",AX$2,\"Day  \",\"Prob 4th instars\")","v":{"$error":"#REF!"}},null,null,"Sum of 55",0,55,{"$f":"BG301+GETPIVOTDATA(\"Sum of 55\",BD$2,\"Day  \",\"Prob 4th instars\")","v":{"$error":"#REF!"}}]
[null,"Sum of 56",0,56,{"$f":"E302+GETPIVOTDATA(\"Sum of 56\",$B$2,\"Day  \",\"Prob 4th Instars\")","v":{"$error":"#REF!"}},null,null,"Sum of 56",0,56,{"$f":"K302+GETPIVOTDATA(\"Sum of 56\",H$2,\"Day  \",\"Prob 4th instars\")","v":{"$error":"#REF!"}},null,null,"Sum of 56",0,56,{"$f":"Q302+GETPIVOTDATA(\"Sum of 56\",N$2,\"Day  \",\"Prob 4th instars\")","v":{"$error":"#REF!"}},null,null,"Sum of 56",0,56,{"$f":"W302+GETPIVOTDATA(\"Sum of 56\",T$2,\"Day  \",\"Prob 4th instars\")","v":{"$error":"#REF!"}},null,null,"Sum of 56",0,56,{"$f":"AC302+GETPIVOTDATA(\"Sum of 56\",Z$2,\"Day  \",\"Prob 4th instars\")","v":{"$error":"#REF!"}},null,null,"Sum of 56",0,56,{"$f":"AI302+GETPIVOTDATA(\"Sum of 56\",AF$2,\"Day  \",\"Prob 4th instars\")","v":{"$error":"#REF!"}},null,null,"Sum of 56",0,56,{"$f":"AO302+GETPIVOTDATA(\"Sum of 56\",AL$2,\"Day  \",\"Prob 4th instars\")","v":{"$error":"#REF!"}},null,null,"Sum of 56",0,56,{"$f":"AU302+GETPIVOTDATA(\"Sum of 56\",AR$2,\"Day  \",\"Prob 4th instars\")","v":{"$error":"#REF!"}},null,null,"Sum of 56",0,56,{"$f":"BA302+GETPIVOTDATA(\"Sum of 56\",AX$2,\"Day  \",\"Prob 4th instars\")","v":{"$error":"#REF!"}},null,null,"Sum of 56",0,56,{"$f":"BG302+GETPIVOTDATA(\"Sum of 56\",BD$2,\"Day  \",\"Prob 4th instars\")","v":{"$error":"#REF!"}}]
[null,"Sum of 57",0,57,{"$f":"E303+GETPIVOTDATA(\"Sum of 57\",$B$2,\"Day  \",\"Prob 4th Instars\")","v":{"$error":"#REF!"}},null,null,"Sum of 57",0,57,{"$f":"K303+GETPIVOTDATA(\"Sum of 57\",H$2,\"Day  \",\"Prob 4th instars\")","v":{"$error":"#REF!"}},null,null,"Sum of 57",0,57,{"$f":"Q303+GETPIVOTDATA(\"Sum of 57\",N$2,\"Day  \",\"Prob 4th instars\")","v":{"$error":"#REF!"}},null,null,"Sum of 57",0,57,{"$f":"W303+GETPIVOTDATA(\"Sum of 57\",T$2,\"Day  \",\"Prob 4th instars\")","v":{"$error":"#REF!"}},null,null,"Sum of 57",0,57,{"$f":"AC303+GETPIVOTDATA(\"Sum of 57\",Z$2,\"Day  \",\"Prob 4th instars\")","v":{"$error":"#REF!"}},null,null,"Sum of 57",0,57,{"$f":"AI303+GETPIVOTDATA(\"Sum of 57\",AF$2,\"Day  \",\"Prob 4th instars\")","v":{"$error":"#REF!"}},null,null,"Sum of 57",0,57,{"$f":"AO303+GETPIVOTDATA(\"Sum of 57\",AL$2,\"Day  \",\"Prob 4th instars\")","v":{"$error":"#REF!"}},null,null,"Sum of 57",0,57,{"$f":"AU303+GETPIVOTDATA(\"Sum of 57\",AR$2,\"Day  \",\"Prob 4th instars\")","v":{"$error":"#REF!"}},null,null,"Sum of 57",0,57,{"$f":"BA303+GETPIVOTDATA(\"Sum of 57\",AX$2,\"Day  \",\"Prob 4th instars\")","v":{"$error":"#REF!"}},null,null,"Sum of 57",0,57,{"$f":"BG303+GETPIVOTDATA(\"Sum of 57\",BD$2,\"Day  \",\"Prob 4th instars\")","v":{"$error":"#REF!"}}]
[null,"Sum of 58",0,58,{"$f":"E304+GETPIVOTDATA(\"Sum of 58\",$B$2,\"Day  \",\"Prob 4th Instars\")","v":{"$error":"#REF!"}},null,null,"Sum of 58",0,58,{"$f":"K304+GETPIVOTDATA(\"Sum of 58\",H$2,\"Day  \",\"Prob 4th instars\")","v":{"$error":"#REF!"}},null,null,"Sum of 58",0,58,{"$f":"Q304+GETPIVOTDATA(\"Sum of 58\",N$2,\"Day  \",\"Prob 4th instars\")","v":{"$error":"#REF!"}},null,null,"Sum of 58",0,58,{"$f":"W304+GETPIVOTDATA(\"Sum of 58\",T$2,\"Day  \",\"Prob 4th instars\")","v":{"$error":"#REF!"}},null,null,"Sum of 58",0,58,{"$f":"AC304+GETPIVOTDATA(\"Sum of 58\",Z$2,\"Day  \",\"Prob 4th instars\")","v":{"$error":"#REF!"}},null,null,"Sum of 58",0,58,{"$f":"AI304+GETPIVOTDATA(\"Sum of 58\",AF$2,\"Day  \",\"Prob 4th instars\")","v":{"$error":"#REF!"}},null,null,"Sum of 58",0,58,{"$f":"AO304+GETPIVOTDATA(\"Sum of 58\",AL$2,\"Day  \",\"Prob 4th instars\")","v":{"$error":"#REF!"}},null,null,"Sum of 58",0,58,{"$f":"AU304+GETPIVOTDATA(\"Sum of 58\",AR$2,\"Day  \",\"Prob 4th instars\")","v":{"$error":"#REF!"}},null,null,"Sum of 58",0,58,{"$f":"BA304+GETPIVOTDATA(\"Sum of 58\",AX$2,\"Day  \",\"Prob 4th instars\")","v":{"$error":"#REF!"}},null,null,"Sum of 58",0,58,{"$f":"BG304+GETPIVOTDATA(\"Sum of 58\",BD$2,\"Day  \",\"Prob 4th instars\")","v":{"$error":"#REF!"}}]
[null,"Sum of 59",0,59,{"$f":"E305+GETPIVOTDATA(\"Sum of 59\",$B$2,\"Day  \",\"Prob 4th Instars\")","v":{"$error":"#REF!"}},null,null,"Sum of 59",0,59,{"$f":"K305+GETPIVOTDATA(\"Sum of 59\",H$2,\"Day  \",\"Prob 4th instars\")","v":{"$error":"#REF!"}},null,null,"Sum of 59",0,59,{"$f":"Q305+GETPIVOTDATA(\"Sum of 59\",N$2,\"Day  \",\"Prob 4th instars\")","v":{"$error":"#REF!"}},null,null,"Sum of 59",0,59,{"$f":"W305+GETPIVOTDATA(\"Sum of 59\",T$2,\"Day  \",\"Prob 4th instars\")","v":{"$error":"#REF!"}},null,null,"Sum of 59",0,59,{"$f":"AC305+GETPIVOTDATA(\"Sum of 59\",Z$2,\"Day  \",\"Prob 4th instars\")","v":{"$error":"#REF!"}},null,null,"Sum of 59",0,59,{"$f":"AI305+GETPIVOTDATA(\"Sum of 59\",AF$2,\"Day  \",\"Prob 4th instars\")","v":{"$error":"#REF!"}},null,null,"Sum of 59",0,59,{"$f":"AO305+GETPIVOTDATA(\"Sum of 59\",AL$2,\"Day  \",\"Prob 4th instars\")","v":{"$error":"#REF!"}},null,null,"Sum of 59",0,59,{"$f":"AU305+GETPIVOTDATA(\"Sum of 59\",AR$2,\"Day  \",\"Prob 4th instars\")","v":{"$error":"#REF!"}},null,null,"Sum of 59",0,59,{"$f":"BA305+GETPIVOTDATA(\"Sum of 59\",AX$2,\"Day  \",\"Prob 4th instars\")","v":{"$error":"#REF!"}},null,null,"Sum of 59",0,59,{"$f":"BG305+GETPIVOTDATA(\"Sum of 59\",BD$2,\"Day  \",\"Prob 4th instars\")","v":{"$error":"#REF!"}}]
[null,"Sum of 60",0,60,{"$f":"E306+GETPIVOTDATA(\"Sum of 60\",$B$2,\"Day  \",\"Prob 4th Instars\")","v":{"$error":"#REF!"}},null,null,"Sum of 60",0,60,{"$f":"K306+GETPIVOTDATA(\"Sum of 60\",H$2,\"Day  \",\"Prob 4th instars\")","v":{"$error":"#REF!"}},null,null,"Sum of 60",0,60,{"$f":"Q306+GETPIVOTDATA(\"Sum of 60\",N$2,\"Day  \",\"Prob 4th instars\")","v":{"$error":"#REF!"}},null,null,"Sum of 60",0,60,{"$f":"W306+GETPIVOTDATA(\"Sum of 60\",T$2,\"Day  \",\"Prob 4th instars\")","v":{"$error":"#REF!"}},null,null,"Sum of 60",0,60,{"$f":"AC306+GETPIVOTDATA(\"Sum of 60\",Z$2,\"Day  \",\"Prob 4th instars\")","v":{"$error":"#REF!"}},null,null,"Sum of 60",0,60,{"$f":"AI306+GETPIVOTDATA(\"Sum of 60\",AF$2,\"Day  \",\"Prob 4th instars\")","v":{"$error":"#REF!"}},null,null,"Sum of 60",0,60,{"$f":"AO306+GETPIVOTDATA(\"Sum of 60\",AL$2,\"Day  \",\"Prob 4th instars\")","v":{"$error":"#REF!"}},null,null,"Sum of 60",0,60,{"$f":"AU306+GETPIVOTDATA(\"Sum of 60\",AR$2,\"Day  \",\"Prob 4th instars\")","v":{"$error":"#REF!"}},null,null,"Sum of 60",0,60,{"$f":"BA306+GETPIVOTDATA(\"Sum of 60\",AX$2,\"Day  \",\"Prob 4th instars\")","v":{"$error":"#REF!"}},null,null,"Sum of 60",0,60,{"$f":"BG306+GETPIVOTDATA(\"Sum of 60\",BD$2,\"Day  \",\"Prob 4th instars\")","v":{"$error":"#REF!"}}]
[null,"Prob Adults",null,"LSTOT/LSHT","Cum Total","LSComm15th",null,"Prob Adults",null,"LSTOT/LSHT","Cum Total","LSComm25th",null,"Prob Adults",null,"LSTOT/LSHT","Cum Total","LSComm35th",null,"Prob Adults",null,"LSTOT/LSHT","Cum Total","LSComm45th",null,"Prob Adults",null,"LSTOT/LSHT","Cum Total","LSComm55th",null,"Prob Adults",null,"LSTOT/LSHT","Cum Total","LSComm65th",null,"Prob Adults",null,"LSTOT/LSHT","Cum Total","LSComm75th",null,"Prob Adults",null,"LSTOT/LSHT","Cum Total","LSComm85th",null,"Prob Adults",null,"LSTOT/LSHT","Cum Total","LSComm95th",null,"Prob Adults",null,"LSTOT/LSHT","Cum Total","LSComm105th"]
[null,"Sum of 1",0,1,{"$f":"GETPIVOTDATA(\"Sum of 1\",$B$2,\"Day  \",\"Prob 5th instars\")","v":{"$error":"#REF!"}},{"$f":"IF(LSCheck5th=\"n\",0,(((VLOOKUP(LSTOT,D309:E368,2))-(IF(LSHT=0,0,(VLOOKUP(LSHT,D309:E368,2)))))/LSIT))","v":0},null,"Sum of 1",0,1,{"$f":"GETPIVOTDATA(\"Sum of 1\",H$2,\"Day  \",\"Prob 5th instars\")","v":{"$error":"#REF!"}},{"$f":"IF(LSCheck5th=\"n\",0,(((VLOOKUP(LSTOT,J309:K368,2))-(IF(LSHT=0,0,(VLOOKUP(LSHT,J309:K368,2)))))/LSIT))","v":0},null,"Sum of 1",0,1,{"$f":"GETPIVOTDATA(\"Sum of 1\",N$2,\"Day  \",\"Prob 5th instars\")","v":{"$error":"#REF!"}},{"$f":"IF(LSCheck5th=\"n\",0,(((VLOOKUP(LSTOT,P309:Q368,2))-(IF(LSHT=0,0,(VLOOKUP(LSHT,P309:Q368,2)))))/LSIT))","v":0},null,"Sum of 1",0,1,{"$f":"GETPIVOTDATA(\"Sum of 1\",T$2,\"Day  \",\"Prob 5th instars\")","v":{"$error":"#REF!"}},{"$f":"IF(LSCheck5th=\"n\",0,(((VLOOKUP(LSTOT,V309:W368,2))-(IF(LSHT=0,0,(VLOOKUP(LSHT,V309:W368,2)))))/LSIT))","v":0},null,"Sum of 1",0,1,{"$f":"GETPIVOTDATA(\"Sum of 1\",Z$2,\"Day  \",\"Prob 5th instars\")","v":{"$error":"#REF!"}},{"$f":"IF(LSCheck5th=\"n\",0,(((VLOOKUP(LSTOT,AB309:AC368,2))-(IF(LSHT=0,0,(VLOOKUP(LSHT,AB309:AC368,2)))))/LSIT))","v":0},null,"Sum of 1",0,1,{"$f":"GETPIVOTDATA(\"Sum of 1\",AF$2,\"Day  \",\"Prob 5th instars\")","v":{"$error":"#REF!"}},{"$f":"IF(LSCheck5th=\"n\",0,(((VLOOKUP(LSTOT,AH309:AI368,2))-(IF(LSHT=0,0,(VLOOKUP(LSHT,AH309:AI368,2)))))/LSIT))","v":0},null,"Sum of 1",0,1,{"$f":"GETPIVOTDATA(\"Sum of 1\",AL$2,\"Day  \",\"Prob 5th instars\")","v":{"$error":"#REF!"}},{"$f":"IF(LSCheck5th=\"n\",0,(((VLOOKUP(LSTOT,AN309:AO368,2))-(IF(LSHT=0,0,(VLOOKUP(LSHT,AN309:AO368,2)))))/LSIT))","v":0},null,"Sum of 1",0,1,{"$f":"GETPIVOTDATA(\"Sum of 1\",AR$2,\"Day  \",\"Prob 5th instars\")","v":{"$error":"#REF!"}},{"$f":"IF(LSCheck5th=\"n\",0,(((VLOOKUP(LSTOT,AT309:AU368,2))-(IF(LSHT=0,0,(VLOOKUP(LSHT,AT309:AU368,2)))))/LSIT))","v":0},null,"Sum of 1",0,1,{"$f":"GETPIVOTDATA(\"Sum of 1\",AX$2,\"Day  \",\"Prob 5th instars\")","v":{"$error":"#REF!"}},{"$f":"IF(LSCheck5th=\"n\",0,(((VLOOKUP(LSTOT,AZ309:BA368,2))-(IF(LSHT=0,0,(VLOOKUP(LSHT,AZ309:BA368,2)))))/LSIT))","v":0},null,"Sum of 1",0,1,{"$f":"GETPIVOTDATA(\"Sum of 1\",BD$2,\"Day  \",\"Prob 5th instars\")","v":{"$error":"#REF!"}},{"$f":"IF(LSCheck5th=\"n\",0,(((VLOOKUP(LSTOT,BF309:BG368,2))-(IF(LSHT=0,0,(VLOOKUP(LSHT,BF309:BG368,2)))))/LSIT))","v":0}]
[null,"Sum of 2",0,2,{"$f":"E309+GETPIVOTDATA(\"Sum of 2\",$B$2,\"Day  \",\"Prob 5th instars\")","v":{"$error":"#REF!"}},null,null,"Sum of 2",0,2,{"$f":"K309+GETPIVOTDATA(\"Sum of 2\",H$2,\"Day  \",\"Prob 5th instars\")","v":{"$error":"#REF!"}},null,null,"Sum of 2",0,2,{"$f":"Q309+GETPIVOTDATA(\"Sum of 2\",N$2,\"Day  \",\"Prob 5th instars\")","v":{"$error":"#REF!"}},null,null,"Sum of 2",0,2,{"$f":"W309+GETPIVOTDATA(\"Sum of 2\",T$2,\"Day  \",\"Prob 5th instars\")","v":{"$error":"#REF!"}},null,null,"Sum of 2",0,2,{"$f":"AC309+GETPIVOTDATA(\"Sum of 2\",Z$2,\"Day  \",\"Prob 5th instars\")","v":{"$error":"#REF!"}},null,null,"Sum of 2",0,2,{"$f":"AI309+GETPIVOTDATA(\"Sum of 2\",AF$2,\"Day  \",\"Prob 5th instars\")","v":{"$error":"#REF!"}},null,null,"Sum of 2",0,2,{"$f":"AO309+GETPIVOTDATA(\"Sum of 2\",AL$2,\"Day  \",\"Prob 5th instars\")","v":{"$error":"#REF!"}},null,null,"Sum of 2",0,2,{"$f":"AU309+GETPIVOTDATA(\"Sum of 2\",AR$2,\"Day  \",\"Prob 5th instars\")","v":{"$error":"#REF!"}},null,null,"Sum of 2",0,2,{"$f":"BA309+GETPIVOTDATA(\"Sum of 2\",AX$2,\"Day  \",\"Prob 5th instars\")","v":{"$error":"#REF!"}},null,null,"Sum of 2",0,2,{"$f":"BG309+GETPIVOTDATA(\"Sum of 2\",BD$2,\"Day  \",\"Prob 5th instars\")","v":{"$error":"#REF!"}}]
[null,"Sum of 3",0,3,{"$f":"E310+GETPIVOTDATA(\"Sum of 3\",$B$2,\"Day  \",\"Prob 5th instars\")","v":{"$error":"#REF!"}},null,null,"Sum of 3",0,3,{"$f":"K310+GETPIVOTDATA(\"Sum of 3\",H$2,\"Day  \",\"Prob 5th instars\")","v":{"$error":"#REF!"}},null,null,"Sum of 3",0,3,{"$f":"Q310+GETPIVOTDATA(\"Sum of 3\",N$2,\"Day  \",\"Prob 5th instars\")","v":{"$error":"#REF!"}},null,null,"Sum of 3",0,3,{"$f":"W310+GETPIVOTDATA(\"Sum of 3\",T$2,\"Day  \",\"Prob 5th instars\")","v":{"$error":"#REF!"}},null,null,"Sum of 3",0,3,{"$f":"AC310+GETPIVOTDATA(\"Sum of 3\",Z$2,\"Day  \",\"Prob 5th instars\")","v":{"$error":"#REF!"}},null,null,"Sum of 3",0,3,{"$f":"AI310+GETPIVOTDATA(\"Sum of 3\",AF$2,\"Day  \",\"Prob 5th instars\")","v":{"$error":"#REF!"}},null,null,"Sum of 3",0,3,{"$f":"AO310+GETPIVOTDATA(\"Sum of 3\",AL$2,\"Day  \",\"Prob 5th instars\")","v":{"$error":"#REF!"}},null,null,"Sum of 3",0,3,{"$f":"AU310+GETPIVOTDATA(\"Sum of 3\",AR$2,\"Day  \",\"Prob 5th instars\")","v":{"$error":"#REF!"}},null,null,"Sum of 3",0,3,{"$f":"BA310+GETPIVOTDATA(\"Sum of 3\",AX$2,\"Day  \",\"Prob 5th instars\")","v":{"$error":"#REF!"}},null,null,"Sum of 3",0,3,{"$f":"BG310+GETPIVOTDATA(\"Sum of 3\",BD$2,\"Day  \",\"Prob 5th instars\")","v":{"$error":"#REF!"}}]
[null,"Sum of 4",0,4,{"$f":"E311+GETPIVOTDATA(\"Sum of 4\",$B$2,\"Day  \",\"Prob 5th instars\")","v":{"$error":"#REF!"}},null,null,"Sum of 4",0,4,{"$f":"K311+GETPIVOTDATA(\"Sum of 4\",H$2,\"Day  \",\"Prob 5th instars\")","v":{"$error":"#REF!"}},null,null,"Sum of 4",0,4,{"$f":"Q311+GETPIVOTDATA(\"Sum of 4\",N$2,\"Day  \",\"Prob 5th instars\")","v":{"$error":"#REF!"}},null,null,"Sum of 4",0,4,{"$f":"W311+GETPIVOTDATA(\"Sum of 4\",T$2,\"Day  \",\"Prob 5th instars\")","v":{"$error":"#REF!"}},null,null,"Sum of 4",0,4,{"$f":"AC311+GETPIVOTDATA(\"Sum of 4\",Z$2,\"Day  \",\"Prob 5th instars\")","v":{"$error":"#REF!"}},null,null,"Sum of 4",0,4,{"$f":"AI311+GETPIVOTDATA(\"Sum of 4\",AF$2,\"Day  \",\"Prob 5th instars\")","v":{"$error":"#REF!"}},null,null,"Sum of 4",0,4,{"$f":"AO311+GETPIVOTDATA(\"Sum of 4\",AL$2,\"Day  \",\"Prob 5th instars\")","v":{"$error":"#REF!"}},null,null,"Sum of 4",0,4,{"$f":"AU311+GETPIVOTDATA(\"Sum of 4\",AR$2,\"Day  \",\"Prob 5th instars\")","v":{"$error":"#REF!"}},null,null,"Sum of 4",0,4,{"$f":"BA311+GETPIVOTDATA(\"Sum of 4\",AX$2,\"Day  \",\"Prob 5th instars\")","v":{"$error":"#REF!"}},null,null,"Sum of 4",0,4,{"$f":"BG311+GETPIVOTDATA(\"Sum of 4\",BD$2,\"Day  \",\"Prob 5th instars\")","v":{"$error":"#REF!"}}]
[null,"Sum of 5",0,5,{"$f":"E312+GETPIVOTDATA(\"Sum of 5\",$B$2,\"Day  \",\"Prob 5th instars\")","v":{"$error":"#REF!"}},null,null,"Sum of 5",0,5,{"$f":"K312+GETPIVOTDATA(\"Sum of 5\",H$2,\"Day  \",\"Prob 5th instars\")","v":{"$error":"#REF!"}},null,null,"Sum of 5",0,5,{"$f":"Q312+GETPIVOTDATA(\"Sum of 5\",N$2,\"Day  \",\"Prob 5th instars\")","v":{"$error":"#REF!"}},null,null,"Sum of 5",0,5,{"$f":"W312+GETPIVOTDATA(\"Sum of 5\",T$2,\"Day  \",\"Prob 5th instars\")","v":{"$error":"#REF!"}},null,null,"Sum of 5",0,5,{"$f":"AC312+GETPIVOTDATA(\"Sum of 5\",Z$2,\"Day  \",\"Prob 5th instars\")","v":{"$error":"#REF!"}},null,null,"Sum of 5",0,5,{"$f":"AI312+GETPIVOTDATA(\"Sum of 5\",AF$2,\"Day  \",\"Prob 5th instars\")","v":{"$error":"#REF!"}},null,null,"Sum of 5",0,5,{"$f":"AO312+GETPIVOTDATA(\"Sum of 5\",AL$2,\"Day  \",\"Prob 5th instars\")","v":{"$error":"#REF!"}},null,null,"Sum of 5",0,5,{"$f":"AU312+GETPIVOTDATA(\"Sum of 5\",AR$2,\"Day  \",\"Prob 5th instars\")","v":{"$error":"#REF!"}},null,null,"Sum of 5",0,5,{"$f":"BA312+GETPIVOTDATA(\"Sum of 5\",AX$2,\"Day  \",\"Prob 5th instars\")","v":{"$error":"#REF!"}},null,null,"Sum of 5",0,5,{"$f":"BG312+GETPIVOTDATA(\"Sum of 5\",BD$2,\"Day  \",\"Prob 5th instars\")","v":{"$error":"#REF!"}}]
[null,"Sum of 6",0,6,{"$f":"E313+GETPIVOTDATA(\"Sum of 6\",$B$2,\"Day  \",\"Prob 5th instars\")","v":{"$error":"#REF!"}},null,null,"Sum of 6",0,6,{"$f":"K313+GETPIVOTDATA(\"Sum of 6\",H$2,\"Day  \",\"Prob 5th instars\")","v":{"$error":"#REF!"}},null,null,"Sum of 6",0,6,{"$f":"Q313+GETPIVOTDATA(\"Sum of 6\",N$2,\"Day  \",\"Prob 5th instars\")","v":{"$error":"#REF!"}},null,null,"Sum of 6",0,6,{"$f":"W313+GETPIVOTDATA(\"Sum of 6\",T$2,\"Day  \",\"Prob 5th instars\")","v":{"$error":"#REF!"}},null,null,"Sum of 6",0,6,{"$f":"AC313+GETPIVOTDATA(\"Sum of 6\",Z$2,\"Day  \",\"Prob 5th instars\")","v":{"$error":"#REF!"}},null,null,"Sum of 6",0,6,{"$f":"AI313+GETPIVOTDATA(\"Sum of 6\",AF$2,\"Day  \",\"Prob 5th instars\")","v":{"$error":"#REF!"}},null,null,"Sum of 6",0,6,{"$f":"AO313+GETPIVOTDATA(\"Sum of 6\",AL$2,\"Day  \",\"Prob 5th instars\")","v":{"$error":"#REF!"}},null,null,"Sum of 6",0,6,{"$f":"AU313+GETPIVOTDATA(\"Sum of 6\",AR$2,\"Day  \",\"Prob 5th instars\")","v":{"$error":"#REF!"}},null,null,"Sum of 6",0,6,{"$f":"BA313+GETPIVOTDATA(\"Sum of 6\",AX$2,\"Day  \",\"Prob 5th instars\")","v":{"$error":"#REF!"}},null,null,"Sum of 6",0,6,{"$f":"BG313+GETPIVOTDATA(\"Sum of 6\",BD$2,\"Day  \",\"Prob 5th instars\")","v":{"$error":"#REF!"}}]
[null,"Sum of 7",2.070393374741201E-3,7,{"$f":"E314+GETPIVOTDATA(\"Sum of 7\",$B$2,\"Day  \",\"Prob 5th instars\")","v":{"$error":"#REF!"}},null,null,"Sum of 7",0,7,{"$f":"K314+GETPIVOTDATA(\"Sum of 7\",H$2,\"Day  \",\"Prob 5th instars\")","v":{"$error":"#REF!"}},null,null,"Sum of 7",0,7,{"$f":"Q314+GETPIVOTDATA(\"Sum of 7\",N$2,\"Day  \",\"Prob 5th instars\")","v":{"$error":"#REF!"}},null,null,"Sum of 7",0,7,{"$f":"W314+GETPIVOTDATA(\"Sum of 7\",T$2,\"Day  \",\"Prob 5th instars\")","v":{"$error":"#REF!"}},null,null,"Sum of 7",0,7,{"$f":"AC314+GETPIVOTDATA(\"Sum of 7\",Z$2,\"Day  \",\"Prob 5th instars\")","v":{"$error":"#REF!"}},null,null,"Sum of 7",0,7,{"$f":"AI314+GETPIVOTDATA(\"Sum of 7\",AF$2,\"Day  \",\"Prob 5th instars\")","v":{"$error":"#REF!"}},null,null,"Sum of 7",0,7,{"$f":"AO314+GETPIVOTDATA(\"Sum of 7\",AL$2,\"Day  \",\"Prob 5th instars\")","v":{"$error":"#REF!"}},null,null,"Sum of 7",0,7,{"$f":"AU314+GETPIVOTDATA(\"Sum of 7\",AR$2,\"Day  \",\"Prob 5th instars\")","v":{"$error":"#REF!"}},null,null,"Sum of 7",0,7,{"$f":"BA314+GETPIVOTDATA(\"Sum of 7\",AX$2,\"Day  \",\"Prob 5th instars\")","v":{"$error":"#REF!"}},null,null,"Sum of 7",0,7,{"$f":"BG314+GETPIVOTDATA(\"Sum of 7\",BD$2,\"Day  \",\"Prob 5th instars\")","v":{"$error":"#REF!"}}]
[null,"Sum of 8",0.17559523809523808,8,{"$f":"E315+GETPIVOTDATA(\"Sum of 8\",$B$2,\"Day  \",\"Prob 5th instars\")","v":{"$error":"#REF!"}},null,null,"Sum of 8",9.2307692307692313E-2,8,{"$f":"K315+GETPIVOTDATA(\"Sum of 8\",H$2,\"Day  \",\"Prob 5th instars\")","v":{"$error":"#REF!"}},null,null,"Sum of 8",6.5217391304347824E-2,8,{"$f":"Q315+GETPIVOTDATA(\"Sum of 8\",N$2,\"Day  \",\"Prob 5th instars\")","v":{"$error":"#REF!"}},null,null,"Sum of 8",2.0408163265306121E-2,8,{"$f":"W315+GETPIVOTDATA(\"Sum of 8\",T$2,\"Day  \",\"Prob 5th instars\")","v":{"$error":"#REF!"}},null,null,"Sum of 8",1,8,{"$f":"AC315+GETPIVOTDATA(\"Sum of 8\",Z$2,\"Day  \",\"Prob 5th instars\")","v":{"$error":"#REF!"}},null,null,"Sum of 8",1.932367149758454E-2,8,{"$f":"AI315+GETPIVOTDATA(\"Sum of 8\",AF$2,\"Day  \",\"Prob 5th instars\")","v":{"$error":"#REF!"}},null,null,"Sum of 8",0,8,{"$f":"AO315+GETPIVOTDATA(\"Sum of 8\",AL$2,\"Day  \",\"Prob 5th instars\")","v":{"$error":"#REF!"}},null,null,"Sum of 8",0,8,{"$f":"AU315+GETPIVOTDATA(\"Sum of 8\",AR$2,\"Day  \",\"Prob 5th instars\")","v":{"$error":"#REF!"}},null,null,"Sum of 8",0,8,{"$f":"BA315+GETPIVOTDATA(\"Sum of 8\",AX$2,\"Day  \",\"Prob 5th instars\")","v":{"$error":"#REF!"}},null,null,"Sum of 8",0,8,{"$f":"BG315+GETPIVOTDATA(\"Sum of 8\",BD$2,\"Day  \",\"Prob 5th instars\")","v":{"$error":"#REF!"}}]
[null,"Sum of 9",0.85977157360406087,9,{"$f":"E316+GETPIVOTDATA(\"Sum of 9\",$B$2,\"Day  \",\"Prob 5th instars\")","v":{"$error":"#REF!"}},null,null,"Sum of 9",0.5730337078651685,9,{"$f":"K316+GETPIVOTDATA(\"Sum of 9\",H$2,\"Day  \",\"Prob 5th instars\")","v":{"$error":"#REF!"}},null,null,"Sum of 9",1,9,{"$f":"Q316+GETPIVOTDATA(\"Sum of 9\",N$2,\"Day  \",\"Prob 5th instars\")","v":{"$error":"#REF!"}},null,null,"Sum of 9",0.39130434782608697,9,{"$f":"W316+GETPIVOTDATA(\"Sum of 9\",T$2,\"Day  \",\"Prob 5th instars\")","v":{"$error":"#REF!"}},null,null,"Sum of 9",1,9,{"$f":"AC316+GETPIVOTDATA(\"Sum of 9\",Z$2,\"Day  \",\"Prob 5th instars\")","v":{"$error":"#REF!"}},null,null,"Sum of 9",1,9,{"$f":"AI316+GETPIVOTDATA(\"Sum of 9\",AF$2,\"Day  \",\"Prob 5th instars\")","v":{"$error":"#REF!"}},null,null,"Sum of 9",0,9,{"$f":"AO316+GETPIVOTDATA(\"Sum of 9\",AL$2,\"Day  \",\"Prob 5th instars\")","v":{"$error":"#REF!"}},null,null,"Sum of 9",0,9,{"$f":"AU316+GETPIVOTDATA(\"Sum of 9\",AR$2,\"Day  \",\"Prob 5th instars\")","v":{"$error":"#REF!"}},null,null,"Sum of 9",0,9,{"$f":"BA316+GETPIVOTDATA(\"Sum of 9\",AX$2,\"Day  \",\"Prob 5th instars\")","v":{"$error":"#REF!"}},null,null,"Sum of 9",0,9,{"$f":"BG316+GETPIVOTDATA(\"Sum of 9\",BD$2,\"Day  \",\"Prob 5th instars\")","v":{"$error":"#REF!"}}]
[null,"Sum of 10",1,10,{"$f":"E317+GETPIVOTDATA(\"Sum of 10\",$B$2,\"Day  \",\"Prob 5th instars\")","v":{"$error":"#REF!"}},null,null,"Sum of 10",0.83505154639175261,10,{"$f":"K317+GETPIVOTDATA(\"Sum of 10\",H$2,\"Day  \",\"Prob 5th instars\")","v":{"$error":"#REF!"}},null,null,"Sum of 10",1,10,{"$f":"Q317+GETPIVOTDATA(\"Sum of 10\",N$2,\"Day  \",\"Prob 5th instars\")","v":{"$error":"#REF!"}},null,null,"Sum of 10",0.82017543859649122,10,{"$f":"W317+GETPIVOTDATA(\"Sum of 10\",T$2,\"Day  \",\"Prob 5th instars\")","v":{"$error":"#REF!"}},null,null,"Sum of 10",1,10,{"$f":"AC317+GETPIVOTDATA(\"Sum of 10\",Z$2,\"Day  \",\"Prob 5th instars\")","v":{"$error":"#REF!"}},null,null,"Sum of 10",1,10,{"$f":"AI317+GETPIVOTDATA(\"Sum of 10\",AF$2,\"Day  \",\"Prob 5th instars\")","v":{"$error":"#REF!"}},null,null,"Sum of 10",0,10,{"$f":"AO317+GETPIVOTDATA(\"Sum of 10\",AL$2,\"Day  \",\"Prob 5th instars\")","v":{"$error":"#REF!"}},null,null,"Sum of 10",0,10,{"$f":"AU317+GETPIVOTDATA(\"Sum of 10\",AR$2,\"Day  \",\"Prob 5th instars\")","v":{"$error":"#REF!"}},null,null,"Sum of 10",0,10,{"$f":"BA317+GETPIVOTDATA(\"Sum of 10\",AX$2,\"Day  \",\"Prob 5th instars\")","v":{"$error":"#REF!"}},null,null,"Sum of 10",0,10,{"$f":"BG317+GETPIVOTDATA(\"Sum of 10\",BD$2,\"Day  \",\"Prob 5th instars\")","v":{"$error":"#REF!"}}]
[null,"Sum of 11",1,11,{"$f":"E318+GETPIVOTDATA(\"Sum of 11\",$B$2,\"Day  \",\"Prob 5th instars\")","v":{"$error":"#REF!"}},null,null,"Sum of 11",1,11,{"$f":"K318+GETPIVOTDATA(\"Sum of 11\",H$2,\"Day  \",\"Prob 5th instars\")","v":{"$error":"#REF!"}},null,null,"Sum of 11",1,11,{"$f":"Q318+GETPIVOTDATA(\"Sum of 11\",N$2,\"Day  \",\"Prob 5th instars\")","v":{"$error":"#REF!"}},null,null,"Sum of 11",1,11,{"$f":"W318+GETPIVOTDATA(\"Sum of 11\",T$2,\"Day  \",\"Prob 5th instars\")","v":{"$error":"#REF!"}},null,null,"Sum of 11",1,11,{"$f":"AC318+GETPIVOTDATA(\"Sum of 11\",Z$2,\"Day  \",\"Prob 5th instars\")","v":{"$error":"#REF!"}},null,null,"Sum of 11",1,11,{"$f":"AI318+GETPIVOTDATA(\"Sum of 11\",AF$2,\"Day  \",\"Prob 5th instars\")","v":{"$error":"#REF!"}},null,null,"Sum of 11",0,11,{"$f":"AO318+GETPIVOTDATA(\"Sum of 11\",AL$2,\"Day  \",\"Prob 5th instars\")","v":{"$error":"#REF!"}},null,null,"Sum of 11",0,11,{"$f":"AU318+GETPIVOTDATA(\"Sum of 11\",AR$2,\"Day  \",\"Prob 5th instars\")","v":{"$error":"#REF!"}},null,null,"Sum of 11",0,11,{"$f":"BA318+GETPIVOTDATA(\"Sum of 11\",AX$2,\"Day  \",\"Prob 5th instars\")","v":{"$error":"#REF!"}},null,null,"Sum of 11",0,11,{"$f":"BG318+GETPIVOTDATA(\"Sum of 11\",BD$2,\"Day  \",\"Prob 5th instars\")","v":{"$error":"#REF!"}}]
[null,"Sum of 12",1,12,{"$f":"E319+GETPIVOTDATA(\"Sum of 12\",$B$2,\"Day  \",\"Prob 5th instars\")","v":{"$error":"#REF!"}},null,null,"Sum of 12",1,12,{"$f":"K319+GETPIVOTDATA(\"Sum of 12\",H$2,\"Day  \",\"Prob 5th instars\")","v":{"$error":"#REF!"}},null,null,"Sum of 12",1,12,{"$f":"Q319+GETPIVOTDATA(\"Sum of 12\",N$2,\"Day  \",\"Prob 5th instars\")","v":{"$error":"#REF!"}},null,null,"Sum of 12",1,12,{"$f":"W319+GETPIVOTDATA(\"Sum of 12\",T$2,\"Day  \",\"Prob 5th instars\")","v":{"$error":"#REF!"}},null,null,"Sum of 12",1,12,{"$f":"AC319+GETPIVOTDATA(\"Sum of 12\",Z$2,\"Day  \",\"Prob 5th instars\")","v":{"$error":"#REF!"}},null,null,"Sum of 12",1,12,{"$f":"AI319+GETPIVOTDATA(\"Sum of 12\",AF$2,\"Day  \",\"Prob 5th instars\")","v":{"$error":"#REF!"}},null,null,"Sum of 12",0,12,{"$f":"AO319+GETPIVOTDATA(\"Sum of 12\",AL$2,\"Day  \",\"Prob 5th instars\")","v":{"$error":"#REF!"}},null,null,"Sum of 12",0,12,{"$f":"AU319+GETPIVOTDATA(\"Sum of 12\",AR$2,\"Day  \",\"Prob 5th instars\")","v":{"$error":"#REF!"}},null,null,"Sum of 12",0,12,{"$f":"BA319+GETPIVOTDATA(\"Sum of 12\",AX$2,\"Day  \",\"Prob 5th instars\")","v":{"$error":"#REF!"}},null,null,"Sum of 12",0,12,{"$f":"BG319+GETPIVOTDATA(\"Sum of 12\",BD$2,\"Day  \",\"Prob 5th instars\")","v":{"$error":"#REF!"}}]
[null,"Sum of 13",1,13,{"$f":"E320+GETPIVOTDATA(\"Sum of 13\",$B$2,\"Day  \",\"Prob 5th instars\")","v":{"$error":"#REF!"}},null,null,"Sum of 13",1,13,{"$f":"K320+GETPIVOTDATA(\"Sum of 13\",H$2,\"Day  \",\"Prob 5th instars\")","v":{"$error":"#REF!"}},null,null,"Sum of 13",1,13,{"$f":"Q320+GETPIVOTDATA(\"Sum of 13\",N$2,\"Day  \",\"Prob 5th instars\")","v":{"$error":"#REF!"}},null,null,"Sum of 13",1,13,{"$f":"W320+GETPIVOTDATA(\"Sum of 13\",T$2,\"Day  \",\"Prob 5th instars\")","v":{"$error":"#REF!"}},null,null,"Sum of 13",1,13,{"$f":"AC320+GETPIVOTDATA(\"Sum of 13\",Z$2,\"Day  \",\"Prob 5th instars\")","v":{"$error":"#REF!"}},null,null,"Sum of 13",1,13,{"$f":"AI320+GETPIVOTDATA(\"Sum of 13\",AF$2,\"Day  \",\"Prob 5th instars\")","v":{"$error":"#REF!"}},null,null,"Sum of 13",0,13,{"$f":"AO320+GETPIVOTDATA(\"Sum of 13\",AL$2,\"Day  \",\"Prob 5th instars\")","v":{"$error":"#REF!"}},null,null,"Sum of 13",0,13,{"$f":"AU320+GETPIVOTDATA(\"Sum of 13\",AR$2,\"Day  \",\"Prob 5th instars\")","v":{"$error":"#REF!"}},null,null,"Sum of 13",0,13,{"$f":"BA320+GETPIVOTDATA(\"Sum of 13\",AX$2,\"Day  \",\"Prob 5th instars\")","v":{"$error":"#REF!"}},null,null,"Sum of 13",0,13,{"$f":"BG320+GETPIVOTDATA(\"Sum of 13\",BD$2,\"Day  \",\"Prob 5th instars\")","v":{"$error":"#REF!"}}]
[null,"Sum of 14",1,14,{"$f":"E321+GETPIVOTDATA(\"Sum of 14\",$B$2,\"Day  \",\"Prob 5th instars\")","v":{"$error":"#REF!"}},null,null,"Sum of 14",1,14,{"$f":"K321+GETPIVOTDATA(\"Sum of 14\",H$2,\"Day  \",\"Prob 5th instars\")","v":{"$error":"#REF!"}},null,null,"Sum of 14",0,14,{"$f":"Q321+GETPIVOTDATA(\"Sum of 14\",N$2,\"Day  \",\"Prob 5th instars\")","v":{"$error":"#REF!"}},null,null,"Sum of 14",1,14,{"$f":"W321+GETPIVOTDATA(\"Sum of 14\",T$2,\"Day  \",\"Prob 5th instars\")","v":{"$error":"#REF!"}},null,null,"Sum of 14",1,14,{"$f":"AC321+GETPIVOTDATA(\"Sum of 14\",Z$2,\"Day  \",\"Prob 5th instars\")","v":{"$error":"#REF!"}},null,null,"Sum of 14",1,14,{"$f":"AI321+GETPIVOTDATA(\"Sum of 14\",AF$2,\"Day  \",\"Prob 5th instars\")","v":{"$error":"#REF!"}},null,null,"Sum of 14",0,14,{"$f":"AO321+GETPIVOTDATA(\"Sum of 14\",AL$2,\"Day  \",\"Prob 5th instars\")","v":{"$error":"#REF!"}},null,null,"Sum of 14",0,14,{"$f":"AU321+GETPIVOTDATA(\"Sum of 14\",AR$2,\"Day  \",\"Prob 5th instars\")","v":{"$error":"#REF!"}},null,null,"Sum of 14",0,14,{"$f":"BA321+GETPIVOTDATA(\"Sum of 14\",AX$2,\"Day  \",\"Prob 5th instars\")","v":{"$error":"#REF!"}},null,null,"Sum of 14",0,14,{"$f":"BG321+GETPIVOTDATA(\"Sum of 14\",BD$2,\"Day  \",\"Prob 5th instars\")","v":{"$error":"#REF!"}}]
[null,"Sum of 15",1,15,{"$f":"E322+GETPIVOTDATA(\"Sum of 15\",$B$2,\"Day  \",\"Prob 5th instars\")","v":{"$error":"#REF!"}},null,null,"Sum of 15",1,15,{"$f":"K322+GETPIVOTDATA(\"Sum of 15\",H$2,\"Day  \",\"Prob 5th instars\")","v":{"$error":"#REF!"}},null,null,"Sum of 15",0,15,{"$f":"Q322+GETPIVOTDATA(\"Sum of 15\",N$2,\"Day  \",\"Prob 5th instars\")","v":{"$error":"#REF!"}},null,null,"Sum of 15",1,15,{"$f":"W322+GETPIVOTDATA(\"Sum of 15\",T$2,\"Day  \",\"Prob 5th instars\")","v":{"$error":"#REF!"}},null,null,"Sum of 15",1,15,{"$f":"AC322+GETPIVOTDATA(\"Sum of 15\",Z$2,\"Day  \",\"Prob 5th instars\")","v":{"$error":"#REF!"}},null,null,"Sum of 15",1,15,{"$f":"AI322+GETPIVOTDATA(\"Sum of 15\",AF$2,\"Day  \",\"Prob 5th instars\")","v":{"$error":"#REF!"}},null,null,"Sum of 15",0,15,{"$f":"AO322+GETPIVOTDATA(\"Sum of 15\",AL$2,\"Day  \",\"Prob 5th instars\")","v":{"$error":"#REF!"}},null,null,"Sum of 15",0,15,{"$f":"AU322+GETPIVOTDATA(\"Sum of 15\",AR$2,\"Day  \",\"Prob 5th instars\")","v":{"$error":"#REF!"}},null,null,"Sum of 15",0,15,{"$f":"BA322+GETPIVOTDATA(\"Sum of 15\",AX$2,\"Day  \",\"Prob 5th instars\")","v":{"$error":"#REF!"}},null,null,"Sum of 15",0,15,{"$f":"BG322+GETPIVOTDATA(\"Sum of 15\",BD$2,\"Day  \",\"Prob 5th instars\")","v":{"$error":"#REF!"}}]
[null,"Sum of 16",1,16,{"$f":"E323+GETPIVOTDATA(\"Sum of 16\",$B$2,\"Day  \",\"Prob 5th instars\")","v":{"$error":"#REF!"}},null,null,"Sum of 16",1,16,{"$f":"K323+GETPIVOTDATA(\"Sum of 16\",H$2,\"Day  \",\"Prob 5th instars\")","v":{"$error":"#REF!"}},null,null,"Sum of 16",0,16,{"$f":"Q323+GETPIVOTDATA(\"Sum of 16\",N$2,\"Day  \",\"Prob 5th instars\")","v":{"$error":"#REF!"}},null,null,"Sum of 16",1,16,{"$f":"W323+GETPIVOTDATA(\"Sum of 16\",T$2,\"Day  \",\"Prob 5th instars\")","v":{"$error":"#REF!"}},null,null,"Sum of 16",1,16,{"$f":"AC323+GETPIVOTDATA(\"Sum of 16\",Z$2,\"Day  \",\"Prob 5th instars\")","v":{"$error":"#REF!"}},null,null,"Sum of 16",0,16,{"$f":"AI323+GETPIVOTDATA(\"Sum of 16\",AF$2,\"Day  \",\"Prob 5th instars\")","v":{"$error":"#REF!"}},null,null,"Sum of 16",0,16,{"$f":"AO323+GETPIVOTDATA(\"Sum of 16\",AL$2,\"Day  \",\"Prob 5th instars\")","v":{"$error":"#REF!"}},null,null,"Sum of 16",0,16,{"$f":"AU323+GETPIVOTDATA(\"Sum of 16\",AR$2,\"Day  \",\"Prob 5th instars\")","v":{"$error":"#REF!"}},null,null,"Sum of 16",0,16,{"$f":"BA323+GETPIVOTDATA(\"Sum of 16\",AX$2,\"Day  \",\"Prob 5th instars\")","v":{"$error":"#REF!"}},null,null,"Sum of 16",0,16,{"$f":"BG323+GETPIVOTDATA(\"Sum of 16\",BD$2,\"Day  \",\"Prob 5th instars\")","v":{"$error":"#REF!"}}]
[null,"Sum of 17",0,17,{"$f":"E324+GETPIVOTDATA(\"Sum of 17\",$B$2,\"Day  \",\"Prob 5th instars\")","v":{"$error":"#REF!"}},null,null,"Sum of 17",0,17,{"$f":"K324+GETPIVOTDATA(\"Sum of 17\",H$2,\"Day  \",\"Prob 5th instars\")","v":{"$error":"#REF!"}},null,null,"Sum of 17",0,17,{"$f":"Q324+GETPIVOTDATA(\"Sum of 17\",N$2,\"Day  \",\"Prob 5th instars\")","v":{"$error":"#REF!"}},null,null,"Sum of 17",1,17,{"$f":"W324+GETPIVOTDATA(\"Sum of 17\",T$2,\"Day  \",\"Prob 5th instars\")","v":{"$error":"#REF!"}},null,null,"Sum of 17",1,17,{"$f":"AC324+GETPIVOTDATA(\"Sum of 17\",Z$2,\"Day  \",\"Prob 5th instars\")","v":{"$error":"#REF!"}},null,null,"Sum of 17",0,17,{"$f":"AI324+GETPIVOTDATA(\"Sum of 17\",AF$2,\"Day  \",\"Prob 5th instars\")","v":{"$error":"#REF!"}},null,null,"Sum of 17",0,17,{"$f":"AO324+GETPIVOTDATA(\"Sum of 17\",AL$2,\"Day  \",\"Prob 5th instars\")","v":{"$error":"#REF!"}},null,null,"Sum of 17",0,17,{"$f":"AU324+GETPIVOTDATA(\"Sum of 17\",AR$2,\"Day  \",\"Prob 5th instars\")","v":{"$error":"#REF!"}},null,null,"Sum of 17",0,17,{"$f":"BA324+GETPIVOTDATA(\"Sum of 17\",AX$2,\"Day  \",\"Prob 5th instars\")","v":{"$error":"#REF!"}},null,null,"Sum of 17",0,17,{"$f":"BG324+GETPIVOTDATA(\"Sum of 17\",BD$2,\"Day  \",\"Prob 5th instars\")","v":{"$error":"#REF!"}}]
[null,"Sum of 18",0,18,{"$f":"E325+GETPIVOTDATA(\"Sum of 18\",$B$2,\"Day  \",\"Prob 5th instars\")","v":{"$error":"#REF!"}},null,null,"Sum of 18",0,18,{"$f":"K325+GETPIVOTDATA(\"Sum of 18\",H$2,\"Day  \",\"Prob 5th instars\")","v":{"$error":"#REF!"}},null,null,"Sum of 18",0,18,{"$f":"Q325+GETPIVOTDATA(\"Sum of 18\",N$2,\"Day  \",\"Prob 5th instars\")","v":{"$error":"#REF!"}},null,null,"Sum of 18",0,18,{"$f":"W325+GETPIVOTDATA(\"Sum of 18\",T$2,\"Day  \",\"Prob 5th instars\")","v":{"$error":"#REF!"}},null,null,"Sum of 18",0,18,{"$f":"AC325+GETPIVOTDATA(\"Sum of 18\",Z$2,\"Day  \",\"Prob 5th instars\")","v":{"$error":"#REF!"}},null,null,"Sum of 18",0,18,{"$f":"AI325+GETPIVOTDATA(\"Sum of 18\",AF$2,\"Day  \",\"Prob 5th instars\")","v":{"$error":"#REF!"}},null,null,"Sum of 18",0,18,{"$f":"AO325+GETPIVOTDATA(\"Sum of 18\",AL$2,\"Day  \",\"Prob 5th instars\")","v":{"$error":"#REF!"}},null,null,"Sum of 18",0,18,{"$f":"AU325+GETPIVOTDATA(\"Sum of 18\",AR$2,\"Day  \",\"Prob 5th instars\")","v":{"$error":"#REF!"}},null,null,"Sum of 18",0,18,{"$f":"BA325+GETPIVOTDATA(\"Sum of 18\",AX$2,\"Day  \",\"Prob 5th instars\")","v":{"$error":"#REF!"}},null,null,"Sum of 18",0,18,{"$f":"BG325+GETPIVOTDATA(\"Sum of 18\",BD$2,\"Day  \",\"Prob 5th instars\")","v":{"$error":"#REF!"}}]
[null,"Sum of 19",0,19,{"$f":"E326+GETPIVOTDATA(\"Sum of 19\",$B$2,\"Day  \",\"Prob 5th instars\")","v":{"$error":"#REF!"}},null,null,"Sum of 19",0,19,{"$f":"K326+GETPIVOTDATA(\"Sum of 19\",H$2,\"Day  \",\"Prob 5th instars\")","v":{"$error":"#REF!"}},null,null,"Sum of 19",0,19,{"$f":"Q326+GETPIVOTDATA(\"Sum of 19\",N$2,\"Day  \",\"Prob 5th instars\")","v":{"$error":"#REF!"}},null,null,"Sum of 19",0,19,{"$f":"W326+GETPIVOTDATA(\"Sum of 19\",T$2,\"Day  \",\"Prob 5th instars\")","v":{"$error":"#REF!"}},null,null,"Sum of 19",0,19,{"$f":"AC326+GETPIVOTDATA(\"Sum of 19\",Z$2,\"Day  \",\"Prob 5th instars\")","v":{"$error":"#REF!"}},null,null,"Sum of 19",0,19,{"$f":"AI326+GETPIVOTDATA(\"Sum of 19\",AF$2,\"Day  \",\"Prob 5th instars\")","v":{"$error":"#REF!"}},null,null,"Sum of 19",0,19,{"$f":"AO326+GETPIVOTDATA(\"Sum of 19\",AL$2,\"Day  \",\"Prob 5th instars\")","v":{"$error":"#REF!"}},null,null,"Sum of 19",0,19,{"$f":"AU326+GETPIVOTDATA(\"Sum of 19\",AR$2,\"Day  \",\"Prob 5th instars\")","v":{"$error":"#REF!"}},null,null,"Sum of 19",0,19,{"$f":"BA326+GETPIVOTDATA(\"Sum of 19\",AX$2,\"Day  \",\"Prob 5th instars\")","v":{"$error":"#REF!"}},null,null,"Sum of 19",0,19,{"$f":"BG326+GETPIVOTDATA(\"Sum of 19\",BD$2,\"Day  \",\"Prob 5th instars\")","v":{"$error":"#REF!"}}]
[null,"Sum of 20",0,20,{"$f":"E327+GETPIVOTDATA(\"Sum of 20\",$B$2,\"Day  \",\"Prob 5th instars\")","v":{"$error":"#REF!"}},null,null,"Sum of 20",0,20,{"$f":"K327+GETPIVOTDATA(\"Sum of 20\",H$2,\"Day  \",\"Prob 5th instars\")","v":{"$error":"#REF!"}},null,null,"Sum of 20",0,20,{"$f":"Q327+GETPIVOTDATA(\"Sum of 20\",N$2,\"Day  \",\"Prob 5th instars\")","v":{"$error":"#REF!"}},null,null,"Sum of 20",0,20,{"$f":"W327+GETPIVOTDATA(\"Sum of 20\",T$2,\"Day  \",\"Prob 5th instars\")","v":{"$error":"#REF!"}},null,null,"Sum of 20",0,20,{"$f":"AC327+GETPIVOTDATA(\"Sum of 20\",Z$2,\"Day  \",\"Prob 5th instars\")","v":{"$error":"#REF!"}},null,null,"Sum of 20",0,20,{"$f":"AI327+GETPIVOTDATA(\"Sum of 20\",AF$2,\"Day  \",\"Prob 5th instars\")","v":{"$error":"#REF!"}},null,null,"Sum of 20",0,20,{"$f":"AO327+GETPIVOTDATA(\"Sum of 20\",AL$2,\"Day  \",\"Prob 5th instars\")","v":{"$error":"#REF!"}},null,null,"Sum of 20",0,20,{"$f":"AU327+GETPIVOTDATA(\"Sum of 20\",AR$2,\"Day  \",\"Prob 5th instars\")","v":{"$error":"#REF!"}},null,null,"Sum of 20",0,20,{"$f":"BA327+GETPIVOTDATA(\"Sum of 20\",AX$2,\"Day  \",\"Prob 5th instars\")","v":{"$error":"#REF!"}},null,null,"Sum of 20",0,20,{"$f":"BG327+GETPIVOTDATA(\"Sum of 20\",BD$2,\"Day  \",\"Prob 5th instars\")","v":{"$error":"#REF!"}}]
[null,"Sum of 21",0,21,{"$f":"E328+GETPIVOTDATA(\"Sum of 21\",$B$2,\"Day  \",\"Prob 5th instars\")","v":{"$error":"#REF!"}},null,null,"Sum of 21",0,21,{"$f":"K328+GETPIVOTDATA(\"Sum of 21\",H$2,\"Day  \",\"Prob 5th instars\")","v":{"$error":"#REF!"}},null,null,"Sum of 21",0,21,{"$f":"Q328+GETPIVOTDATA(\"Sum of 21\",N$2,\"Day  \",\"Prob 5th instars\")","v":{"$error":"#REF!"}},null,null,"Sum of 21",0,21,{"$f":"W328+GETPIVOTDATA(\"Sum of 21\",T$2,\"Day  \",\"Prob 5th instars\")","v":{"$error":"#REF!"}},null,null,"Sum of 21",0,21,{"$f":"AC328+GETPIVOTDATA(\"Sum of 21\",Z$2,\"Day  \",\"Prob 5th instars\")","v":{"$error":"#REF!"}},null,null,"Sum of 21",0,21,{"$f":"AI328+GETPIVOTDATA(\"Sum of 21\",AF$2,\"Day  \",\"Prob 5th instars\")","v":{"$error":"#REF!"}},null,null,"Sum of 21",0,21,{"$f":"AO328+GETPIVOTDATA(\"Sum of 21\",AL$2,\"Day  \",\"Prob 5th instars\")","v":{"$error":"#REF!"}},null,null,"Sum of 21",0,21,{"$f":"AU328+GETPIVOTDATA(\"Sum of 21\",AR$2,\"Day  \",\"Prob 5th instars\")","v":{"$error":"#REF!"}},null,null,"Sum of 21",0,21,{"$f":"BA328+GETPIVOTDATA(\"Sum of 21\",AX$2,\"Day  \",\"Prob 5th instars\")","v":{"$error":"#REF!"}},null,null,"Sum of 21",0,21,{"$f":"BG328+GETPIVOTDATA(\"Sum of 21\",BD$2,\"Day  \",\"Prob 5th instars\")","v":{"$error":"#REF!"}}]
[null,"Sum of 22",0,22,{"$f":"E329+GETPIVOTDATA(\"Sum of 22\",$B$2,\"Day  \",\"Prob 5th instars\")","v":{"$error":"#REF!"}},null,null,"Sum of 22",0,22,{"$f":"K329+GETPIVOTDATA(\"Sum of 22\",H$2,\"Day  \",\"Prob 5th instars\")","v":{"$error":"#REF!"}},null,null,"Sum of 22",0,22,{"$f":"Q329+GETPIVOTDATA(\"Sum of 22\",N$2,\"Day  \",\"Prob 5th instars\")","v":{"$error":"#REF!"}},null,null,"Sum of 22",0,22,{"$f":"W329+GETPIVOTDATA(\"Sum of 22\",T$2,\"Day  \",\"Prob 5th instars\")","v":{"$error":"#REF!"}},null,null,"Sum of 22",0,22,{"$f":"AC329+GETPIVOTDATA(\"Sum of 22\",Z$2,\"Day  \",\"Prob 5th instars\")","v":{"$error":"#REF!"}},null,null,"Sum of 22",0,22,{"$f":"AI329+GETPIVOTDATA(\"Sum of 22\",AF$2,\"Day  \",\"Prob 5th instars\")","v":{"$error":"#REF!"}},null,null,"Sum of 22",0,22,{"$f":"AO329+GETPIVOTDATA(\"Sum of 22\",AL$2,\"Day  \",\"Prob 5th instars\")","v":{"$error":"#REF!"}},null,null,"Sum of 22",0,22,{"$f":"AU329+GETPIVOTDATA(\"Sum of 22\",AR$2,\"Day  \",\"Prob 5th instars\")","v":{"$error":"#REF!"}},null,null,"Sum of 22",0,22,{"$f":"BA329+GETPIVOTDATA(\"Sum of 22\",AX$2,\"Day  \",\"Prob 5th instars\")","v":{"$error":"#REF!"}},null,null,"Sum of 22",0,22,{"$f":"BG329+GETPIVOTDATA(\"Sum of 22\",BD$2,\"Day  \",\"Prob 5th instars\")","v":{"$error":"#REF!"}}]
[null,"Sum of 23",0,23,{"$f":"E330+GETPIVOTDATA(\"Sum of 23\",$B$2,\"Day  \",\"Prob 5th instars\")","v":{"$error":"#REF!"}},null,null,"Sum of 23",0,23,{"$f":"K330+GETPIVOTDATA(\"Sum of 23\",H$2,\"Day  \",\"Prob 5th instars\")","v":{"$error":"#REF!"}},null,null,"Sum of 23",0,23,{"$f":"Q330+GETPIVOTDATA(\"Sum of 23\",N$2,\"Day  \",\"Prob 5th instars\")","v":{"$error":"#REF!"}},null,null,"Sum of 23",0,23,{"$f":"W330+GETPIVOTDATA(\"Sum of 23\",T$2,\"Day  \",\"Prob 5th instars\")","v":{"$error":"#REF!"}},null,null,"Sum of 23",0,23,{"$f":"AC330+GETPIVOTDATA(\"Sum of 23\",Z$2,\"Day  \",\"Prob 5th instars\")","v":{"$error":"#REF!"}},null,null,"Sum of 23",0,23,{"$f":"AI330+GETPIVOTDATA(\"Sum of 23\",AF$2,\"Day  \",\"Prob 5th instars\")","v":{"$error":"#REF!"}},null,null,"Sum of 23",0,23,{"$f":"AO330+GETPIVOTDATA(\"Sum of 23\",AL$2,\"Day  \",\"Prob 5th instars\")","v":{"$error":"#REF!"}},null,null,"Sum of 23",0,23,{"$f":"AU330+GETPIVOTDATA(\"Sum of 23\",AR$2,\"Day  \",\"Prob 5th instars\")","v":{"$error":"#REF!"}},null,null,"Sum of 23",0,23,{"$f":"BA330+GETPIVOTDATA(\"Sum of 23\",AX$2,\"Day  \",\"Prob 5th instars\")","v":{"$error":"#REF!"}},null,null,"Sum of 23",0,23,{"$f":"BG330+GETPIVOTDATA(\"Sum of 23\",BD$2,\"Day  \",\"Prob 5th instars\")","v":{"$error":"#REF!"}}]
[null,"Sum of 24",0,24,{"$f":"E331+GETPIVOTDATA(\"Sum of 24\",$B$2,\"Day  \",\"Prob 5th instars\")","v":{"$error":"#REF!"}},null,null,"Sum of 24",0,24,{"$f":"K331+GETPIVOTDATA(\"Sum of 24\",H$2,\"Day  \",\"Prob 5th instars\")","v":{"$error":"#REF!"}},null,null,"Sum of 24",0,24,{"$f":"Q331+GETPIVOTDATA(\"Sum of 24\",N$2,\"Day  \",\"Prob 5th instars\")","v":{"$error":"#REF!"}},null,null,"Sum of 24",0,24,{"$f":"W331+GETPIVOTDATA(\"Sum of 24\",T$2,\"Day  \",\"Prob 5th instars\")","v":{"$error":"#REF!"}},null,null,"Sum of 24",0,24,{"$f":"AC331+GETPIVOTDATA(\"Sum of 24\",Z$2,\"Day  \",\"Prob 5th instars\")","v":{"$error":"#REF!"}},null,null,"Sum of 24",0,24,{"$f":"AI331+GETPIVOTDATA(\"Sum of 24\",AF$2,\"Day  \",\"Prob 5th instars\")","v":{"$error":"#REF!"}},null,null,"Sum of 24",0,24,{"$f":"AO331+GETPIVOTDATA(\"Sum of 24\",AL$2,\"Day  \",\"Prob 5th instars\")","v":{"$error":"#REF!"}},null,null,"Sum of 24",0,24,{"$f":"AU331+GETPIVOTDATA(\"Sum of 24\",AR$2,\"Day  \",\"Prob 5th instars\")","v":{"$error":"#REF!"}},null,null,"Sum of 24",0,24,{"$f":"BA331+GETPIVOTDATA(\"Sum of 24\",AX$2,\"Day  \",\"Prob 5th instars\")","v":{"$error":"#REF!"}},null,null,"Sum of 24",0,24,{"$f":"BG331+GETPIVOTDATA(\"Sum of 24\",BD$2,\"Day  \",\"Prob 5th instars\")","v":{"$error":"#REF!"}}]
[null,"Sum of 25",0,25,{"$f":"E332+GETPIVOTDATA(\"Sum of 25\",$B$2,\"Day  \",\"Prob 5th instars\")","v":{"$error":"#REF!"}},null,null,"Sum of 25",0,25,{"$f":"K332+GETPIVOTDATA(\"Sum of 25\",H$2,\"Day  \",\"Prob 5th instars\")","v":{"$error":"#REF!"}},null,null,"Sum of 25",0,25,{"$f":"Q332+GETPIVOTDATA(\"Sum of 25\",N$2,\"Day  \",\"Prob 5th instars\")","v":{"$error":"#REF!"}},null,null,"Sum of 25",0,25,{"$f":"W332+GETPIVOTDATA(\"Sum of 25\",T$2,\"Day  \",\"Prob 5th instars\")","v":{"$error":"#REF!"}},null,null,"Sum of 25",0,25,{"$f":"AC332+GETPIVOTDATA(\"Sum of 25\",Z$2,\"Day  \",\"Prob 5th instars\")","v":{"$error":"#REF!"}},null,null,"Sum of 25",0,25,{"$f":"AI332+GETPIVOTDATA(\"Sum of 25\",AF$2,\"Day  \",\"Prob 5th instars\")","v":{"$error":"#REF!"}},null,null,"Sum of 25",0,25,{"$f":"AO332+GETPIVOTDATA(\"Sum of 25\",AL$2,\"Day  \",\"Prob 5th instars\")","v":{"$error":"#REF!"}},null,null,"Sum of 25",0,25,{"$f":"AU332+GETPIVOTDATA(\"Sum of 25\",AR$2,\"Day  \",\"Prob 5th instars\")","v":{"$error":"#REF!"}},null,null,"Sum of 25",0,25,{"$f":"BA332+GETPIVOTDATA(\"Sum of 25\",AX$2,\"Day  \",\"Prob 5th instars\")","v":{"$error":"#REF!"}},null,null,"Sum of 25",0,25,{"$f":"BG332+GETPIVOTDATA(\"Sum of 25\",BD$2,\"Day  \",\"Prob 5th instars\")","v":{"$error":"#REF!"}}]
[null,"Sum of 26",0,26,{"$f":"E333+GETPIVOTDATA(\"Sum of 26\",$B$2,\"Day  \",\"Prob 5th instars\")","v":{"$error":"#REF!"}},null,null,"Sum of 26",0,26,{"$f":"K333+GETPIVOTDATA(\"Sum of 26\",H$2,\"Day  \",\"Prob 5th instars\")","v":{"$error":"#REF!"}},null,null,"Sum of 26",0,26,{"$f":"Q333+GETPIVOTDATA(\"Sum of 26\",N$2,\"Day  \",\"Prob 5th instars\")","v":{"$error":"#REF!"}},null,null,"Sum of 26",0,26,{"$f":"W333+GETPIVOTDATA(\"Sum of 26\",T$2,\"Day  \",\"Prob 5th instars\")","v":{"$error":"#REF!"}},null,null,"Sum of 26",0,26,{"$f":"AC333+GETPIVOTDATA(\"Sum of 26\",Z$2,\"Day  \",\"Prob 5th instars\")","v":{"$error":"#REF!"}},null,null,"Sum of 26",0,26,{"$f":"AI333+GETPIVOTDATA(\"Sum of 26\",AF$2,\"Day  \",\"Prob 5th instars\")","v":{"$error":"#REF!"}},null,null,"Sum of 26",0,26,{"$f":"AO333+GETPIVOTDATA(\"Sum of 26\",AL$2,\"Day  \",\"Prob 5th instars\")","v":{"$error":"#REF!"}},null,null,"Sum of 26",0,26,{"$f":"AU333+GETPIVOTDATA(\"Sum of 26\",AR$2,\"Day  \",\"Prob 5th instars\")","v":{"$error":"#REF!"}},null,null,"Sum of 26",0,26,{"$f":"BA333+GETPIVOTDATA(\"Sum of 26\",AX$2,\"Day  \",\"Prob 5th instars\")","v":{"$error":"#REF!"}},null,null,"Sum of 26",0,26,{"$f":"BG333+GETPIVOTDATA(\"Sum of 26\",BD$2,\"Day  \",\"Prob 5th instars\")","v":{"$error":"#REF!"}}]
[null,"Sum of 27",0,27,{"$f":"E334+GETPIVOTDATA(\"Sum of 27\",$B$2,\"Day  \",\"Prob 5th instars\")","v":{"$error":"#REF!"}},null,null,"Sum of 27",0,27,{"$f":"K334+GETPIVOTDATA(\"Sum of 27\",H$2,\"Day  \",\"Prob 5th instars\")","v":{"$error":"#REF!"}},null,null,"Sum of 27",0,27,{"$f":"Q334+GETPIVOTDATA(\"Sum of 27\",N$2,\"Day  \",\"Prob 5th instars\")","v":{"$error":"#REF!"}},null,null,"Sum of 27",0,27,{"$f":"W334+GETPIVOTDATA(\"Sum of 27\",T$2,\"Day  \",\"Prob 5th instars\")","v":{"$error":"#REF!"}},null,null,"Sum of 27",0,27,{"$f":"AC334+GETPIVOTDATA(\"Sum of 27\",Z$2,\"Day  \",\"Prob 5th instars\")","v":{"$error":"#REF!"}},null,null,"Sum of 27",0,27,{"$f":"AI334+GETPIVOTDATA(\"Sum of 27\",AF$2,\"Day  \",\"Prob 5th instars\")","v":{"$error":"#REF!"}},null,null,"Sum of 27",0,27,{"$f":"AO334+GETPIVOTDATA(\"Sum of 27\",AL$2,\"Day  \",\"Prob 5th instars\")","v":{"$error":"#REF!"}},null,null,"Sum of 27",0,27,{"$f":"AU334+GETPIVOTDATA(\"Sum of 27\",AR$2,\"Day  \",\"Prob 5th instars\")","v":{"$error":"#REF!"}},null,null,"Sum of 27",0,27,{"$f":"BA334+GETPIVOTDATA(\"Sum of 27\",AX$2,\"Day  \",\"Prob 5th instars\")","v":{"$error":"#REF!"}},null,null,"Sum of 27",0,27,{"$f":"BG334+GETPIVOTDATA(\"Sum of 27\",BD$2,\"Day  \",\"Prob 5th instars\")","v":{"$error":"#REF!"}}]
[null,"Sum of 28",0,28,{"$f":"E335+GETPIVOTDATA(\"Sum of 28\",$B$2,\"Day  \",\"Prob 5th instars\")","v":{"$error":"#REF!"}},null,null,"Sum of 28",0,28,{"$f":"K335+GETPIVOTDATA(\"Sum of 28\",H$2,\"Day  \",\"Prob 5th instars\")","v":{"$error":"#REF!"}},null,null,"Sum of 28",0,28,{"$f":"Q335+GETPIVOTDATA(\"Sum of 28\",N$2,\"Day  \",\"Prob 5th instars\")","v":{"$error":"#REF!"}},null,null,"Sum of 28",0,28,{"$f":"W335+GETPIVOTDATA(\"Sum of 28\",T$2,\"Day  \",\"Prob 5th instars\")","v":{"$error":"#REF!"}},null,null,"Sum of 28",0,28,{"$f":"AC335+GETPIVOTDATA(\"Sum of 28\",Z$2,\"Day  \",\"Prob 5th instars\")","v":{"$error":"#REF!"}},null,null,"Sum of 28",0,28,{"$f":"AI335+GETPIVOTDATA(\"Sum of 28\",AF$2,\"Day  \",\"Prob 5th instars\")","v":{"$error":"#REF!"}},null,null,"Sum of 28",0,28,{"$f":"AO335+GETPIVOTDATA(\"Sum of 28\",AL$2,\"Day  \",\"Prob 5th instars\")","v":{"$error":"#REF!"}},null,null,"Sum of 28",0,28,{"$f":"AU335+GETPIVOTDATA(\"Sum of 28\",AR$2,\"Day  \",\"Prob 5th instars\")","v":{"$error":"#REF!"}},null,null,"Sum of 28",0,28,{"$f":"BA335+GETPIVOTDATA(\"Sum of 28\",AX$2,\"Day  \",\"Prob 5th instars\")","v":{"$error":"#REF!"}},null,null,"Sum of 28",0,28,{"$f":"BG335+GETPIVOTDATA(\"Sum of 28\",BD$2,\"Day  \",\"Prob 5th instars\")","v":{"$error":"#REF!"}}]
[null,"Sum of 29",0,29,{"$f":"E336+GETPIVOTDATA(\"Sum of 29\",$B$2,\"Day  \",\"Prob 5th instars\")","v":{"$error":"#REF!"}},null,null,"Sum of 29",0,29,{"$f":"K336+GETPIVOTDATA(\"Sum of 29\",H$2,\"Day  \",\"Prob 5th instars\")","v":{"$error":"#REF!"}},null,null,"Sum of 29",0,29,{"$f":"Q336+GETPIVOTDATA(\"Sum of 29\",N$2,\"Day  \",\"Prob 5th instars\")","v":{"$error":"#REF!"}},null,null,"Sum of 29",0,29,{"$f":"W336+GETPIVOTDATA(\"Sum of 29\",T$2,\"Day  \",\"Prob 5th instars\")","v":{"$error":"#REF!"}},null,null,"Sum of 29",0,29,{"$f":"AC336+GETPIVOTDATA(\"Sum of 29\",Z$2,\"Day  \",\"Prob 5th instars\")","v":{"$error":"#REF!"}},null,null,"Sum of 29",0,29,{"$f":"AI336+GETPIVOTDATA(\"Sum of 29\",AF$2,\"Day  \",\"Prob 5th instars\")","v":{"$error":"#REF!"}},null,null,"Sum of 29",0,29,{"$f":"AO336+GETPIVOTDATA(\"Sum of 29\",AL$2,\"Day  \",\"Prob 5th instars\")","v":{"$error":"#REF!"}},null,null,"Sum of 29",0,29,{"$f":"AU336+GETPIVOTDATA(\"Sum of 29\",AR$2,\"Day  \",\"Prob 5th instars\")","v":{"$error":"#REF!"}},null,null,"Sum of 29",0,29,{"$f":"BA336+GETPIVOTDATA(\"Sum of 29\",AX$2,\"Day  \",\"Prob 5th instars\")","v":{"$error":"#REF!"}},null,null,"Sum of 29",0,29,{"$f":"BG336+GETPIVOTDATA(\"Sum of 29\",BD$2,\"Day  \",\"Prob 5th instars\")","v":{"$error":"#REF!"}}]
[null,"Sum of 30",0,30,{"$f":"E337+GETPIVOTDATA(\"Sum of 30\",$B$2,\"Day  \",\"Prob 5th instars\")","v":{"$error":"#REF!"}},null,null,"Sum of 30",0,30,{"$f":"K337+GETPIVOTDATA(\"Sum of 30\",H$2,\"Day  \",\"Prob 5th instars\")","v":{"$error":"#REF!"}},null,null,"Sum of 30",0,30,{"$f":"Q337+GETPIVOTDATA(\"Sum of 30\",N$2,\"Day  \",\"Prob 5th instars\")","v":{"$error":"#REF!"}},null,null,"Sum of 30",0,30,{"$f":"W337+GETPIVOTDATA(\"Sum of 30\",T$2,\"Day  \",\"Prob 5th instars\")","v":{"$error":"#REF!"}},null,null,"Sum of 30",0,30,{"$f":"AC337+GETPIVOTDATA(\"Sum of 30\",Z$2,\"Day  \",\"Prob 5th instars\")","v":{"$error":"#REF!"}},null,null,"Sum of 30",0,30,{"$f":"AI337+GETPIVOTDATA(\"Sum of 30\",AF$2,\"Day  \",\"Prob 5th instars\")","v":{"$error":"#REF!"}},null,null,"Sum of 30",0,30,{"$f":"AO337+GETPIVOTDATA(\"Sum of 30\",AL$2,\"Day  \",\"Prob 5th instars\")","v":{"$error":"#REF!"}},null,null,"Sum of 30",0,30,{"$f":"AU337+GETPIVOTDATA(\"Sum of 30\",AR$2,\"Day  \",\"Prob 5th instars\")","v":{"$error":"#REF!"}},null,null,"Sum of 30",0,30,{"$f":"BA337+GETPIVOTDATA(\"Sum of 30\",AX$2,\"Day  \",\"Prob 5th instars\")","v":{"$error":"#REF!"}},null,null,"Sum of 30",0,30,{"$f":"BG337+GETPIVOTDATA(\"Sum of 30\",BD$2,\"Day  \",\"Prob 5th instars\")","v":{"$error":"#REF!"}}]
[null,"Sum of 31",0,31,{"$f":"E338+GETPIVOTDATA(\"Sum of 31\",$B$2,\"Day  \",\"Prob 5th instars\")","v":{"$error":"#REF!"}},null,null,"Sum of 31",0,31,{"$f":"K338+GETPIVOTDATA(\"Sum of 31\",H$2,\"Day  \",\"Prob 5th instars\")","v":{"$error":"#REF!"}},null,null,"Sum of 31",0,31,{"$f":"Q338+GETPIVOTDATA(\"Sum of 31\",N$2,\"Day  \",\"Prob 5th instars\")","v":{"$error":"#REF!"}},null,null,"Sum of 31",0,31,{"$f":"W338+GETPIVOTDATA(\"Sum of 31\",T$2,\"Day  \",\"Prob 5th instars\")","v":{"$error":"#REF!"}},null,null,"Sum of 31",0,31,{"$f":"AC338+GETPIVOTDATA(\"Sum of 31\",Z$2,\"Day  \",\"Prob 5th instars\")","v":{"$error":"#REF!"}},null,null,"Sum of 31",0,31,{"$f":"AI338+GETPIVOTDATA(\"Sum of 31\",AF$2,\"Day  \",\"Prob 5th instars\")","v":{"$error":"#REF!"}},null,null,"Sum of 31",0,31,{"$f":"AO338+GETPIVOTDATA(\"Sum of 31\",AL$2,\"Day  \",\"Prob 5th instars\")","v":{"$error":"#REF!"}},null,null,"Sum of 31",0,31,{"$f":"AU338+GETPIVOTDATA(\"Sum of 31\",AR$2,\"Day  \",\"Prob 5th instars\")","v":{"$error":"#REF!"}},null,null,"Sum of 31",0,31,{"$f":"BA338+GETPIVOTDATA(\"Sum of 31\",AX$2,\"Day  \",\"Prob 5th instars\")","v":{"$error":"#REF!"}},null,null,"Sum of 31",0,31,{"$f":"BG338+GETPIVOTDATA(\"Sum of 31\",BD$2,\"Day  \",\"Prob 5th instars\")","v":{"$error":"#REF!"}}]
[null,"Sum of 32",0,32,{"$f":"E339+GETPIVOTDATA(\"Sum of 32\",$B$2,\"Day  \",\"Prob 5th instars\")","v":{"$error":"#REF!"}},null,null,"Sum of 32",0,32,{"$f":"K339+GETPIVOTDATA(\"Sum of 32\",H$2,\"Day  \",\"Prob 5th instars\")","v":{"$error":"#REF!"}},null,null,"Sum of 32",0,32,{"$f":"Q339+GETPIVOTDATA(\"Sum of 32\",N$2,\"Day  \",\"Prob 5th instars\")","v":{"$error":"#REF!"}},null,null,"Sum of 32",0,32,{"$f":"W339+GETPIVOTDATA(\"Sum of 32\",T$2,\"Day  \",\"Prob 5th instars\")","v":{"$error":"#REF!"}},null,null,"Sum of 32",0,32,{"$f":"AC339+GETPIVOTDATA(\"Sum of 32\",Z$2,\"Day  \",\"Prob 5th instars\")","v":{"$error":"#REF!"}},null,null,"Sum of 32",0,32,{"$f":"AI339+GETPIVOTDATA(\"Sum of 32\",AF$2,\"Day  \",\"Prob 5th instars\")","v":{"$error":"#REF!"}},null,null,"Sum of 32",0,32,{"$f":"AO339+GETPIVOTDATA(\"Sum of 32\",AL$2,\"Day  \",\"Prob 5th instars\")","v":{"$error":"#REF!"}},null,null,"Sum of 32",0,32,{"$f":"AU339+GETPIVOTDATA(\"Sum of 32\",AR$2,\"Day  \",\"Prob 5th instars\")","v":{"$error":"#REF!"}},null,null,"Sum of 32",0,32,{"$f":"BA339+GETPIVOTDATA(\"Sum of 32\",AX$2,\"Day  \",\"Prob 5th instars\")","v":{"$error":"#REF!"}},null,null,"Sum of 32",0,32,{"$f":"BG339+GETPIVOTDATA(\"Sum of 32\",BD$2,\"Day  \",\"Prob 5th instars\")","v":{"$error":"#REF!"}}]
[null,"Sum of 33",0,33,{"$f":"E340+GETPIVOTDATA(\"Sum of 33\",$B$2,\"Day  \",\"Prob 5th instars\")","v":{"$error":"#REF!"}},null,null,"Sum of 33",0,33,{"$f":"K340+GETPIVOTDATA(\"Sum of 33\",H$2,\"Day  \",\"Prob 5th instars\")","v":{"$error":"#REF!"}},null,null,"Sum of 33",0,33,{"$f":"Q340+GETPIVOTDATA(\"Sum of 33\",N$2,\"Day  \",\"Prob 5th instars\")","v":{"$error":"#REF!"}},null,null,"Sum of 33",0,33,{"$f":"W340+GETPIVOTDATA(\"Sum of 33\",T$2,\"Day  \",\"Prob 5th instars\")","v":{"$error":"#REF!"}},null,null,"Sum of 33",0,33,{"$f":"AC340+GETPIVOTDATA(\"Sum of 33\",Z$2,\"Day  \",\"Prob 5th instars\")","v":{"$error":"#REF!"}},null,null,"Sum of 33",0,33,{"$f":"AI340+GETPIVOTDATA(\"Sum of 33\",AF$2,\"Day  \",\"Prob 5th instars\")","v":{"$error":"#REF!"}},null,null,"Sum of 33",0,33,{"$f":"AO340+GETPIVOTDATA(\"Sum of 33\",AL$2,\"Day  \",\"Prob 5th instars\")","v":{"$error":"#REF!"}},null,null,"Sum of 33",0,33,{"$f":"AU340+GETPIVOTDATA(\"Sum of 33\",AR$2,\"Day  \",\"Prob 5th instars\")","v":{"$error":"#REF!"}},null,null,"Sum of 33",0,33,{"$f":"BA340+GETPIVOTDATA(\"Sum of 33\",AX$2,\"Day  \",\"Prob 5th instars\")","v":{"$error":"#REF!"}},null,null,"Sum of 33",0,33,{"$f":"BG340+GETPIVOTDATA(\"Sum of 33\",BD$2,\"Day  \",\"Prob 5th instars\")","v":{"$error":"#REF!"}}]
[null,"Sum of 34",0,34,{"$f":"E341+GETPIVOTDATA(\"Sum of 34\",$B$2,\"Day  \",\"Prob 5th instars\")","v":{"$error":"#REF!"}},null,null,"Sum of 34",0,34,{"$f":"K341+GETPIVOTDATA(\"Sum of 34\",H$2,\"Day  \",\"Prob 5th instars\")","v":{"$error":"#REF!"}},null,null,"Sum of 34",0,34,{"$f":"Q341+GETPIVOTDATA(\"Sum of 34\",N$2,\"Day  \",\"Prob 5th instars\")","v":{"$error":"#REF!"}},null,null,"Sum of 34",0,34,{"$f":"W341+GETPIVOTDATA(\"Sum of 34\",T$2,\"Day  \",\"Prob 5th instars\")","v":{"$error":"#REF!"}},null,null,"Sum of 34",0,34,{"$f":"AC341+GETPIVOTDATA(\"Sum of 34\",Z$2,\"Day  \",\"Prob 5th instars\")","v":{"$error":"#REF!"}},null,null,"Sum of 34",0,34,{"$f":"AI341+GETPIVOTDATA(\"Sum of 34\",AF$2,\"Day  \",\"Prob 5th instars\")","v":{"$error":"#REF!"}},null,null,"Sum of 34",0,34,{"$f":"AO341+GETPIVOTDATA(\"Sum of 34\",AL$2,\"Day  \",\"Prob 5th instars\")","v":{"$error":"#REF!"}},null,null,"Sum of 34",0,34,{"$f":"AU341+GETPIVOTDATA(\"Sum of 34\",AR$2,\"Day  \",\"Prob 5th instars\")","v":{"$error":"#REF!"}},null,null,"Sum of 34",0,34,{"$f":"BA341+GETPIVOTDATA(\"Sum of 34\",AX$2,\"Day  \",\"Prob 5th instars\")","v":{"$error":"#REF!"}},null,null,"Sum of 34",0,34,{"$f":"BG341+GETPIVOTDATA(\"Sum of 34\",BD$2,\"Day  \",\"Prob 5th instars\")","v":{"$error":"#REF!"}}]
[null,"Sum of 35",0,35,{"$f":"E342+GETPIVOTDATA(\"Sum of 35\",$B$2,\"Day  \",\"Prob 5th instars\")","v":{"$error":"#REF!"}},null,null,"Sum of 35",0,35,{"$f":"K342+GETPIVOTDATA(\"Sum of 35\",H$2,\"Day  \",\"Prob 5th instars\")","v":{"$error":"#REF!"}},null,null,"Sum of 35",0,35,{"$f":"Q342+GETPIVOTDATA(\"Sum of 35\",N$2,\"Day  \",\"Prob 5th instars\")","v":{"$error":"#REF!"}},null,null,"Sum of 35",0,35,{"$f":"W342+GETPIVOTDATA(\"Sum of 35\",T$2,\"Day  \",\"Prob 5th instars\")","v":{"$error":"#REF!"}},null,null,"Sum of 35",0,35,{"$f":"AC342+GETPIVOTDATA(\"Sum of 35\",Z$2,\"Day  \",\"Prob 5th instars\")","v":{"$error":"#REF!"}},null,null,"Sum of 35",0,35,{"$f":"AI342+GETPIVOTDATA(\"Sum of 35\",AF$2,\"Day  \",\"Prob 5th instars\")","v":{"$error":"#REF!"}},null,null,"Sum of 35",0,35,{"$f":"AO342+GETPIVOTDATA(\"Sum of 35\",AL$2,\"Day  \",\"Prob 5th instars\")","v":{"$error":"#REF!"}},null,null,"Sum of 35",0,35,{"$f":"AU342+GETPIVOTDATA(\"Sum of 35\",AR$2,\"Day  \",\"Prob 5th instars\")","v":{"$error":"#REF!"}},null,null,"Sum of 35",0,35,{"$f":"BA342+GETPIVOTDATA(\"Sum of 35\",AX$2,\"Day  \",\"Prob 5th instars\")","v":{"$error":"#REF!"}},null,null,"Sum of 35",0,35,{"$f":"BG342+GETPIVOTDATA(\"Sum of 35\",BD$2,\"Day  \",\"Prob 5th instars\")","v":{"$error":"#REF!"}}]
[null,"Sum of 36",0,36,{"$f":"E343+GETPIVOTDATA(\"Sum of 36\",$B$2,\"Day  \",\"Prob 5th instars\")","v":{"$error":"#REF!"}},null,null,"Sum of 36",0,36,{"$f":"K343+GETPIVOTDATA(\"Sum of 36\",H$2,\"Day  \",\"Prob 5th instars\")","v":{"$error":"#REF!"}},null,null,"Sum of 36",0,36,{"$f":"Q343+GETPIVOTDATA(\"Sum of 36\",N$2,\"Day  \",\"Prob 5th instars\")","v":{"$error":"#REF!"}},null,null,"Sum of 36",0,36,{"$f":"W343+GETPIVOTDATA(\"Sum of 36\",T$2,\"Day  \",\"Prob 5th instars\")","v":{"$error":"#REF!"}},null,null,"Sum of 36",0,36,{"$f":"AC343+GETPIVOTDATA(\"Sum of 36\",Z$2,\"Day  \",\"Prob 5th instars\")","v":{"$error":"#REF!"}},null,null,"Sum of 36",0,36,{"$f":"AI343+GETPIVOTDATA(\"Sum of 36\",AF$2,\"Day  \",\"Prob 5th instars\")","v":{"$error":"#REF!"}},null,null,"Sum of 36",0,36,{"$f":"AO343+GETPIVOTDATA(\"Sum of 36\",AL$2,\"Day  \",\"Prob 5th instars\")","v":{"$error":"#REF!"}},null,null,"Sum of 36",0,36,{"$f":"AU343+GETPIVOTDATA(\"Sum of 36\",AR$2,\"Day  \",\"Prob 5th instars\")","v":{"$error":"#REF!"}},null,null,"Sum of 36",0,36,{"$f":"BA343+GETPIVOTDATA(\"Sum of 36\",AX$2,\"Day  \",\"Prob 5th instars\")","v":{"$error":"#REF!"}},null,null,"Sum of 36",0,36,{"$f":"BG343+GETPIVOTDATA(\"Sum of 36\",BD$2,\"Day  \",\"Prob 5th instars\")","v":{"$error":"#REF!"}}]
[null,"Sum of 37",0,37,{"$f":"E344+GETPIVOTDATA(\"Sum of 37\",$B$2,\"Day  \",\"Prob 5th instars\")","v":{"$error":"#REF!"}},null,null,"Sum of 37",0,37,{"$f":"K344+GETPIVOTDATA(\"Sum of 37\",H$2,\"Day  \",\"Prob 5th instars\")","v":{"$error":"#REF!"}},null,null,"Sum of 37",0,37,{"$f":"Q344+GETPIVOTDATA(\"Sum of 37\",N$2,\"Day  \",\"Prob 5th instars\")","v":{"$error":"#REF!"}},null,null,"Sum of 37",0,37,{"$f":"W344+GETPIVOTDATA(\"Sum of 37\",T$2,\"Day  \",\"Prob 5th instars\")","v":{"$error":"#REF!"}},null,null,"Sum of 37",0,37,{"$f":"AC344+GETPIVOTDATA(\"Sum of 37\",Z$2,\"Day  \",\"Prob 5th instars\")","v":{"$error":"#REF!"}},null,null,"Sum of 37",0,37,{"$f":"AI344+GETPIVOTDATA(\"Sum of 37\",AF$2,\"Day  \",\"Prob 5th instars\")","v":{"$error":"#REF!"}},null,null,"Sum of 37",0,37,{"$f":"AO344+GETPIVOTDATA(\"Sum of 37\",AL$2,\"Day  \",\"Prob 5th instars\")","v":{"$error":"#REF!"}},null,null,"Sum of 37",0,37,{"$f":"AU344+GETPIVOTDATA(\"Sum of 37\",AR$2,\"Day  \",\"Prob 5th instars\")","v":{"$error":"#REF!"}},null,null,"Sum of 37",0,37,{"$f":"BA344+GETPIVOTDATA(\"Sum of 37\",AX$2,\"Day  \",\"Prob 5th instars\")","v":{"$error":"#REF!"}},null,null,"Sum of 37",0,37,{"$f":"BG344+GETPIVOTDATA(\"Sum of 37\",BD$2,\"Day  \",\"Prob 5th instars\")","v":{"$error":"#REF!"}}]
[null,"Sum of 38",0,38,{"$f":"E345+GETPIVOTDATA(\"Sum of 38\",$B$2,\"Day  \",\"Prob 5th instars\")","v":{"$error":"#REF!"}},null,null,"Sum of 38",0,38,{"$f":"K345+GETPIVOTDATA(\"Sum of 38\",H$2,\"Day  \",\"Prob 5th instars\")","v":{"$error":"#REF!"}},null,null,"Sum of 38",0,38,{"$f":"Q345+GETPIVOTDATA(\"Sum of 38\",N$2,\"Day  \",\"Prob 5th instars\")","v":{"$error":"#REF!"}},null,null,"Sum of 38",0,38,{"$f":"W345+GETPIVOTDATA(\"Sum of 38\",T$2,\"Day  \",\"Prob 5th instars\")","v":{"$error":"#REF!"}},null,null,"Sum of 38",0,38,{"$f":"AC345+GETPIVOTDATA(\"Sum of 38\",Z$2,\"Day  \",\"Prob 5th instars\")","v":{"$error":"#REF!"}},null,null,"Sum of 38",0,38,{"$f":"AI345+GETPIVOTDATA(\"Sum of 38\",AF$2,\"Day  \",\"Prob 5th instars\")","v":{"$error":"#REF!"}},null,null,"Sum of 38",0,38,{"$f":"AO345+GETPIVOTDATA(\"Sum of 38\",AL$2,\"Day  \",\"Prob 5th instars\")","v":{"$error":"#REF!"}},null,null,"Sum of 38",0,38,{"$f":"AU345+GETPIVOTDATA(\"Sum of 38\",AR$2,\"Day  \",\"Prob 5th instars\")","v":{"$error":"#REF!"}},null,null,"Sum of 38",0,38,{"$f":"BA345+GETPIVOTDATA(\"Sum of 38\",AX$2,\"Day  \",\"Prob 5th instars\")","v":{"$error":"#REF!"}},null,null,"Sum of 38",0,38,{"$f":"BG345+GETPIVOTDATA(\"Sum of 38\",BD$2,\"Day  \",\"Prob 5th instars\")","v":{"$error":"#REF!"}}]
[null,"Sum of 39",0,39,{"$f":"E346+GETPIVOTDATA(\"Sum of 39\",$B$2,\"Day  \",\"Prob 5th instars\")","v":{"$error":"#REF!"}},null,null,"Sum of 39",0,39,{"$f":"K346+GETPIVOTDATA(\"Sum of 39\",H$2,\"Day  \",\"Prob 5th instars\")","v":{"$error":"#REF!"}},null,null,"Sum of 39",0,39,{"$f":"Q346+GETPIVOTDATA(\"Sum of 39\",N$2,\"Day  \",\"Prob 5th instars\")","v":{"$error":"#REF!"}},null,null,"Sum of 39",0,39,{"$f":"W346+GETPIVOTDATA(\"Sum of 39\",T$2,\"Day  \",\"Prob 5th instars\")","v":{"$error":"#REF!"}},null,null,"Sum of 39",0,39,{"$f":"AC346+GETPIVOTDATA(\"Sum of 39\",Z$2,\"Day  \",\"Prob 5th instars\")","v":{"$error":"#REF!"}},null,null,"Sum of 39",0,39,{"$f":"AI346+GETPIVOTDATA(\"Sum of 39\",AF$2,\"Day  \",\"Prob 5th instars\")","v":{"$error":"#REF!"}},null,null,"Sum of 39",0,39,{"$f":"AO346+GETPIVOTDATA(\"Sum of 39\",AL$2,\"Day  \",\"Prob 5th instars\")","v":{"$error":"#REF!"}},null,null,"Sum of 39",0,39,{"$f":"AU346+GETPIVOTDATA(\"Sum of 39\",AR$2,\"Day  \",\"Prob 5th instars\")","v":{"$error":"#REF!"}},null,null,"Sum of 39",0,39,{"$f":"BA346+GETPIVOTDATA(\"Sum of 39\",AX$2,\"Day  \",\"Prob 5th instars\")","v":{"$error":"#REF!"}},null,null,"Sum of 39",0,39,{"$f":"BG346+GETPIVOTDATA(\"Sum of 39\",BD$2,\"Day  \",\"Prob 5th instars\")","v":{"$error":"#REF!"}}]
[null,"Sum of 40",0,40,{"$f":"E347+GETPIVOTDATA(\"Sum of 40\",$B$2,\"Day  \",\"Prob 5th instars\")","v":{"$error":"#REF!"}},null,null,"Sum of 40",0,40,{"$f":"K347+GETPIVOTDATA(\"Sum of 40\",H$2,\"Day  \",\"Prob 5th instars\")","v":{"$error":"#REF!"}},null,null,"Sum of 40",0,40,{"$f":"Q347+GETPIVOTDATA(\"Sum of 40\",N$2,\"Day  \",\"Prob 5th instars\")","v":{"$error":"#REF!"}},null,null,"Sum of 40",0,40,{"$f":"W347+GETPIVOTDATA(\"Sum of 40\",T$2,\"Day  \",\"Prob 5th instars\")","v":{"$error":"#REF!"}},null,null,"Sum of 40",0,40,{"$f":"AC347+GETPIVOTDATA(\"Sum of 40\",Z$2,\"Day  \",\"Prob 5th instars\")","v":{"$error":"#REF!"}},null,null,"Sum of 40",0,40,{"$f":"AI347+GETPIVOTDATA(\"Sum of 40\",AF$2,\"Day  \",\"Prob 5th instars\")","v":{"$error":"#REF!"}},null,null,"Sum of 40",0,40,{"$f":"AO347+GETPIVOTDATA(\"Sum of 40\",AL$2,\"Day  \",\"Prob 5th instars\")","v":{"$error":"#REF!"}},null,null,"Sum of 40",0,40,{"$f":"AU347+GETPIVOTDATA(\"Sum of 40\",AR$2,\"Day  \",\"Prob 5th instars\")","v":{"$error":"#REF!"}},null,null,"Sum of 40",0,40,{"$f":"BA347+GETPIVOTDATA(\"Sum of 40\",AX$2,\"Day  \",\"Prob 5th instars\")","v":{"$error":"#REF!"}},null,null,"Sum of 40",0,40,{"$f":"BG347+GETPIVOTDATA(\"Sum of 40\",BD$2,\"Day  \",\"Prob 5th instars\")","v":{"$error":"#REF!"}}]
[null,"Sum of 41",0,41,{"$f":"E348+GETPIVOTDATA(\"Sum of 41\",$B$2,\"Day  \",\"Prob 5th instars\")","v":{"$error":"#REF!"}},null,null,"Sum of 41",0,41,{"$f":"K348+GETPIVOTDATA(\"Sum of 41\",H$2,\"Day  \",\"Prob 5th instars\")","v":{"$error":"#REF!"}},null,null,"Sum of 41",0,41,{"$f":"Q348+GETPIVOTDATA(\"Sum of 41\",N$2,\"Day  \",\"Prob 5th instars\")","v":{"$error":"#REF!"}},null,null,"Sum of 41",0,41,{"$f":"W348+GETPIVOTDATA(\"Sum of 41\",T$2,\"Day  \",\"Prob 5th instars\")","v":{"$error":"#REF!"}},null,null,"Sum of 41",0,41,{"$f":"AC348+GETPIVOTDATA(\"Sum of 41\",Z$2,\"Day  \",\"Prob 5th instars\")","v":{"$error":"#REF!"}},null,null,"Sum of 41",0,41,{"$f":"AI348+GETPIVOTDATA(\"Sum of 41\",AF$2,\"Day  \",\"Prob 5th instars\")","v":{"$error":"#REF!"}},null,null,"Sum of 41",0,41,{"$f":"AO348+GETPIVOTDATA(\"Sum of 41\",AL$2,\"Day  \",\"Prob 5th instars\")","v":{"$error":"#REF!"}},null,null,"Sum of 41",0,41,{"$f":"AU348+GETPIVOTDATA(\"Sum of 41\",AR$2,\"Day  \",\"Prob 5th instars\")","v":{"$error":"#REF!"}},null,null,"Sum of 41",0,41,{"$f":"BA348+GETPIVOTDATA(\"Sum of 41\",AX$2,\"Day  \",\"Prob 5th instars\")","v":{"$error":"#REF!"}},null,null,"Sum of 41",0,41,{"$f":"BG348+GETPIVOTDATA(\"Sum of 41\",BD$2,\"Day  \",\"Prob 5th instars\")","v":{"$error":"#REF!"}}]
[null,"Sum of 42",0,42,{"$f":"E349+GETPIVOTDATA(\"Sum of 42\",$B$2,\"Day  \",\"Prob 5th instars\")","v":{"$error":"#REF!"}},null,null,"Sum of 42",0,42,{"$f":"K349+GETPIVOTDATA(\"Sum of 42\",H$2,\"Day  \",\"Prob 5th instars\")","v":{"$error":"#REF!"}},null,null,"Sum of 42",0,42,{"$f":"Q349+GETPIVOTDATA(\"Sum of 42\",N$2,\"Day  \",\"Prob 5th instars\")","v":{"$error":"#REF!"}},null,null,"Sum of 42",0,42,{"$f":"W349+GETPIVOTDATA(\"Sum of 42\",T$2,\"Day  \",\"Prob 5th instars\")","v":{"$error":"#REF!"}},null,null,"Sum of 42",0,42,{"$f":"AC349+GETPIVOTDATA(\"Sum of 42\",Z$2,\"Day  \",\"Prob 5th instars\")","v":{"$error":"#REF!"}},null,null,"Sum of 42",0,42,{"$f":"AI349+GETPIVOTDATA(\"Sum of 42\",AF$2,\"Day  \",\"Prob 5th instars\")","v":{"$error":"#REF!"}},null,null,"Sum of 42",0,42,{"$f":"AO349+GETPIVOTDATA(\"Sum of 42\",AL$2,\"Day  \",\"Prob 5th instars\")","v":{"$error":"#REF!"}},null,null,"Sum of 42",0,42,{"$f":"AU349+GETPIVOTDATA(\"Sum of 42\",AR$2,\"Day  \",\"Prob 5th instars\")","v":{"$error":"#REF!"}},null,null,"Sum of 42",0,42,{"$f":"BA349+GETPIVOTDATA(\"Sum of 42\",AX$2,\"Day  \",\"Prob 5th instars\")","v":{"$error":"#REF!"}},null,null,"Sum of 42",0,42,{"$f":"BG349+GETPIVOTDATA(\"Sum of 42\",BD$2,\"Day  \",\"Prob 5th instars\")","v":{"$error":"#REF!"}}]
[null,"Sum of 43",0,43,{"$f":"E350+GETPIVOTDATA(\"Sum of 43\",$B$2,\"Day  \",\"Prob 5th instars\")","v":{"$error":"#REF!"}},null,null,"Sum of 43",0,43,{"$f":"K350+GETPIVOTDATA(\"Sum of 43\",H$2,\"Day  \",\"Prob 5th instars\")","v":{"$error":"#REF!"}},null,null,"Sum of 43",0,43,{"$f":"Q350+GETPIVOTDATA(\"Sum of 43\",N$2,\"Day  \",\"Prob 5th instars\")","v":{"$error":"#REF!"}},null,null,"Sum of 43",0,43,{"$f":"W350+GETPIVOTDATA(\"Sum of 43\",T$2,\"Day  \",\"Prob 5th instars\")","v":{"$error":"#REF!"}},null,null,"Sum of 43",0,43,{"$f":"AC350+GETPIVOTDATA(\"Sum of 43\",Z$2,\"Day  \",\"Prob 5th instars\")","v":{"$error":"#REF!"}},null,null,"Sum of 43",0,43,{"$f":"AI350+GETPIVOTDATA(\"Sum of 43\",AF$2,\"Day  \",\"Prob 5th instars\")","v":{"$error":"#REF!"}},null,null,"Sum of 43",0,43,{"$f":"AO350+GETPIVOTDATA(\"Sum of 43\",AL$2,\"Day  \",\"Prob 5th instars\")","v":{"$error":"#REF!"}},null,null,"Sum of 43",0,43,{"$f":"AU350+GETPIVOTDATA(\"Sum of 43\",AR$2,\"Day  \",\"Prob 5th instars\")","v":{"$error":"#REF!"}},null,null,"Sum of 43",0,43,{"$f":"BA350+GETPIVOTDATA(\"Sum of 43\",AX$2,\"Day  \",\"Prob 5th instars\")","v":{"$error":"#REF!"}},null,null,"Sum of 43",0,43,{"$f":"BG350+GETPIVOTDATA(\"Sum of 43\",BD$2,\"Day  \",\"Prob 5th instars\")","v":{"$error":"#REF!"}}]
[null,"Sum of 44",0,44,{"$f":"E351+GETPIVOTDATA(\"Sum of 44\",$B$2,\"Day  \",\"Prob 5th instars\")","v":{"$error":"#REF!"}},null,null,"Sum of 44",0,44,{"$f":"K351+GETPIVOTDATA(\"Sum of 44\",H$2,\"Day  \",\"Prob 5th instars\")","v":{"$error":"#REF!"}},null,null,"Sum of 44",0,44,{"$f":"Q351+GETPIVOTDATA(\"Sum of 44\",N$2,\"Day  \",\"Prob 5th instars\")","v":{"$error":"#REF!"}},null,null,"Sum of 44",0,44,{"$f":"W351+GETPIVOTDATA(\"Sum of 44\",T$2,\"Day  \",\"Prob 5th instars\")","v":{"$error":"#REF!"}},null,null,"Sum of 44",0,44,{"$f":"AC351+GETPIVOTDATA(\"Sum of 44\",Z$2,\"Day  \",\"Prob 5th instars\")","v":{"$error":"#REF!"}},null,null,"Sum of 44",0,44,{"$f":"AI351+GETPIVOTDATA(\"Sum of 44\",AF$2,\"Day  \",\"Prob 5th instars\")","v":{"$error":"#REF!"}},null,null,"Sum of 44",0,44,{"$f":"AO351+GETPIVOTDATA(\"Sum of 44\",AL$2,\"Day  \",\"Prob 5th instars\")","v":{"$error":"#REF!"}},null,null,"Sum of 44",0,44,{"$f":"AU351+GETPIVOTDATA(\"Sum of 44\",AR$2,\"Day  \",\"Prob 5th instars\")","v":{"$error":"#REF!"}},null,null,"Sum of 44",0,44,{"$f":"BA351+GETPIVOTDATA(\"Sum of 44\",AX$2,\"Day  \",\"Prob 5th instars\")","v":{"$error":"#REF!"}},null,null,"Sum of 44",0,44,{"$f":"BG351+GETPIVOTDATA(\"Sum of 44\",BD$2,\"Day  \",\"Prob 5th instars\")","v":{"$error":"#REF!"}}]
[null,"Sum of 45",0,45,{"$f":"E352+GETPIVOTDATA(\"Sum of 45\",$B$2,\"Day  \",\"Prob 5th instars\")","v":{"$error":"#REF!"}},null,null,"Sum of 45",0,45,{"$f":"K352+GETPIVOTDATA(\"Sum of 45\",H$2,\"Day  \",\"Prob 5th instars\")","v":{"$error":"#REF!"}},null,null,"Sum of 45",0,45,{"$f":"Q352+GETPIVOTDATA(\"Sum of 45\",N$2,\"Day  \",\"Prob 5th instars\")","v":{"$error":"#REF!"}},null,null,"Sum of 45",0,45,{"$f":"W352+GETPIVOTDATA(\"Sum of 45\",T$2,\"Day  \",\"Prob 5th instars\")","v":{"$error":"#REF!"}},null,null,"Sum of 45",0,45,{"$f":"AC352+GETPIVOTDATA(\"Sum of 45\",Z$2,\"Day  \",\"Prob 5th instars\")","v":{"$error":"#REF!"}},null,null,"Sum of 45",0,45,{"$f":"AI352+GETPIVOTDATA(\"Sum of 45\",AF$2,\"Day  \",\"Prob 5th instars\")","v":{"$error":"#REF!"}},null,null,"Sum of 45",0,45,{"$f":"AO352+GETPIVOTDATA(\"Sum of 45\",AL$2,\"Day  \",\"Prob 5th instars\")","v":{"$error":"#REF!"}},null,null,"Sum of 45",0,45,{"$f":"AU352+GETPIVOTDATA(\"Sum of 45\",AR$2,\"Day  \",\"Prob 5th instars\")","v":{"$error":"#REF!"}},null,null,"Sum of 45",0,45,{"$f":"BA352+GETPIVOTDATA(\"Sum of 45\",AX$2,\"Day  \",\"Prob 5th instars\")","v":{"$error":"#REF!"}},null,null,"Sum of 45",0,45,{"$f":"BG352+GETPIVOTDATA(\"Sum of 45\",BD$2,\"Day  \",\"Prob 5th instars\")","v":{"$error":"#REF!"}}]
[null,"Sum of 47",0,46,{"$f":"E353+GETPIVOTDATA(\"Sum of 46\",$B$2,\"Day  \",\"Prob 5th instars\")","v":{"$error":"#REF!"}},null,null,"Sum of 46",0,46,{"$f":"K353+GETPIVOTDATA(\"Sum of 46\",H$2,\"Day  \",\"Prob 5th instars\")","v":{"$error":"#REF!"}},null,null,"Sum of 46",0,46,{"$f":"Q353+GETPIVOTDATA(\"Sum of 46\",N$2,\"Day  \",\"Prob 5th instars\")","v":{"$error":"#REF!"}},null,null,"Sum of 46",0,46,{"$f":"W353+GETPIVOTDATA(\"Sum of 46\",T$2,\"Day  \",\"Prob 5th instars\")","v":{"$error":"#REF!"}},null,null,"Sum of 46",0,46,{"$f":"AC353+GETPIVOTDATA(\"Sum of 46\",Z$2,\"Day  \",\"Prob 5th instars\")","v":{"$error":"#REF!"}},null,null,"Sum of 46",0,46,{"$f":"AI353+GETPIVOTDATA(\"Sum of 46\",AF$2,\"Day  \",\"Prob 5th instars\")","v":{"$error":"#REF!"}},null,null,"Sum of 46",0,46,{"$f":"AO353+GETPIVOTDATA(\"Sum of 46\",AL$2,\"Day  \",\"Prob 5th instars\")","v":{"$error":"#REF!"}},null,null,"Sum of 46",0,46,{"$f":"AU353+GETPIVOTDATA(\"Sum of 46\",AR$2,\"Day  \",\"Prob 5th instars\")","v":{"$error":"#REF!"}},null,null,"Sum of 46",0,46,{"$f":"BA353+GETPIVOTDATA(\"Sum of 46\",AX$2,\"Day  \",\"Prob 5th instars\")","v":{"$error":"#REF!"}},null,null,"Sum of 46",0,46,{"$f":"BG353+GETPIVOTDATA(\"Sum of 46\",BD$2,\"Day  \",\"Prob 5th instars\")","v":{"$error":"#REF!"}}]
[null,"Sum of 46",0,47,{"$f":"E354+GETPIVOTDATA(\"Sum of 47\",$B$2,\"Day  \",\"Prob 5th instars\")","v":{"$error":"#REF!"}},null,null,"Sum of 47",0,47,{"$f":"K354+GETPIVOTDATA(\"Sum of 47\",H$2,\"Day  \",\"Prob 5th instars\")","v":{"$error":"#REF!"}},null,null,"Sum of 47",0,47,{"$f":"Q354+GETPIVOTDATA(\"Sum of 47\",N$2,\"Day  \",\"Prob 5th instars\")","v":{"$error":"#REF!"}},null,null,"Sum of 47",0,47,{"$f":"W354+GETPIVOTDATA(\"Sum of 47\",T$2,\"Day  \",\"Prob 5th instars\")","v":{"$error":"#REF!"}},null,null,"Sum of 47",0,47,{"$f":"AC354+GETPIVOTDATA(\"Sum of 47\",Z$2,\"Day  \",\"Prob 5th instars\")","v":{"$error":"#REF!"}},null,null,"Sum of 47",0,47,{"$f":"AI354+GETPIVOTDATA(\"Sum of 47\",AF$2,\"Day  \",\"Prob 5th instars\")","v":{"$error":"#REF!"}},null,null,"Sum of 47",0,47,{"$f":"AO354+GETPIVOTDATA(\"Sum of 47\",AL$2,\"Day  \",\"Prob 5th instars\")","v":{"$error":"#REF!"}},null,null,"Sum of 47",0,47,{"$f":"AU354+GETPIVOTDATA(\"Sum of 47\",AR$2,\"Day  \",\"Prob 5th instars\")","v":{"$error":"#REF!"}},null,null,"Sum of 47",0,47,{"$f":"BA354+GETPIVOTDATA(\"Sum of 47\",AX$2,\"Day  \",\"Prob 5th instars\")","v":{"$error":"#REF!"}},null,null,"Sum of 47",0,47,{"$f":"BG354+GETPIVOTDATA(\"Sum of 47\",BD$2,\"Day  \",\"Prob 5th instars\")","v":{"$error":"#REF!"}}]
[null,"Sum of 48",0,48,{"$f":"E355+GETPIVOTDATA(\"Sum of 48\",$B$2,\"Day  \",\"Prob 5th instars\")","v":{"$error":"#REF!"}},null,null,"Sum of 48",0,48,{"$f":"K355+GETPIVOTDATA(\"Sum of 48\",H$2,\"Day  \",\"Prob 5th instars\")","v":{"$error":"#REF!"}},null,null,"Sum of 48",0,48,{"$f":"Q355+GETPIVOTDATA(\"Sum of 48\",N$2,\"Day  \",\"Prob 5th instars\")","v":{"$error":"#REF!"}},null,null,"Sum of 48",0,48,{"$f":"W355+GETPIVOTDATA(\"Sum of 48\",T$2,\"Day  \",\"Prob 5th instars\")","v":{"$error":"#REF!"}},null,null,"Sum of 48",0,48,{"$f":"AC355+GETPIVOTDATA(\"Sum of 48\",Z$2,\"Day  \",\"Prob 5th instars\")","v":{"$error":"#REF!"}},null,null,"Sum of 48",0,48,{"$f":"AI355+GETPIVOTDATA(\"Sum of 48\",AF$2,\"Day  \",\"Prob 5th instars\")","v":{"$error":"#REF!"}},null,null,"Sum of 48",0,48,{"$f":"AO355+GETPIVOTDATA(\"Sum of 48\",AL$2,\"Day  \",\"Prob 5th instars\")","v":{"$error":"#REF!"}},null,null,"Sum of 48",0,48,{"$f":"AU355+GETPIVOTDATA(\"Sum of 48\",AR$2,\"Day  \",\"Prob 5th instars\")","v":{"$error":"#REF!"}},null,null,"Sum of 48",0,48,{"$f":"BA355+GETPIVOTDATA(\"Sum of 48\",AX$2,\"Day  \",\"Prob 5th instars\")","v":{"$error":"#REF!"}},null,null,"Sum of 48",0,48,{"$f":"BG355+GETPIVOTDATA(\"Sum of 48\",BD$2,\"Day  \",\"Prob 5th instars\")","v":{"$error":"#REF!"}}]
[null,"Sum of 49",0,49,{"$f":"E356+GETPIVOTDATA(\"Sum of 49\",$B$2,\"Day  \",\"Prob 5th instars\")","v":{"$error":"#REF!"}},null,null,"Sum of 49",0,49,{"$f":"K356+GETPIVOTDATA(\"Sum of 49\",H$2,\"Day  \",\"Prob 5th instars\")","v":{"$error":"#REF!"}},null,null,"Sum of 49",0,49,{"$f":"Q356+GETPIVOTDATA(\"Sum of 49\",N$2,\"Day  \",\"Prob 5th instars\")","v":{"$error":"#REF!"}},null,null,"Sum of 49",0,49,{"$f":"W356+GETPIVOTDATA(\"Sum of 49\",T$2,\"Day  \",\"Prob 5th instars\")","v":{"$error":"#REF!"}},null,null,"Sum of 49",0,49,{"$f":"AC356+GETPIVOTDATA(\"Sum of 49\",Z$2,\"Day  \",\"Prob 5th instars\")","v":{"$error":"#REF!"}},null,null,"Sum of 49",0,49,{"$f":"AI356+GETPIVOTDATA(\"Sum of 49\",AF$2,\"Day  \",\"Prob 5th instars\")","v":{"$error":"#REF!"}},null,null,"Sum of 49",0,49,{"$f":"AO356+GETPIVOTDATA(\"Sum of 49\",AL$2,\"Day  \",\"Prob 5th instars\")","v":{"$error":"#REF!"}},null,null,"Sum of 49",0,49,{"$f":"AU356+GETPIVOTDATA(\"Sum of 49\",AR$2,\"Day  \",\"Prob 5th instars\")","v":{"$error":"#REF!"}},null,null,"Sum of 49",0,49,{"$f":"BA356+GETPIVOTDATA(\"Sum of 49\",AX$2,\"Day  \",\"Prob 5th instars\")","v":{"$error":"#REF!"}},null,null,"Sum of 49",0,49,{"$f":"BG356+GETPIVOTDATA(\"Sum of 49\",BD$2,\"Day  \",\"Prob 5th instars\")","v":{"$error":"#REF!"}}]
[null,"Sum of 50",0,50,{"$f":"E357+GETPIVOTDATA(\"Sum of 50\",$B$2,\"Day  \",\"Prob 5th instars\")","v":{"$error":"#REF!"}},null,null,"Sum of 50",0,50,{"$f":"K357+GETPIVOTDATA(\"Sum of 50\",H$2,\"Day  \",\"Prob 5th instars\")","v":{"$error":"#REF!"}},null,null,"Sum of 50",0,50,{"$f":"Q357+GETPIVOTDATA(\"Sum of 50\",N$2,\"Day  \",\"Prob 5th instars\")","v":{"$error":"#REF!"}},null,null,"Sum of 50",0,50,{"$f":"W357+GETPIVOTDATA(\"Sum of 50\",T$2,\"Day  \",\"Prob 5th instars\")","v":{"$error":"#REF!"}},null,null,"Sum of 50",0,50,{"$f":"AC357+GETPIVOTDATA(\"Sum of 50\",Z$2,\"Day  \",\"Prob 5th instars\")","v":{"$error":"#REF!"}},null,null,"Sum of 50",0,50,{"$f":"AI357+GETPIVOTDATA(\"Sum of 50\",AF$2,\"Day  \",\"Prob 5th instars\")","v":{"$error":"#REF!"}},null,null,"Sum of 50",0,50,{"$f":"AO357+GETPIVOTDATA(\"Sum of 50\",AL$2,\"Day  \",\"Prob 5th instars\")","v":{"$error":"#REF!"}},null,null,"Sum of 50",0,50,{"$f":"AU357+GETPIVOTDATA(\"Sum of 50\",AR$2,\"Day  \",\"Prob 5th instars\")","v":{"$error":"#REF!"}},null,null,"Sum of 50",0,50,{"$f":"BA357+GETPIVOTDATA(\"Sum of 50\",AX$2,\"Day  \",\"Prob 5th instars\")","v":{"$error":"#REF!"}},null,null,"Sum of 50",0,50,{"$f":"BG357+GETPIVOTDATA(\"Sum of 50\",BD$2,\"Day  \",\"Prob 5th instars\")","v":{"$error":"#REF!"}}]
[null,"Sum of 51",0,51,{"$f":"E358+GETPIVOTDATA(\"Sum of 51\",$B$2,\"Day  \",\"Prob 5th instars\")","v":{"$error":"#REF!"}},null,null,"Sum of 51",0,51,{"$f":"K358+GETPIVOTDATA(\"Sum of 51\",H$2,\"Day  \",\"Prob 5th instars\")","v":{"$error":"#REF!"}},null,null,"Sum of 51",0,51,{"$f":"Q358+GETPIVOTDATA(\"Sum of 51\",N$2,\"Day  \",\"Prob 5th instars\")","v":{"$error":"#REF!"}},null,null,"Sum of 51",0,51,{"$f":"W358+GETPIVOTDATA(\"Sum of 51\",T$2,\"Day  \",\"Prob 5th instars\")","v":{"$error":"#REF!"}},null,null,"Sum of 51",0,51,{"$f":"AC358+GETPIVOTDATA(\"Sum of 51\",Z$2,\"Day  \",\"Prob 5th instars\")","v":{"$error":"#REF!"}},null,null,"Sum of 51",0,51,{"$f":"AI358+GETPIVOTDATA(\"Sum of 51\",AF$2,\"Day  \",\"Prob 5th instars\")","v":{"$error":"#REF!"}},null,null,"Sum of 51",0,51,{"$f":"AO358+GETPIVOTDATA(\"Sum of 51\",AL$2,\"Day  \",\"Prob 5th instars\")","v":{"$error":"#REF!"}},null,null,"Sum of 51",0,51,{"$f":"AU358+GETPIVOTDATA(\"Sum of 51\",AR$2,\"Day  \",\"Prob 5th instars\")","v":{"$error":"#REF!"}},null,null,"Sum of 51",0,51,{"$f":"BA358+GETPIVOTDATA(\"Sum of 51\",AX$2,\"Day  \",\"Prob 5th instars\")","v":{"$error":"#REF!"}},null,null,"Sum of 51",0,51,{"$f":"BG358+GETPIVOTDATA(\"Sum of 51\",BD$2,\"Day  \",\"Prob 5th instars\")","v":{"$error":"#REF!"}}]
[null,"Sum of 52",0,52,{"$f":"E359+GETPIVOTDATA(\"Sum of 52\",$B$2,\"Day  \",\"Prob 5th instars\")","v":{"$error":"#REF!"}},null,null,"Sum of 52",0,52,{"$f":"K359+GETPIVOTDATA(\"Sum of 52\",H$2,\"Day  \",\"Prob 5th instars\")","v":{"$error":"#REF!"}},null,null,"Sum of 52",0,52,{"$f":"Q359+GETPIVOTDATA(\"Sum of 52\",N$2,\"Day  \",\"Prob 5th instars\")","v":{"$error":"#REF!"}},null,null,"Sum of 52",0,52,{"$f":"W359+GETPIVOTDATA(\"Sum of 52\",T$2,\"Day  \",\"Prob 5th instars\")","v":{"$error":"#REF!"}},null,null,"Sum of 52",0,52,{"$f":"AC359+GETPIVOTDATA(\"Sum of 52\",Z$2,\"Day  \",\"Prob 5th instars\")","v":{"$error":"#REF!"}},null,null,"Sum of 52",0,52,{"$f":"AI359+GETPIVOTDATA(\"Sum of 52\",AF$2,\"Day  \",\"Prob 5th instars\")","v":{"$error":"#REF!"}},null,null,"Sum of 52",0,52,{"$f":"AO359+GETPIVOTDATA(\"Sum of 52\",AL$2,\"Day  \",\"Prob 5th instars\")","v":{"$error":"#REF!"}},null,null,"Sum of 52",0,52,{"$f":"AU359+GETPIVOTDATA(\"Sum of 52\",AR$2,\"Day  \",\"Prob 5th instars\")","v":{"$error":"#REF!"}},null,null,"Sum of 52",0,52,{"$f":"BA359+GETPIVOTDATA(\"Sum of 52\",AX$2,\"Day  \",\"Prob 5th instars\")","v":{"$error":"#REF!"}},null,null,"Sum of 52",0,52,{"$f":"BG359+GETPIVOTDATA(\"Sum of 52\",BD$2,\"Day  \",\"Prob 5th instars\")","v":{"$error":"#REF!"}}]
[null,"Sum of 53",0,53,{"$f":"E360+GETPIVOTDATA(\"Sum of 53\",$B$2,\"Day  \",\"Prob 5th instars\")","v":{"$error":"#REF!"}},null,null,"Sum of 53",0,53,{"$f":"K360+GETPIVOTDATA(\"Sum of 53\",H$2,\"Day  \",\"Prob 5th instars\")","v":{"$error":"#REF!"}},null,null,"Sum of 53",0,53,{"$f":"Q360+GETPIVOTDATA(\"Sum of 53\",N$2,\"Day  \",\"Prob 5th instars\")","v":{"$error":"#REF!"}},null,null,"Sum of 53",0,53,{"$f":"W360+GETPIVOTDATA(\"Sum of 53\",T$2,\"Day  \",\"Prob 5th instars\")","v":{"$error":"#REF!"}},null,null,"Sum of 53",0,53,{"$f":"AC360+GETPIVOTDATA(\"Sum of 53\",Z$2,\"Day  \",\"Prob 5th instars\")","v":{"$error":"#REF!"}},null,null,"Sum of 53",0,53,{"$f":"AI360+GETPIVOTDATA(\"Sum of 53\",AF$2,\"Day  \",\"Prob 5th instars\")","v":{"$error":"#REF!"}},null,null,"Sum of 53",0,53,{"$f":"AO360+GETPIVOTDATA(\"Sum of 53\",AL$2,\"Day  \",\"Prob 5th instars\")","v":{"$error":"#REF!"}},null,null,"Sum of 53",0,53,{"$f":"AU360+GETPIVOTDATA(\"Sum of 53\",AR$2,\"Day  \",\"Prob 5th instars\")","v":{"$error":"#REF!"}},null,null,"Sum of 53",0,53,{"$f":"BA360+GETPIVOTDATA(\"Sum of 53\",AX$2,\"Day  \",\"Prob 5th instars\")","v":{"$error":"#REF!"}},null,null,"Sum of 53",0,53,{"$f":"BG360+GETPIVOTDATA(\"Sum of 53\",BD$2,\"Day  \",\"Prob 5th instars\")","v":{"$error":"#REF!"}}]
[null,"Sum of 54",0,54,{"$f":"E361+GETPIVOTDATA(\"Sum of 54\",$B$2,\"Day  \",\"Prob 5th instars\")","v":{"$error":"#REF!"}},null,null,"Sum of 54",0,54,{"$f":"K361+GETPIVOTDATA(\"Sum of 54\",H$2,\"Day  \",\"Prob 5th instars\")","v":{"$error":"#REF!"}},null,null,"Sum of 54",0,54,{"$f":"Q361+GETPIVOTDATA(\"Sum of 54\",N$2,\"Day  \",\"Prob 5th instars\")","v":{"$error":"#REF!"}},null,null,"Sum of 54",0,54,{"$f":"W361+GETPIVOTDATA(\"Sum of 54\",T$2,\"Day  \",\"Prob 5th instars\")","v":{"$error":"#REF!"}},null,null,"Sum of 54",0,54,{"$f":"AC361+GETPIVOTDATA(\"Sum of 54\",Z$2,\"Day  \",\"Prob 5th instars\")","v":{"$error":"#REF!"}},null,null,"Sum of 54",0,54,{"$f":"AI361+GETPIVOTDATA(\"Sum of 54\",AF$2,\"Day  \",\"Prob 5th instars\")","v":{"$error":"#REF!"}},null,null,"Sum of 54",0,54,{"$f":"AO361+GETPIVOTDATA(\"Sum of 54\",AL$2,\"Day  \",\"Prob 5th instars\")","v":{"$error":"#REF!"}},null,null,"Sum of 54",0,54,{"$f":"AU361+GETPIVOTDATA(\"Sum of 54\",AR$2,\"Day  \",\"Prob 5th instars\")","v":{"$error":"#REF!"}},null,null,"Sum of 54",0,54,{"$f":"BA361+GETPIVOTDATA(\"Sum of 54\",AX$2,\"Day  \",\"Prob 5th instars\")","v":{"$error":"#REF!"}},null,null,"Sum of 54",0,54,{"$f":"BG361+GETPIVOTDATA(\"Sum of 54\",BD$2,\"Day  \",\"Prob 5th instars\")","v":{"$error":"#REF!"}}]
[null,"Sum of 55",0,55,{"$f":"E362+GETPIVOTDATA(\"Sum of 55\",$B$2,\"Day  \",\"Prob 5th instars\")","v":{"$error":"#REF!"}},null,null,"Sum of 55",0,55,{"$f":"K362+GETPIVOTDATA(\"Sum of 55\",H$2,\"Day  \",\"Prob 5th instars\")","v":{"$error":"#REF!"}},null,null,"Sum of 55",0,55,{"$f":"Q362+GETPIVOTDATA(\"Sum of 55\",N$2,\"Day  \",\"Prob 5th instars\")","v":{"$error":"#REF!"}},null,null,"Sum of 55",0,55,{"$f":"W362+GETPIVOTDATA(\"Sum of 55\",T$2,\"Day  \",\"Prob 5th instars\")","v":{"$error":"#REF!"}},null,null,"Sum of 55",0,55,{"$f":"AC362+GETPIVOTDATA(\"Sum of 55\",Z$2,\"Day  \",\"Prob 5th instars\")","v":{"$error":"#REF!"}},null,null,"Sum of 55",0,55,{"$f":"AI362+GETPIVOTDATA(\"Sum of 55\",AF$2,\"Day  \",\"Prob 5th instars\")","v":{"$error":"#REF!"}},null,null,"Sum of 55",0,55,{"$f":"AO362+GETPIVOTDATA(\"Sum of 55\",AL$2,\"Day  \",\"Prob 5th instars\")","v":{"$error":"#REF!"}},null,null,"Sum of 55",0,55,{"$f":"AU362+GETPIVOTDATA(\"Sum of 55\",AR$2,\"Day  \",\"Prob 5th instars\")","v":{"$error":"#REF!"}},null,null,"Sum of 55",0,55,{"$f":"BA362+GETPIVOTDATA(\"Sum of 55\",AX$2,\"Day  \",\"Prob 5th instars\")","v":{"$error":"#REF!"}},null,null,"Sum of 55",0,55,{"$f":"BG362+GETPIVOTDATA(\"Sum of 55\",BD$2,\"Day  \",\"Prob 5th instars\")","v":{"$error":"#REF!"}}]
[null,"Sum of 56",0,56,{"$f":"E363+GETPIVOTDATA(\"Sum of 56\",$B$2,\"Day  \",\"Prob 5th instars\")","v":{"$error":"#REF!"}},null,null,"Sum of 56",0,56,{"$f":"K363+GETPIVOTDATA(\"Sum of 56\",H$2,\"Day  \",\"Prob 5th instars\")","v":{"$error":"#REF!"}},null,null,"Sum of 56",0,56,{"$f":"Q363+GETPIVOTDATA(\"Sum of 56\",N$2,\"Day  \",\"Prob 5th instars\")","v":{"$error":"#REF!"}},null,null,"Sum of 56",0,56,{"$f":"W363+GETPIVOTDATA(\"Sum of 56\",T$2,\"Day  \",\"Prob 5th instars\")","v":{"$error":"#REF!"}},null,null,"Sum of 56",0,56,{"$f":"AC363+GETPIVOTDATA(\"Sum of 56\",Z$2,\"Day  \",\"Prob 5th instars\")","v":{"$error":"#REF!"}},null,null,"Sum of 56",0,56,{"$f":"AI363+GETPIVOTDATA(\"Sum of 56\",AF$2,\"Day  \",\"Prob 5th instars\")","v":{"$error":"#REF!"}},null,null,"Sum of 56",0,56,{"$f":"AO363+GETPIVOTDATA(\"Sum of 56\",AL$2,\"Day  \",\"Prob 5th instars\")","v":{"$error":"#REF!"}},null,null,"Sum of 56",0,56,{"$f":"AU363+GETPIVOTDATA(\"Sum of 56\",AR$2,\"Day  \",\"Prob 5th instars\")","v":{"$error":"#REF!"}},null,null,"Sum of 56",0,56,{"$f":"BA363+GETPIVOTDATA(\"Sum of 56\",AX$2,\"Day  \",\"Prob 5th instars\")","v":{"$error":"#REF!"}},null,null,"Sum of 56",0,56,{"$f":"BG363+GETPIVOTDATA(\"Sum of 56\",BD$2,\"Day  \",\"Prob 5th instars\")","v":{"$error":"#REF!"}}]
[null,"Sum of 57",0,57,{"$f":"E364+GETPIVOTDATA(\"Sum of 57\",$B$2,\"Day  \",\"Prob 5th instars\")","v":{"$error":"#REF!"}},null,null,"Sum of 57",0,57,{"$f":"K364+GETPIVOTDATA(\"Sum of 57\",H$2,\"Day  \",\"Prob 5th instars\")","v":{"$error":"#REF!"}},null,null,"Sum of 57",0,57,{"$f":"Q364+GETPIVOTDATA(\"Sum of 57\",N$2,\"Day  \",\"Prob 5th instars\")","v":{"$error":"#REF!"}},null,null,"Sum of 57",0,57,{"$f":"W364+GETPIVOTDATA(\"Sum of 57\",T$2,\"Day  \",\"Prob 5th instars\")","v":{"$error":"#REF!"}},null,null,"Sum of 57",0,57,{"$f":"AC364+GETPIVOTDATA(\"Sum of 57\",Z$2,\"Day  \",\"Prob 5th instars\")","v":{"$error":"#REF!"}},null,null,"Sum of 57",0,57,{"$f":"AI364+GETPIVOTDATA(\"Sum of 57\",AF$2,\"Day  \",\"Prob 5th instars\")","v":{"$error":"#REF!"}},null,null,"Sum of 57",0,57,{"$f":"AO364+GETPIVOTDATA(\"Sum of 57\",AL$2,\"Day  \",\"Prob 5th instars\")","v":{"$error":"#REF!"}},null,null,"Sum of 57",0,57,{"$f":"AU364+GETPIVOTDATA(\"Sum of 57\",AR$2,\"Day  \",\"Prob 5th instars\")","v":{"$error":"#REF!"}},null,null,"Sum of 57",0,57,{"$f":"BA364+GETPIVOTDATA(\"Sum of 57\",AX$2,\"Day  \",\"Prob 5th instars\")","v":{"$error":"#REF!"}},null,null,"Sum of 57",0,57,{"$f":"BG364+GETPIVOTDATA(\"Sum of 57\",BD$2,\"Day  \",\"Prob 5th instars\")","v":{"$error":"#REF!"}}]
[null,"Sum of 58",0,58,{"$f":"E365+GETPIVOTDATA(\"Sum of 58\",$B$2,\"Day  \",\"Prob 5th instars\")","v":{"$error":"#REF!"}},null,null,"Sum of 58",0,58,{"$f":"K365+GETPIVOTDATA(\"Sum of 58\",H$2,\"Day  \",\"Prob 5th instars\")","v":{"$error":"#REF!"}},null,null,"Sum of 58",0,58,{"$f":"Q365+GETPIVOTDATA(\"Sum of 58\",N$2,\"Day  \",\"Prob 5th instars\")","v":{"$error":"#REF!"}},null,null,"Sum of 58",0,58,{"$f":"W365+GETPIVOTDATA(\"Sum of 58\",T$2,\"Day  \",\"Prob 5th instars\")","v":{"$error":"#REF!"}},null,null,"Sum of 58",0,58,{"$f":"AC365+GETPIVOTDATA(\"Sum of 58\",Z$2,\"Day  \",\"Prob 5th instars\")","v":{"$error":"#REF!"}},null,null,"Sum of 58",0,58,{"$f":"AI365+GETPIVOTDATA(\"Sum of 58\",AF$2,\"Day  \",\"Prob 5th instars\")","v":{"$error":"#REF!"}},null,null,"Sum of 58",0,58,{"$f":"AO365+GETPIVOTDATA(\"Sum of 58\",AL$2,\"Day  \",\"Prob 5th instars\")","v":{"$error":"#REF!"}},null,null,"Sum of 58",0,58,{"$f":"AU365+GETPIVOTDATA(\"Sum of 58\",AR$2,\"Day  \",\"Prob 5th instars\")","v":{"$error":"#REF!"}},null,null,"Sum of 58",0,58,{"$f":"BA365+GETPIVOTDATA(\"Sum of 58\",AX$2,\"Day  \",\"Prob 5th instars\")","v":{"$error":"#REF!"}},null,null,"Sum of 58",0,58,{"$f":"BG365+GETPIVOTDATA(\"Sum of 58\",BD$2,\"Day  \",\"Prob 5th instars\")","v":{"$error":"#REF!"}}]
[null,"Sum of 59",0,59,{"$f":"E366+GETPIVOTDATA(\"Sum of 59\",$B$2,\"Day  \",\"Prob 5th instars\")","v":{"$error":"#REF!"}},null,null,"Sum of 59",0,59,{"$f":"K366+GETPIVOTDATA(\"Sum of 59\",H$2,\"Day  \",\"Prob 5th instars\")","v":{"$error":"#REF!"}},null,null,"Sum of 59",0,59,{"$f":"Q366+GETPIVOTDATA(\"Sum of 59\",N$2,\"Day  \",\"Prob 5th instars\")","v":{"$error":"#REF!"}},null,null,"Sum of 59",0,59,{"$f":"W366+GETPIVOTDATA(\"Sum of 59\",T$2,\"Day  \",\"Prob 5th instars\")","v":{"$error":"#REF!"}},null,null,"Sum of 59",0,59,{"$f":"AC366+GETPIVOTDATA(\"Sum of 59\",Z$2,\"Day  \",\"Prob 5th instars\")","v":{"$error":"#REF!"}},null,null,"Sum of 59",0,59,{"$f":"AI366+GETPIVOTDATA(\"Sum of 59\",AF$2,\"Day  \",\"Prob 5th instars\")","v":{"$error":"#REF!"}},null,null,"Sum of 59",0,59,{"$f":"AO366+GETPIVOTDATA(\"Sum of 59\",AL$2,\"Day  \",\"Prob 5th instars\")","v":{"$error":"#REF!"}},null,null,"Sum of 59",0,59,{"$f":"AU366+GETPIVOTDATA(\"Sum of 59\",AR$2,\"Day  \",\"Prob 5th instars\")","v":{"$error":"#REF!"}},null,null,"Sum of 59",0,59,{"$f":"BA366+GETPIVOTDATA(\"Sum of 59\",AX$2,\"Day  \",\"Prob 5th instars\")","v":{"$error":"#REF!"}},null,null,"Sum of 59",0,59,{"$f":"BG366+GETPIVOTDATA(\"Sum of 59\",BD$2,\"Day  \",\"Prob 5th instars\")","v":{"$error":"#REF!"}}]
[null,"Sum of 60",0,60,{"$f":"E367+GETPIVOTDATA(\"Sum of 60\",$B$2,\"Day  \",\"Prob 5th instars\")","v":{"$error":"#REF!"}},null,null,"Sum of 60",0,60,{"$f":"K367+GETPIVOTDATA(\"Sum of 60\",H$2,\"Day  \",\"Prob 5th instars\")","v":{"$error":"#REF!"}},null,null,"Sum of 60",0,60,{"$f":"Q367+GETPIVOTDATA(\"Sum of 60\",N$2,\"Day  \",\"Prob 5th instars\")","v":{"$error":"#REF!"}},null,null,"Sum of 60",0,60,{"$f":"W367+GETPIVOTDATA(\"Sum of 60\",T$2,\"Day  \",\"Prob 5th instars\")","v":{"$error":"#REF!"}},null,null,"Sum of 60",0,60,{"$f":"AC367+GETPIVOTDATA(\"Sum of 60\",Z$2,\"Day  \",\"Prob 5th instars\")","v":{"$error":"#REF!"}},null,null,"Sum of 60",0,60,{"$f":"AI367+GETPIVOTDATA(\"Sum of 60\",AF$2,\"Day  \",\"Prob 5th instars\")","v":{"$error":"#REF!"}},null,null,"Sum of 60",0,60,{"$f":"AO367+GETPIVOTDATA(\"Sum of 60\",AL$2,\"Day  \",\"Prob 5th instars\")","v":{"$error":"#REF!"}},null,null,"Sum of 60",0,60,{"$f":"AU367+GETPIVOTDATA(\"Sum of 60\",AR$2,\"Day  \",\"Prob 5th instars\")","v":{"$error":"#REF!"}},null,null,"Sum of 60",0,60,{"$f":"BA367+GETPIVOTDATA(\"Sum of 60\",AX$2,\"Day  \",\"Prob 5th instars\")","v":{"$error":"#REF!"}},null,null,"Sum of 60",0,60,{"$f":"BG367+GETPIVOTDATA(\"Sum of 60\",BD$2,\"Day  \",\"Prob 5th instars\")","v":{"$error":"#REF!"}}]
[null,null,null,"LSTOT/LSHT","Cum Total","LSComm1Pupae",null,null,null,"LSTOT/LSHT","Cum Total","LSComm2Pupae",null,null,null,"LSTOT/LSHT","Cum Total","LSComm3Pupae",null,null,null,"LSTOT/LSHT","Cum Total","LSComm4Pupae",null,null,null,"LSTOT/LSHT","Cum Total","LSComm5Pupae",null,null,null,"LSTOT/LSHT","Cum Total","LSComm6Pupae",null,null,null,"LSTOT/LSHT","Cum Total","LSComm7Pupae",null,null,null,"LSTOT/LSHT","Cum Total","LSComm8Pupae",null,null,null,"LSTOT/LSHT","Cum Total","LSComm9Pupae",null,null,null,"LSTOT/LSHT","Cum Total","LSComm10Pupae"]
[null,"Sum of 1",0,1,{"$f":"GETPIVOTDATA(\"Sum of 1\",$B$2,\"Day  \",\"Prob Pupae\")","v":0},{"$f":"IF(LSCheckPupa=\"n\",0,(((VLOOKUP(LSTOT,D370:E429,2))-(IF(LSHT=0,0,(VLOOKUP(LSHT,D370:E429,2)))))/LSIT))","v":0},null,"Sum of 1",0,1,{"$f":"GETPIVOTDATA(\"Sum of 1\",H$2,\"Day  \",\"Prob Pupae\")","v":0},{"$f":"IF(LSCheckPupa=\"n\",0,(((VLOOKUP(LSTOT,J370:K429,2))-(IF(LSHT=0,0,(VLOOKUP(LSHT,J370:K429,2)))))/LSIT))","v":0},null,"Sum of 1",0,1,{"$f":"GETPIVOTDATA(\"Sum of 1\",N$2,\"Day  \",\"Prob Pupae\")","v":0},{"$f":"IF(LSCheckPupa=\"n\",0,(((VLOOKUP(LSTOT,P370:Q429,2))-(IF(LSHT=0,0,(VLOOKUP(LSHT,P370:Q429,2)))))/LSIT))","v":0},null,"Sum of 1",0,1,{"$f":"GETPIVOTDATA(\"Sum of 1\",T$2,\"Day  \",\"Prob Pupae\")","v":0},{"$f":"IF(LSCheckPupa=\"n\",0,(((VLOOKUP(LSTOT,V370:W429,2))-(IF(LSHT=0,0,(VLOOKUP(LSHT,V370:W429,2)))))/LSIT))","v":0},null,"Sum of 1",0,1,{"$f":"GETPIVOTDATA(\"Sum of 1\",Z$2,\"Day  \",\"Prob Pupae\")","v":0},{"$f":"IF(LSCheckPupa=\"n\",0,(((VLOOKUP(LSTOT,AB370:AC429,2))-(IF(LSHT=0,0,(VLOOKUP(LSHT,AB370:AC429,2)))))/LSIT))","v":2.0202020202020204E-2},null,"Sum of 1",0,1,{"$f":"GETPIVOTDATA(\"Sum of 1\",AF$2,\"Day  \",\"Prob Pupae\")","v":0},{"$f":"IF(LSCheckPupa=\"n\",0,(((VLOOKUP(LSTOT,AH370:AI429,2))-(IF(LSHT=0,0,(VLOOKUP(LSHT,AH370:AI429,2)))))/LSIT))","v":0},null,"Sum of 1",0,1,{"$f":"GETPIVOTDATA(\"Sum of 1\",AL$2,\"Day  \",\"Prob Pupae\")","v":0},{"$f":"IF(LSCheckPupa=\"n\",0,(((VLOOKUP(LSTOT,AN370:AO429,2))-(IF(LSHT=0,0,(VLOOKUP(LSHT,AN370:AO429,2)))))/LSIT))","v":0},null,"Sum of 1",0,1,{"$f":"GETPIVOTDATA(\"Sum of 1\",AR$2,\"Day  \",\"Prob Pupae\")","v":0},{"$f":"IF(LSCheckPupa=\"n\",0,(((VLOOKUP(LSTOT,AT370:AU429,2))-(IF(LSHT=0,0,(VLOOKUP(LSHT,AT370:AU429,2)))))/LSIT))","v":0},null,"Sum of 1",0,1,{"$f":"GETPIVOTDATA(\"Sum of 1\",AX$2,\"Day  \",\"Prob Pupae\")","v":0},{"$f":"IF(LSCheckPupa=\"n\",0,(((VLOOKUP(LSTOT,AZ370:BA429,2))-(IF(LSHT=0,0,(VLOOKUP(LSHT,AZ370:BA429,2)))))/LSIT))","v":0},null,"Sum of 1",0,1,{"$f":"GETPIVOTDATA(\"Sum of 1\",BD$2,\"Day  \",\"Prob Pupae\")","v":0},{"$f":"IF(LSCheckPupa=\"n\",0,(((VLOOKUP(LSTOT,BF370:BG429,2))-(IF(LSHT=0,0,(VLOOKUP(LSHT,BF370:BG429,2)))))/LSIT))","v":0}]
[null,"Sum of 2",0,2,{"$f":"E370+GETPIVOTDATA(\"Sum of 2\",$B$2,\"Day  \",\"Prob Pupae\")","v":0},null,null,"Sum of 2",0,2,{"$f":"K370+GETPIVOTDATA(\"Sum of 2\",H$2,\"Day  \",\"Prob Pupae\")","v":0},null,null,"Sum of 2",0,2,{"$f":"Q370+GETPIVOTDATA(\"Sum of 2\",N$2,\"Day  \",\"Prob Pupae\")","v":0},null,null,"Sum of 2",0,2,{"$f":"W370+GETPIVOTDATA(\"Sum of 2\",T$2,\"Day  \",\"Prob Pupae\")","v":0},null,null,"Sum of 2",0,2,{"$f":"AC370+GETPIVOTDATA(\"Sum of 2\",Z$2,\"Day  \",\"Prob Pupae\")","v":0},null,null,"Sum of 2",0,2,{"$f":"AI370+GETPIVOTDATA(\"Sum of 2\",AF$2,\"Day  \",\"Prob Pupae\")","v":0},null,null,"Sum of 2",0,2,{"$f":"AO370+GETPIVOTDATA(\"Sum of 2\",AL$2,\"Day  \",\"Prob Pupae\")","v":0},null,null,"Sum of 2",0,2,{"$f":"AU370+GETPIVOTDATA(\"Sum of 2\",AR$2,\"Day  \",\"Prob Pupae\")","v":0},null,null,"Sum of 2",0,2,{"$f":"BA370+GETPIVOTDATA(\"Sum of 2\",AX$2,\"Day  \",\"Prob Pupae\")","v":0},null,null,"Sum of 2",0,2,{"$f":"BG370+GETPIVOTDATA(\"Sum of 2\",BD$2,\"Day  \",\"Prob Pupae\")","v":0}]
[null,"Sum of 3",0,3,{"$f":"E371+GETPIVOTDATA(\"Sum of 3\",$B$2,\"Day  \",\"Prob Pupae\")","v":0},null,null,"Sum of 3",0,3,{"$f":"K371+GETPIVOTDATA(\"Sum of 3\",H$2,\"Day  \",\"Prob Pupae\")","v":0},null,null,"Sum of 3",0,3,{"$f":"Q371+GETPIVOTDATA(\"Sum of 3\",N$2,\"Day  \",\"Prob Pupae\")","v":0},null,null,"Sum of 3",0,3,{"$f":"W371+GETPIVOTDATA(\"Sum of 3\",T$2,\"Day  \",\"Prob Pupae\")","v":0},null,null,"Sum of 3",0,3,{"$f":"AC371+GETPIVOTDATA(\"Sum of 3\",Z$2,\"Day  \",\"Prob Pupae\")","v":0},null,null,"Sum of 3",0,3,{"$f":"AI371+GETPIVOTDATA(\"Sum of 3\",AF$2,\"Day  \",\"Prob Pupae\")","v":0},null,null,"Sum of 3",0,3,{"$f":"AO371+GETPIVOTDATA(\"Sum of 3\",AL$2,\"Day  \",\"Prob Pupae\")","v":0},null,null,"Sum of 3",0,3,{"$f":"AU371+GETPIVOTDATA(\"Sum of 3\",AR$2,\"Day  \",\"Prob Pupae\")","v":0},null,null,"Sum of 3",0,3,{"$f":"BA371+GETPIVOTDATA(\"Sum of 3\",AX$2,\"Day  \",\"Prob Pupae\")","v":0},null,null,"Sum of 3",0,3,{"$f":"BG371+GETPIVOTDATA(\"Sum of 3\",BD$2,\"Day  \",\"Prob Pupae\")","v":0}]
[null,"Sum of 4",0,4,{"$f":"E372+GETPIVOTDATA(\"Sum of 4\",$B$2,\"Day  \",\"Prob Pupae\")","v":0},null,null,"Sum of 4",0,4,{"$f":"K372+GETPIVOTDATA(\"Sum of 4\",H$2,\"Day  \",\"Prob Pupae\")","v":0},null,null,"Sum of 4",0,4,{"$f":"Q372+GETPIVOTDATA(\"Sum of 4\",N$2,\"Day  \",\"Prob Pupae\")","v":0},null,null,"Sum of 4",0,4,{"$f":"W372+GETPIVOTDATA(\"Sum of 4\",T$2,\"Day  \",\"Prob Pupae\")","v":0},null,null,"Sum of 4",0,4,{"$f":"AC372+GETPIVOTDATA(\"Sum of 4\",Z$2,\"Day  \",\"Prob Pupae\")","v":2.0202020202020204E-2},null,null,"Sum of 4",0,4,{"$f":"AI372+GETPIVOTDATA(\"Sum of 4\",AF$2,\"Day  \",\"Prob Pupae\")","v":0},null,null,"Sum of 4",0,4,{"$f":"AO372+GETPIVOTDATA(\"Sum of 4\",AL$2,\"Day  \",\"Prob Pupae\")","v":0},null,null,"Sum of 4",0,4,{"$f":"AU372+GETPIVOTDATA(\"Sum of 4\",AR$2,\"Day  \",\"Prob Pupae\")","v":0},null,null,"Sum of 4",0,4,{"$f":"BA372+GETPIVOTDATA(\"Sum of 4\",AX$2,\"Day  \",\"Prob Pupae\")","v":0},null,null,"Sum of 4",0,4,{"$f":"BG372+GETPIVOTDATA(\"Sum of 4\",BD$2,\"Day  \",\"Prob Pupae\")","v":0}]
[null,"Sum of 5",0,5,{"$f":"E373+GETPIVOTDATA(\"Sum of 5\",$B$2,\"Day  \",\"Prob Pupae\")","v":2.3569023569023569E-2},null,null,"Sum of 5",0,5,{"$f":"K373+GETPIVOTDATA(\"Sum of 5\",H$2,\"Day  \",\"Prob Pupae\")","v":0},null,null,"Sum of 5",0,5,{"$f":"Q373+GETPIVOTDATA(\"Sum of 5\",N$2,\"Day  \",\"Prob Pupae\")","v":3.5294117647058823E-2},null,null,"Sum of 5",0,5,{"$f":"W373+GETPIVOTDATA(\"Sum of 5\",T$2,\"Day  \",\"Prob Pupae\")","v":0},null,null,"Sum of 5",0,5,{"$f":"AC373+GETPIVOTDATA(\"Sum of 5\",Z$2,\"Day  \",\"Prob Pupae\")","v":3.0954708374063215E-2},null,null,"Sum of 5",0,5,{"$f":"AI373+GETPIVOTDATA(\"Sum of 5\",AF$2,\"Day  \",\"Prob Pupae\")","v":0},null,null,"Sum of 5",0,5,{"$f":"AO373+GETPIVOTDATA(\"Sum of 5\",AL$2,\"Day  \",\"Prob Pupae\")","v":0},null,null,"Sum of 5",0,5,{"$f":"AU373+GETPIVOTDATA(\"Sum of 5\",AR$2,\"Day  \",\"Prob Pupae\")","v":0},null,null,"Sum of 5",0,5,{"$f":"BA373+GETPIVOTDATA(\"Sum of 5\",AX$2,\"Day  \",\"Prob Pupae\")","v":0},null,null,"Sum of 5",0,5,{"$f":"BG373+GETPIVOTDATA(\"Sum of 5\",BD$2,\"Day  \",\"Prob Pupae\")","v":0}]
[null,"Sum of 6",0,6,{"$f":"E374+GETPIVOTDATA(\"Sum of 6\",$B$2,\"Day  \",\"Prob Pupae\")","v":0.17543148775240466},null,null,"Sum of 6",0,6,{"$f":"K374+GETPIVOTDATA(\"Sum of 6\",H$2,\"Day  \",\"Prob Pupae\")","v":0},null,null,"Sum of 6",0,6,{"$f":"Q374+GETPIVOTDATA(\"Sum of 6\",N$2,\"Day  \",\"Prob Pupae\")","v":0.10108359133126935},null,null,"Sum of 6",0,6,{"$f":"W374+GETPIVOTDATA(\"Sum of 6\",T$2,\"Day  \",\"Prob Pupae\")","v":0.08},null,null,"Sum of 6",0,6,{"$f":"AC374+GETPIVOTDATA(\"Sum of 6\",Z$2,\"Day  \",\"Prob Pupae\")","v":0.49302367389130458},null,null,"Sum of 6",0,6,{"$f":"AI374+GETPIVOTDATA(\"Sum of 6\",AF$2,\"Day  \",\"Prob Pupae\")","v":0.1703056768558952},null,null,"Sum of 6",0,6,{"$f":"AO374+GETPIVOTDATA(\"Sum of 6\",AL$2,\"Day  \",\"Prob Pupae\")","v":0},null,null,"Sum of 6",0,6,{"$f":"AU374+GETPIVOTDATA(\"Sum of 6\",AR$2,\"Day  \",\"Prob Pupae\")","v":0},null,null,"Sum of 6",0,6,{"$f":"BA374+GETPIVOTDATA(\"Sum of 6\",AX$2,\"Day  \",\"Prob Pupae\")","v":0},null,null,"Sum of 6",0,6,{"$f":"BG374+GETPIVOTDATA(\"Sum of 6\",BD$2,\"Day  \",\"Prob Pupae\")","v":0}]
[null,"Sum of 7",0,7,{"$f":"E375+GETPIVOTDATA(\"Sum of 7\",$B$2,\"Day  \",\"Prob Pupae\")","v":0.74478966580623496},null,null,"Sum of 7",0,7,{"$f":"K375+GETPIVOTDATA(\"Sum of 7\",H$2,\"Day  \",\"Prob Pupae\")","v":0.19736842105263158},null,null,"Sum of 7",0,7,{"$f":"Q375+GETPIVOTDATA(\"Sum of 7\",N$2,\"Day  \",\"Prob Pupae\")","v":0.52826805735068683},null,null,"Sum of 7",0,7,{"$f":"W375+GETPIVOTDATA(\"Sum of 7\",T$2,\"Day  \",\"Prob Pupae\")","v":0.13147058823529412},null,null,"Sum of 7",0,7,{"$f":"AC375+GETPIVOTDATA(\"Sum of 7\",Z$2,\"Day  \",\"Prob Pupae\")","v":1.4930236738913045},null,null,"Sum of 7",0,7,{"$f":"AI375+GETPIVOTDATA(\"Sum of 7\",AF$2,\"Day  \",\"Prob Pupae\")","v":1.0826562744654569},null,null,"Sum of 7",0,7,{"$f":"AO375+GETPIVOTDATA(\"Sum of 7\",AL$2,\"Day  \",\"Prob Pupae\")","v":0},null,null,"Sum of 7",0,7,{"$f":"AU375+GETPIVOTDATA(\"Sum of 7\",AR$2,\"Day  \",\"Prob Pupae\")","v":0},null,null,"Sum of 7",0,7,{"$f":"BA375+GETPIVOTDATA(\"Sum of 7\",AX$2,\"Day  \",\"Prob Pupae\")","v":0},null,null,"Sum of 7",0,7,{"$f":"BG375+GETPIVOTDATA(\"Sum of 7\",BD$2,\"Day  \",\"Prob Pupae\")","v":0}]
[null,"Sum of 8",0,8,{"$f":"E376+GETPIVOTDATA(\"Sum of 8\",$B$2,\"Day  \",\"Prob Pupae\")","v":1.551337284853854},null,null,"Sum of 8",0,8,{"$f":"K376+GETPIVOTDATA(\"Sum of 8\",H$2,\"Day  \",\"Prob Pupae\")","v":0.33582995951417005},null,null,"Sum of 8",0,8,{"$f":"Q376+GETPIVOTDATA(\"Sum of 8\",N$2,\"Day  \",\"Prob Pupae\")","v":1.2891376225680782},null,null,"Sum of 8",0,8,{"$f":"W376+GETPIVOTDATA(\"Sum of 8\",T$2,\"Day  \",\"Prob Pupae\")","v":0.47160664265706281},null,null,"Sum of 8",0,8,{"$f":"AC376+GETPIVOTDATA(\"Sum of 8\",Z$2,\"Day  \",\"Prob Pupae\")","v":1.4930236738913045},null,null,"Sum of 8",0,8,{"$f":"AI376+GETPIVOTDATA(\"Sum of 8\",AF$2,\"Day  \",\"Prob Pupae\")","v":2.0633326029678725},null,null,"Sum of 8",0,8,{"$f":"AO376+GETPIVOTDATA(\"Sum of 8\",AL$2,\"Day  \",\"Prob Pupae\")","v":0},null,null,"Sum of 8",0,8,{"$f":"AU376+GETPIVOTDATA(\"Sum of 8\",AR$2,\"Day  \",\"Prob Pupae\")","v":0},null,null,"Sum of 8",0,8,{"$f":"BA376+GETPIVOTDATA(\"Sum of 8\",AX$2,\"Day  \",\"Prob Pupae\")","v":0},null,null,"Sum of 8",0,8,{"$f":"BG376+GETPIVOTDATA(\"Sum of 8\",BD$2,\"Day  \",\"Prob Pupae\")","v":0}]
[null,"Sum of 9",0,9,{"$f":"E377+GETPIVOTDATA(\"Sum of 9\",$B$2,\"Day  \",\"Prob Pupae\")","v":1.691565711249793},null,null,"Sum of 9",0,9,{"$f":"K377+GETPIVOTDATA(\"Sum of 9\",H$2,\"Day  \",\"Prob Pupae\")","v":0.73470636400855205},null,null,"Sum of 9",0,9,{"$f":"Q377+GETPIVOTDATA(\"Sum of 9\",N$2,\"Day  \",\"Prob Pupae\")","v":1.2891376225680782},null,null,"Sum of 9",0,9,{"$f":"W377+GETPIVOTDATA(\"Sum of 9\",T$2,\"Day  \",\"Prob Pupae\")","v":0.84660664265706287},null,null,"Sum of 9",0,9,{"$f":"AC377+GETPIVOTDATA(\"Sum of 9\",Z$2,\"Day  \",\"Prob Pupae\")","v":1.4930236738913045},null,null,"Sum of 9",0,9,{"$f":"AI377+GETPIVOTDATA(\"Sum of 9\",AF$2,\"Day  \",\"Prob Pupae\")","v":2.0633326029678725},null,null,"Sum of 9",0,9,{"$f":"AO377+GETPIVOTDATA(\"Sum of 9\",AL$2,\"Day  \",\"Prob Pupae\")","v":0},null,null,"Sum of 9",0,9,{"$f":"AU377+GETPIVOTDATA(\"Sum of 9\",AR$2,\"Day  \",\"Prob Pupae\")","v":0},null,null,"Sum of 9",0,9,{"$f":"BA377+GETPIVOTDATA(\"Sum of 9\",AX$2,\"Day  \",\"Prob Pupae\")","v":0},null,null,"Sum of 9",0,9,{"$f":"BG377+GETPIVOTDATA(\"Sum of 9\",BD$2,\"Day  \",\"Prob Pupae\")","v":0}]
[null,"Sum of 10",0,10,{"$f":"E378+GETPIVOTDATA(\"Sum of 10\",$B$2,\"Day  \",\"Prob Pupae\")","v":1.691565711249793},null,null,"Sum of 10",0,10,{"$f":"K378+GETPIVOTDATA(\"Sum of 10\",H$2,\"Day  \",\"Prob Pupae\")","v":0.89965481761679944},null,null,"Sum of 10",0,10,{"$f":"Q378+GETPIVOTDATA(\"Sum of 10\",N$2,\"Day  \",\"Prob Pupae\")","v":1.2891376225680782},null,null,"Sum of 10",0,10,{"$f":"W378+GETPIVOTDATA(\"Sum of 10\",T$2,\"Day  \",\"Prob Pupae\")","v":1.0045013794991682},null,null,"Sum of 10",0,10,{"$f":"AC378+GETPIVOTDATA(\"Sum of 10\",Z$2,\"Day  \",\"Prob Pupae\")","v":1.4930236738913045},null,null,"Sum of 10",0,10,{"$f":"AI378+GETPIVOTDATA(\"Sum of 10\",AF$2,\"Day  \",\"Prob Pupae\")","v":2.0633326029678725},null,null,"Sum of 10",0,10,{"$f":"AO378+GETPIVOTDATA(\"Sum of 10\",AL$2,\"Day  \",\"Prob Pupae\")","v":0},null,null,"Sum of 10",0,10,{"$f":"AU378+GETPIVOTDATA(\"Sum of 10\",AR$2,\"Day  \",\"Prob Pupae\")","v":0},null,null,"Sum of 10",0,10,{"$f":"BA378+GETPIVOTDATA(\"Sum of 10\",AX$2,\"Day  \",\"Prob Pupae\")","v":0},null,null,"Sum of 10",0,10,{"$f":"BG378+GETPIVOTDATA(\"Sum of 10\",BD$2,\"Day  \",\"Prob Pupae\")","v":0}]
[null,"Sum of 11",0,11,{"$f":"E379+GETPIVOTDATA(\"Sum of 11\",$B$2,\"Day  \",\"Prob Pupae\")","v":1.691565711249793},null,null,"Sum of 11",0,11,{"$f":"K379+GETPIVOTDATA(\"Sum of 11\",H$2,\"Day  \",\"Prob Pupae\")","v":0.89965481761679944},null,null,"Sum of 11",0,11,{"$f":"Q379+GETPIVOTDATA(\"Sum of 11\",N$2,\"Day  \",\"Prob Pupae\")","v":1.2891376225680782},null,null,"Sum of 11",0,11,{"$f":"W379+GETPIVOTDATA(\"Sum of 11\",T$2,\"Day  \",\"Prob Pupae\")","v":1.0045013794991682},null,null,"Sum of 11",0,11,{"$f":"AC379+GETPIVOTDATA(\"Sum of 11\",Z$2,\"Day  \",\"Prob Pupae\")","v":1.4930236738913045},null,null,"Sum of 11",0,11,{"$f":"AI379+GETPIVOTDATA(\"Sum of 11\",AF$2,\"Day  \",\"Prob Pupae\")","v":2.0633326029678725},null,null,"Sum of 11",0,11,{"$f":"AO379+GETPIVOTDATA(\"Sum of 11\",AL$2,\"Day  \",\"Prob Pupae\")","v":0},null,null,"Sum of 11",0,11,{"$f":"AU379+GETPIVOTDATA(\"Sum of 11\",AR$2,\"Day  \",\"Prob Pupae\")","v":0},null,null,"Sum of 11",0,11,{"$f":"BA379+GETPIVOTDATA(\"Sum of 11\",AX$2,\"Day  \",\"Prob Pupae\")","v":0},null,null,"Sum of 11",0,11,{"$f":"BG379+GETPIVOTDATA(\"Sum of 11\",BD$2,\"Day  \",\"Prob Pupae\")","v":0}]
[null,"Sum of 12",0,12,{"$f":"E380+GETPIVOTDATA(\"Sum of 12\",$B$2,\"Day  \",\"Prob Pupae\")","v":1.691565711249793},null,null,"Sum of 12",0,12,{"$f":"K380+GETPIVOTDATA(\"Sum of 12\",H$2,\"Day  \",\"Prob Pupae\")","v":0.89965481761679944},null,null,"Sum of 12",0,12,{"$f":"Q380+GETPIVOTDATA(\"Sum of 12\",N$2,\"Day  \",\"Prob Pupae\")","v":1.2891376225680782},null,null,"Sum of 12",0,12,{"$f":"W380+GETPIVOTDATA(\"Sum of 12\",T$2,\"Day  \",\"Prob Pupae\")","v":1.0045013794991682},null,null,"Sum of 12",0,12,{"$f":"AC380+GETPIVOTDATA(\"Sum of 12\",Z$2,\"Day  \",\"Prob Pupae\")","v":1.4930236738913045},null,null,"Sum of 12",0,12,{"$f":"AI380+GETPIVOTDATA(\"Sum of 12\",AF$2,\"Day  \",\"Prob Pupae\")","v":2.0633326029678725},null,null,"Sum of 12",0,12,{"$f":"AO380+GETPIVOTDATA(\"Sum of 12\",AL$2,\"Day  \",\"Prob Pupae\")","v":0},null,null,"Sum of 12",0,12,{"$f":"AU380+GETPIVOTDATA(\"Sum of 12\",AR$2,\"Day  \",\"Prob Pupae\")","v":0},null,null,"Sum of 12",0,12,{"$f":"BA380+GETPIVOTDATA(\"Sum of 12\",AX$2,\"Day  \",\"Prob Pupae\")","v":0},null,null,"Sum of 12",0,12,{"$f":"BG380+GETPIVOTDATA(\"Sum of 12\",BD$2,\"Day  \",\"Prob Pupae\")","v":0}]
[null,"Sum of 13",0,13,{"$f":"E381+GETPIVOTDATA(\"Sum of 13\",$B$2,\"Day  \",\"Prob Pupae\")","v":1.691565711249793},null,null,"Sum of 13",0,13,{"$f":"K381+GETPIVOTDATA(\"Sum of 13\",H$2,\"Day  \",\"Prob Pupae\")","v":0.89965481761679944},null,null,"Sum of 13",0,13,{"$f":"Q381+GETPIVOTDATA(\"Sum of 13\",N$2,\"Day  \",\"Prob Pupae\")","v":1.2891376225680782},null,null,"Sum of 13",0,13,{"$f":"W381+GETPIVOTDATA(\"Sum of 13\",T$2,\"Day  \",\"Prob Pupae\")","v":1.0045013794991682},null,null,"Sum of 13",0,13,{"$f":"AC381+GETPIVOTDATA(\"Sum of 13\",Z$2,\"Day  \",\"Prob Pupae\")","v":1.4930236738913045},null,null,"Sum of 13",0,13,{"$f":"AI381+GETPIVOTDATA(\"Sum of 13\",AF$2,\"Day  \",\"Prob Pupae\")","v":2.0633326029678725},null,null,"Sum of 13",0,13,{"$f":"AO381+GETPIVOTDATA(\"Sum of 13\",AL$2,\"Day  \",\"Prob Pupae\")","v":0},null,null,"Sum of 13",0,13,{"$f":"AU381+GETPIVOTDATA(\"Sum of 13\",AR$2,\"Day  \",\"Prob Pupae\")","v":0},null,null,"Sum of 13",0,13,{"$f":"BA381+GETPIVOTDATA(\"Sum of 13\",AX$2,\"Day  \",\"Prob Pupae\")","v":0},null,null,"Sum of 13",0,13,{"$f":"BG381+GETPIVOTDATA(\"Sum of 13\",BD$2,\"Day  \",\"Prob Pupae\")","v":0}]
[null,"Sum of 14",0,14,{"$f":"E382+GETPIVOTDATA(\"Sum of 14\",$B$2,\"Day  \",\"Prob Pupae\")","v":1.691565711249793},null,null,"Sum of 14",0,14,{"$f":"K382+GETPIVOTDATA(\"Sum of 14\",H$2,\"Day  \",\"Prob Pupae\")","v":0.89965481761679944},null,null,"Sum of 14",0,14,{"$f":"Q382+GETPIVOTDATA(\"Sum of 14\",N$2,\"Day  \",\"Prob Pupae\")","v":1.2891376225680782},null,null,"Sum of 14",0,14,{"$f":"W382+GETPIVOTDATA(\"Sum of 14\",T$2,\"Day  \",\"Prob Pupae\")","v":1.0045013794991682},null,null,"Sum of 14",0,14,{"$f":"AC382+GETPIVOTDATA(\"Sum of 14\",Z$2,\"Day  \",\"Prob Pupae\")","v":1.4930236738913045},null,null,"Sum of 14",0,14,{"$f":"AI382+GETPIVOTDATA(\"Sum of 14\",AF$2,\"Day  \",\"Prob Pupae\")","v":2.0633326029678725},null,null,"Sum of 14",0,14,{"$f":"AO382+GETPIVOTDATA(\"Sum of 14\",AL$2,\"Day  \",\"Prob Pupae\")","v":0},null,null,"Sum of 14",0,14,{"$f":"AU382+GETPIVOTDATA(\"Sum of 14\",AR$2,\"Day  \",\"Prob Pupae\")","v":0},null,null,"Sum of 14",0,14,{"$f":"BA382+GETPIVOTDATA(\"Sum of 14\",AX$2,\"Day  \",\"Prob Pupae\")","v":0},null,null,"Sum of 14",0,14,{"$f":"BG382+GETPIVOTDATA(\"Sum of 14\",BD$2,\"Day  \",\"Prob Pupae\")","v":0}]
[null,"Sum of 15",0,15,{"$f":"E383+GETPIVOTDATA(\"Sum of 15\",$B$2,\"Day  \",\"Prob Pupae\")","v":1.691565711249793},null,null,"Sum of 15",0,15,{"$f":"K383+GETPIVOTDATA(\"Sum of 15\",H$2,\"Day  \",\"Prob Pupae\")","v":0.89965481761679944},null,null,"Sum of 15",0,15,{"$f":"Q383+GETPIVOTDATA(\"Sum of 15\",N$2,\"Day  \",\"Prob Pupae\")","v":1.2891376225680782},null,null,"Sum of 15",0,15,{"$f":"W383+GETPIVOTDATA(\"Sum of 15\",T$2,\"Day  \",\"Prob Pupae\")","v":1.0045013794991682},null,null,"Sum of 15",0,15,{"$f":"AC383+GETPIVOTDATA(\"Sum of 15\",Z$2,\"Day  \",\"Prob Pupae\")","v":1.4930236738913045},null,null,"Sum of 15",0,15,{"$f":"AI383+GETPIVOTDATA(\"Sum of 15\",AF$2,\"Day  \",\"Prob Pupae\")","v":2.0633326029678725},null,null,"Sum of 15",0,15,{"$f":"AO383+GETPIVOTDATA(\"Sum of 15\",AL$2,\"Day  \",\"Prob Pupae\")","v":0},null,null,"Sum of 15",0,15,{"$f":"AU383+GETPIVOTDATA(\"Sum of 15\",AR$2,\"Day  \",\"Prob Pupae\")","v":0},null,null,"Sum of 15",0,15,{"$f":"BA383+GETPIVOTDATA(\"Sum of 15\",AX$2,\"Day  \",\"Prob Pupae\")","v":0},null,null,"Sum of 15",0,15,{"$f":"BG383+GETPIVOTDATA(\"Sum of 15\",BD$2,\"Day  \",\"Prob Pupae\")","v":0}]
[null,"Sum of 16",0,16,{"$f":"E384+GETPIVOTDATA(\"Sum of 16\",$B$2,\"Day  \",\"Prob Pupae\")","v":1.691565711249793},null,null,"Sum of 16",0,16,{"$f":"K384+GETPIVOTDATA(\"Sum of 16\",H$2,\"Day  \",\"Prob Pupae\")","v":0.89965481761679944},null,null,"Sum of 16",0,16,{"$f":"Q384+GETPIVOTDATA(\"Sum of 16\",N$2,\"Day  \",\"Prob Pupae\")","v":1.2891376225680782},null,null,"Sum of 16",0,16,{"$f":"W384+GETPIVOTDATA(\"Sum of 16\",T$2,\"Day  \",\"Prob Pupae\")","v":1.0045013794991682},null,null,"Sum of 16",0,16,{"$f":"AC384+GETPIVOTDATA(\"Sum of 16\",Z$2,\"Day  \",\"Prob Pupae\")","v":1.4930236738913045},null,null,"Sum of 16",0,16,{"$f":"AI384+GETPIVOTDATA(\"Sum of 16\",AF$2,\"Day  \",\"Prob Pupae\")","v":2.0633326029678725},null,null,"Sum of 16",0,16,{"$f":"AO384+GETPIVOTDATA(\"Sum of 16\",AL$2,\"Day  \",\"Prob Pupae\")","v":0},null,null,"Sum of 16",0,16,{"$f":"AU384+GETPIVOTDATA(\"Sum of 16\",AR$2,\"Day  \",\"Prob Pupae\")","v":0},null,null,"Sum of 16",0,16,{"$f":"BA384+GETPIVOTDATA(\"Sum of 16\",AX$2,\"Day  \",\"Prob Pupae\")","v":0},null,null,"Sum of 16",0,16,{"$f":"BG384+GETPIVOTDATA(\"Sum of 16\",BD$2,\"Day  \",\"Prob Pupae\")","v":0}]
[null,"Sum of 17",0,17,{"$f":"E385+GETPIVOTDATA(\"Sum of 17\",$B$2,\"Day  \",\"Prob Pupae\")","v":1.691565711249793},null,null,"Sum of 17",0,17,{"$f":"K385+GETPIVOTDATA(\"Sum of 17\",H$2,\"Day  \",\"Prob Pupae\")","v":0.89965481761679944},null,null,"Sum of 17",0,17,{"$f":"Q385+GETPIVOTDATA(\"Sum of 17\",N$2,\"Day  \",\"Prob Pupae\")","v":1.2891376225680782},null,null,"Sum of 17",0,17,{"$f":"W385+GETPIVOTDATA(\"Sum of 17\",T$2,\"Day  \",\"Prob Pupae\")","v":1.0045013794991682},null,null,"Sum of 17",0,17,{"$f":"AC385+GETPIVOTDATA(\"Sum of 17\",Z$2,\"Day  \",\"Prob Pupae\")","v":1.4930236738913045},null,null,"Sum of 17",0,17,{"$f":"AI385+GETPIVOTDATA(\"Sum of 17\",AF$2,\"Day  \",\"Prob Pupae\")","v":2.0633326029678725},null,null,"Sum of 17",0,17,{"$f":"AO385+GETPIVOTDATA(\"Sum of 17\",AL$2,\"Day  \",\"Prob Pupae\")","v":0},null,null,"Sum of 17",0,17,{"$f":"AU385+GETPIVOTDATA(\"Sum of 17\",AR$2,\"Day  \",\"Prob Pupae\")","v":0},null,null,"Sum of 17",0,17,{"$f":"BA385+GETPIVOTDATA(\"Sum of 17\",AX$2,\"Day  \",\"Prob Pupae\")","v":0},null,null,"Sum of 17",0,17,{"$f":"BG385+GETPIVOTDATA(\"Sum of 17\",BD$2,\"Day  \",\"Prob Pupae\")","v":0}]
[null,"Sum of 18",0,18,{"$f":"E386+GETPIVOTDATA(\"Sum of 18\",$B$2,\"Day  \",\"Prob Pupae\")","v":1.691565711249793},null,null,"Sum of 18",0,18,{"$f":"K386+GETPIVOTDATA(\"Sum of 18\",H$2,\"Day  \",\"Prob Pupae\")","v":0.89965481761679944},null,null,"Sum of 18",0,18,{"$f":"Q386+GETPIVOTDATA(\"Sum of 18\",N$2,\"Day  \",\"Prob Pupae\")","v":1.2891376225680782},null,null,"Sum of 18",0,18,{"$f":"W386+GETPIVOTDATA(\"Sum of 18\",T$2,\"Day  \",\"Prob Pupae\")","v":1.0045013794991682},null,null,"Sum of 18",0,18,{"$f":"AC386+GETPIVOTDATA(\"Sum of 18\",Z$2,\"Day  \",\"Prob Pupae\")","v":1.4930236738913045},null,null,"Sum of 18",0,18,{"$f":"AI386+GETPIVOTDATA(\"Sum of 18\",AF$2,\"Day  \",\"Prob Pupae\")","v":2.0633326029678725},null,null,"Sum of 18",0,18,{"$f":"AO386+GETPIVOTDATA(\"Sum of 18\",AL$2,\"Day  \",\"Prob Pupae\")","v":0},null,null,"Sum of 18",0,18,{"$f":"AU386+GETPIVOTDATA(\"Sum of 18\",AR$2,\"Day  \",\"Prob Pupae\")","v":0},null,null,"Sum of 18",0,18,{"$f":"BA386+GETPIVOTDATA(\"Sum of 18\",AX$2,\"Day  \",\"Prob Pupae\")","v":0},null,null,"Sum of 18",0,18,{"$f":"BG386+GETPIVOTDATA(\"Sum of 18\",BD$2,\"Day  \",\"Prob Pupae\")","v":0}]
[null,"Sum of 19",0,19,{"$f":"E387+GETPIVOTDATA(\"Sum of 19\",$B$2,\"Day  \",\"Prob Pupae\")","v":1.691565711249793},null,null,"Sum of 19",0,19,{"$f":"K387+GETPIVOTDATA(\"Sum of 19\",H$2,\"Day  \",\"Prob Pupae\")","v":0.89965481761679944},null,null,"Sum of 19",0,19,{"$f":"Q387+GETPIVOTDATA(\"Sum of 19\",N$2,\"Day  \",\"Prob Pupae\")","v":1.2891376225680782},null,null,"Sum of 19",0,19,{"$f":"W387+GETPIVOTDATA(\"Sum of 19\",T$2,\"Day  \",\"Prob Pupae\")","v":1.0045013794991682},null,null,"Sum of 19",0,19,{"$f":"AC387+GETPIVOTDATA(\"Sum of 19\",Z$2,\"Day  \",\"Prob Pupae\")","v":1.4930236738913045},null,null,"Sum of 19",0,19,{"$f":"AI387+GETPIVOTDATA(\"Sum of 19\",AF$2,\"Day  \",\"Prob Pupae\")","v":2.0633326029678725},null,null,"Sum of 19",0,19,{"$f":"AO387+GETPIVOTDATA(\"Sum of 19\",AL$2,\"Day  \",\"Prob Pupae\")","v":0},null,null,"Sum of 19",0,19,{"$f":"AU387+GETPIVOTDATA(\"Sum of 19\",AR$2,\"Day  \",\"Prob Pupae\")","v":0},null,null,"Sum of 19",0,19,{"$f":"BA387+GETPIVOTDATA(\"Sum of 19\",AX$2,\"Day  \",\"Prob Pupae\")","v":0},null,null,"Sum of 19",0,19,{"$f":"BG387+GETPIVOTDATA(\"Sum of 19\",BD$2,\"Day  \",\"Prob Pupae\")","v":0}]
[null,"Sum of 20",0,20,{"$f":"E388+GETPIVOTDATA(\"Sum of 20\",$B$2,\"Day  \",\"Prob Pupae\")","v":1.691565711249793},null,null,"Sum of 20",0,20,{"$f":"K388+GETPIVOTDATA(\"Sum of 20\",H$2,\"Day  \",\"Prob Pupae\")","v":0.89965481761679944},null,null,"Sum of 20",0,20,{"$f":"Q388+GETPIVOTDATA(\"Sum of 20\",N$2,\"Day  \",\"Prob Pupae\")","v":1.2891376225680782},null,null,"Sum of 20",0,20,{"$f":"W388+GETPIVOTDATA(\"Sum of 20\",T$2,\"Day  \",\"Prob Pupae\")","v":1.0045013794991682},null,null,"Sum of 20",0,20,{"$f":"AC388+GETPIVOTDATA(\"Sum of 20\",Z$2,\"Day  \",\"Prob Pupae\")","v":1.4930236738913045},null,null,"Sum of 20",0,20,{"$f":"AI388+GETPIVOTDATA(\"Sum of 20\",AF$2,\"Day  \",\"Prob Pupae\")","v":2.0633326029678725},null,null,"Sum of 20",0,20,{"$f":"AO388+GETPIVOTDATA(\"Sum of 20\",AL$2,\"Day  \",\"Prob Pupae\")","v":0},null,null,"Sum of 20",0,20,{"$f":"AU388+GETPIVOTDATA(\"Sum of 20\",AR$2,\"Day  \",\"Prob Pupae\")","v":0},null,null,"Sum of 20",0,20,{"$f":"BA388+GETPIVOTDATA(\"Sum of 20\",AX$2,\"Day  \",\"Prob Pupae\")","v":0},null,null,"Sum of 20",0,20,{"$f":"BG388+GETPIVOTDATA(\"Sum of 20\",BD$2,\"Day  \",\"Prob Pupae\")","v":0}]
[null,"Sum of 21",0,21,{"$f":"E389+GETPIVOTDATA(\"Sum of 21\",$B$2,\"Day  \",\"Prob Pupae\")","v":1.691565711249793},null,null,"Sum of 21",0,21,{"$f":"K389+GETPIVOTDATA(\"Sum of 21\",H$2,\"Day  \",\"Prob Pupae\")","v":0.89965481761679944},null,null,"Sum of 21",0,21,{"$f":"Q389+GETPIVOTDATA(\"Sum of 21\",N$2,\"Day  \",\"Prob Pupae\")","v":1.2891376225680782},null,null,"Sum of 21",0,21,{"$f":"W389+GETPIVOTDATA(\"Sum of 21\",T$2,\"Day  \",\"Prob Pupae\")","v":1.0045013794991682},null,null,"Sum of 21",0,21,{"$f":"AC389+GETPIVOTDATA(\"Sum of 21\",Z$2,\"Day  \",\"Prob Pupae\")","v":1.4930236738913045},null,null,"Sum of 21",0,21,{"$f":"AI389+GETPIVOTDATA(\"Sum of 21\",AF$2,\"Day  \",\"Prob Pupae\")","v":2.0633326029678725},null,null,"Sum of 21",0,21,{"$f":"AO389+GETPIVOTDATA(\"Sum of 21\",AL$2,\"Day  \",\"Prob Pupae\")","v":0},null,null,"Sum of 21",0,21,{"$f":"AU389+GETPIVOTDATA(\"Sum of 21\",AR$2,\"Day  \",\"Prob Pupae\")","v":0},null,null,"Sum of 21",0,21,{"$f":"BA389+GETPIVOTDATA(\"Sum of 21\",AX$2,\"Day  \",\"Prob Pupae\")","v":0},null,null,"Sum of 21",0,21,{"$f":"BG389+GETPIVOTDATA(\"Sum of 21\",BD$2,\"Day  \",\"Prob Pupae\")","v":0}]
[null,"Sum of 22",0,22,{"$f":"E390+GETPIVOTDATA(\"Sum of 22\",$B$2,\"Day  \",\"Prob Pupae\")","v":1.691565711249793},null,null,"Sum of 22",0,22,{"$f":"K390+GETPIVOTDATA(\"Sum of 22\",H$2,\"Day  \",\"Prob Pupae\")","v":0.89965481761679944},null,null,"Sum of 22",0,22,{"$f":"Q390+GETPIVOTDATA(\"Sum of 22\",N$2,\"Day  \",\"Prob Pupae\")","v":1.2891376225680782},null,null,"Sum of 22",0,22,{"$f":"W390+GETPIVOTDATA(\"Sum of 22\",T$2,\"Day  \",\"Prob Pupae\")","v":1.0045013794991682},null,null,"Sum of 22",0,22,{"$f":"AC390+GETPIVOTDATA(\"Sum of 22\",Z$2,\"Day  \",\"Prob Pupae\")","v":1.4930236738913045},null,null,"Sum of 22",0,22,{"$f":"AI390+GETPIVOTDATA(\"Sum of 22\",AF$2,\"Day  \",\"Prob Pupae\")","v":2.0633326029678725},null,null,"Sum of 22",0,22,{"$f":"AO390+GETPIVOTDATA(\"Sum of 22\",AL$2,\"Day  \",\"Prob Pupae\")","v":0},null,null,"Sum of 22",0,22,{"$f":"AU390+GETPIVOTDATA(\"Sum of 22\",AR$2,\"Day  \",\"Prob Pupae\")","v":0},null,null,"Sum of 22",0,22,{"$f":"BA390+GETPIVOTDATA(\"Sum of 22\",AX$2,\"Day  \",\"Prob Pupae\")","v":0},null,null,"Sum of 22",0,22,{"$f":"BG390+GETPIVOTDATA(\"Sum of 22\",BD$2,\"Day  \",\"Prob Pupae\")","v":0}]
[null,"Sum of 23",0,23,{"$f":"E391+GETPIVOTDATA(\"Sum of 23\",$B$2,\"Day  \",\"Prob Pupae\")","v":1.691565711249793},null,null,"Sum of 23",0,23,{"$f":"K391+GETPIVOTDATA(\"Sum of 23\",H$2,\"Day  \",\"Prob Pupae\")","v":0.89965481761679944},null,null,"Sum of 23",0,23,{"$f":"Q391+GETPIVOTDATA(\"Sum of 23\",N$2,\"Day  \",\"Prob Pupae\")","v":1.2891376225680782},null,null,"Sum of 23",0,23,{"$f":"W391+GETPIVOTDATA(\"Sum of 23\",T$2,\"Day  \",\"Prob Pupae\")","v":1.0045013794991682},null,null,"Sum of 23",0,23,{"$f":"AC391+GETPIVOTDATA(\"Sum of 23\",Z$2,\"Day  \",\"Prob Pupae\")","v":1.4930236738913045},null,null,"Sum of 23",0,23,{"$f":"AI391+GETPIVOTDATA(\"Sum of 23\",AF$2,\"Day  \",\"Prob Pupae\")","v":2.0633326029678725},null,null,"Sum of 23",0,23,{"$f":"AO391+GETPIVOTDATA(\"Sum of 23\",AL$2,\"Day  \",\"Prob Pupae\")","v":0},null,null,"Sum of 23",0,23,{"$f":"AU391+GETPIVOTDATA(\"Sum of 23\",AR$2,\"Day  \",\"Prob Pupae\")","v":0},null,null,"Sum of 23",0,23,{"$f":"BA391+GETPIVOTDATA(\"Sum of 23\",AX$2,\"Day  \",\"Prob Pupae\")","v":0},null,null,"Sum of 23",0,23,{"$f":"BG391+GETPIVOTDATA(\"Sum of 23\",BD$2,\"Day  \",\"Prob Pupae\")","v":0}]
[null,"Sum of 24",0,24,{"$f":"E392+GETPIVOTDATA(\"Sum of 24\",$B$2,\"Day  \",\"Prob Pupae\")","v":1.691565711249793},null,null,"Sum of 24",0,24,{"$f":"K392+GETPIVOTDATA(\"Sum of 24\",H$2,\"Day  \",\"Prob Pupae\")","v":0.89965481761679944},null,null,"Sum of 24",0,24,{"$f":"Q392+GETPIVOTDATA(\"Sum of 24\",N$2,\"Day  \",\"Prob Pupae\")","v":1.2891376225680782},null,null,"Sum of 24",0,24,{"$f":"W392+GETPIVOTDATA(\"Sum of 24\",T$2,\"Day  \",\"Prob Pupae\")","v":1.0045013794991682},null,null,"Sum of 24",0,24,{"$f":"AC392+GETPIVOTDATA(\"Sum of 24\",Z$2,\"Day  \",\"Prob Pupae\")","v":1.4930236738913045},null,null,"Sum of 24",0,24,{"$f":"AI392+GETPIVOTDATA(\"Sum of 24\",AF$2,\"Day  \",\"Prob Pupae\")","v":2.0633326029678725},null,null,"Sum of 24",0,24,{"$f":"AO392+GETPIVOTDATA(\"Sum of 24\",AL$2,\"Day  \",\"Prob Pupae\")","v":0},null,null,"Sum of 24",0,24,{"$f":"AU392+GETPIVOTDATA(\"Sum of 24\",AR$2,\"Day  \",\"Prob Pupae\")","v":0},null,null,"Sum of 24",0,24,{"$f":"BA392+GETPIVOTDATA(\"Sum of 24\",AX$2,\"Day  \",\"Prob Pupae\")","v":0},null,null,"Sum of 24",0,24,{"$f":"BG392+GETPIVOTDATA(\"Sum of 24\",BD$2,\"Day  \",\"Prob Pupae\")","v":0}]
[null,"Sum of 25",0,25,{"$f":"E393+GETPIVOTDATA(\"Sum of 25\",$B$2,\"Day  \",\"Prob Pupae\")","v":1.691565711249793},null,null,"Sum of 25",0,25,{"$f":"K393+GETPIVOTDATA(\"Sum of 25\",H$2,\"Day  \",\"Prob Pupae\")","v":0.89965481761679944},null,null,"Sum of 25",0,25,{"$f":"Q393+GETPIVOTDATA(\"Sum of 25\",N$2,\"Day  \",\"Prob Pupae\")","v":1.2891376225680782},null,null,"Sum of 25",0,25,{"$f":"W393+GETPIVOTDATA(\"Sum of 25\",T$2,\"Day  \",\"Prob Pupae\")","v":1.0045013794991682},null,null,"Sum of 25",0,25,{"$f":"AC393+GETPIVOTDATA(\"Sum of 25\",Z$2,\"Day  \",\"Prob Pupae\")","v":1.4930236738913045},null,null,"Sum of 25",0,25,{"$f":"AI393+GETPIVOTDATA(\"Sum of 25\",AF$2,\"Day  \",\"Prob Pupae\")","v":2.0633326029678725},null,null,"Sum of 25",0,25,{"$f":"AO393+GETPIVOTDATA(\"Sum of 25\",AL$2,\"Day  \",\"Prob Pupae\")","v":0},null,null,"Sum of 25",0,25,{"$f":"AU393+GETPIVOTDATA(\"Sum of 25\",AR$2,\"Day  \",\"Prob Pupae\")","v":0},null,null,"Sum of 25",0,25,{"$f":"BA393+GETPIVOTDATA(\"Sum of 25\",AX$2,\"Day  \",\"Prob Pupae\")","v":0},null,null,"Sum of 25",0,25,{"$f":"BG393+GETPIVOTDATA(\"Sum of 25\",BD$2,\"Day  \",\"Prob Pupae\")","v":0}]
[null,"Sum of 26",0,26,{"$f":"E394+GETPIVOTDATA(\"Sum of 26\",$B$2,\"Day  \",\"Prob Pupae\")","v":1.691565711249793},null,null,"Sum of 26",0,26,{"$f":"K394+GETPIVOTDATA(\"Sum of 26\",H$2,\"Day  \",\"Prob Pupae\")","v":0.89965481761679944},null,null,"Sum of 26",0,26,{"$f":"Q394+GETPIVOTDATA(\"Sum of 26\",N$2,\"Day  \",\"Prob Pupae\")","v":1.2891376225680782},null,null,"Sum of 26",0,26,{"$f":"W394+GETPIVOTDATA(\"Sum of 26\",T$2,\"Day  \",\"Prob Pupae\")","v":1.0045013794991682},null,null,"Sum of 26",0,26,{"$f":"AC394+GETPIVOTDATA(\"Sum of 26\",Z$2,\"Day  \",\"Prob Pupae\")","v":1.4930236738913045},null,null,"Sum of 26",0,26,{"$f":"AI394+GETPIVOTDATA(\"Sum of 26\",AF$2,\"Day  \",\"Prob Pupae\")","v":2.0633326029678725},null,null,"Sum of 26",0,26,{"$f":"AO394+GETPIVOTDATA(\"Sum of 26\",AL$2,\"Day  \",\"Prob Pupae\")","v":0},null,null,"Sum of 26",0,26,{"$f":"AU394+GETPIVOTDATA(\"Sum of 26\",AR$2,\"Day  \",\"Prob Pupae\")","v":0},null,null,"Sum of 26",0,26,{"$f":"BA394+GETPIVOTDATA(\"Sum of 26\",AX$2,\"Day  \",\"Prob Pupae\")","v":0},null,null,"Sum of 26",0,26,{"$f":"BG394+GETPIVOTDATA(\"Sum of 26\",BD$2,\"Day  \",\"Prob Pupae\")","v":0}]
[null,"Sum of 27",0,27,{"$f":"E395+GETPIVOTDATA(\"Sum of 27\",$B$2,\"Day  \",\"Prob Pupae\")","v":1.691565711249793},null,null,"Sum of 27",0,27,{"$f":"K395+GETPIVOTDATA(\"Sum of 27\",H$2,\"Day  \",\"Prob Pupae\")","v":0.89965481761679944},null,null,"Sum of 27",0,27,{"$f":"Q395+GETPIVOTDATA(\"Sum of 27\",N$2,\"Day  \",\"Prob Pupae\")","v":1.2891376225680782},null,null,"Sum of 27",0,27,{"$f":"W395+GETPIVOTDATA(\"Sum of 27\",T$2,\"Day  \",\"Prob Pupae\")","v":1.0045013794991682},null,null,"Sum of 27",0,27,{"$f":"AC395+GETPIVOTDATA(\"Sum of 27\",Z$2,\"Day  \",\"Prob Pupae\")","v":1.4930236738913045},null,null,"Sum of 27",0,27,{"$f":"AI395+GETPIVOTDATA(\"Sum of 27\",AF$2,\"Day  \",\"Prob Pupae\")","v":2.0633326029678725},null,null,"Sum of 27",0,27,{"$f":"AO395+GETPIVOTDATA(\"Sum of 27\",AL$2,\"Day  \",\"Prob Pupae\")","v":0},null,null,"Sum of 27",0,27,{"$f":"AU395+GETPIVOTDATA(\"Sum of 27\",AR$2,\"Day  \",\"Prob Pupae\")","v":0},null,null,"Sum of 27",0,27,{"$f":"BA395+GETPIVOTDATA(\"Sum of 27\",AX$2,\"Day  \",\"Prob Pupae\")","v":0},null,null,"Sum of 27",0,27,{"$f":"BG395+GETPIVOTDATA(\"Sum of 27\",BD$2,\"Day  \",\"Prob Pupae\")","v":0}]
[null,"Sum of 28",0,28,{"$f":"E396+GETPIVOTDATA(\"Sum of 28\",$B$2,\"Day  \",\"Prob Pupae\")","v":1.691565711249793},null,null,"Sum of 28",0,28,{"$f":"K396+GETPIVOTDATA(\"Sum of 28\",H$2,\"Day  \",\"Prob Pupae\")","v":0.89965481761679944},null,null,"Sum of 28",0,28,{"$f":"Q396+GETPIVOTDATA(\"Sum of 28\",N$2,\"Day  \",\"Prob Pupae\")","v":1.2891376225680782},null,null,"Sum of 28",0,28,{"$f":"W396+GETPIVOTDATA(\"Sum of 28\",T$2,\"Day  \",\"Prob Pupae\")","v":1.0045013794991682},null,null,"Sum of 28",0,28,{"$f":"AC396+GETPIVOTDATA(\"Sum of 28\",Z$2,\"Day  \",\"Prob Pupae\")","v":1.4930236738913045},null,null,"Sum of 28",0,28,{"$f":"AI396+GETPIVOTDATA(\"Sum of 28\",AF$2,\"Day  \",\"Prob Pupae\")","v":2.0633326029678725},null,null,"Sum of 28",0,28,{"$f":"AO396+GETPIVOTDATA(\"Sum of 28\",AL$2,\"Day  \",\"Prob Pupae\")","v":0},null,null,"Sum of 28",0,28,{"$f":"AU396+GETPIVOTDATA(\"Sum of 28\",AR$2,\"Day  \",\"Prob Pupae\")","v":0},null,null,"Sum of 28",0,28,{"$f":"BA396+GETPIVOTDATA(\"Sum of 28\",AX$2,\"Day  \",\"Prob Pupae\")","v":0},null,null,"Sum of 28",0,28,{"$f":"BG396+GETPIVOTDATA(\"Sum of 28\",BD$2,\"Day  \",\"Prob Pupae\")","v":0}]
[null,"Sum of 29",0,29,{"$f":"E397+GETPIVOTDATA(\"Sum of 29\",$B$2,\"Day  \",\"Prob Pupae\")","v":1.691565711249793},null,null,"Sum of 29",0,29,{"$f":"K397+GETPIVOTDATA(\"Sum of 29\",H$2,\"Day  \",\"Prob Pupae\")","v":0.89965481761679944},null,null,"Sum of 29",0,29,{"$f":"Q397+GETPIVOTDATA(\"Sum of 29\",N$2,\"Day  \",\"Prob Pupae\")","v":1.2891376225680782},null,null,"Sum of 29",0,29,{"$f":"W397+GETPIVOTDATA(\"Sum of 29\",T$2,\"Day  \",\"Prob Pupae\")","v":1.0045013794991682},null,null,"Sum of 29",0,29,{"$f":"AC397+GETPIVOTDATA(\"Sum of 29\",Z$2,\"Day  \",\"Prob Pupae\")","v":1.4930236738913045},null,null,"Sum of 29",0,29,{"$f":"AI397+GETPIVOTDATA(\"Sum of 29\",AF$2,\"Day  \",\"Prob Pupae\")","v":2.0633326029678725},null,null,"Sum of 29",0,29,{"$f":"AO397+GETPIVOTDATA(\"Sum of 29\",AL$2,\"Day  \",\"Prob Pupae\")","v":0},null,null,"Sum of 29",0,29,{"$f":"AU397+GETPIVOTDATA(\"Sum of 29\",AR$2,\"Day  \",\"Prob Pupae\")","v":0},null,null,"Sum of 29",0,29,{"$f":"BA397+GETPIVOTDATA(\"Sum of 29\",AX$2,\"Day  \",\"Prob Pupae\")","v":0},null,null,"Sum of 29",0,29,{"$f":"BG397+GETPIVOTDATA(\"Sum of 29\",BD$2,\"Day  \",\"Prob Pupae\")","v":0}]
[null,"Sum of 30",0,30,{"$f":"E398+GETPIVOTDATA(\"Sum of 30\",$B$2,\"Day  \",\"Prob Pupae\")","v":1.691565711249793},null,null,"Sum of 30",0,30,{"$f":"K398+GETPIVOTDATA(\"Sum of 30\",H$2,\"Day  \",\"Prob Pupae\")","v":0.89965481761679944},null,null,"Sum of 30",0,30,{"$f":"Q398+GETPIVOTDATA(\"Sum of 30\",N$2,\"Day  \",\"Prob Pupae\")","v":1.2891376225680782},null,null,"Sum of 30",0,30,{"$f":"W398+GETPIVOTDATA(\"Sum of 30\",T$2,\"Day  \",\"Prob Pupae\")","v":1.0045013794991682},null,null,"Sum of 30",0,30,{"$f":"AC398+GETPIVOTDATA(\"Sum of 30\",Z$2,\"Day  \",\"Prob Pupae\")","v":1.4930236738913045},null,null,"Sum of 30",0,30,{"$f":"AI398+GETPIVOTDATA(\"Sum of 30\",AF$2,\"Day  \",\"Prob Pupae\")","v":2.0633326029678725},null,null,"Sum of 30",0,30,{"$f":"AO398+GETPIVOTDATA(\"Sum of 30\",AL$2,\"Day  \",\"Prob Pupae\")","v":0},null,null,"Sum of 30",0,30,{"$f":"AU398+GETPIVOTDATA(\"Sum of 30\",AR$2,\"Day  \",\"Prob Pupae\")","v":0},null,null,"Sum of 30",0,30,{"$f":"BA398+GETPIVOTDATA(\"Sum of 30\",AX$2,\"Day  \",\"Prob Pupae\")","v":0},null,null,"Sum of 30",0,30,{"$f":"BG398+GETPIVOTDATA(\"Sum of 30\",BD$2,\"Day  \",\"Prob Pupae\")","v":0}]
[null,"Sum of 31",0,31,{"$f":"E399+GETPIVOTDATA(\"Sum of 31\",$B$2,\"Day  \",\"Prob Pupae\")","v":1.691565711249793},null,null,"Sum of 31",0,31,{"$f":"K399+GETPIVOTDATA(\"Sum of 31\",H$2,\"Day  \",\"Prob Pupae\")","v":0.89965481761679944},null,null,"Sum of 31",0,31,{"$f":"Q399+GETPIVOTDATA(\"Sum of 31\",N$2,\"Day  \",\"Prob Pupae\")","v":1.2891376225680782},null,null,"Sum of 31",0,31,{"$f":"W399+GETPIVOTDATA(\"Sum of 31\",T$2,\"Day  \",\"Prob Pupae\")","v":1.0045013794991682},null,null,"Sum of 31",0,31,{"$f":"AC399+GETPIVOTDATA(\"Sum of 31\",Z$2,\"Day  \",\"Prob Pupae\")","v":1.4930236738913045},null,null,"Sum of 31",0,31,{"$f":"AI399+GETPIVOTDATA(\"Sum of 31\",AF$2,\"Day  \",\"Prob Pupae\")","v":2.0633326029678725},null,null,"Sum of 31",0,31,{"$f":"AO399+GETPIVOTDATA(\"Sum of 31\",AL$2,\"Day  \",\"Prob Pupae\")","v":0},null,null,"Sum of 31",0,31,{"$f":"AU399+GETPIVOTDATA(\"Sum of 31\",AR$2,\"Day  \",\"Prob Pupae\")","v":0},null,null,"Sum of 31",0,31,{"$f":"BA399+GETPIVOTDATA(\"Sum of 31\",AX$2,\"Day  \",\"Prob Pupae\")","v":0},null,null,"Sum of 31",0,31,{"$f":"BG399+GETPIVOTDATA(\"Sum of 31\",BD$2,\"Day  \",\"Prob Pupae\")","v":0}]
[null,"Sum of 32",0,32,{"$f":"E400+GETPIVOTDATA(\"Sum of 32\",$B$2,\"Day  \",\"Prob Pupae\")","v":1.691565711249793},null,null,"Sum of 32",0,32,{"$f":"K400+GETPIVOTDATA(\"Sum of 32\",H$2,\"Day  \",\"Prob Pupae\")","v":0.89965481761679944},null,null,"Sum of 32",0,32,{"$f":"Q400+GETPIVOTDATA(\"Sum of 32\",N$2,\"Day  \",\"Prob Pupae\")","v":1.2891376225680782},null,null,"Sum of 32",0,32,{"$f":"W400+GETPIVOTDATA(\"Sum of 32\",T$2,\"Day  \",\"Prob Pupae\")","v":1.0045013794991682},null,null,"Sum of 32",0,32,{"$f":"AC400+GETPIVOTDATA(\"Sum of 32\",Z$2,\"Day  \",\"Prob Pupae\")","v":1.4930236738913045},null,null,"Sum of 32",0,32,{"$f":"AI400+GETPIVOTDATA(\"Sum of 32\",AF$2,\"Day  \",\"Prob Pupae\")","v":2.0633326029678725},null,null,"Sum of 32",0,32,{"$f":"AO400+GETPIVOTDATA(\"Sum of 32\",AL$2,\"Day  \",\"Prob Pupae\")","v":0},null,null,"Sum of 32",0,32,{"$f":"AU400+GETPIVOTDATA(\"Sum of 32\",AR$2,\"Day  \",\"Prob Pupae\")","v":0},null,null,"Sum of 32",0,32,{"$f":"BA400+GETPIVOTDATA(\"Sum of 32\",AX$2,\"Day  \",\"Prob Pupae\")","v":0},null,null,"Sum of 32",0,32,{"$f":"BG400+GETPIVOTDATA(\"Sum of 32\",BD$2,\"Day  \",\"Prob Pupae\")","v":0}]
[null,"Sum of 33",0,33,{"$f":"E401+GETPIVOTDATA(\"Sum of 33\",$B$2,\"Day  \",\"Prob Pupae\")","v":1.691565711249793},null,null,"Sum of 33",0,33,{"$f":"K401+GETPIVOTDATA(\"Sum of 33\",H$2,\"Day  \",\"Prob Pupae\")","v":0.89965481761679944},null,null,"Sum of 33",0,33,{"$f":"Q401+GETPIVOTDATA(\"Sum of 33\",N$2,\"Day  \",\"Prob Pupae\")","v":1.2891376225680782},null,null,"Sum of 33",0,33,{"$f":"W401+GETPIVOTDATA(\"Sum of 33\",T$2,\"Day  \",\"Prob Pupae\")","v":1.0045013794991682},null,null,"Sum of 33",0,33,{"$f":"AC401+GETPIVOTDATA(\"Sum of 33\",Z$2,\"Day  \",\"Prob Pupae\")","v":1.4930236738913045},null,null,"Sum of 33",0,33,{"$f":"AI401+GETPIVOTDATA(\"Sum of 33\",AF$2,\"Day  \",\"Prob Pupae\")","v":2.0633326029678725},null,null,"Sum of 33",0,33,{"$f":"AO401+GETPIVOTDATA(\"Sum of 33\",AL$2,\"Day  \",\"Prob Pupae\")","v":0},null,null,"Sum of 33",0,33,{"$f":"AU401+GETPIVOTDATA(\"Sum of 33\",AR$2,\"Day  \",\"Prob Pupae\")","v":0},null,null,"Sum of 33",0,33,{"$f":"BA401+GETPIVOTDATA(\"Sum of 33\",AX$2,\"Day  \",\"Prob Pupae\")","v":0},null,null,"Sum of 33",0,33,{"$f":"BG401+GETPIVOTDATA(\"Sum of 33\",BD$2,\"Day  \",\"Prob Pupae\")","v":0}]
[null,"Sum of 34",0,34,{"$f":"E402+GETPIVOTDATA(\"Sum of 34\",$B$2,\"Day  \",\"Prob Pupae\")","v":1.691565711249793},null,null,"Sum of 34",0,34,{"$f":"K402+GETPIVOTDATA(\"Sum of 34\",H$2,\"Day  \",\"Prob Pupae\")","v":0.89965481761679944},null,null,"Sum of 34",0,34,{"$f":"Q402+GETPIVOTDATA(\"Sum of 34\",N$2,\"Day  \",\"Prob Pupae\")","v":1.2891376225680782},null,null,"Sum of 34",0,34,{"$f":"W402+GETPIVOTDATA(\"Sum of 34\",T$2,\"Day  \",\"Prob Pupae\")","v":1.0045013794991682},null,null,"Sum of 34",0,34,{"$f":"AC402+GETPIVOTDATA(\"Sum of 34\",Z$2,\"Day  \",\"Prob Pupae\")","v":1.4930236738913045},null,null,"Sum of 34",0,34,{"$f":"AI402+GETPIVOTDATA(\"Sum of 34\",AF$2,\"Day  \",\"Prob Pupae\")","v":2.0633326029678725},null,null,"Sum of 34",0,34,{"$f":"AO402+GETPIVOTDATA(\"Sum of 34\",AL$2,\"Day  \",\"Prob Pupae\")","v":0},null,null,"Sum of 34",0,34,{"$f":"AU402+GETPIVOTDATA(\"Sum of 34\",AR$2,\"Day  \",\"Prob Pupae\")","v":0},null,null,"Sum of 34",0,34,{"$f":"BA402+GETPIVOTDATA(\"Sum of 34\",AX$2,\"Day  \",\"Prob Pupae\")","v":0},null,null,"Sum of 34",0,34,{"$f":"BG402+GETPIVOTDATA(\"Sum of 34\",BD$2,\"Day  \",\"Prob Pupae\")","v":0}]
[null,"Sum of 35",0,35,{"$f":"E403+GETPIVOTDATA(\"Sum of 35\",$B$2,\"Day  \",\"Prob Pupae\")","v":1.691565711249793},null,null,"Sum of 35",0,35,{"$f":"K403+GETPIVOTDATA(\"Sum of 35\",H$2,\"Day  \",\"Prob Pupae\")","v":0.89965481761679944},null,null,"Sum of 35",0,35,{"$f":"Q403+GETPIVOTDATA(\"Sum of 35\",N$2,\"Day  \",\"Prob Pupae\")","v":1.2891376225680782},null,null,"Sum of 35",0,35,{"$f":"W403+GETPIVOTDATA(\"Sum of 35\",T$2,\"Day  \",\"Prob Pupae\")","v":1.0045013794991682},null,null,"Sum of 35",0,35,{"$f":"AC403+GETPIVOTDATA(\"Sum of 35\",Z$2,\"Day  \",\"Prob Pupae\")","v":1.4930236738913045},null,null,"Sum of 35",0,35,{"$f":"AI403+GETPIVOTDATA(\"Sum of 35\",AF$2,\"Day  \",\"Prob Pupae\")","v":2.0633326029678725},null,null,"Sum of 35",0,35,{"$f":"AO403+GETPIVOTDATA(\"Sum of 35\",AL$2,\"Day  \",\"Prob Pupae\")","v":0},null,null,"Sum of 35",0,35,{"$f":"AU403+GETPIVOTDATA(\"Sum of 35\",AR$2,\"Day  \",\"Prob Pupae\")","v":0},null,null,"Sum of 35",0,35,{"$f":"BA403+GETPIVOTDATA(\"Sum of 35\",AX$2,\"Day  \",\"Prob Pupae\")","v":0},null,null,"Sum of 35",0,35,{"$f":"BG403+GETPIVOTDATA(\"Sum of 35\",BD$2,\"Day  \",\"Prob Pupae\")","v":0}]
[null,"Sum of 36",0,36,{"$f":"E404+GETPIVOTDATA(\"Sum of 36\",$B$2,\"Day  \",\"Prob Pupae\")","v":1.691565711249793},null,null,"Sum of 36",0,36,{"$f":"K404+GETPIVOTDATA(\"Sum of 36\",H$2,\"Day  \",\"Prob Pupae\")","v":0.89965481761679944},null,null,"Sum of 36",0,36,{"$f":"Q404+GETPIVOTDATA(\"Sum of 36\",N$2,\"Day  \",\"Prob Pupae\")","v":1.2891376225680782},null,null,"Sum of 36",0,36,{"$f":"W404+GETPIVOTDATA(\"Sum of 36\",T$2,\"Day  \",\"Prob Pupae\")","v":1.0045013794991682},null,null,"Sum of 36",0,36,{"$f":"AC404+GETPIVOTDATA(\"Sum of 36\",Z$2,\"Day  \",\"Prob Pupae\")","v":1.4930236738913045},null,null,"Sum of 36",0,36,{"$f":"AI404+GETPIVOTDATA(\"Sum of 36\",AF$2,\"Day  \",\"Prob Pupae\")","v":2.0633326029678725},null,null,"Sum of 36",0,36,{"$f":"AO404+GETPIVOTDATA(\"Sum of 36\",AL$2,\"Day  \",\"Prob Pupae\")","v":0},null,null,"Sum of 36",0,36,{"$f":"AU404+GETPIVOTDATA(\"Sum of 36\",AR$2,\"Day  \",\"Prob Pupae\")","v":0},null,null,"Sum of 36",0,36,{"$f":"BA404+GETPIVOTDATA(\"Sum of 36\",AX$2,\"Day  \",\"Prob Pupae\")","v":0},null,null,"Sum of 36",0,36,{"$f":"BG404+GETPIVOTDATA(\"Sum of 36\",BD$2,\"Day  \",\"Prob Pupae\")","v":0}]
[null,"Sum of 37",0,37,{"$f":"E405+GETPIVOTDATA(\"Sum of 37\",$B$2,\"Day  \",\"Prob Pupae\")","v":1.691565711249793},null,null,"Sum of 37",0,37,{"$f":"K405+GETPIVOTDATA(\"Sum of 37\",H$2,\"Day  \",\"Prob Pupae\")","v":0.89965481761679944},null,null,"Sum of 37",0,37,{"$f":"Q405+GETPIVOTDATA(\"Sum of 37\",N$2,\"Day  \",\"Prob Pupae\")","v":1.2891376225680782},null,null,"Sum of 37",0,37,{"$f":"W405+GETPIVOTDATA(\"Sum of 37\",T$2,\"Day  \",\"Prob Pupae\")","v":1.0045013794991682},null,null,"Sum of 37",0,37,{"$f":"AC405+GETPIVOTDATA(\"Sum of 37\",Z$2,\"Day  \",\"Prob Pupae\")","v":1.4930236738913045},null,null,"Sum of 37",0,37,{"$f":"AI405+GETPIVOTDATA(\"Sum of 37\",AF$2,\"Day  \",\"Prob Pupae\")","v":2.0633326029678725},null,null,"Sum of 37",0,37,{"$f":"AO405+GETPIVOTDATA(\"Sum of 37\",AL$2,\"Day  \",\"Prob Pupae\")","v":0},null,null,"Sum of 37",0,37,{"$f":"AU405+GETPIVOTDATA(\"Sum of 37\",AR$2,\"Day  \",\"Prob Pupae\")","v":0},null,null,"Sum of 37",0,37,{"$f":"BA405+GETPIVOTDATA(\"Sum of 37\",AX$2,\"Day  \",\"Prob Pupae\")","v":0},null,null,"Sum of 37",0,37,{"$f":"BG405+GETPIVOTDATA(\"Sum of 37\",BD$2,\"Day  \",\"Prob Pupae\")","v":0}]
[null,"Sum of 38",0,38,{"$f":"E406+GETPIVOTDATA(\"Sum of 38\",$B$2,\"Day  \",\"Prob Pupae\")","v":1.691565711249793},null,null,"Sum of 38",0,38,{"$f":"K406+GETPIVOTDATA(\"Sum of 38\",H$2,\"Day  \",\"Prob Pupae\")","v":0.89965481761679944},null,null,"Sum of 38",0,38,{"$f":"Q406+GETPIVOTDATA(\"Sum of 38\",N$2,\"Day  \",\"Prob Pupae\")","v":1.2891376225680782},null,null,"Sum of 38",0,38,{"$f":"W406+GETPIVOTDATA(\"Sum of 38\",T$2,\"Day  \",\"Prob Pupae\")","v":1.0045013794991682},null,null,"Sum of 38",0,38,{"$f":"AC406+GETPIVOTDATA(\"Sum of 38\",Z$2,\"Day  \",\"Prob Pupae\")","v":1.4930236738913045},null,null,"Sum of 38",0,38,{"$f":"AI406+GETPIVOTDATA(\"Sum of 38\",AF$2,\"Day  \",\"Prob Pupae\")","v":2.0633326029678725},null,null,"Sum of 38",0,38,{"$f":"AO406+GETPIVOTDATA(\"Sum of 38\",AL$2,\"Day  \",\"Prob Pupae\")","v":0},null,null,"Sum of 38",0,38,{"$f":"AU406+GETPIVOTDATA(\"Sum of 38\",AR$2,\"Day  \",\"Prob Pupae\")","v":0},null,null,"Sum of 38",0,38,{"$f":"BA406+GETPIVOTDATA(\"Sum of 38\",AX$2,\"Day  \",\"Prob Pupae\")","v":0},null,null,"Sum of 38",0,38,{"$f":"BG406+GETPIVOTDATA(\"Sum of 38\",BD$2,\"Day  \",\"Prob Pupae\")","v":0}]
[null,"Sum of 39",0,39,{"$f":"E407+GETPIVOTDATA(\"Sum of 39\",$B$2,\"Day  \",\"Prob Pupae\")","v":1.691565711249793},null,null,"Sum of 39",0,39,{"$f":"K407+GETPIVOTDATA(\"Sum of 39\",H$2,\"Day  \",\"Prob Pupae\")","v":0.89965481761679944},null,null,"Sum of 39",0,39,{"$f":"Q407+GETPIVOTDATA(\"Sum of 39\",N$2,\"Day  \",\"Prob Pupae\")","v":1.2891376225680782},null,null,"Sum of 39",0,39,{"$f":"W407+GETPIVOTDATA(\"Sum of 39\",T$2,\"Day  \",\"Prob Pupae\")","v":1.0045013794991682},null,null,"Sum of 39",0,39,{"$f":"AC407+GETPIVOTDATA(\"Sum of 39\",Z$2,\"Day  \",\"Prob Pupae\")","v":1.4930236738913045},null,null,"Sum of 39",0,39,{"$f":"AI407+GETPIVOTDATA(\"Sum of 39\",AF$2,\"Day  \",\"Prob Pupae\")","v":2.0633326029678725},null,null,"Sum of 39",0,39,{"$f":"AO407+GETPIVOTDATA(\"Sum of 39\",AL$2,\"Day  \",\"Prob Pupae\")","v":0},null,null,"Sum of 39",0,39,{"$f":"AU407+GETPIVOTDATA(\"Sum of 39\",AR$2,\"Day  \",\"Prob Pupae\")","v":0},null,null,"Sum of 39",0,39,{"$f":"BA407+GETPIVOTDATA(\"Sum of 39\",AX$2,\"Day  \",\"Prob Pupae\")","v":0},null,null,"Sum of 39",0,39,{"$f":"BG407+GETPIVOTDATA(\"Sum of 39\",BD$2,\"Day  \",\"Prob Pupae\")","v":0}]
[null,"Sum of 40",0,40,{"$f":"E408+GETPIVOTDATA(\"Sum of 40\",$B$2,\"Day  \",\"Prob Pupae\")","v":1.691565711249793},null,null,"Sum of 40",0,40,{"$f":"K408+GETPIVOTDATA(\"Sum of 40\",H$2,\"Day  \",\"Prob Pupae\")","v":0.89965481761679944},null,null,"Sum of 40",0,40,{"$f":"Q408+GETPIVOTDATA(\"Sum of 40\",N$2,\"Day  \",\"Prob Pupae\")","v":1.2891376225680782},null,null,"Sum of 40",0,40,{"$f":"W408+GETPIVOTDATA(\"Sum of 40\",T$2,\"Day  \",\"Prob Pupae\")","v":1.0045013794991682},null,null,"Sum of 40",0,40,{"$f":"AC408+GETPIVOTDATA(\"Sum of 40\",Z$2,\"Day  \",\"Prob Pupae\")","v":1.4930236738913045},null,null,"Sum of 40",0,40,{"$f":"AI408+GETPIVOTDATA(\"Sum of 40\",AF$2,\"Day  \",\"Prob Pupae\")","v":2.0633326029678725},null,null,"Sum of 40",0,40,{"$f":"AO408+GETPIVOTDATA(\"Sum of 40\",AL$2,\"Day  \",\"Prob Pupae\")","v":0},null,null,"Sum of 40",0,40,{"$f":"AU408+GETPIVOTDATA(\"Sum of 40\",AR$2,\"Day  \",\"Prob Pupae\")","v":0},null,null,"Sum of 40",0,40,{"$f":"BA408+GETPIVOTDATA(\"Sum of 40\",AX$2,\"Day  \",\"Prob Pupae\")","v":0},null,null,"Sum of 40",0,40,{"$f":"BG408+GETPIVOTDATA(\"Sum of 40\",BD$2,\"Day  \",\"Prob Pupae\")","v":0}]
[null,"Sum of 41",0,41,{"$f":"E409+GETPIVOTDATA(\"Sum of 41\",$B$2,\"Day  \",\"Prob Pupae\")","v":1.691565711249793},null,null,"Sum of 41",0,41,{"$f":"K409+GETPIVOTDATA(\"Sum of 41\",H$2,\"Day  \",\"Prob Pupae\")","v":0.89965481761679944},null,null,"Sum of 41",0,41,{"$f":"Q409+GETPIVOTDATA(\"Sum of 41\",N$2,\"Day  \",\"Prob Pupae\")","v":1.2891376225680782},null,null,"Sum of 41",0,41,{"$f":"W409+GETPIVOTDATA(\"Sum of 41\",T$2,\"Day  \",\"Prob Pupae\")","v":1.0045013794991682},null,null,"Sum of 41",0,41,{"$f":"AC409+GETPIVOTDATA(\"Sum of 41\",Z$2,\"Day  \",\"Prob Pupae\")","v":1.4930236738913045},null,null,"Sum of 41",0,41,{"$f":"AI409+GETPIVOTDATA(\"Sum of 41\",AF$2,\"Day  \",\"Prob Pupae\")","v":2.0633326029678725},null,null,"Sum of 41",0,41,{"$f":"AO409+GETPIVOTDATA(\"Sum of 41\",AL$2,\"Day  \",\"Prob Pupae\")","v":0},null,null,"Sum of 41",0,41,{"$f":"AU409+GETPIVOTDATA(\"Sum of 41\",AR$2,\"Day  \",\"Prob Pupae\")","v":0},null,null,"Sum of 41",0,41,{"$f":"BA409+GETPIVOTDATA(\"Sum of 41\",AX$2,\"Day  \",\"Prob Pupae\")","v":0},null,null,"Sum of 41",0,41,{"$f":"BG409+GETPIVOTDATA(\"Sum of 41\",BD$2,\"Day  \",\"Prob Pupae\")","v":0}]
[null,"Sum of 42",0,42,{"$f":"E410+GETPIVOTDATA(\"Sum of 42\",$B$2,\"Day  \",\"Prob Pupae\")","v":1.691565711249793},null,null,"Sum of 42",0,42,{"$f":"K410+GETPIVOTDATA(\"Sum of 42\",H$2,\"Day  \",\"Prob Pupae\")","v":0.89965481761679944},null,null,"Sum of 42",0,42,{"$f":"Q410+GETPIVOTDATA(\"Sum of 42\",N$2,\"Day  \",\"Prob Pupae\")","v":1.2891376225680782},null,null,"Sum of 42",0,42,{"$f":"W410+GETPIVOTDATA(\"Sum of 42\",T$2,\"Day  \",\"Prob Pupae\")","v":1.0045013794991682},null,null,"Sum of 42",0,42,{"$f":"AC410+GETPIVOTDATA(\"Sum of 42\",Z$2,\"Day  \",\"Prob Pupae\")","v":1.4930236738913045},null,null,"Sum of 42",0,42,{"$f":"AI410+GETPIVOTDATA(\"Sum of 42\",AF$2,\"Day  \",\"Prob Pupae\")","v":2.0633326029678725},null,null,"Sum of 42",0,42,{"$f":"AO410+GETPIVOTDATA(\"Sum of 42\",AL$2,\"Day  \",\"Prob Pupae\")","v":0},null,null,"Sum of 42",0,42,{"$f":"AU410+GETPIVOTDATA(\"Sum of 42\",AR$2,\"Day  \",\"Prob Pupae\")","v":0},null,null,"Sum of 42",0,42,{"$f":"BA410+GETPIVOTDATA(\"Sum of 42\",AX$2,\"Day  \",\"Prob Pupae\")","v":0},null,null,"Sum of 42",0,42,{"$f":"BG410+GETPIVOTDATA(\"Sum of 42\",BD$2,\"Day  \",\"Prob Pupae\")","v":0}]
[null,"Sum of 43",0,43,{"$f":"E411+GETPIVOTDATA(\"Sum of 43\",$B$2,\"Day  \",\"Prob Pupae\")","v":1.691565711249793},null,null,"Sum of 43",0,43,{"$f":"K411+GETPIVOTDATA(\"Sum of 43\",H$2,\"Day  \",\"Prob Pupae\")","v":0.89965481761679944},null,null,"Sum of 43",0,43,{"$f":"Q411+GETPIVOTDATA(\"Sum of 43\",N$2,\"Day  \",\"Prob Pupae\")","v":1.2891376225680782},null,null,"Sum of 43",0,43,{"$f":"W411+GETPIVOTDATA(\"Sum of 43\",T$2,\"Day  \",\"Prob Pupae\")","v":1.0045013794991682},null,null,"Sum of 43",0,43,{"$f":"AC411+GETPIVOTDATA(\"Sum of 43\",Z$2,\"Day  \",\"Prob Pupae\")","v":1.4930236738913045},null,null,"Sum of 43",0,43,{"$f":"AI411+GETPIVOTDATA(\"Sum of 43\",AF$2,\"Day  \",\"Prob Pupae\")","v":2.0633326029678725},null,null,"Sum of 43",0,43,{"$f":"AO411+GETPIVOTDATA(\"Sum of 43\",AL$2,\"Day  \",\"Prob Pupae\")","v":0},null,null,"Sum of 43",0,43,{"$f":"AU411+GETPIVOTDATA(\"Sum of 43\",AR$2,\"Day  \",\"Prob Pupae\")","v":0},null,null,"Sum of 43",0,43,{"$f":"BA411+GETPIVOTDATA(\"Sum of 43\",AX$2,\"Day  \",\"Prob Pupae\")","v":0},null,null,"Sum of 43",0,43,{"$f":"BG411+GETPIVOTDATA(\"Sum of 43\",BD$2,\"Day  \",\"Prob Pupae\")","v":0}]
[null,"Sum of 44",0,44,{"$f":"E412+GETPIVOTDATA(\"Sum of 44\",$B$2,\"Day  \",\"Prob Pupae\")","v":1.691565711249793},null,null,"Sum of 44",0,44,{"$f":"K412+GETPIVOTDATA(\"Sum of 44\",H$2,\"Day  \",\"Prob Pupae\")","v":0.89965481761679944},null,null,"Sum of 44",0,44,{"$f":"Q412+GETPIVOTDATA(\"Sum of 44\",N$2,\"Day  \",\"Prob Pupae\")","v":1.2891376225680782},null,null,"Sum of 44",0,44,{"$f":"W412+GETPIVOTDATA(\"Sum of 44\",T$2,\"Day  \",\"Prob Pupae\")","v":1.0045013794991682},null,null,"Sum of 44",0,44,{"$f":"AC412+GETPIVOTDATA(\"Sum of 44\",Z$2,\"Day  \",\"Prob Pupae\")","v":1.4930236738913045},null,null,"Sum of 44",0,44,{"$f":"AI412+GETPIVOTDATA(\"Sum of 44\",AF$2,\"Day  \",\"Prob Pupae\")","v":2.0633326029678725},null,null,"Sum of 44",0,44,{"$f":"AO412+GETPIVOTDATA(\"Sum of 44\",AL$2,\"Day  \",\"Prob Pupae\")","v":0},null,null,"Sum of 44",0,44,{"$f":"AU412+GETPIVOTDATA(\"Sum of 44\",AR$2,\"Day  \",\"Prob Pupae\")","v":0},null,null,"Sum of 44",0,44,{"$f":"BA412+GETPIVOTDATA(\"Sum of 44\",AX$2,\"Day  \",\"Prob Pupae\")","v":0},null,null,"Sum of 44",0,44,{"$f":"BG412+GETPIVOTDATA(\"Sum of 44\",BD$2,\"Day  \",\"Prob Pupae\")","v":0}]
[null,"Sum of 45",0,45,{"$f":"E413+GETPIVOTDATA(\"Sum of 45\",$B$2,\"Day  \",\"Prob Pupae\")","v":1.691565711249793},null,null,"Sum of 45",0,45,{"$f":"K413+GETPIVOTDATA(\"Sum of 45\",H$2,\"Day  \",\"Prob Pupae\")","v":0.89965481761679944},null,null,"Sum of 45",0,45,{"$f":"Q413+GETPIVOTDATA(\"Sum of 45\",N$2,\"Day  \",\"Prob Pupae\")","v":1.2891376225680782},null,null,"Sum of 45",0,45,{"$f":"W413+GETPIVOTDATA(\"Sum of 45\",T$2,\"Day  \",\"Prob Pupae\")","v":1.0045013794991682},null,null,"Sum of 45",0,45,{"$f":"AC413+GETPIVOTDATA(\"Sum of 45\",Z$2,\"Day  \",\"Prob Pupae\")","v":1.4930236738913045},null,null,"Sum of 45",0,45,{"$f":"AI413+GETPIVOTDATA(\"Sum of 45\",AF$2,\"Day  \",\"Prob Pupae\")","v":2.0633326029678725},null,null,"Sum of 45",0,45,{"$f":"AO413+GETPIVOTDATA(\"Sum of 45\",AL$2,\"Day  \",\"Prob Pupae\")","v":0},null,null,"Sum of 45",0,45,{"$f":"AU413+GETPIVOTDATA(\"Sum of 45\",AR$2,\"Day  \",\"Prob Pupae\")","v":0},null,null,"Sum of 45",0,45,{"$f":"BA413+GETPIVOTDATA(\"Sum of 45\",AX$2,\"Day  \",\"Prob Pupae\")","v":0},null,null,"Sum of 45",0,45,{"$f":"BG413+GETPIVOTDATA(\"Sum of 45\",BD$2,\"Day  \",\"Prob Pupae\")","v":0}]
[null,"Sum of 47",0,46,{"$f":"E414+GETPIVOTDATA(\"Sum of 46\",$B$2,\"Day  \",\"Prob Pupae\")","v":1.691565711249793},null,null,"Sum of 46",0,46,{"$f":"K414+GETPIVOTDATA(\"Sum of 46\",H$2,\"Day  \",\"Prob Pupae\")","v":0.89965481761679944},null,null,"Sum of 46",0,46,{"$f":"Q414+GETPIVOTDATA(\"Sum of 46\",N$2,\"Day  \",\"Prob Pupae\")","v":1.2891376225680782},null,null,"Sum of 46",0,46,{"$f":"W414+GETPIVOTDATA(\"Sum of 46\",T$2,\"Day  \",\"Prob Pupae\")","v":1.0045013794991682},null,null,"Sum of 46",0,46,{"$f":"AC414+GETPIVOTDATA(\"Sum of 46\",Z$2,\"Day  \",\"Prob Pupae\")","v":1.4930236738913045},null,null,"Sum of 46",0,46,{"$f":"AI414+GETPIVOTDATA(\"Sum of 46\",AF$2,\"Day  \",\"Prob Pupae\")","v":2.0633326029678725},null,null,"Sum of 46",0,46,{"$f":"AO414+GETPIVOTDATA(\"Sum of 46\",AL$2,\"Day  \",\"Prob Pupae\")","v":0},null,null,"Sum of 46",0,46,{"$f":"AU414+GETPIVOTDATA(\"Sum of 46\",AR$2,\"Day  \",\"Prob Pupae\")","v":0},null,null,"Sum of 46",0,46,{"$f":"BA414+GETPIVOTDATA(\"Sum of 46\",AX$2,\"Day  \",\"Prob Pupae\")","v":0},null,null,"Sum of 46",0,46,{"$f":"BG414+GETPIVOTDATA(\"Sum of 46\",BD$2,\"Day  \",\"Prob Pupae\")","v":0}]
[null,"Sum of 46",0,47,{"$f":"E415+GETPIVOTDATA(\"Sum of 47\",$B$2,\"Day  \",\"Prob Pupae\")","v":1.691565711249793},null,null,"Sum of 47",0,47,{"$f":"K415+GETPIVOTDATA(\"Sum of 47\",H$2,\"Day  \",\"Prob Pupae\")","v":0.89965481761679944},null,null,"Sum of 47",0,47,{"$f":"Q415+GETPIVOTDATA(\"Sum of 47\",N$2,\"Day  \",\"Prob Pupae\")","v":1.2891376225680782},null,null,"Sum of 47",0,47,{"$f":"W415+GETPIVOTDATA(\"Sum of 47\",T$2,\"Day  \",\"Prob Pupae\")","v":1.0045013794991682},null,null,"Sum of 47",0,47,{"$f":"AC415+GETPIVOTDATA(\"Sum of 47\",Z$2,\"Day  \",\"Prob Pupae\")","v":1.4930236738913045},null,null,"Sum of 47",0,47,{"$f":"AI415+GETPIVOTDATA(\"Sum of 47\",AF$2,\"Day  \",\"Prob Pupae\")","v":2.0633326029678725},null,null,"Sum of 47",0,47,{"$f":"AO415+GETPIVOTDATA(\"Sum of 47\",AL$2,\"Day  \",\"Prob Pupae\")","v":0},null,null,"Sum of 47",0,47,{"$f":"AU415+GETPIVOTDATA(\"Sum of 47\",AR$2,\"Day  \",\"Prob Pupae\")","v":0},null,null,"Sum of 47",0,47,{"$f":"BA415+GETPIVOTDATA(\"Sum of 47\",AX$2,\"Day  \",\"Prob Pupae\")","v":0},null,null,"Sum of 47",0,47,{"$f":"BG415+GETPIVOTDATA(\"Sum of 47\",BD$2,\"Day  \",\"Prob Pupae\")","v":0}]
[null,"Sum of 48",0,48,{"$f":"E416+GETPIVOTDATA(\"Sum of 48\",$B$2,\"Day  \",\"Prob Pupae\")","v":1.691565711249793},null,null,"Sum of 48",0,48,{"$f":"K416+GETPIVOTDATA(\"Sum of 48\",H$2,\"Day  \",\"Prob Pupae\")","v":0.89965481761679944},null,null,"Sum of 48",0,48,{"$f":"Q416+GETPIVOTDATA(\"Sum of 48\",N$2,\"Day  \",\"Prob Pupae\")","v":1.2891376225680782},null,null,"Sum of 48",0,48,{"$f":"W416+GETPIVOTDATA(\"Sum of 48\",T$2,\"Day  \",\"Prob Pupae\")","v":1.0045013794991682},null,null,"Sum of 48",0,48,{"$f":"AC416+GETPIVOTDATA(\"Sum of 48\",Z$2,\"Day  \",\"Prob Pupae\")","v":1.4930236738913045},null,null,"Sum of 48",0,48,{"$f":"AI416+GETPIVOTDATA(\"Sum of 48\",AF$2,\"Day  \",\"Prob Pupae\")","v":2.0633326029678725},null,null,"Sum of 48",0,48,{"$f":"AO416+GETPIVOTDATA(\"Sum of 48\",AL$2,\"Day  \",\"Prob Pupae\")","v":0},null,null,"Sum of 48",0,48,{"$f":"AU416+GETPIVOTDATA(\"Sum of 48\",AR$2,\"Day  \",\"Prob Pupae\")","v":0},null,null,"Sum of 48",0,48,{"$f":"BA416+GETPIVOTDATA(\"Sum of 48\",AX$2,\"Day  \",\"Prob Pupae\")","v":0},null,null,"Sum of 48",0,48,{"$f":"BG416+GETPIVOTDATA(\"Sum of 48\",BD$2,\"Day  \",\"Prob Pupae\")","v":0}]
[null,"Sum of 49",0,49,{"$f":"E417+GETPIVOTDATA(\"Sum of 49\",$B$2,\"Day  \",\"Prob Pupae\")","v":1.691565711249793},null,null,"Sum of 49",0,49,{"$f":"K417+GETPIVOTDATA(\"Sum of 49\",H$2,\"Day  \",\"Prob Pupae\")","v":0.89965481761679944},null,null,"Sum of 49",0,49,{"$f":"Q417+GETPIVOTDATA(\"Sum of 49\",N$2,\"Day  \",\"Prob Pupae\")","v":1.2891376225680782},null,null,"Sum of 49",0,49,{"$f":"W417+GETPIVOTDATA(\"Sum of 49\",T$2,\"Day  \",\"Prob Pupae\")","v":1.0045013794991682},null,null,"Sum of 49",0,49,{"$f":"AC417+GETPIVOTDATA(\"Sum of 49\",Z$2,\"Day  \",\"Prob Pupae\")","v":1.4930236738913045},null,null,"Sum of 49",0,49,{"$f":"AI417+GETPIVOTDATA(\"Sum of 49\",AF$2,\"Day  \",\"Prob Pupae\")","v":2.0633326029678725},null,null,"Sum of 49",0,49,{"$f":"AO417+GETPIVOTDATA(\"Sum of 49\",AL$2,\"Day  \",\"Prob Pupae\")","v":0},null,null,"Sum of 49",0,49,{"$f":"AU417+GETPIVOTDATA(\"Sum of 49\",AR$2,\"Day  \",\"Prob Pupae\")","v":0},null,null,"Sum of 49",0,49,{"$f":"BA417+GETPIVOTDATA(\"Sum of 49\",AX$2,\"Day  \",\"Prob Pupae\")","v":0},null,null,"Sum of 49",0,49,{"$f":"BG417+GETPIVOTDATA(\"Sum of 49\",BD$2,\"Day  \",\"Prob Pupae\")","v":0}]
[null,"Sum of 50",0,50,{"$f":"E418+GETPIVOTDATA(\"Sum of 50\",$B$2,\"Day  \",\"Prob Pupae\")","v":1.691565711249793},null,null,"Sum of 50",0,50,{"$f":"K418+GETPIVOTDATA(\"Sum of 50\",H$2,\"Day  \",\"Prob Pupae\")","v":0.89965481761679944},null,null,"Sum of 50",0,50,{"$f":"Q418+GETPIVOTDATA(\"Sum of 50\",N$2,\"Day  \",\"Prob Pupae\")","v":1.2891376225680782},null,null,"Sum of 50",0,50,{"$f":"W418+GETPIVOTDATA(\"Sum of 50\",T$2,\"Day  \",\"Prob Pupae\")","v":1.0045013794991682},null,null,"Sum of 50",0,50,{"$f":"AC418+GETPIVOTDATA(\"Sum of 50\",Z$2,\"Day  \",\"Prob Pupae\")","v":1.4930236738913045},null,null,"Sum of 50",0,50,{"$f":"AI418+GETPIVOTDATA(\"Sum of 50\",AF$2,\"Day  \",\"Prob Pupae\")","v":2.0633326029678725},null,null,"Sum of 50",0,50,{"$f":"AO418+GETPIVOTDATA(\"Sum of 50\",AL$2,\"Day  \",\"Prob Pupae\")","v":0},null,null,"Sum of 50",0,50,{"$f":"AU418+GETPIVOTDATA(\"Sum of 50\",AR$2,\"Day  \",\"Prob Pupae\")","v":0},null,null,"Sum of 50",0,50,{"$f":"BA418+GETPIVOTDATA(\"Sum of 50\",AX$2,\"Day  \",\"Prob Pupae\")","v":0},null,null,"Sum of 50",0,50,{"$f":"BG418+GETPIVOTDATA(\"Sum of 50\",BD$2,\"Day  \",\"Prob Pupae\")","v":0}]
[null,"Sum of 51",0,51,{"$f":"E419+GETPIVOTDATA(\"Sum of 51\",$B$2,\"Day  \",\"Prob Pupae\")","v":1.691565711249793},null,null,"Sum of 51",0,51,{"$f":"K419+GETPIVOTDATA(\"Sum of 51\",H$2,\"Day  \",\"Prob Pupae\")","v":0.89965481761679944},null,null,"Sum of 51",0,51,{"$f":"Q419+GETPIVOTDATA(\"Sum of 51\",N$2,\"Day  \",\"Prob Pupae\")","v":1.2891376225680782},null,null,"Sum of 51",0,51,{"$f":"W419+GETPIVOTDATA(\"Sum of 51\",T$2,\"Day  \",\"Prob Pupae\")","v":1.0045013794991682},null,null,"Sum of 51",0,51,{"$f":"AC419+GETPIVOTDATA(\"Sum of 51\",Z$2,\"Day  \",\"Prob Pupae\")","v":1.4930236738913045},null,null,"Sum of 51",0,51,{"$f":"AI419+GETPIVOTDATA(\"Sum of 51\",AF$2,\"Day  \",\"Prob Pupae\")","v":2.0633326029678725},null,null,"Sum of 51",0,51,{"$f":"AO419+GETPIVOTDATA(\"Sum of 51\",AL$2,\"Day  \",\"Prob Pupae\")","v":0},null,null,"Sum of 51",0,51,{"$f":"AU419+GETPIVOTDATA(\"Sum of 51\",AR$2,\"Day  \",\"Prob Pupae\")","v":0},null,null,"Sum of 51",0,51,{"$f":"BA419+GETPIVOTDATA(\"Sum of 51\",AX$2,\"Day  \",\"Prob Pupae\")","v":0},null,null,"Sum of 51",0,51,{"$f":"BG419+GETPIVOTDATA(\"Sum of 51\",BD$2,\"Day  \",\"Prob Pupae\")","v":0}]
[null,"Sum of 52",0,52,{"$f":"E420+GETPIVOTDATA(\"Sum of 52\",$B$2,\"Day  \",\"Prob Pupae\")","v":1.691565711249793},null,null,"Sum of 52",0,52,{"$f":"K420+GETPIVOTDATA(\"Sum of 52\",H$2,\"Day  \",\"Prob Pupae\")","v":0.89965481761679944},null,null,"Sum of 52",0,52,{"$f":"Q420+GETPIVOTDATA(\"Sum of 52\",N$2,\"Day  \",\"Prob Pupae\")","v":1.2891376225680782},null,null,"Sum of 52",0,52,{"$f":"W420+GETPIVOTDATA(\"Sum of 52\",T$2,\"Day  \",\"Prob Pupae\")","v":1.0045013794991682},null,null,"Sum of 52",0,52,{"$f":"AC420+GETPIVOTDATA(\"Sum of 52\",Z$2,\"Day  \",\"Prob Pupae\")","v":1.4930236738913045},null,null,"Sum of 52",0,52,{"$f":"AI420+GETPIVOTDATA(\"Sum of 52\",AF$2,\"Day  \",\"Prob Pupae\")","v":2.0633326029678725},null,null,"Sum of 52",0,52,{"$f":"AO420+GETPIVOTDATA(\"Sum of 52\",AL$2,\"Day  \",\"Prob Pupae\")","v":0},null,null,"Sum of 52",0,52,{"$f":"AU420+GETPIVOTDATA(\"Sum of 52\",AR$2,\"Day  \",\"Prob Pupae\")","v":0},null,null,"Sum of 52",0,52,{"$f":"BA420+GETPIVOTDATA(\"Sum of 52\",AX$2,\"Day  \",\"Prob Pupae\")","v":0},null,null,"Sum of 52",0,52,{"$f":"BG420+GETPIVOTDATA(\"Sum of 52\",BD$2,\"Day  \",\"Prob Pupae\")","v":0}]
[null,"Sum of 53",0,53,{"$f":"E421+GETPIVOTDATA(\"Sum of 53\",$B$2,\"Day  \",\"Prob Pupae\")","v":1.691565711249793},null,null,"Sum of 53",0,53,{"$f":"K421+GETPIVOTDATA(\"Sum of 53\",H$2,\"Day  \",\"Prob Pupae\")","v":0.89965481761679944},null,null,"Sum of 53",0,53,{"$f":"Q421+GETPIVOTDATA(\"Sum of 53\",N$2,\"Day  \",\"Prob Pupae\")","v":1.2891376225680782},null,null,"Sum of 53",0,53,{"$f":"W421+GETPIVOTDATA(\"Sum of 53\",T$2,\"Day  \",\"Prob Pupae\")","v":1.0045013794991682},null,null,"Sum of 53",0,53,{"$f":"AC421+GETPIVOTDATA(\"Sum of 53\",Z$2,\"Day  \",\"Prob Pupae\")","v":1.4930236738913045},null,null,"Sum of 53",0,53,{"$f":"AI421+GETPIVOTDATA(\"Sum of 53\",AF$2,\"Day  \",\"Prob Pupae\")","v":2.0633326029678725},null,null,"Sum of 53",0,53,{"$f":"AO421+GETPIVOTDATA(\"Sum of 53\",AL$2,\"Day  \",\"Prob Pupae\")","v":0},null,null,"Sum of 53",0,53,{"$f":"AU421+GETPIVOTDATA(\"Sum of 53\",AR$2,\"Day  \",\"Prob Pupae\")","v":0},null,null,"Sum of 53",0,53,{"$f":"BA421+GETPIVOTDATA(\"Sum of 53\",AX$2,\"Day  \",\"Prob Pupae\")","v":0},null,null,"Sum of 53",0,53,{"$f":"BG421+GETPIVOTDATA(\"Sum of 53\",BD$2,\"Day  \",\"Prob Pupae\")","v":0}]
[null,"Sum of 54",0,54,{"$f":"E422+GETPIVOTDATA(\"Sum of 54\",$B$2,\"Day  \",\"Prob Pupae\")","v":1.691565711249793},null,null,"Sum of 54",0,54,{"$f":"K422+GETPIVOTDATA(\"Sum of 54\",H$2,\"Day  \",\"Prob Pupae\")","v":0.89965481761679944},null,null,"Sum of 54",0,54,{"$f":"Q422+GETPIVOTDATA(\"Sum of 54\",N$2,\"Day  \",\"Prob Pupae\")","v":1.2891376225680782},null,null,"Sum of 54",0,54,{"$f":"W422+GETPIVOTDATA(\"Sum of 54\",T$2,\"Day  \",\"Prob Pupae\")","v":1.0045013794991682},null,null,"Sum of 54",0,54,{"$f":"AC422+GETPIVOTDATA(\"Sum of 54\",Z$2,\"Day  \",\"Prob Pupae\")","v":1.4930236738913045},null,null,"Sum of 54",0,54,{"$f":"AI422+GETPIVOTDATA(\"Sum of 54\",AF$2,\"Day  \",\"Prob Pupae\")","v":2.0633326029678725},null,null,"Sum of 54",0,54,{"$f":"AO422+GETPIVOTDATA(\"Sum of 54\",AL$2,\"Day  \",\"Prob Pupae\")","v":0},null,null,"Sum of 54",0,54,{"$f":"AU422+GETPIVOTDATA(\"Sum of 54\",AR$2,\"Day  \",\"Prob Pupae\")","v":0},null,null,"Sum of 54",0,54,{"$f":"BA422+GETPIVOTDATA(\"Sum of 54\",AX$2,\"Day  \",\"Prob Pupae\")","v":0},null,null,"Sum of 54",0,54,{"$f":"BG422+GETPIVOTDATA(\"Sum of 54\",BD$2,\"Day  \",\"Prob Pupae\")","v":0}]
[null,"Sum of 55",0,55,{"$f":"E423+GETPIVOTDATA(\"Sum of 55\",$B$2,\"Day  \",\"Prob Pupae\")","v":1.691565711249793},null,null,"Sum of 55",0,55,{"$f":"K423+GETPIVOTDATA(\"Sum of 55\",H$2,\"Day  \",\"Prob Pupae\")","v":0.89965481761679944},null,null,"Sum of 55",0,55,{"$f":"Q423+GETPIVOTDATA(\"Sum of 55\",N$2,\"Day  \",\"Prob Pupae\")","v":1.2891376225680782},null,null,"Sum of 55",0,55,{"$f":"W423+GETPIVOTDATA(\"Sum of 55\",T$2,\"Day  \",\"Prob Pupae\")","v":1.0045013794991682},null,null,"Sum of 55",0,55,{"$f":"AC423+GETPIVOTDATA(\"Sum of 55\",Z$2,\"Day  \",\"Prob Pupae\")","v":1.4930236738913045},null,null,"Sum of 55",0,55,{"$f":"AI423+GETPIVOTDATA(\"Sum of 55\",AF$2,\"Day  \",\"Prob Pupae\")","v":2.0633326029678725},null,null,"Sum of 55",0,55,{"$f":"AO423+GETPIVOTDATA(\"Sum of 55\",AL$2,\"Day  \",\"Prob Pupae\")","v":0},null,null,"Sum of 55",0,55,{"$f":"AU423+GETPIVOTDATA(\"Sum of 55\",AR$2,\"Day  \",\"Prob Pupae\")","v":0},null,null,"Sum of 55",0,55,{"$f":"BA423+GETPIVOTDATA(\"Sum of 55\",AX$2,\"Day  \",\"Prob Pupae\")","v":0},null,null,"Sum of 55",0,55,{"$f":"BG423+GETPIVOTDATA(\"Sum of 55\",BD$2,\"Day  \",\"Prob Pupae\")","v":0}]
[null,"Sum of 56",0,56,{"$f":"E424+GETPIVOTDATA(\"Sum of 56\",$B$2,\"Day  \",\"Prob Pupae\")","v":1.691565711249793},null,null,"Sum of 56",0,56,{"$f":"K424+GETPIVOTDATA(\"Sum of 56\",H$2,\"Day  \",\"Prob Pupae\")","v":0.89965481761679944},null,null,"Sum of 56",0,56,{"$f":"Q424+GETPIVOTDATA(\"Sum of 56\",N$2,\"Day  \",\"Prob Pupae\")","v":1.2891376225680782},null,null,"Sum of 56",0,56,{"$f":"W424+GETPIVOTDATA(\"Sum of 56\",T$2,\"Day  \",\"Prob Pupae\")","v":1.0045013794991682},null,null,"Sum of 56",0,56,{"$f":"AC424+GETPIVOTDATA(\"Sum of 56\",Z$2,\"Day  \",\"Prob Pupae\")","v":1.4930236738913045},null,null,"Sum of 56",0,56,{"$f":"AI424+GETPIVOTDATA(\"Sum of 56\",AF$2,\"Day  \",\"Prob Pupae\")","v":2.0633326029678725},null,null,"Sum of 56",0,56,{"$f":"AO424+GETPIVOTDATA(\"Sum of 56\",AL$2,\"Day  \",\"Prob Pupae\")","v":0},null,null,"Sum of 56",0,56,{"$f":"AU424+GETPIVOTDATA(\"Sum of 56\",AR$2,\"Day  \",\"Prob Pupae\")","v":0},null,null,"Sum of 56",0,56,{"$f":"BA424+GETPIVOTDATA(\"Sum of 56\",AX$2,\"Day  \",\"Prob Pupae\")","v":0},null,null,"Sum of 56",0,56,{"$f":"BG424+GETPIVOTDATA(\"Sum of 56\",BD$2,\"Day  \",\"Prob Pupae\")","v":0}]
[null,"Sum of 57",0,57,{"$f":"E425+GETPIVOTDATA(\"Sum of 57\",$B$2,\"Day  \",\"Prob Pupae\")","v":1.691565711249793},null,null,"Sum of 57",0,57,{"$f":"K425+GETPIVOTDATA(\"Sum of 57\",H$2,\"Day  \",\"Prob Pupae\")","v":0.89965481761679944},null,null,"Sum of 57",0,57,{"$f":"Q425+GETPIVOTDATA(\"Sum of 57\",N$2,\"Day  \",\"Prob Pupae\")","v":1.2891376225680782},null,null,"Sum of 57",0,57,{"$f":"W425+GETPIVOTDATA(\"Sum of 57\",T$2,\"Day  \",\"Prob Pupae\")","v":1.0045013794991682},null,null,"Sum of 57",0,57,{"$f":"AC425+GETPIVOTDATA(\"Sum of 57\",Z$2,\"Day  \",\"Prob Pupae\")","v":1.4930236738913045},null,null,"Sum of 57",0,57,{"$f":"AI425+GETPIVOTDATA(\"Sum of 57\",AF$2,\"Day  \",\"Prob Pupae\")","v":2.0633326029678725},null,null,"Sum of 57",0,57,{"$f":"AO425+GETPIVOTDATA(\"Sum of 57\",AL$2,\"Day  \",\"Prob Pupae\")","v":0},null,null,"Sum of 57",0,57,{"$f":"AU425+GETPIVOTDATA(\"Sum of 57\",AR$2,\"Day  \",\"Prob Pupae\")","v":0},null,null,"Sum of 57",0,57,{"$f":"BA425+GETPIVOTDATA(\"Sum of 57\",AX$2,\"Day  \",\"Prob Pupae\")","v":0},null,null,"Sum of 57",0,57,{"$f":"BG425+GETPIVOTDATA(\"Sum of 57\",BD$2,\"Day  \",\"Prob Pupae\")","v":0}]
[null,"Sum of 58",0,58,{"$f":"E426+GETPIVOTDATA(\"Sum of 58\",$B$2,\"Day  \",\"Prob Pupae\")","v":1.691565711249793},null,null,"Sum of 58",0,58,{"$f":"K426+GETPIVOTDATA(\"Sum of 58\",H$2,\"Day  \",\"Prob Pupae\")","v":0.89965481761679944},null,null,"Sum of 58",0,58,{"$f":"Q426+GETPIVOTDATA(\"Sum of 58\",N$2,\"Day  \",\"Prob Pupae\")","v":1.2891376225680782},null,null,"Sum of 58",0,58,{"$f":"W426+GETPIVOTDATA(\"Sum of 58\",T$2,\"Day  \",\"Prob Pupae\")","v":1.0045013794991682},null,null,"Sum of 58",0,58,{"$f":"AC426+GETPIVOTDATA(\"Sum of 58\",Z$2,\"Day  \",\"Prob Pupae\")","v":1.4930236738913045},null,null,"Sum of 58",0,58,{"$f":"AI426+GETPIVOTDATA(\"Sum of 58\",AF$2,\"Day  \",\"Prob Pupae\")","v":2.0633326029678725},null,null,"Sum of 58",0,58,{"$f":"AO426+GETPIVOTDATA(\"Sum of 58\",AL$2,\"Day  \",\"Prob Pupae\")","v":0},null,null,"Sum of 58",0,58,{"$f":"AU426+GETPIVOTDATA(\"Sum of 58\",AR$2,\"Day  \",\"Prob Pupae\")","v":0},null,null,"Sum of 58",0,58,{"$f":"BA426+GETPIVOTDATA(\"Sum of 58\",AX$2,\"Day  \",\"Prob Pupae\")","v":0},null,null,"Sum of 58",0,58,{"$f":"BG426+GETPIVOTDATA(\"Sum of 58\",BD$2,\"Day  \",\"Prob Pupae\")","v":0}]
[null,"Sum of 59",0,59,{"$f":"E427+GETPIVOTDATA(\"Sum of 59\",$B$2,\"Day  \",\"Prob Pupae\")","v":1.691565711249793},null,null,"Sum of 59",0,59,{"$f":"K427+GETPIVOTDATA(\"Sum of 59\",H$2,\"Day  \",\"Prob Pupae\")","v":0.89965481761679944},null,null,"Sum of 59",0,59,{"$f":"Q427+GETPIVOTDATA(\"Sum of 59\",N$2,\"Day  \",\"Prob Pupae\")","v":1.2891376225680782},null,null,"Sum of 59",0,59,{"$f":"W427+GETPIVOTDATA(\"Sum of 59\",T$2,\"Day  \",\"Prob Pupae\")","v":1.0045013794991682},null,null,"Sum of 59",0,59,{"$f":"AC427+GETPIVOTDATA(\"Sum of 59\",Z$2,\"Day  \",\"Prob Pupae\")","v":1.4930236738913045},null,null,"Sum of 59",0,59,{"$f":"AI427+GETPIVOTDATA(\"Sum of 59\",AF$2,\"Day  \",\"Prob Pupae\")","v":2.0633326029678725},null,null,"Sum of 59",0,59,{"$f":"AO427+GETPIVOTDATA(\"Sum of 59\",AL$2,\"Day  \",\"Prob Pupae\")","v":0},null,null,"Sum of 59",0,59,{"$f":"AU427+GETPIVOTDATA(\"Sum of 59\",AR$2,\"Day  \",\"Prob Pupae\")","v":0},null,null,"Sum of 59",0,59,{"$f":"BA427+GETPIVOTDATA(\"Sum of 59\",AX$2,\"Day  \",\"Prob Pupae\")","v":0},null,null,"Sum of 59",0,59,{"$f":"BG427+GETPIVOTDATA(\"Sum of 59\",BD$2,\"Day  \",\"Prob Pupae\")","v":0}]
[null,"Sum of 60",0,60,{"$f":"E428+GETPIVOTDATA(\"Sum of 60\",$B$2,\"Day  \",\"Prob Pupae\")","v":1.691565711249793},null,null,"Sum of 60",0,60,{"$f":"K428+GETPIVOTDATA(\"Sum of 60\",H$2,\"Day  \",\"Prob Pupae\")","v":0.89965481761679944},null,null,"Sum of 60",0,60,{"$f":"Q428+GETPIVOTDATA(\"Sum of 60\",N$2,\"Day  \",\"Prob Pupae\")","v":1.2891376225680782},null,null,"Sum of 60",0,60,{"$f":"W428+GETPIVOTDATA(\"Sum of 60\",T$2,\"Day  \",\"Prob Pupae\")","v":1.0045013794991682},null,null,"Sum of 60",0,60,{"$f":"AC428+GETPIVOTDATA(\"Sum of 60\",Z$2,\"Day  \",\"Prob Pupae\")","v":1.4930236738913045},null,null,"Sum of 60",0,60,{"$f":"AI428+GETPIVOTDATA(\"Sum of 60\",AF$2,\"Day  \",\"Prob Pupae\")","v":2.0633326029678725},null,null,"Sum of 60",0,60,{"$f":"AO428+GETPIVOTDATA(\"Sum of 60\",AL$2,\"Day  \",\"Prob Pupae\")","v":0},null,null,"Sum of 60",0,60,{"$f":"AU428+GETPIVOTDATA(\"Sum of 60\",AR$2,\"Day  \",\"Prob Pupae\")","v":0},null,null,"Sum of 60",0,60,{"$f":"BA428+GETPIVOTDATA(\"Sum of 60\",AX$2,\"Day  \",\"Prob Pupae\")","v":0},null,null,"Sum of 60",0,60,{"$f":"BG428+GETPIVOTDATA(\"Sum of 60\",BD$2,\"Day  \",\"Prob Pupae\")","v":0}]
[null,"Total Sum of 1",1,"LSTOT/LSHT","Cum Total","LSComm1Adults",null,"Total Sum of 1",1,"LSTOT/LSHT","Cum Total","LSComm2Adults",null,"Total Sum of 1",1,"LSTOT/LSHT","Cum Total","LSComm3Adults",null,"Total Sum of 1",1,"LSTOT/LSHT","Cum Total","LSComm4Adults",null,"Total Sum of 1",1,"LSTOT/LSHT","Cum Total","LSComm5Adults",null,"Total Sum of 1",1,"LSTOT/LSHT","Cum Total","LSComm6Adults",null,"Total Sum of 1",0,"LSTOT/LSHT","Cum Total","LSComm7Adults",null,"Total Sum of 1",0,"LSTOT/LSHT","Cum Total","LSComm8Adults",null,"Total Sum of 1",0,"LSTOT/LSHT","Cum Total","LSComm9Adults",null,"Total Sum of 1",0,"LSTOT/LSHT","Cum Total","LSComm10Adults"]
[null,"Total Sum of 2",1,1,{"$f":"GETPIVOTDATA(\"Sum of 1\",$B$2,\"Day  \",\"Prob Adults\")","v":0},{"$f":"IF(LSCheckAdult=\"n\",0,(((VLOOKUP(LSTOT,D431:E490,2))-(IF(LSHT=0,0,(VLOOKUP(LSHT,D431:E490,2)))))/LSIT))","v":0},null,"Total Sum of 2",1,1,{"$f":"GETPIVOTDATA(\"Sum of 1\",H$2,\"Day  \",\"Prob Adults\")","v":0},{"$f":"IF(LSCheckAdult=\"n\",0,(((VLOOKUP(LSTOT,J431:K490,2))-(IF(LSHT=0,0,(VLOOKUP(LSHT,J431:K490,2)))))/LSIT))","v":0},null,"Total Sum of 2",1,1,{"$f":"GETPIVOTDATA(\"Sum of 1\",N$2,\"Day  \",\"Prob Adults\")","v":0},{"$f":"IF(LSCheckAdult=\"n\",0,(((VLOOKUP(LSTOT,P431:Q490,2))-(IF(LSHT=0,0,(VLOOKUP(LSHT,P431:Q490,2)))))/LSIT))","v":0},null,"Total Sum of 2",1,1,{"$f":"GETPIVOTDATA(\"Sum of 1\",T$2,\"Day  \",\"Prob Adults\")","v":0},{"$f":"IF(LSCheckAdult=\"n\",0,(((VLOOKUP(LSTOT,V431:W490,2))-(IF(LSHT=0,0,(VLOOKUP(LSHT,V431:W490,2)))))/LSIT))","v":0},null,"Total Sum of 2",1,1,{"$f":"GETPIVOTDATA(\"Sum of 1\",Z$2,\"Day  \",\"Prob Adults\")","v":0},{"$f":"IF(LSCheckAdult=\"n\",0,(((VLOOKUP(LSTOT,AB431:AC490,2))-(IF(LSHT=0,0,(VLOOKUP(LSHT,AB431:AC490,2)))))/LSIT))","v":0},null,"Total Sum of 2",0.99999999999999989,1,{"$f":"GETPIVOTDATA(\"Sum of 1\",AF$2,\"Day  \",\"Prob Adults\")","v":0},{"$f":"IF(LSCheckAdult=\"n\",0,(((VLOOKUP(LSTOT,AH431:AI490,2))-(IF(LSHT=0,0,(VLOOKUP(LSHT,AH431:AI490,2)))))/LSIT))","v":0},null,"Total Sum of 2",0,1,{"$f":"GETPIVOTDATA(\"Sum of 1\",AL$2,\"Day  \",\"Prob Adults\")","v":0},{"$f":"IF(LSCheckAdult=\"n\",0,(((VLOOKUP(LSTOT,AN431:AO490,2))-(IF(LSHT=0,0,(VLOOKUP(LSHT,AN431:AO490,2)))))/LSIT))","v":0},null,"Total Sum of 2",0,1,{"$f":"GETPIVOTDATA(\"Sum of 1\",AR$2,\"Day  \",\"Prob Adults\")","v":0},{"$f":"IF(LSCheckAdult=\"n\",0,(((VLOOKUP(LSTOT,AT431:AU490,2))-(IF(LSHT=0,0,(VLOOKUP(LSHT,AT431:AU490,2)))))/LSIT))","v":0},null,"Total Sum of 2",0,1,{"$f":"GETPIVOTDATA(\"Sum of 1\",AX$2,\"Day  \",\"Prob Adults\")","v":0},{"$f":"IF(LSCheckAdult=\"n\",0,(((VLOOKUP(LSTOT,AZ431:BA490,2))-(IF(LSHT=0,0,(VLOOKUP(LSHT,AZ431:BA490,2)))))/LSIT))","v":0},null,"Total Sum of 2",0,1,{"$f":"GETPIVOTDATA(\"Sum of 1\",BD$2,\"Day  \",\"Prob Adults\")","v":0},{"$f":"IF(LSCheckAdult=\"n\",0,(((VLOOKUP(LSTOT,BF431:BG490,2))-(IF(LSHT=0,0,(VLOOKUP(LSHT,BF431:BG490,2)))))/LSIT))","v":0}]
[null,"Total Sum of 3",1,2,{"$f":"E431+GETPIVOTDATA(\"Sum of 2\",$B$2,\"Day  \",\"Prob Adults\")","v":0},null,null,"Total Sum of 3",1,2,{"$f":"K431+GETPIVOTDATA(\"Sum of 2\",H$2,\"Day  \",\"Prob Adults\")","v":0},null,null,"Total Sum of 3",1,2,{"$f":"Q431+GETPIVOTDATA(\"Sum of 2\",N$2,\"Day  \",\"Prob Adults\")","v":0},null,null,"Total Sum of 3",1,2,{"$f":"W431+GETPIVOTDATA(\"Sum of 2\",T$2,\"Day  \",\"Prob Adults\")","v":0},null,null,"Total Sum of 3",1,2,{"$f":"AC431+GETPIVOTDATA(\"Sum of 2\",Z$2,\"Day  \",\"Prob Adults\")","v":0},null,null,"Total Sum of 3",1,2,{"$f":"AI431+GETPIVOTDATA(\"Sum of 2\",AF$2,\"Day  \",\"Prob Adults\")","v":0},null,null,"Total Sum of 3",0,2,{"$f":"AO431+GETPIVOTDATA(\"Sum of 2\",AL$2,\"Day  \",\"Prob Adults\")","v":0},null,null,"Total Sum of 3",0,2,{"$f":"AU431+GETPIVOTDATA(\"Sum of 2\",AR$2,\"Day  \",\"Prob Adults\")","v":0},null,null,"Total Sum of 3",0,2,{"$f":"BA431+GETPIVOTDATA(\"Sum of 2\",AX$2,\"Day  \",\"Prob Adults\")","v":0},null,null,"Total Sum of 3",0,2,{"$f":"BG431+GETPIVOTDATA(\"Sum of 2\",BD$2,\"Day  \",\"Prob Adults\")","v":0}]
[null,"Total Sum of 4",1,3,{"$f":"E432+GETPIVOTDATA(\"Sum of 3\",$B$2,\"Day  \",\"Prob Adults\")","v":0},null,null,"Total Sum of 4",1,3,{"$f":"K432+GETPIVOTDATA(\"Sum of 3\",H$2,\"Day  \",\"Prob Adults\")","v":0},null,null,"Total Sum of 4",1,3,{"$f":"Q432+GETPIVOTDATA(\"Sum of 3\",N$2,\"Day  \",\"Prob Adults\")","v":0},null,null,"Total Sum of 4",1,3,{"$f":"W432+GETPIVOTDATA(\"Sum of 3\",T$2,\"Day  \",\"Prob Adults\")","v":0},null,null,"Total Sum of 4",1,3,{"$f":"AC432+GETPIVOTDATA(\"Sum of 3\",Z$2,\"Day  \",\"Prob Adults\")","v":0},null,null,"Total Sum of 4",1,3,{"$f":"AI432+GETPIVOTDATA(\"Sum of 3\",AF$2,\"Day  \",\"Prob Adults\")","v":0},null,null,"Total Sum of 4",0,3,{"$f":"AO432+GETPIVOTDATA(\"Sum of 3\",AL$2,\"Day  \",\"Prob Adults\")","v":0},null,null,"Total Sum of 4",0,3,{"$f":"AU432+GETPIVOTDATA(\"Sum of 3\",AR$2,\"Day  \",\"Prob Adults\")","v":0},null,null,"Total Sum of 4",0,3,{"$f":"BA432+GETPIVOTDATA(\"Sum of 3\",AX$2,\"Day  \",\"Prob Adults\")","v":0},null,null,"Total Sum of 4",0,3,{"$f":"BG432+GETPIVOTDATA(\"Sum of 3\",BD$2,\"Day  \",\"Prob Adults\")","v":0}]
[null,"Total Sum of 5",1,4,{"$f":"E433+GETPIVOTDATA(\"Sum of 4\",$B$2,\"Day  \",\"Prob Adults\")","v":0},null,null,"Total Sum of 5",1,4,{"$f":"K433+GETPIVOTDATA(\"Sum of 4\",H$2,\"Day  \",\"Prob Adults\")","v":0},null,null,"Total Sum of 5",1,4,{"$f":"Q433+GETPIVOTDATA(\"Sum of 4\",N$2,\"Day  \",\"Prob Adults\")","v":0},null,null,"Total Sum of 5",1,4,{"$f":"W433+GETPIVOTDATA(\"Sum of 4\",T$2,\"Day  \",\"Prob Adults\")","v":0},null,null,"Total Sum of 5",1,4,{"$f":"AC433+GETPIVOTDATA(\"Sum of 4\",Z$2,\"Day  \",\"Prob Adults\")","v":0},null,null,"Total Sum of 5",1,4,{"$f":"AI433+GETPIVOTDATA(\"Sum of 4\",AF$2,\"Day  \",\"Prob Adults\")","v":0},null,null,"Total Sum of 5",0,4,{"$f":"AO433+GETPIVOTDATA(\"Sum of 4\",AL$2,\"Day  \",\"Prob Adults\")","v":0},null,null,"Total Sum of 5",0,4,{"$f":"AU433+GETPIVOTDATA(\"Sum of 4\",AR$2,\"Day  \",\"Prob Adults\")","v":0},null,null,"Total Sum of 5",0,4,{"$f":"BA433+GETPIVOTDATA(\"Sum of 4\",AX$2,\"Day  \",\"Prob Adults\")","v":0},null,null,"Total Sum of 5",0,4,{"$f":"BG433+GETPIVOTDATA(\"Sum of 4\",BD$2,\"Day  \",\"Prob Adults\")","v":0}]
[null,"Total Sum of 6",1,5,{"$f":"E434+GETPIVOTDATA(\"Sum of 5\",$B$2,\"Day  \",\"Prob Adults\")","v":0},null,null,"Total Sum of 6",1,5,{"$f":"K434+GETPIVOTDATA(\"Sum of 5\",H$2,\"Day  \",\"Prob Adults\")","v":0},null,null,"Total Sum of 6",1,5,{"$f":"Q434+GETPIVOTDATA(\"Sum of 5\",N$2,\"Day  \",\"Prob Adults\")","v":0},null,null,"Total Sum of 6",1,5,{"$f":"W434+GETPIVOTDATA(\"Sum of 5\",T$2,\"Day  \",\"Prob Adults\")","v":0},null,null,"Total Sum of 6",1,5,{"$f":"AC434+GETPIVOTDATA(\"Sum of 5\",Z$2,\"Day  \",\"Prob Adults\")","v":0},null,null,"Total Sum of 6",1,5,{"$f":"AI434+GETPIVOTDATA(\"Sum of 5\",AF$2,\"Day  \",\"Prob Adults\")","v":0},null,null,"Total Sum of 6",0,5,{"$f":"AO434+GETPIVOTDATA(\"Sum of 5\",AL$2,\"Day  \",\"Prob Adults\")","v":0},null,null,"Total Sum of 6",0,5,{"$f":"AU434+GETPIVOTDATA(\"Sum of 5\",AR$2,\"Day  \",\"Prob Adults\")","v":0},null,null,"Total Sum of 6",0,5,{"$f":"BA434+GETPIVOTDATA(\"Sum of 5\",AX$2,\"Day  \",\"Prob Adults\")","v":0},null,null,"Total Sum of 6",0,5,{"$f":"BG434+GETPIVOTDATA(\"Sum of 5\",BD$2,\"Day  \",\"Prob Adults\")","v":0}]
[null,"Total Sum of 7",1,6,{"$f":"E435+GETPIVOTDATA(\"Sum of 6\",$B$2,\"Day  \",\"Prob Adults\")","v":0},null,null,"Total Sum of 7",1,6,{"$f":"K435+GETPIVOTDATA(\"Sum of 6\",H$2,\"Day  \",\"Prob Adults\")","v":0},null,null,"Total Sum of 7",1,6,{"$f":"Q435+GETPIVOTDATA(\"Sum of 6\",N$2,\"Day  \",\"Prob Adults\")","v":0},null,null,"Total Sum of 7",1,6,{"$f":"W435+GETPIVOTDATA(\"Sum of 6\",T$2,\"Day  \",\"Prob Adults\")","v":0},null,null,"Total Sum of 7",1,6,{"$f":"AC435+GETPIVOTDATA(\"Sum of 6\",Z$2,\"Day  \",\"Prob Adults\")","v":0},null,null,"Total Sum of 7",1,6,{"$f":"AI435+GETPIVOTDATA(\"Sum of 6\",AF$2,\"Day  \",\"Prob Adults\")","v":0},null,null,"Total Sum of 7",0,6,{"$f":"AO435+GETPIVOTDATA(\"Sum of 6\",AL$2,\"Day  \",\"Prob Adults\")","v":0},null,null,"Total Sum of 7",0,6,{"$f":"AU435+GETPIVOTDATA(\"Sum of 6\",AR$2,\"Day  \",\"Prob Adults\")","v":0},null,null,"Total Sum of 7",0,6,{"$f":"BA435+GETPIVOTDATA(\"Sum of 6\",AX$2,\"Day  \",\"Prob Adults\")","v":0},null,null,"Total Sum of 7",0,6,{"$f":"BG435+GETPIVOTDATA(\"Sum of 6\",BD$2,\"Day  \",\"Prob Adults\")","v":0}]
[null,"Total Sum of 8",1,7,{"$f":"E436+GETPIVOTDATA(\"Sum of 7\",$B$2,\"Day  \",\"Prob Adults\")","v":2.070393374741201E-3},null,null,"Total Sum of 8",1,7,{"$f":"K436+GETPIVOTDATA(\"Sum of 7\",H$2,\"Day  \",\"Prob Adults\")","v":0},null,null,"Total Sum of 8",1,7,{"$f":"Q436+GETPIVOTDATA(\"Sum of 7\",N$2,\"Day  \",\"Prob Adults\")","v":0},null,null,"Total Sum of 8",1,7,{"$f":"W436+GETPIVOTDATA(\"Sum of 7\",T$2,\"Day  \",\"Prob Adults\")","v":0},null,null,"Total Sum of 8",1,7,{"$f":"AC436+GETPIVOTDATA(\"Sum of 7\",Z$2,\"Day  \",\"Prob Adults\")","v":0},null,null,"Total Sum of 8",1,7,{"$f":"AI436+GETPIVOTDATA(\"Sum of 7\",AF$2,\"Day  \",\"Prob Adults\")","v":0},null,null,"Total Sum of 8",0,7,{"$f":"AO436+GETPIVOTDATA(\"Sum of 7\",AL$2,\"Day  \",\"Prob Adults\")","v":0},null,null,"Total Sum of 8",0,7,{"$f":"AU436+GETPIVOTDATA(\"Sum of 7\",AR$2,\"Day  \",\"Prob Adults\")","v":0},null,null,"Total Sum of 8",0,7,{"$f":"BA436+GETPIVOTDATA(\"Sum of 7\",AX$2,\"Day  \",\"Prob Adults\")","v":0},null,null,"Total Sum of 8",0,7,{"$f":"BG436+GETPIVOTDATA(\"Sum of 7\",BD$2,\"Day  \",\"Prob Adults\")","v":0}]
[null,"Total Sum of 9",1,8,{"$f":"E437+GETPIVOTDATA(\"Sum of 8\",$B$2,\"Day  \",\"Prob Adults\")","v":0.1776656314699793},null,null,"Total Sum of 9",1,8,{"$f":"K437+GETPIVOTDATA(\"Sum of 8\",H$2,\"Day  \",\"Prob Adults\")","v":9.2307692307692313E-2},null,null,"Total Sum of 9",1,8,{"$f":"Q437+GETPIVOTDATA(\"Sum of 8\",N$2,\"Day  \",\"Prob Adults\")","v":6.5217391304347824E-2},null,null,"Total Sum of 9",1,8,{"$f":"W437+GETPIVOTDATA(\"Sum of 8\",T$2,\"Day  \",\"Prob Adults\")","v":2.0408163265306121E-2},null,null,"Total Sum of 9",1,8,{"$f":"AC437+GETPIVOTDATA(\"Sum of 8\",Z$2,\"Day  \",\"Prob Adults\")","v":1},null,null,"Total Sum of 9",1,8,{"$f":"AI437+GETPIVOTDATA(\"Sum of 8\",AF$2,\"Day  \",\"Prob Adults\")","v":1.932367149758454E-2},null,null,"Total Sum of 9",0,8,{"$f":"AO437+GETPIVOTDATA(\"Sum of 8\",AL$2,\"Day  \",\"Prob Adults\")","v":0},null,null,"Total Sum of 9",0,8,{"$f":"AU437+GETPIVOTDATA(\"Sum of 8\",AR$2,\"Day  \",\"Prob Adults\")","v":0},null,null,"Total Sum of 9",0,8,{"$f":"BA437+GETPIVOTDATA(\"Sum of 8\",AX$2,\"Day  \",\"Prob Adults\")","v":0},null,null,"Total Sum of 9",0,8,{"$f":"BG437+GETPIVOTDATA(\"Sum of 8\",BD$2,\"Day  \",\"Prob Adults\")","v":0}]
[null,"Total Sum of 10",1,9,{"$f":"E438+GETPIVOTDATA(\"Sum of 9\",$B$2,\"Day  \",\"Prob Adults\")","v":1.0374372050740401},null,null,"Total Sum of 10",1,9,{"$f":"K438+GETPIVOTDATA(\"Sum of 9\",H$2,\"Day  \",\"Prob Adults\")","v":0.66534140017286081},null,null,"Total Sum of 10",1,9,{"$f":"Q438+GETPIVOTDATA(\"Sum of 9\",N$2,\"Day  \",\"Prob Adults\")","v":1.0652173913043479},null,null,"Total Sum of 10",1,9,{"$f":"W438+GETPIVOTDATA(\"Sum of 9\",T$2,\"Day  \",\"Prob Adults\")","v":0.41171251109139312},null,null,"Total Sum of 10",1,9,{"$f":"AC438+GETPIVOTDATA(\"Sum of 9\",Z$2,\"Day  \",\"Prob Adults\")","v":2},null,null,"Total Sum of 10",1,9,{"$f":"AI438+GETPIVOTDATA(\"Sum of 9\",AF$2,\"Day  \",\"Prob Adults\")","v":1.0193236714975846},null,null,"Total Sum of 10",0,9,{"$f":"AO438+GETPIVOTDATA(\"Sum of 9\",AL$2,\"Day  \",\"Prob Adults\")","v":0},null,null,"Total Sum of 10",0,9,{"$f":"AU438+GETPIVOTDATA(\"Sum of 9\",AR$2,\"Day  \",\"Prob Adults\")","v":0},null,null,"Total Sum of 10",0,9,{"$f":"BA438+GETPIVOTDATA(\"Sum of 9\",AX$2,\"Day  \",\"Prob Adults\")","v":0},null,null,"Total Sum of 10",0,9,{"$f":"BG438+GETPIVOTDATA(\"Sum of 9\",BD$2,\"Day  \",\"Prob Adults\")","v":0}]
[null,"Total Sum of 11",1,10,{"$f":"E439+GETPIVOTDATA(\"Sum of 10\",$B$2,\"Day  \",\"Prob Adults\")","v":2.0374372050740401},null,null,"Total Sum of 11",1,10,{"$f":"K439+GETPIVOTDATA(\"Sum of 10\",H$2,\"Day  \",\"Prob Adults\")","v":1.5003929465646135},null,null,"Total Sum of 11",1,10,{"$f":"Q439+GETPIVOTDATA(\"Sum of 10\",N$2,\"Day  \",\"Prob Adults\")","v":2.0652173913043477},null,null,"Total Sum of 11",1,10,{"$f":"W439+GETPIVOTDATA(\"Sum of 10\",T$2,\"Day  \",\"Prob Adults\")","v":1.2318879496878843},null,null,"Total Sum of 11",1,10,{"$f":"AC439+GETPIVOTDATA(\"Sum of 10\",Z$2,\"Day  \",\"Prob Adults\")","v":3},null,null,"Total Sum of 11",1,10,{"$f":"AI439+GETPIVOTDATA(\"Sum of 10\",AF$2,\"Day  \",\"Prob Adults\")","v":2.0193236714975846},null,null,"Total Sum of 11",0,10,{"$f":"AO439+GETPIVOTDATA(\"Sum of 10\",AL$2,\"Day  \",\"Prob Adults\")","v":0},null,null,"Total Sum of 11",0,10,{"$f":"AU439+GETPIVOTDATA(\"Sum of 10\",AR$2,\"Day  \",\"Prob Adults\")","v":0},null,null,"Total Sum of 11",0,10,{"$f":"BA439+GETPIVOTDATA(\"Sum of 10\",AX$2,\"Day  \",\"Prob Adults\")","v":0},null,null,"Total Sum of 11",0,10,{"$f":"BG439+GETPIVOTDATA(\"Sum of 10\",BD$2,\"Day  \",\"Prob Adults\")","v":0}]
[null,"Total Sum of 12",1,11,{"$f":"E440+GETPIVOTDATA(\"Sum of 11\",$B$2,\"Day  \",\"Prob Adults\")","v":3.0374372050740401},null,null,"Total Sum of 12",1,11,{"$f":"K440+GETPIVOTDATA(\"Sum of 11\",H$2,\"Day  \",\"Prob Adults\")","v":2.5003929465646135},null,null,"Total Sum of 12",1,11,{"$f":"Q440+GETPIVOTDATA(\"Sum of 11\",N$2,\"Day  \",\"Prob Adults\")","v":3.0652173913043477},null,null,"Total Sum of 12",1,11,{"$f":"W440+GETPIVOTDATA(\"Sum of 11\",T$2,\"Day  \",\"Prob Adults\")","v":2.2318879496878843},null,null,"Total Sum of 12",1,11,{"$f":"AC440+GETPIVOTDATA(\"Sum of 11\",Z$2,\"Day  \",\"Prob Adults\")","v":4},null,null,"Total Sum of 12",1,11,{"$f":"AI440+GETPIVOTDATA(\"Sum of 11\",AF$2,\"Day  \",\"Prob Adults\")","v":3.0193236714975846},null,null,"Total Sum of 12",0,11,{"$f":"AO440+GETPIVOTDATA(\"Sum of 11\",AL$2,\"Day  \",\"Prob Adults\")","v":0},null,null,"Total Sum of 12",0,11,{"$f":"AU440+GETPIVOTDATA(\"Sum of 11\",AR$2,\"Day  \",\"Prob Adults\")","v":0},null,null,"Total Sum of 12",0,11,{"$f":"BA440+GETPIVOTDATA(\"Sum of 11\",AX$2,\"Day  \",\"Prob Adults\")","v":0},null,null,"Total Sum of 12",0,11,{"$f":"BG440+GETPIVOTDATA(\"Sum of 11\",BD$2,\"Day  \",\"Prob Adults\")","v":0}]
[null,"Total Sum of 13",1,12,{"$f":"E441+GETPIVOTDATA(\"Sum of 12\",$B$2,\"Day  \",\"Prob Adults\")","v":4.0374372050740401},null,null,"Total Sum of 13",1,12,{"$f":"K441+GETPIVOTDATA(\"Sum of 12\",H$2,\"Day  \",\"Prob Adults\")","v":3.5003929465646135},null,null,"Total Sum of 13",1,12,{"$f":"Q441+GETPIVOTDATA(\"Sum of 12\",N$2,\"Day  \",\"Prob Adults\")","v":4.0652173913043477},null,null,"Total Sum of 13",1,12,{"$f":"W441+GETPIVOTDATA(\"Sum of 12\",T$2,\"Day  \",\"Prob Adults\")","v":3.2318879496878843},null,null,"Total Sum of 13",1,12,{"$f":"AC441+GETPIVOTDATA(\"Sum of 12\",Z$2,\"Day  \",\"Prob Adults\")","v":5},null,null,"Total Sum of 13",1,12,{"$f":"AI441+GETPIVOTDATA(\"Sum of 12\",AF$2,\"Day  \",\"Prob Adults\")","v":4.0193236714975846},null,null,"Total Sum of 13",0,12,{"$f":"AO441+GETPIVOTDATA(\"Sum of 12\",AL$2,\"Day  \",\"Prob Adults\")","v":0},null,null,"Total Sum of 13",0,12,{"$f":"AU441+GETPIVOTDATA(\"Sum of 12\",AR$2,\"Day  \",\"Prob Adults\")","v":0},null,null,"Total Sum of 13",0,12,{"$f":"BA441+GETPIVOTDATA(\"Sum of 12\",AX$2,\"Day  \",\"Prob Adults\")","v":0},null,null,"Total Sum of 13",0,12,{"$f":"BG441+GETPIVOTDATA(\"Sum of 12\",BD$2,\"Day  \",\"Prob Adults\")","v":0}]
[null,"Total Sum of 14",1,13,{"$f":"E442+GETPIVOTDATA(\"Sum of 13\",$B$2,\"Day  \",\"Prob Adults\")","v":5.0374372050740401},null,null,"Total Sum of 14",1,13,{"$f":"K442+GETPIVOTDATA(\"Sum of 13\",H$2,\"Day  \",\"Prob Adults\")","v":4.5003929465646131},null,null,"Total Sum of 14",0,13,{"$f":"Q442+GETPIVOTDATA(\"Sum of 13\",N$2,\"Day  \",\"Prob Adults\")","v":5.0652173913043477},null,null,"Total Sum of 14",1,13,{"$f":"W442+GETPIVOTDATA(\"Sum of 13\",T$2,\"Day  \",\"Prob Adults\")","v":4.2318879496878843},null,null,"Total Sum of 14",1,13,{"$f":"AC442+GETPIVOTDATA(\"Sum of 13\",Z$2,\"Day  \",\"Prob Adults\")","v":6},null,null,"Total Sum of 14",1,13,{"$f":"AI442+GETPIVOTDATA(\"Sum of 13\",AF$2,\"Day  \",\"Prob Adults\")","v":5.0193236714975846},null,null,"Total Sum of 14",0,13,{"$f":"AO442+GETPIVOTDATA(\"Sum of 13\",AL$2,\"Day  \",\"Prob Adults\")","v":0},null,null,"Total Sum of 14",0,13,{"$f":"AU442+GETPIVOTDATA(\"Sum of 13\",AR$2,\"Day  \",\"Prob Adults\")","v":0},null,null,"Total Sum of 14",0,13,{"$f":"BA442+GETPIVOTDATA(\"Sum of 13\",AX$2,\"Day  \",\"Prob Adults\")","v":0},null,null,"Total Sum of 14",0,13,{"$f":"BG442+GETPIVOTDATA(\"Sum of 13\",BD$2,\"Day  \",\"Prob Adults\")","v":0}]
[null,"Total Sum of 15",1,14,{"$f":"E443+GETPIVOTDATA(\"Sum of 14\",$B$2,\"Day  \",\"Prob Adults\")","v":6.0374372050740401},null,null,"Total Sum of 15",1,14,{"$f":"K443+GETPIVOTDATA(\"Sum of 14\",H$2,\"Day  \",\"Prob Adults\")","v":5.5003929465646131},null,null,"Total Sum of 15",0,14,{"$f":"Q443+GETPIVOTDATA(\"Sum of 14\",N$2,\"Day  \",\"Prob Adults\")","v":5.0652173913043477},null,null,"Total Sum of 15",1,14,{"$f":"W443+GETPIVOTDATA(\"Sum of 14\",T$2,\"Day  \",\"Prob Adults\")","v":5.2318879496878843},null,null,"Total Sum of 15",1,14,{"$f":"AC443+GETPIVOTDATA(\"Sum of 14\",Z$2,\"Day  \",\"Prob Adults\")","v":7},null,null,"Total Sum of 15",1,14,{"$f":"AI443+GETPIVOTDATA(\"Sum of 14\",AF$2,\"Day  \",\"Prob Adults\")","v":6.0193236714975846},null,null,"Total Sum of 15",0,14,{"$f":"AO443+GETPIVOTDATA(\"Sum of 14\",AL$2,\"Day  \",\"Prob Adults\")","v":0},null,null,"Total Sum of 15",0,14,{"$f":"AU443+GETPIVOTDATA(\"Sum of 14\",AR$2,\"Day  \",\"Prob Adults\")","v":0},null,null,"Total Sum of 15",0,14,{"$f":"BA443+GETPIVOTDATA(\"Sum of 14\",AX$2,\"Day  \",\"Prob Adults\")","v":0},null,null,"Total Sum of 15",0,14,{"$f":"BG443+GETPIVOTDATA(\"Sum of 14\",BD$2,\"Day  \",\"Prob Adults\")","v":0}]
[null,"Total Sum of 16",1,15,{"$f":"E444+GETPIVOTDATA(\"Sum of 15\",$B$2,\"Day  \",\"Prob Adults\")","v":7.0374372050740401},null,null,"Total Sum of 16",1,15,{"$f":"K444+GETPIVOTDATA(\"Sum of 15\",H$2,\"Day  \",\"Prob Adults\")","v":6.5003929465646131},null,null,"Total Sum of 16",0,15,{"$f":"Q444+GETPIVOTDATA(\"Sum of 15\",N$2,\"Day  \",\"Prob Adults\")","v":5.0652173913043477},null,null,"Total Sum of 16",1,15,{"$f":"W444+GETPIVOTDATA(\"Sum of 15\",T$2,\"Day  \",\"Prob Adults\")","v":6.2318879496878843},null,null,"Total Sum of 16",1,15,{"$f":"AC444+GETPIVOTDATA(\"Sum of 15\",Z$2,\"Day  \",\"Prob Adults\")","v":8},null,null,"Total Sum of 16",0,15,{"$f":"AI444+GETPIVOTDATA(\"Sum of 15\",AF$2,\"Day  \",\"Prob Adults\")","v":7.0193236714975846},null,null,"Total Sum of 16",0,15,{"$f":"AO444+GETPIVOTDATA(\"Sum of 15\",AL$2,\"Day  \",\"Prob Adults\")","v":0},null,null,"Total Sum of 16",0,15,{"$f":"AU444+GETPIVOTDATA(\"Sum of 15\",AR$2,\"Day  \",\"Prob Adults\")","v":0},null,null,"Total Sum of 16",0,15,{"$f":"BA444+GETPIVOTDATA(\"Sum of 15\",AX$2,\"Day  \",\"Prob Adults\")","v":0},null,null,"Total Sum of 16",0,15,{"$f":"BG444+GETPIVOTDATA(\"Sum of 15\",BD$2,\"Day  \",\"Prob Adults\")","v":0}]
[null,"Total Sum of 17",0,16,{"$f":"E445+GETPIVOTDATA(\"Sum of 16\",$B$2,\"Day  \",\"Prob Adults\")","v":8.0374372050740401},null,null,"Total Sum of 17",0,16,{"$f":"K445+GETPIVOTDATA(\"Sum of 16\",H$2,\"Day  \",\"Prob Adults\")","v":7.5003929465646131},null,null,"Total Sum of 17",0,16,{"$f":"Q445+GETPIVOTDATA(\"Sum of 16\",N$2,\"Day  \",\"Prob Adults\")","v":5.0652173913043477},null,null,"Total Sum of 17",1,16,{"$f":"W445+GETPIVOTDATA(\"Sum of 16\",T$2,\"Day  \",\"Prob Adults\")","v":7.2318879496878843},null,null,"Total Sum of 17",1,16,{"$f":"AC445+GETPIVOTDATA(\"Sum of 16\",Z$2,\"Day  \",\"Prob Adults\")","v":9},null,null,"Total Sum of 17",0,16,{"$f":"AI445+GETPIVOTDATA(\"Sum of 16\",AF$2,\"Day  \",\"Prob Adults\")","v":7.0193236714975846},null,null,"Total Sum of 17",0,16,{"$f":"AO445+GETPIVOTDATA(\"Sum of 16\",AL$2,\"Day  \",\"Prob Adults\")","v":0},null,null,"Total Sum of 17",0,16,{"$f":"AU445+GETPIVOTDATA(\"Sum of 16\",AR$2,\"Day  \",\"Prob Adults\")","v":0},null,null,"Total Sum of 17",0,16,{"$f":"BA445+GETPIVOTDATA(\"Sum of 16\",AX$2,\"Day  \",\"Prob Adults\")","v":0},null,null,"Total Sum of 17",0,16,{"$f":"BG445+GETPIVOTDATA(\"Sum of 16\",BD$2,\"Day  \",\"Prob Adults\")","v":0}]
[null,"Total Sum of 18",0,17,{"$f":"E446+GETPIVOTDATA(\"Sum of 17\",$B$2,\"Day  \",\"Prob Adults\")","v":8.0374372050740401},null,null,"Total Sum of 18",0,17,{"$f":"K446+GETPIVOTDATA(\"Sum of 17\",H$2,\"Day  \",\"Prob Adults\")","v":7.5003929465646131},null,null,"Total Sum of 18",0,17,{"$f":"Q446+GETPIVOTDATA(\"Sum of 17\",N$2,\"Day  \",\"Prob Adults\")","v":5.0652173913043477},null,null,"Total Sum of 18",0,17,{"$f":"W446+GETPIVOTDATA(\"Sum of 17\",T$2,\"Day  \",\"Prob Adults\")","v":8.2318879496878843},null,null,"Total Sum of 18",0,17,{"$f":"AC446+GETPIVOTDATA(\"Sum of 17\",Z$2,\"Day  \",\"Prob Adults\")","v":10},null,null,"Total Sum of 18",0,17,{"$f":"AI446+GETPIVOTDATA(\"Sum of 17\",AF$2,\"Day  \",\"Prob Adults\")","v":7.0193236714975846},null,null,"Total Sum of 18",0,17,{"$f":"AO446+GETPIVOTDATA(\"Sum of 17\",AL$2,\"Day  \",\"Prob Adults\")","v":0},null,null,"Total Sum of 18",0,17,{"$f":"AU446+GETPIVOTDATA(\"Sum of 17\",AR$2,\"Day  \",\"Prob Adults\")","v":0},null,null,"Total Sum of 18",0,17,{"$f":"BA446+GETPIVOTDATA(\"Sum of 17\",AX$2,\"Day  \",\"Prob Adults\")","v":0},null,null,"Total Sum of 18",0,17,{"$f":"BG446+GETPIVOTDATA(\"Sum of 17\",BD$2,\"Day  \",\"Prob Adults\")","v":0}]
[null,"Total Sum of 19",0,18,{"$f":"E447+GETPIVOTDATA(\"Sum of 18\",$B$2,\"Day  \",\"Prob Adults\")","v":8.0374372050740401},null,null,"Total Sum of 19",0,18,{"$f":"K447+GETPIVOTDATA(\"Sum of 18\",H$2,\"Day  \",\"Prob Adults\")","v":7.5003929465646131},null,null,"Total Sum of 19",0,18,{"$f":"Q447+GETPIVOTDATA(\"Sum of 18\",N$2,\"Day  \",\"Prob Adults\")","v":5.0652173913043477},null,null,"Total Sum of 19",0,18,{"$f":"W447+GETPIVOTDATA(\"Sum of 18\",T$2,\"Day  \",\"Prob Adults\")","v":8.2318879496878843},null,null,"Total Sum of 19",0,18,{"$f":"AC447+GETPIVOTDATA(\"Sum of 18\",Z$2,\"Day  \",\"Prob Adults\")","v":10},null,null,"Total Sum of 19",0,18,{"$f":"AI447+GETPIVOTDATA(\"Sum of 18\",AF$2,\"Day  \",\"Prob Adults\")","v":7.0193236714975846},null,null,"Total Sum of 19",0,18,{"$f":"AO447+GETPIVOTDATA(\"Sum of 18\",AL$2,\"Day  \",\"Prob Adults\")","v":0},null,null,"Total Sum of 19",0,18,{"$f":"AU447+GETPIVOTDATA(\"Sum of 18\",AR$2,\"Day  \",\"Prob Adults\")","v":0},null,null,"Total Sum of 19",0,18,{"$f":"BA447+GETPIVOTDATA(\"Sum of 18\",AX$2,\"Day  \",\"Prob Adults\")","v":0},null,null,"Total Sum of 19",0,18,{"$f":"BG447+GETPIVOTDATA(\"Sum of 18\",BD$2,\"Day  \",\"Prob Adults\")","v":0}]
[null,"Total Sum of 20",0,19,{"$f":"E448+GETPIVOTDATA(\"Sum of 19\",$B$2,\"Day  \",\"Prob Adults\")","v":8.0374372050740401},null,null,"Total Sum of 20",0,19,{"$f":"K448+GETPIVOTDATA(\"Sum of 19\",H$2,\"Day  \",\"Prob Adults\")","v":7.5003929465646131},null,null,"Total Sum of 20",0,19,{"$f":"Q448+GETPIVOTDATA(\"Sum of 19\",N$2,\"Day  \",\"Prob Adults\")","v":5.0652173913043477},null,null,"Total Sum of 20",0,19,{"$f":"W448+GETPIVOTDATA(\"Sum of 19\",T$2,\"Day  \",\"Prob Adults\")","v":8.2318879496878843},null,null,"Total Sum of 20",0,19,{"$f":"AC448+GETPIVOTDATA(\"Sum of 19\",Z$2,\"Day  \",\"Prob Adults\")","v":10},null,null,"Total Sum of 20",0,19,{"$f":"AI448+GETPIVOTDATA(\"Sum of 19\",AF$2,\"Day  \",\"Prob Adults\")","v":7.0193236714975846},null,null,"Total Sum of 20",0,19,{"$f":"AO448+GETPIVOTDATA(\"Sum of 19\",AL$2,\"Day  \",\"Prob Adults\")","v":0},null,null,"Total Sum of 20",0,19,{"$f":"AU448+GETPIVOTDATA(\"Sum of 19\",AR$2,\"Day  \",\"Prob Adults\")","v":0},null,null,"Total Sum of 20",0,19,{"$f":"BA448+GETPIVOTDATA(\"Sum of 19\",AX$2,\"Day  \",\"Prob Adults\")","v":0},null,null,"Total Sum of 20",0,19,{"$f":"BG448+GETPIVOTDATA(\"Sum of 19\",BD$2,\"Day  \",\"Prob Adults\")","v":0}]
[null,"Total Sum of 21",0,20,{"$f":"E449+GETPIVOTDATA(\"Sum of 20\",$B$2,\"Day  \",\"Prob Adults\")","v":8.0374372050740401},null,null,"Total Sum of 21",0,20,{"$f":"K449+GETPIVOTDATA(\"Sum of 20\",H$2,\"Day  \",\"Prob Adults\")","v":7.5003929465646131},null,null,"Total Sum of 21",0,20,{"$f":"Q449+GETPIVOTDATA(\"Sum of 20\",N$2,\"Day  \",\"Prob Adults\")","v":5.0652173913043477},null,null,"Total Sum of 21",0,20,{"$f":"W449+GETPIVOTDATA(\"Sum of 20\",T$2,\"Day  \",\"Prob Adults\")","v":8.2318879496878843},null,null,"Total Sum of 21",0,20,{"$f":"AC449+GETPIVOTDATA(\"Sum of 20\",Z$2,\"Day  \",\"Prob Adults\")","v":10},null,null,"Total Sum of 21",0,20,{"$f":"AI449+GETPIVOTDATA(\"Sum of 20\",AF$2,\"Day  \",\"Prob Adults\")","v":7.0193236714975846},null,null,"Total Sum of 21",0,20,{"$f":"AO449+GETPIVOTDATA(\"Sum of 20\",AL$2,\"Day  \",\"Prob Adults\")","v":0},null,null,"Total Sum of 21",0,20,{"$f":"AU449+GETPIVOTDATA(\"Sum of 20\",AR$2,\"Day  \",\"Prob Adults\")","v":0},null,null,"Total Sum of 21",0,20,{"$f":"BA449+GETPIVOTDATA(\"Sum of 20\",AX$2,\"Day  \",\"Prob Adults\")","v":0},null,null,"Total Sum of 21",0,20,{"$f":"BG449+GETPIVOTDATA(\"Sum of 20\",BD$2,\"Day  \",\"Prob Adults\")","v":0}]
[null,"Total Sum of 22",0,21,{"$f":"E450+GETPIVOTDATA(\"Sum of 21\",$B$2,\"Day  \",\"Prob Adults\")","v":8.0374372050740401},null,null,"Total Sum of 22",0,21,{"$f":"K450+GETPIVOTDATA(\"Sum of 21\",H$2,\"Day  \",\"Prob Adults\")","v":7.5003929465646131},null,null,"Total Sum of 22",0,21,{"$f":"Q450+GETPIVOTDATA(\"Sum of 21\",N$2,\"Day  \",\"Prob Adults\")","v":5.0652173913043477},null,null,"Total Sum of 22",0,21,{"$f":"W450+GETPIVOTDATA(\"Sum of 21\",T$2,\"Day  \",\"Prob Adults\")","v":8.2318879496878843},null,null,"Total Sum of 22",0,21,{"$f":"AC450+GETPIVOTDATA(\"Sum of 21\",Z$2,\"Day  \",\"Prob Adults\")","v":10},null,null,"Total Sum of 22",0,21,{"$f":"AI450+GETPIVOTDATA(\"Sum of 21\",AF$2,\"Day  \",\"Prob Adults\")","v":7.0193236714975846},null,null,"Total Sum of 22",0,21,{"$f":"AO450+GETPIVOTDATA(\"Sum of 21\",AL$2,\"Day  \",\"Prob Adults\")","v":0},null,null,"Total Sum of 22",0,21,{"$f":"AU450+GETPIVOTDATA(\"Sum of 21\",AR$2,\"Day  \",\"Prob Adults\")","v":0},null,null,"Total Sum of 22",0,21,{"$f":"BA450+GETPIVOTDATA(\"Sum of 21\",AX$2,\"Day  \",\"Prob Adults\")","v":0},null,null,"Total Sum of 22",0,21,{"$f":"BG450+GETPIVOTDATA(\"Sum of 21\",BD$2,\"Day  \",\"Prob Adults\")","v":0}]
[null,"Total Sum of 23",0,22,{"$f":"E451+GETPIVOTDATA(\"Sum of 22\",$B$2,\"Day  \",\"Prob Adults\")","v":8.0374372050740401},null,null,"Total Sum of 23",0,22,{"$f":"K451+GETPIVOTDATA(\"Sum of 22\",H$2,\"Day  \",\"Prob Adults\")","v":7.5003929465646131},null,null,"Total Sum of 23",0,22,{"$f":"Q451+GETPIVOTDATA(\"Sum of 22\",N$2,\"Day  \",\"Prob Adults\")","v":5.0652173913043477},null,null,"Total Sum of 23",0,22,{"$f":"W451+GETPIVOTDATA(\"Sum of 22\",T$2,\"Day  \",\"Prob Adults\")","v":8.2318879496878843},null,null,"Total Sum of 23",0,22,{"$f":"AC451+GETPIVOTDATA(\"Sum of 22\",Z$2,\"Day  \",\"Prob Adults\")","v":10},null,null,"Total Sum of 23",0,22,{"$f":"AI451+GETPIVOTDATA(\"Sum of 22\",AF$2,\"Day  \",\"Prob Adults\")","v":7.0193236714975846},null,null,"Total Sum of 23",0,22,{"$f":"AO451+GETPIVOTDATA(\"Sum of 22\",AL$2,\"Day  \",\"Prob Adults\")","v":0},null,null,"Total Sum of 23",0,22,{"$f":"AU451+GETPIVOTDATA(\"Sum of 22\",AR$2,\"Day  \",\"Prob Adults\")","v":0},null,null,"Total Sum of 23",0,22,{"$f":"BA451+GETPIVOTDATA(\"Sum of 22\",AX$2,\"Day  \",\"Prob Adults\")","v":0},null,null,"Total Sum of 23",0,22,{"$f":"BG451+GETPIVOTDATA(\"Sum of 22\",BD$2,\"Day  \",\"Prob Adults\")","v":0}]
[null,"Total Sum of 24",0,23,{"$f":"E452+GETPIVOTDATA(\"Sum of 23\",$B$2,\"Day  \",\"Prob Adults\")","v":8.0374372050740401},null,null,"Total Sum of 24",0,23,{"$f":"K452+GETPIVOTDATA(\"Sum of 23\",H$2,\"Day  \",\"Prob Adults\")","v":7.5003929465646131},null,null,"Total Sum of 24",0,23,{"$f":"Q452+GETPIVOTDATA(\"Sum of 23\",N$2,\"Day  \",\"Prob Adults\")","v":5.0652173913043477},null,null,"Total Sum of 24",0,23,{"$f":"W452+GETPIVOTDATA(\"Sum of 23\",T$2,\"Day  \",\"Prob Adults\")","v":8.2318879496878843},null,null,"Total Sum of 24",0,23,{"$f":"AC452+GETPIVOTDATA(\"Sum of 23\",Z$2,\"Day  \",\"Prob Adults\")","v":10},null,null,"Total Sum of 24",0,23,{"$f":"AI452+GETPIVOTDATA(\"Sum of 23\",AF$2,\"Day  \",\"Prob Adults\")","v":7.0193236714975846},null,null,"Total Sum of 24",0,23,{"$f":"AO452+GETPIVOTDATA(\"Sum of 23\",AL$2,\"Day  \",\"Prob Adults\")","v":0},null,null,"Total Sum of 24",0,23,{"$f":"AU452+GETPIVOTDATA(\"Sum of 23\",AR$2,\"Day  \",\"Prob Adults\")","v":0},null,null,"Total Sum of 24",0,23,{"$f":"BA452+GETPIVOTDATA(\"Sum of 23\",AX$2,\"Day  \",\"Prob Adults\")","v":0},null,null,"Total Sum of 24",0,23,{"$f":"BG452+GETPIVOTDATA(\"Sum of 23\",BD$2,\"Day  \",\"Prob Adults\")","v":0}]
[null,"Total Sum of 25",0,24,{"$f":"E453+GETPIVOTDATA(\"Sum of 24\",$B$2,\"Day  \",\"Prob Adults\")","v":8.0374372050740401},null,null,"Total Sum of 25",0,24,{"$f":"K453+GETPIVOTDATA(\"Sum of 24\",H$2,\"Day  \",\"Prob Adults\")","v":7.5003929465646131},null,null,"Total Sum of 25",0,24,{"$f":"Q453+GETPIVOTDATA(\"Sum of 24\",N$2,\"Day  \",\"Prob Adults\")","v":5.0652173913043477},null,null,"Total Sum of 25",0,24,{"$f":"W453+GETPIVOTDATA(\"Sum of 24\",T$2,\"Day  \",\"Prob Adults\")","v":8.2318879496878843},null,null,"Total Sum of 25",0,24,{"$f":"AC453+GETPIVOTDATA(\"Sum of 24\",Z$2,\"Day  \",\"Prob Adults\")","v":10},null,null,"Total Sum of 25",0,24,{"$f":"AI453+GETPIVOTDATA(\"Sum of 24\",AF$2,\"Day  \",\"Prob Adults\")","v":7.0193236714975846},null,null,"Total Sum of 25",0,24,{"$f":"AO453+GETPIVOTDATA(\"Sum of 24\",AL$2,\"Day  \",\"Prob Adults\")","v":0},null,null,"Total Sum of 25",0,24,{"$f":"AU453+GETPIVOTDATA(\"Sum of 24\",AR$2,\"Day  \",\"Prob Adults\")","v":0},null,null,"Total Sum of 25",0,24,{"$f":"BA453+GETPIVOTDATA(\"Sum of 24\",AX$2,\"Day  \",\"Prob Adults\")","v":0},null,null,"Total Sum of 25",0,24,{"$f":"BG453+GETPIVOTDATA(\"Sum of 24\",BD$2,\"Day  \",\"Prob Adults\")","v":0}]
[null,"Total Sum of 26",0,25,{"$f":"E454+GETPIVOTDATA(\"Sum of 25\",$B$2,\"Day  \",\"Prob Adults\")","v":8.0374372050740401},null,null,"Total Sum of 26",0,25,{"$f":"K454+GETPIVOTDATA(\"Sum of 25\",H$2,\"Day  \",\"Prob Adults\")","v":7.5003929465646131},null,null,"Total Sum of 26",0,25,{"$f":"Q454+GETPIVOTDATA(\"Sum of 25\",N$2,\"Day  \",\"Prob Adults\")","v":5.0652173913043477},null,null,"Total Sum of 26",0,25,{"$f":"W454+GETPIVOTDATA(\"Sum of 25\",T$2,\"Day  \",\"Prob Adults\")","v":8.2318879496878843},null,null,"Total Sum of 26",0,25,{"$f":"AC454+GETPIVOTDATA(\"Sum of 25\",Z$2,\"Day  \",\"Prob Adults\")","v":10},null,null,"Total Sum of 26",0,25,{"$f":"AI454+GETPIVOTDATA(\"Sum of 25\",AF$2,\"Day  \",\"Prob Adults\")","v":7.0193236714975846},null,null,"Total Sum of 26",0,25,{"$f":"AO454+GETPIVOTDATA(\"Sum of 25\",AL$2,\"Day  \",\"Prob Adults\")","v":0},null,null,"Total Sum of 26",0,25,{"$f":"AU454+GETPIVOTDATA(\"Sum of 25\",AR$2,\"Day  \",\"Prob Adults\")","v":0},null,null,"Total Sum of 26",0,25,{"$f":"BA454+GETPIVOTDATA(\"Sum of 25\",AX$2,\"Day  \",\"Prob Adults\")","v":0},null,null,"Total Sum of 26",0,25,{"$f":"BG454+GETPIVOTDATA(\"Sum of 25\",BD$2,\"Day  \",\"Prob Adults\")","v":0}]
[null,"Total Sum of 27",0,26,{"$f":"E455+GETPIVOTDATA(\"Sum of 26\",$B$2,\"Day  \",\"Prob Adults\")","v":8.0374372050740401},null,null,"Total Sum of 27",0,26,{"$f":"K455+GETPIVOTDATA(\"Sum of 26\",H$2,\"Day  \",\"Prob Adults\")","v":7.5003929465646131},null,null,"Total Sum of 27",0,26,{"$f":"Q455+GETPIVOTDATA(\"Sum of 26\",N$2,\"Day  \",\"Prob Adults\")","v":5.0652173913043477},null,null,"Total Sum of 27",0,26,{"$f":"W455+GETPIVOTDATA(\"Sum of 26\",T$2,\"Day  \",\"Prob Adults\")","v":8.2318879496878843},null,null,"Total Sum of 27",0,26,{"$f":"AC455+GETPIVOTDATA(\"Sum of 26\",Z$2,\"Day  \",\"Prob Adults\")","v":10},null,null,"Total Sum of 27",0,26,{"$f":"AI455+GETPIVOTDATA(\"Sum of 26\",AF$2,\"Day  \",\"Prob Adults\")","v":7.0193236714975846},null,null,"Total Sum of 27",0,26,{"$f":"AO455+GETPIVOTDATA(\"Sum of 26\",AL$2,\"Day  \",\"Prob Adults\")","v":0},null,null,"Total Sum of 27",0,26,{"$f":"AU455+GETPIVOTDATA(\"Sum of 26\",AR$2,\"Day  \",\"Prob Adults\")","v":0},null,null,"Total Sum of 27",0,26,{"$f":"BA455+GETPIVOTDATA(\"Sum of 26\",AX$2,\"Day  \",\"Prob Adults\")","v":0},null,null,"Total Sum of 27",0,26,{"$f":"BG455+GETPIVOTDATA(\"Sum of 26\",BD$2,\"Day  \",\"Prob Adults\")","v":0}]
[null,"Total Sum of 28",0,27,{"$f":"E456+GETPIVOTDATA(\"Sum of 27\",$B$2,\"Day  \",\"Prob Adults\")","v":8.0374372050740401},null,null,"Total Sum of 28",0,27,{"$f":"K456+GETPIVOTDATA(\"Sum of 27\",H$2,\"Day  \",\"Prob Adults\")","v":7.5003929465646131},null,null,"Total Sum of 28",0,27,{"$f":"Q456+GETPIVOTDATA(\"Sum of 27\",N$2,\"Day  \",\"Prob Adults\")","v":5.0652173913043477},null,null,"Total Sum of 28",0,27,{"$f":"W456+GETPIVOTDATA(\"Sum of 27\",T$2,\"Day  \",\"Prob Adults\")","v":8.2318879496878843},null,null,"Total Sum of 28",0,27,{"$f":"AC456+GETPIVOTDATA(\"Sum of 27\",Z$2,\"Day  \",\"Prob Adults\")","v":10},null,null,"Total Sum of 28",0,27,{"$f":"AI456+GETPIVOTDATA(\"Sum of 27\",AF$2,\"Day  \",\"Prob Adults\")","v":7.0193236714975846},null,null,"Total Sum of 28",0,27,{"$f":"AO456+GETPIVOTDATA(\"Sum of 27\",AL$2,\"Day  \",\"Prob Adults\")","v":0},null,null,"Total Sum of 28",0,27,{"$f":"AU456+GETPIVOTDATA(\"Sum of 27\",AR$2,\"Day  \",\"Prob Adults\")","v":0},null,null,"Total Sum of 28",0,27,{"$f":"BA456+GETPIVOTDATA(\"Sum of 27\",AX$2,\"Day  \",\"Prob Adults\")","v":0},null,null,"Total Sum of 28",0,27,{"$f":"BG456+GETPIVOTDATA(\"Sum of 27\",BD$2,\"Day  \",\"Prob Adults\")","v":0}]
[null,"Total Sum of 29",0,28,{"$f":"E457+GETPIVOTDATA(\"Sum of 28\",$B$2,\"Day  \",\"Prob Adults\")","v":8.0374372050740401},null,null,"Total Sum of 29",0,28,{"$f":"K457+GETPIVOTDATA(\"Sum of 28\",H$2,\"Day  \",\"Prob Adults\")","v":7.5003929465646131},null,null,"Total Sum of 29",0,28,{"$f":"Q457+GETPIVOTDATA(\"Sum of 28\",N$2,\"Day  \",\"Prob Adults\")","v":5.0652173913043477},null,null,"Total Sum of 29",0,28,{"$f":"W457+GETPIVOTDATA(\"Sum of 28\",T$2,\"Day  \",\"Prob Adults\")","v":8.2318879496878843},null,null,"Total Sum of 29",0,28,{"$f":"AC457+GETPIVOTDATA(\"Sum of 28\",Z$2,\"Day  \",\"Prob Adults\")","v":10},null,null,"Total Sum of 29",0,28,{"$f":"AI457+GETPIVOTDATA(\"Sum of 28\",AF$2,\"Day  \",\"Prob Adults\")","v":7.0193236714975846},null,null,"Total Sum of 29",0,28,{"$f":"AO457+GETPIVOTDATA(\"Sum of 28\",AL$2,\"Day  \",\"Prob Adults\")","v":0},null,null,"Total Sum of 29",0,28,{"$f":"AU457+GETPIVOTDATA(\"Sum of 28\",AR$2,\"Day  \",\"Prob Adults\")","v":0},null,null,"Total Sum of 29",0,28,{"$f":"BA457+GETPIVOTDATA(\"Sum of 28\",AX$2,\"Day  \",\"Prob Adults\")","v":0},null,null,"Total Sum of 29",0,28,{"$f":"BG457+GETPIVOTDATA(\"Sum of 28\",BD$2,\"Day  \",\"Prob Adults\")","v":0}]
[null,"Total Sum of 30",0,29,{"$f":"E458+GETPIVOTDATA(\"Sum of 29\",$B$2,\"Day  \",\"Prob Adults\")","v":8.0374372050740401},null,null,"Total Sum of 30",0,29,{"$f":"K458+GETPIVOTDATA(\"Sum of 29\",H$2,\"Day  \",\"Prob Adults\")","v":7.5003929465646131},null,null,"Total Sum of 30",0,29,{"$f":"Q458+GETPIVOTDATA(\"Sum of 29\",N$2,\"Day  \",\"Prob Adults\")","v":5.0652173913043477},null,null,"Total Sum of 30",0,29,{"$f":"W458+GETPIVOTDATA(\"Sum of 29\",T$2,\"Day  \",\"Prob Adults\")","v":8.2318879496878843},null,null,"Total Sum of 30",0,29,{"$f":"AC458+GETPIVOTDATA(\"Sum of 29\",Z$2,\"Day  \",\"Prob Adults\")","v":10},null,null,"Total Sum of 30",0,29,{"$f":"AI458+GETPIVOTDATA(\"Sum of 29\",AF$2,\"Day  \",\"Prob Adults\")","v":7.0193236714975846},null,null,"Total Sum of 30",0,29,{"$f":"AO458+GETPIVOTDATA(\"Sum of 29\",AL$2,\"Day  \",\"Prob Adults\")","v":0},null,null,"Total Sum of 30",0,29,{"$f":"AU458+GETPIVOTDATA(\"Sum of 29\",AR$2,\"Day  \",\"Prob Adults\")","v":0},null,null,"Total Sum of 30",0,29,{"$f":"BA458+GETPIVOTDATA(\"Sum of 29\",AX$2,\"Day  \",\"Prob Adults\")","v":0},null,null,"Total Sum of 30",0,29,{"$f":"BG458+GETPIVOTDATA(\"Sum of 29\",BD$2,\"Day  \",\"Prob Adults\")","v":0}]
[null,"Total Sum of 31",0,30,{"$f":"E459+GETPIVOTDATA(\"Sum of 30\",$B$2,\"Day  \",\"Prob Adults\")","v":8.0374372050740401},null,null,"Total Sum of 31",0,30,{"$f":"K459+GETPIVOTDATA(\"Sum of 30\",H$2,\"Day  \",\"Prob Adults\")","v":7.5003929465646131},null,null,"Total Sum of 31",0,30,{"$f":"Q459+GETPIVOTDATA(\"Sum of 30\",N$2,\"Day  \",\"Prob Adults\")","v":5.0652173913043477},null,null,"Total Sum of 31",0,30,{"$f":"W459+GETPIVOTDATA(\"Sum of 30\",T$2,\"Day  \",\"Prob Adults\")","v":8.2318879496878843},null,null,"Total Sum of 31",0,30,{"$f":"AC459+GETPIVOTDATA(\"Sum of 30\",Z$2,\"Day  \",\"Prob Adults\")","v":10},null,null,"Total Sum of 31",0,30,{"$f":"AI459+GETPIVOTDATA(\"Sum of 30\",AF$2,\"Day  \",\"Prob Adults\")","v":7.0193236714975846},null,null,"Total Sum of 31",0,30,{"$f":"AO459+GETPIVOTDATA(\"Sum of 30\",AL$2,\"Day  \",\"Prob Adults\")","v":0},null,null,"Total Sum of 31",0,30,{"$f":"AU459+GETPIVOTDATA(\"Sum of 30\",AR$2,\"Day  \",\"Prob Adults\")","v":0},null,null,"Total Sum of 31",0,30,{"$f":"BA459+GETPIVOTDATA(\"Sum of 30\",AX$2,\"Day  \",\"Prob Adults\")","v":0},null,null,"Total Sum of 31",0,30,{"$f":"BG459+GETPIVOTDATA(\"Sum of 30\",BD$2,\"Day  \",\"Prob Adults\")","v":0}]
[null,"Total Sum of 32",0,31,{"$f":"E460+GETPIVOTDATA(\"Sum of 31\",$B$2,\"Day  \",\"Prob Adults\")","v":8.0374372050740401},null,null,"Total Sum of 32",0,31,{"$f":"K460+GETPIVOTDATA(\"Sum of 31\",H$2,\"Day  \",\"Prob Adults\")","v":7.5003929465646131},null,null,"Total Sum of 32",0,31,{"$f":"Q460+GETPIVOTDATA(\"Sum of 31\",N$2,\"Day  \",\"Prob Adults\")","v":5.0652173913043477},null,null,"Total Sum of 32",0,31,{"$f":"W460+GETPIVOTDATA(\"Sum of 31\",T$2,\"Day  \",\"Prob Adults\")","v":8.2318879496878843},null,null,"Total Sum of 32",0,31,{"$f":"AC460+GETPIVOTDATA(\"Sum of 31\",Z$2,\"Day  \",\"Prob Adults\")","v":10},null,null,"Total Sum of 32",0,31,{"$f":"AI460+GETPIVOTDATA(\"Sum of 31\",AF$2,\"Day  \",\"Prob Adults\")","v":7.0193236714975846},null,null,"Total Sum of 32",0,31,{"$f":"AO460+GETPIVOTDATA(\"Sum of 31\",AL$2,\"Day  \",\"Prob Adults\")","v":0},null,null,"Total Sum of 32",0,31,{"$f":"AU460+GETPIVOTDATA(\"Sum of 31\",AR$2,\"Day  \",\"Prob Adults\")","v":0},null,null,"Total Sum of 32",0,31,{"$f":"BA460+GETPIVOTDATA(\"Sum of 31\",AX$2,\"Day  \",\"Prob Adults\")","v":0},null,null,"Total Sum of 32",0,31,{"$f":"BG460+GETPIVOTDATA(\"Sum of 31\",BD$2,\"Day  \",\"Prob Adults\")","v":0}]
[null,"Total Sum of 33",0,32,{"$f":"E461+GETPIVOTDATA(\"Sum of 32\",$B$2,\"Day  \",\"Prob Adults\")","v":8.0374372050740401},null,null,"Total Sum of 33",0,32,{"$f":"K461+GETPIVOTDATA(\"Sum of 32\",H$2,\"Day  \",\"Prob Adults\")","v":7.5003929465646131},null,null,"Total Sum of 33",0,32,{"$f":"Q461+GETPIVOTDATA(\"Sum of 32\",N$2,\"Day  \",\"Prob Adults\")","v":5.0652173913043477},null,null,"Total Sum of 33",0,32,{"$f":"W461+GETPIVOTDATA(\"Sum of 32\",T$2,\"Day  \",\"Prob Adults\")","v":8.2318879496878843},null,null,"Total Sum of 33",0,32,{"$f":"AC461+GETPIVOTDATA(\"Sum of 32\",Z$2,\"Day  \",\"Prob Adults\")","v":10},null,null,"Total Sum of 33",0,32,{"$f":"AI461+GETPIVOTDATA(\"Sum of 32\",AF$2,\"Day  \",\"Prob Adults\")","v":7.0193236714975846},null,null,"Total Sum of 33",0,32,{"$f":"AO461+GETPIVOTDATA(\"Sum of 32\",AL$2,\"Day  \",\"Prob Adults\")","v":0},null,null,"Total Sum of 33",0,32,{"$f":"AU461+GETPIVOTDATA(\"Sum of 32\",AR$2,\"Day  \",\"Prob Adults\")","v":0},null,null,"Total Sum of 33",0,32,{"$f":"BA461+GETPIVOTDATA(\"Sum of 32\",AX$2,\"Day  \",\"Prob Adults\")","v":0},null,null,"Total Sum of 33",0,32,{"$f":"BG461+GETPIVOTDATA(\"Sum of 32\",BD$2,\"Day  \",\"Prob Adults\")","v":0}]
[null,"Total Sum of 34",0,33,{"$f":"E462+GETPIVOTDATA(\"Sum of 33\",$B$2,\"Day  \",\"Prob Adults\")","v":8.0374372050740401},null,null,"Total Sum of 34",0,33,{"$f":"K462+GETPIVOTDATA(\"Sum of 33\",H$2,\"Day  \",\"Prob Adults\")","v":7.5003929465646131},null,null,"Total Sum of 34",0,33,{"$f":"Q462+GETPIVOTDATA(\"Sum of 33\",N$2,\"Day  \",\"Prob Adults\")","v":5.0652173913043477},null,null,"Total Sum of 34",0,33,{"$f":"W462+GETPIVOTDATA(\"Sum of 33\",T$2,\"Day  \",\"Prob Adults\")","v":8.2318879496878843},null,null,"Total Sum of 34",0,33,{"$f":"AC462+GETPIVOTDATA(\"Sum of 33\",Z$2,\"Day  \",\"Prob Adults\")","v":10},null,null,"Total Sum of 34",0,33,{"$f":"AI462+GETPIVOTDATA(\"Sum of 33\",AF$2,\"Day  \",\"Prob Adults\")","v":7.0193236714975846},null,null,"Total Sum of 34",0,33,{"$f":"AO462+GETPIVOTDATA(\"Sum of 33\",AL$2,\"Day  \",\"Prob Adults\")","v":0},null,null,"Total Sum of 34",0,33,{"$f":"AU462+GETPIVOTDATA(\"Sum of 33\",AR$2,\"Day  \",\"Prob Adults\")","v":0},null,null,"Total Sum of 34",0,33,{"$f":"BA462+GETPIVOTDATA(\"Sum of 33\",AX$2,\"Day  \",\"Prob Adults\")","v":0},null,null,"Total Sum of 34",0,33,{"$f":"BG462+GETPIVOTDATA(\"Sum of 33\",BD$2,\"Day  \",\"Prob Adults\")","v":0}]
[null,"Total Sum of 35",0,34,{"$f":"E463+GETPIVOTDATA(\"Sum of 34\",$B$2,\"Day  \",\"Prob Adults\")","v":8.0374372050740401},null,null,"Total Sum of 35",0,34,{"$f":"K463+GETPIVOTDATA(\"Sum of 34\",H$2,\"Day  \",\"Prob Adults\")","v":7.5003929465646131},null,null,"Total Sum of 35",0,34,{"$f":"Q463+GETPIVOTDATA(\"Sum of 34\",N$2,\"Day  \",\"Prob Adults\")","v":5.0652173913043477},null,null,"Total Sum of 35",0,34,{"$f":"W463+GETPIVOTDATA(\"Sum of 34\",T$2,\"Day  \",\"Prob Adults\")","v":8.2318879496878843},null,null,"Total Sum of 35",0,34,{"$f":"AC463+GETPIVOTDATA(\"Sum of 34\",Z$2,\"Day  \",\"Prob Adults\")","v":10},null,null,"Total Sum of 35",0,34,{"$f":"AI463+GETPIVOTDATA(\"Sum of 34\",AF$2,\"Day  \",\"Prob Adults\")","v":7.0193236714975846},null,null,"Total Sum of 35",0,34,{"$f":"AO463+GETPIVOTDATA(\"Sum of 34\",AL$2,\"Day  \",\"Prob Adults\")","v":0},null,null,"Total Sum of 35",0,34,{"$f":"AU463+GETPIVOTDATA(\"Sum of 34\",AR$2,\"Day  \",\"Prob Adults\")","v":0},null,null,"Total Sum of 35",0,34,{"$f":"BA463+GETPIVOTDATA(\"Sum of 34\",AX$2,\"Day  \",\"Prob Adults\")","v":0},null,null,"Total Sum of 35",0,34,{"$f":"BG463+GETPIVOTDATA(\"Sum of 34\",BD$2,\"Day  \",\"Prob Adults\")","v":0}]
[null,"Total Sum of 36",0,35,{"$f":"E464+GETPIVOTDATA(\"Sum of 35\",$B$2,\"Day  \",\"Prob Adults\")","v":8.0374372050740401},null,null,"Total Sum of 36",0,35,{"$f":"K464+GETPIVOTDATA(\"Sum of 35\",H$2,\"Day  \",\"Prob Adults\")","v":7.5003929465646131},null,null,"Total Sum of 36",0,35,{"$f":"Q464+GETPIVOTDATA(\"Sum of 35\",N$2,\"Day  \",\"Prob Adults\")","v":5.0652173913043477},null,null,"Total Sum of 36",0,35,{"$f":"W464+GETPIVOTDATA(\"Sum of 35\",T$2,\"Day  \",\"Prob Adults\")","v":8.2318879496878843},null,null,"Total Sum of 36",0,35,{"$f":"AC464+GETPIVOTDATA(\"Sum of 35\",Z$2,\"Day  \",\"Prob Adults\")","v":10},null,null,"Total Sum of 36",0,35,{"$f":"AI464+GETPIVOTDATA(\"Sum of 35\",AF$2,\"Day  \",\"Prob Adults\")","v":7.0193236714975846},null,null,"Total Sum of 36",0,35,{"$f":"AO464+GETPIVOTDATA(\"Sum of 35\",AL$2,\"Day  \",\"Prob Adults\")","v":0},null,null,"Total Sum of 36",0,35,{"$f":"AU464+GETPIVOTDATA(\"Sum of 35\",AR$2,\"Day  \",\"Prob Adults\")","v":0},null,null,"Total Sum of 36",0,35,{"$f":"BA464+GETPIVOTDATA(\"Sum of 35\",AX$2,\"Day  \",\"Prob Adults\")","v":0},null,null,"Total Sum of 36",0,35,{"$f":"BG464+GETPIVOTDATA(\"Sum of 35\",BD$2,\"Day  \",\"Prob Adults\")","v":0}]
[null,"Total Sum of 37",0,36,{"$f":"E465+GETPIVOTDATA(\"Sum of 36\",$B$2,\"Day  \",\"Prob Adults\")","v":8.0374372050740401},null,null,"Total Sum of 37",0,36,{"$f":"K465+GETPIVOTDATA(\"Sum of 36\",H$2,\"Day  \",\"Prob Adults\")","v":7.5003929465646131},null,null,"Total Sum of 37",0,36,{"$f":"Q465+GETPIVOTDATA(\"Sum of 36\",N$2,\"Day  \",\"Prob Adults\")","v":5.0652173913043477},null,null,"Total Sum of 37",0,36,{"$f":"W465+GETPIVOTDATA(\"Sum of 36\",T$2,\"Day  \",\"Prob Adults\")","v":8.2318879496878843},null,null,"Total Sum of 37",0,36,{"$f":"AC465+GETPIVOTDATA(\"Sum of 36\",Z$2,\"Day  \",\"Prob Adults\")","v":10},null,null,"Total Sum of 37",0,36,{"$f":"AI465+GETPIVOTDATA(\"Sum of 36\",AF$2,\"Day  \",\"Prob Adults\")","v":7.0193236714975846},null,null,"Total Sum of 37",0,36,{"$f":"AO465+GETPIVOTDATA(\"Sum of 36\",AL$2,\"Day  \",\"Prob Adults\")","v":0},null,null,"Total Sum of 37",0,36,{"$f":"AU465+GETPIVOTDATA(\"Sum of 36\",AR$2,\"Day  \",\"Prob Adults\")","v":0},null,null,"Total Sum of 37",0,36,{"$f":"BA465+GETPIVOTDATA(\"Sum of 36\",AX$2,\"Day  \",\"Prob Adults\")","v":0},null,null,"Total Sum of 37",0,36,{"$f":"BG465+GETPIVOTDATA(\"Sum of 36\",BD$2,\"Day  \",\"Prob Adults\")","v":0}]
[null,"Total Sum of 38",0,37,{"$f":"E466+GETPIVOTDATA(\"Sum of 37\",$B$2,\"Day  \",\"Prob Adults\")","v":8.0374372050740401},null,null,"Total Sum of 38",0,37,{"$f":"K466+GETPIVOTDATA(\"Sum of 37\",H$2,\"Day  \",\"Prob Adults\")","v":7.5003929465646131},null,null,"Total Sum of 38",0,37,{"$f":"Q466+GETPIVOTDATA(\"Sum of 37\",N$2,\"Day  \",\"Prob Adults\")","v":5.0652173913043477},null,null,"Total Sum of 38",0,37,{"$f":"W466+GETPIVOTDATA(\"Sum of 37\",T$2,\"Day  \",\"Prob Adults\")","v":8.2318879496878843},null,null,"Total Sum of 38",0,37,{"$f":"AC466+GETPIVOTDATA(\"Sum of 37\",Z$2,\"Day  \",\"Prob Adults\")","v":10},null,null,"Total Sum of 38",0,37,{"$f":"AI466+GETPIVOTDATA(\"Sum of 37\",AF$2,\"Day  \",\"Prob Adults\")","v":7.0193236714975846},null,null,"Total Sum of 38",0,37,{"$f":"AO466+GETPIVOTDATA(\"Sum of 37\",AL$2,\"Day  \",\"Prob Adults\")","v":0},null,null,"Total Sum of 38",0,37,{"$f":"AU466+GETPIVOTDATA(\"Sum of 37\",AR$2,\"Day  \",\"Prob Adults\")","v":0},null,null,"Total Sum of 38",0,37,{"$f":"BA466+GETPIVOTDATA(\"Sum of 37\",AX$2,\"Day  \",\"Prob Adults\")","v":0},null,null,"Total Sum of 38",0,37,{"$f":"BG466+GETPIVOTDATA(\"Sum of 37\",BD$2,\"Day  \",\"Prob Adults\")","v":0}]
[null,"Total Sum of 39",0,38,{"$f":"E467+GETPIVOTDATA(\"Sum of 38\",$B$2,\"Day  \",\"Prob Adults\")","v":8.0374372050740401},null,null,"Total Sum of 39",0,38,{"$f":"K467+GETPIVOTDATA(\"Sum of 38\",H$2,\"Day  \",\"Prob Adults\")","v":7.5003929465646131},null,null,"Total Sum of 39",0,38,{"$f":"Q467+GETPIVOTDATA(\"Sum of 38\",N$2,\"Day  \",\"Prob Adults\")","v":5.0652173913043477},null,null,"Total Sum of 39",0,38,{"$f":"W467+GETPIVOTDATA(\"Sum of 38\",T$2,\"Day  \",\"Prob Adults\")","v":8.2318879496878843},null,null,"Total Sum of 39",0,38,{"$f":"AC467+GETPIVOTDATA(\"Sum of 38\",Z$2,\"Day  \",\"Prob Adults\")","v":10},null,null,"Total Sum of 39",0,38,{"$f":"AI467+GETPIVOTDATA(\"Sum of 38\",AF$2,\"Day  \",\"Prob Adults\")","v":7.0193236714975846},null,null,"Total Sum of 39",0,38,{"$f":"AO467+GETPIVOTDATA(\"Sum of 38\",AL$2,\"Day  \",\"Prob Adults\")","v":0},null,null,"Total Sum of 39",0,38,{"$f":"AU467+GETPIVOTDATA(\"Sum of 38\",AR$2,\"Day  \",\"Prob Adults\")","v":0},null,null,"Total Sum of 39",0,38,{"$f":"BA467+GETPIVOTDATA(\"Sum of 38\",AX$2,\"Day  \",\"Prob Adults\")","v":0},null,null,"Total Sum of 39",0,38,{"$f":"BG467+GETPIVOTDATA(\"Sum of 38\",BD$2,\"Day  \",\"Prob Adults\")","v":0}]
[null,"Total Sum of 40",0,39,{"$f":"E468+GETPIVOTDATA(\"Sum of 39\",$B$2,\"Day  \",\"Prob Adults\")","v":8.0374372050740401},null,null,"Total Sum of 40",0,39,{"$f":"K468+GETPIVOTDATA(\"Sum of 39\",H$2,\"Day  \",\"Prob Adults\")","v":7.5003929465646131},null,null,"Total Sum of 40",0,39,{"$f":"Q468+GETPIVOTDATA(\"Sum of 39\",N$2,\"Day  \",\"Prob Adults\")","v":5.0652173913043477},null,null,"Total Sum of 40",0,39,{"$f":"W468+GETPIVOTDATA(\"Sum of 39\",T$2,\"Day  \",\"Prob Adults\")","v":8.2318879496878843},null,null,"Total Sum of 40",0,39,{"$f":"AC468+GETPIVOTDATA(\"Sum of 39\",Z$2,\"Day  \",\"Prob Adults\")","v":10},null,null,"Total Sum of 40",0,39,{"$f":"AI468+GETPIVOTDATA(\"Sum of 39\",AF$2,\"Day  \",\"Prob Adults\")","v":7.0193236714975846},null,null,"Total Sum of 40",0,39,{"$f":"AO468+GETPIVOTDATA(\"Sum of 39\",AL$2,\"Day  \",\"Prob Adults\")","v":0},null,null,"Total Sum of 40",0,39,{"$f":"AU468+GETPIVOTDATA(\"Sum of 39\",AR$2,\"Day  \",\"Prob Adults\")","v":0},null,null,"Total Sum of 40",0,39,{"$f":"BA468+GETPIVOTDATA(\"Sum of 39\",AX$2,\"Day  \",\"Prob Adults\")","v":0},null,null,"Total Sum of 40",0,39,{"$f":"BG468+GETPIVOTDATA(\"Sum of 39\",BD$2,\"Day  \",\"Prob Adults\")","v":0}]
[null,"Total Sum of 41",0,40,{"$f":"E469+GETPIVOTDATA(\"Sum of 40\",$B$2,\"Day  \",\"Prob Adults\")","v":8.0374372050740401},null,null,"Total Sum of 41",0,40,{"$f":"K469+GETPIVOTDATA(\"Sum of 40\",H$2,\"Day  \",\"Prob Adults\")","v":7.5003929465646131},null,null,"Total Sum of 41",0,40,{"$f":"Q469+GETPIVOTDATA(\"Sum of 40\",N$2,\"Day  \",\"Prob Adults\")","v":5.0652173913043477},null,null,"Total Sum of 41",0,40,{"$f":"W469+GETPIVOTDATA(\"Sum of 40\",T$2,\"Day  \",\"Prob Adults\")","v":8.2318879496878843},null,null,"Total Sum of 41",0,40,{"$f":"AC469+GETPIVOTDATA(\"Sum of 40\",Z$2,\"Day  \",\"Prob Adults\")","v":10},null,null,"Total Sum of 41",0,40,{"$f":"AI469+GETPIVOTDATA(\"Sum of 40\",AF$2,\"Day  \",\"Prob Adults\")","v":7.0193236714975846},null,null,"Total Sum of 41",0,40,{"$f":"AO469+GETPIVOTDATA(\"Sum of 40\",AL$2,\"Day  \",\"Prob Adults\")","v":0},null,null,"Total Sum of 41",0,40,{"$f":"AU469+GETPIVOTDATA(\"Sum of 40\",AR$2,\"Day  \",\"Prob Adults\")","v":0},null,null,"Total Sum of 41",0,40,{"$f":"BA469+GETPIVOTDATA(\"Sum of 40\",AX$2,\"Day  \",\"Prob Adults\")","v":0},null,null,"Total Sum of 41",0,40,{"$f":"BG469+GETPIVOTDATA(\"Sum of 40\",BD$2,\"Day  \",\"Prob Adults\")","v":0}]
[null,"Total Sum of 42",0,41,{"$f":"E470+GETPIVOTDATA(\"Sum of 41\",$B$2,\"Day  \",\"Prob Adults\")","v":8.0374372050740401},null,null,"Total Sum of 42",0,41,{"$f":"K470+GETPIVOTDATA(\"Sum of 41\",H$2,\"Day  \",\"Prob Adults\")","v":7.5003929465646131},null,null,"Total Sum of 42",0,41,{"$f":"Q470+GETPIVOTDATA(\"Sum of 41\",N$2,\"Day  \",\"Prob Adults\")","v":5.0652173913043477},null,null,"Total Sum of 42",0,41,{"$f":"W470+GETPIVOTDATA(\"Sum of 41\",T$2,\"Day  \",\"Prob Adults\")","v":8.2318879496878843},null,null,"Total Sum of 42",0,41,{"$f":"AC470+GETPIVOTDATA(\"Sum of 41\",Z$2,\"Day  \",\"Prob Adults\")","v":10},null,null,"Total Sum of 42",0,41,{"$f":"AI470+GETPIVOTDATA(\"Sum of 41\",AF$2,\"Day  \",\"Prob Adults\")","v":7.0193236714975846},null,null,"Total Sum of 42",0,41,{"$f":"AO470+GETPIVOTDATA(\"Sum of 41\",AL$2,\"Day  \",\"Prob Adults\")","v":0},null,null,"Total Sum of 42",0,41,{"$f":"AU470+GETPIVOTDATA(\"Sum of 41\",AR$2,\"Day  \",\"Prob Adults\")","v":0},null,null,"Total Sum of 42",0,41,{"$f":"BA470+GETPIVOTDATA(\"Sum of 41\",AX$2,\"Day  \",\"Prob Adults\")","v":0},null,null,"Total Sum of 42",0,41,{"$f":"BG470+GETPIVOTDATA(\"Sum of 41\",BD$2,\"Day  \",\"Prob Adults\")","v":0}]
[null,"Total Sum of 43",0,42,{"$f":"E471+GETPIVOTDATA(\"Sum of 42\",$B$2,\"Day  \",\"Prob Adults\")","v":8.0374372050740401},null,null,"Total Sum of 43",0,42,{"$f":"K471+GETPIVOTDATA(\"Sum of 42\",H$2,\"Day  \",\"Prob Adults\")","v":7.5003929465646131},null,null,"Total Sum of 43",0,42,{"$f":"Q471+GETPIVOTDATA(\"Sum of 42\",N$2,\"Day  \",\"Prob Adults\")","v":5.0652173913043477},null,null,"Total Sum of 43",0,42,{"$f":"W471+GETPIVOTDATA(\"Sum of 42\",T$2,\"Day  \",\"Prob Adults\")","v":8.2318879496878843},null,null,"Total Sum of 43",0,42,{"$f":"AC471+GETPIVOTDATA(\"Sum of 42\",Z$2,\"Day  \",\"Prob Adults\")","v":10},null,null,"Total Sum of 43",0,42,{"$f":"AI471+GETPIVOTDATA(\"Sum of 42\",AF$2,\"Day  \",\"Prob Adults\")","v":7.0193236714975846},null,null,"Total Sum of 43",0,42,{"$f":"AO471+GETPIVOTDATA(\"Sum of 42\",AL$2,\"Day  \",\"Prob Adults\")","v":0},null,null,"Total Sum of 43",0,42,{"$f":"AU471+GETPIVOTDATA(\"Sum of 42\",AR$2,\"Day  \",\"Prob Adults\")","v":0},null,null,"Total Sum of 43",0,42,{"$f":"BA471+GETPIVOTDATA(\"Sum of 42\",AX$2,\"Day  \",\"Prob Adults\")","v":0},null,null,"Total Sum of 43",0,42,{"$f":"BG471+GETPIVOTDATA(\"Sum of 42\",BD$2,\"Day  \",\"Prob Adults\")","v":0}]
[null,"Total Sum of 44",0,43,{"$f":"E472+GETPIVOTDATA(\"Sum of 43\",$B$2,\"Day  \",\"Prob Adults\")","v":8.0374372050740401},null,null,"Total Sum of 44",0,43,{"$f":"K472+GETPIVOTDATA(\"Sum of 43\",H$2,\"Day  \",\"Prob Adults\")","v":7.5003929465646131},null,null,"Total Sum of 44",0,43,{"$f":"Q472+GETPIVOTDATA(\"Sum of 43\",N$2,\"Day  \",\"Prob Adults\")","v":5.0652173913043477},null,null,"Total Sum of 44",0,43,{"$f":"W472+GETPIVOTDATA(\"Sum of 43\",T$2,\"Day  \",\"Prob Adults\")","v":8.2318879496878843},null,null,"Total Sum of 44",0,43,{"$f":"AC472+GETPIVOTDATA(\"Sum of 43\",Z$2,\"Day  \",\"Prob Adults\")","v":10},null,null,"Total Sum of 44",0,43,{"$f":"AI472+GETPIVOTDATA(\"Sum of 43\",AF$2,\"Day  \",\"Prob Adults\")","v":7.0193236714975846},null,null,"Total Sum of 44",0,43,{"$f":"AO472+GETPIVOTDATA(\"Sum of 43\",AL$2,\"Day  \",\"Prob Adults\")","v":0},null,null,"Total Sum of 44",0,43,{"$f":"AU472+GETPIVOTDATA(\"Sum of 43\",AR$2,\"Day  \",\"Prob Adults\")","v":0},null,null,"Total Sum of 44",0,43,{"$f":"BA472+GETPIVOTDATA(\"Sum of 43\",AX$2,\"Day  \",\"Prob Adults\")","v":0},null,null,"Total Sum of 44",0,43,{"$f":"BG472+GETPIVOTDATA(\"Sum of 43\",BD$2,\"Day  \",\"Prob Adults\")","v":0}]
[null,"Total Sum of 45",0,44,{"$f":"E473+GETPIVOTDATA(\"Sum of 44\",$B$2,\"Day  \",\"Prob Adults\")","v":8.0374372050740401},null,null,"Total Sum of 45",0,44,{"$f":"K473+GETPIVOTDATA(\"Sum of 44\",H$2,\"Day  \",\"Prob Adults\")","v":7.5003929465646131},null,null,"Total Sum of 45",0,44,{"$f":"Q473+GETPIVOTDATA(\"Sum of 44\",N$2,\"Day  \",\"Prob Adults\")","v":5.0652173913043477},null,null,"Total Sum of 45",0,44,{"$f":"W473+GETPIVOTDATA(\"Sum of 44\",T$2,\"Day  \",\"Prob Adults\")","v":8.2318879496878843},null,null,"Total Sum of 45",0,44,{"$f":"AC473+GETPIVOTDATA(\"Sum of 44\",Z$2,\"Day  \",\"Prob Adults\")","v":10},null,null,"Total Sum of 45",0,44,{"$f":"AI473+GETPIVOTDATA(\"Sum of 44\",AF$2,\"Day  \",\"Prob Adults\")","v":7.0193236714975846},null,null,"Total Sum of 45",0,44,{"$f":"AO473+GETPIVOTDATA(\"Sum of 44\",AL$2,\"Day  \",\"Prob Adults\")","v":0},null,null,"Total Sum of 45",0,44,{"$f":"AU473+GETPIVOTDATA(\"Sum of 44\",AR$2,\"Day  \",\"Prob Adults\")","v":0},null,null,"Total Sum of 45",0,44,{"$f":"BA473+GETPIVOTDATA(\"Sum of 44\",AX$2,\"Day  \",\"Prob Adults\")","v":0},null,null,"Total Sum of 45",0,44,{"$f":"BG473+GETPIVOTDATA(\"Sum of 44\",BD$2,\"Day  \",\"Prob Adults\")","v":0}]
[null,"Total Sum of 47",0,45,{"$f":"E474+GETPIVOTDATA(\"Sum of 45\",$B$2,\"Day  \",\"Prob Adults\")","v":8.0374372050740401},null,null,"Total Sum of 46",0,45,{"$f":"K474+GETPIVOTDATA(\"Sum of 45\",H$2,\"Day  \",\"Prob Adults\")","v":7.5003929465646131},null,null,"Total Sum of 46",0,45,{"$f":"Q474+GETPIVOTDATA(\"Sum of 45\",N$2,\"Day  \",\"Prob Adults\")","v":5.0652173913043477},null,null,"Total Sum of 46",0,45,{"$f":"W474+GETPIVOTDATA(\"Sum of 45\",T$2,\"Day  \",\"Prob Adults\")","v":8.2318879496878843},null,null,"Total Sum of 46",0,45,{"$f":"AC474+GETPIVOTDATA(\"Sum of 45\",Z$2,\"Day  \",\"Prob Adults\")","v":10},null,null,"Total Sum of 46",0,45,{"$f":"AI474+GETPIVOTDATA(\"Sum of 45\",AF$2,\"Day  \",\"Prob Adults\")","v":7.0193236714975846},null,null,"Total Sum of 46",0,45,{"$f":"AO474+GETPIVOTDATA(\"Sum of 45\",AL$2,\"Day  \",\"Prob Adults\")","v":0},null,null,"Total Sum of 46",0,45,{"$f":"AU474+GETPIVOTDATA(\"Sum of 45\",AR$2,\"Day  \",\"Prob Adults\")","v":0},null,null,"Total Sum of 46",0,45,{"$f":"BA474+GETPIVOTDATA(\"Sum of 45\",AX$2,\"Day  \",\"Prob Adults\")","v":0},null,null,"Total Sum of 46",0,45,{"$f":"BG474+GETPIVOTDATA(\"Sum of 45\",BD$2,\"Day  \",\"Prob Adults\")","v":0}]
[null,"Total Sum of 46",0,46,{"$f":"E475+GETPIVOTDATA(\"Sum of 46\",$B$2,\"Day  \",\"Prob Adults\")","v":8.0374372050740401},null,null,"Total Sum of 47",0,46,{"$f":"K475+GETPIVOTDATA(\"Sum of 46\",H$2,\"Day  \",\"Prob Adults\")","v":7.5003929465646131},null,null,"Total Sum of 47",0,46,{"$f":"Q475+GETPIVOTDATA(\"Sum of 46\",N$2,\"Day  \",\"Prob Adults\")","v":5.0652173913043477},null,null,"Total Sum of 47",0,46,{"$f":"W475+GETPIVOTDATA(\"Sum of 46\",T$2,\"Day  \",\"Prob Adults\")","v":8.2318879496878843},null,null,"Total Sum of 47",0,46,{"$f":"AC475+GETPIVOTDATA(\"Sum of 46\",Z$2,\"Day  \",\"Prob Adults\")","v":10},null,null,"Total Sum of 47",0,46,{"$f":"AI475+GETPIVOTDATA(\"Sum of 46\",AF$2,\"Day  \",\"Prob Adults\")","v":7.0193236714975846},null,null,"Total Sum of 47",0,46,{"$f":"AO475+GETPIVOTDATA(\"Sum of 46\",AL$2,\"Day  \",\"Prob Adults\")","v":0},null,null,"Total Sum of 47",0,46,{"$f":"AU475+GETPIVOTDATA(\"Sum of 46\",AR$2,\"Day  \",\"Prob Adults\")","v":0},null,null,"Total Sum of 47",0,46,{"$f":"BA475+GETPIVOTDATA(\"Sum of 46\",AX$2,\"Day  \",\"Prob Adults\")","v":0},null,null,"Total Sum of 47",0,46,{"$f":"BG475+GETPIVOTDATA(\"Sum of 46\",BD$2,\"Day  \",\"Prob Adults\")","v":0}]
[null,"Total Sum of 48",0,47,{"$f":"E476+GETPIVOTDATA(\"Sum of 47\",$B$2,\"Day  \",\"Prob Adults\")","v":8.0374372050740401},null,null,"Total Sum of 48",0,47,{"$f":"K476+GETPIVOTDATA(\"Sum of 47\",H$2,\"Day  \",\"Prob Adults\")","v":7.5003929465646131},null,null,"Total Sum of 48",0,47,{"$f":"Q476+GETPIVOTDATA(\"Sum of 47\",N$2,\"Day  \",\"Prob Adults\")","v":5.0652173913043477},null,null,"Total Sum of 48",0,47,{"$f":"W476+GETPIVOTDATA(\"Sum of 47\",T$2,\"Day  \",\"Prob Adults\")","v":8.2318879496878843},null,null,"Total Sum of 48",0,47,{"$f":"AC476+GETPIVOTDATA(\"Sum of 47\",Z$2,\"Day  \",\"Prob Adults\")","v":10},null,null,"Total Sum of 48",0,47,{"$f":"AI476+GETPIVOTDATA(\"Sum of 47\",AF$2,\"Day  \",\"Prob Adults\")","v":7.0193236714975846},null,null,"Total Sum of 48",0,47,{"$f":"AO476+GETPIVOTDATA(\"Sum of 47\",AL$2,\"Day  \",\"Prob Adults\")","v":0},null,null,"Total Sum of 48",0,47,{"$f":"AU476+GETPIVOTDATA(\"Sum of 47\",AR$2,\"Day  \",\"Prob Adults\")","v":0},null,null,"Total Sum of 48",0,47,{"$f":"BA476+GETPIVOTDATA(\"Sum of 47\",AX$2,\"Day  \",\"Prob Adults\")","v":0},null,null,"Total Sum of 48",0,47,{"$f":"BG476+GETPIVOTDATA(\"Sum of 47\",BD$2,\"Day  \",\"Prob Adults\")","v":0}]
[null,"Total Sum of 49",0,48,{"$f":"E477+GETPIVOTDATA(\"Sum of 48\",$B$2,\"Day  \",\"Prob Adults\")","v":8.0374372050740401},null,null,"Total Sum of 49",0,48,{"$f":"K477+GETPIVOTDATA(\"Sum of 48\",H$2,\"Day  \",\"Prob Adults\")","v":7.5003929465646131},null,null,"Total Sum of 49",0,48,{"$f":"Q477+GETPIVOTDATA(\"Sum of 48\",N$2,\"Day  \",\"Prob Adults\")","v":5.0652173913043477},null,null,"Total Sum of 49",0,48,{"$f":"W477+GETPIVOTDATA(\"Sum of 48\",T$2,\"Day  \",\"Prob Adults\")","v":8.2318879496878843},null,null,"Total Sum of 49",0,48,{"$f":"AC477+GETPIVOTDATA(\"Sum of 48\",Z$2,\"Day  \",\"Prob Adults\")","v":10},null,null,"Total Sum of 49",0,48,{"$f":"AI477+GETPIVOTDATA(\"Sum of 48\",AF$2,\"Day  \",\"Prob Adults\")","v":7.0193236714975846},null,null,"Total Sum of 49",0,48,{"$f":"AO477+GETPIVOTDATA(\"Sum of 48\",AL$2,\"Day  \",\"Prob Adults\")","v":0},null,null,"Total Sum of 49",0,48,{"$f":"AU477+GETPIVOTDATA(\"Sum of 48\",AR$2,\"Day  \",\"Prob Adults\")","v":0},null,null,"Total Sum of 49",0,48,{"$f":"BA477+GETPIVOTDATA(\"Sum of 48\",AX$2,\"Day  \",\"Prob Adults\")","v":0},null,null,"Total Sum of 49",0,48,{"$f":"BG477+GETPIVOTDATA(\"Sum of 48\",BD$2,\"Day  \",\"Prob Adults\")","v":0}]
[null,"Total Sum of 50",0,49,{"$f":"E478+GETPIVOTDATA(\"Sum of 49\",$B$2,\"Day  \",\"Prob Adults\")","v":8.0374372050740401},null,null,"Total Sum of 50",0,49,{"$f":"K478+GETPIVOTDATA(\"Sum of 49\",H$2,\"Day  \",\"Prob Adults\")","v":7.5003929465646131},null,null,"Total Sum of 50",0,49,{"$f":"Q478+GETPIVOTDATA(\"Sum of 49\",N$2,\"Day  \",\"Prob Adults\")","v":5.0652173913043477},null,null,"Total Sum of 50",0,49,{"$f":"W478+GETPIVOTDATA(\"Sum of 49\",T$2,\"Day  \",\"Prob Adults\")","v":8.2318879496878843},null,null,"Total Sum of 50",0,49,{"$f":"AC478+GETPIVOTDATA(\"Sum of 49\",Z$2,\"Day  \",\"Prob Adults\")","v":10},null,null,"Total Sum of 50",0,49,{"$f":"AI478+GETPIVOTDATA(\"Sum of 49\",AF$2,\"Day  \",\"Prob Adults\")","v":7.0193236714975846},null,null,"Total Sum of 50",0,49,{"$f":"AO478+GETPIVOTDATA(\"Sum of 49\",AL$2,\"Day  \",\"Prob Adults\")","v":0},null,null,"Total Sum of 50",0,49,{"$f":"AU478+GETPIVOTDATA(\"Sum of 49\",AR$2,\"Day  \",\"Prob Adults\")","v":0},null,null,"Total Sum of 50",0,49,{"$f":"BA478+GETPIVOTDATA(\"Sum of 49\",AX$2,\"Day  \",\"Prob Adults\")","v":0},null,null,"Total Sum of 50",0,49,{"$f":"BG478+GETPIVOTDATA(\"Sum of 49\",BD$2,\"Day  \",\"Prob Adults\")","v":0}]
[null,"Total Sum of 51",0,50,{"$f":"E479+GETPIVOTDATA(\"Sum of 50\",$B$2,\"Day  \",\"Prob Adults\")","v":8.0374372050740401},null,null,"Total Sum of 51",0,50,{"$f":"K479+GETPIVOTDATA(\"Sum of 50\",H$2,\"Day  \",\"Prob Adults\")","v":7.5003929465646131},null,null,"Total Sum of 51",0,50,{"$f":"Q479+GETPIVOTDATA(\"Sum of 50\",N$2,\"Day  \",\"Prob Adults\")","v":5.0652173913043477},null,null,"Total Sum of 51",0,50,{"$f":"W479+GETPIVOTDATA(\"Sum of 50\",T$2,\"Day  \",\"Prob Adults\")","v":8.2318879496878843},null,null,"Total Sum of 51",0,50,{"$f":"AC479+GETPIVOTDATA(\"Sum of 50\",Z$2,\"Day  \",\"Prob Adults\")","v":10},null,null,"Total Sum of 51",0,50,{"$f":"AI479+GETPIVOTDATA(\"Sum of 50\",AF$2,\"Day  \",\"Prob Adults\")","v":7.0193236714975846},null,null,"Total Sum of 51",0,50,{"$f":"AO479+GETPIVOTDATA(\"Sum of 50\",AL$2,\"Day  \",\"Prob Adults\")","v":0},null,null,"Total Sum of 51",0,50,{"$f":"AU479+GETPIVOTDATA(\"Sum of 50\",AR$2,\"Day  \",\"Prob Adults\")","v":0},null,null,"Total Sum of 51",0,50,{"$f":"BA479+GETPIVOTDATA(\"Sum of 50\",AX$2,\"Day  \",\"Prob Adults\")","v":0},null,null,"Total Sum of 51",0,50,{"$f":"BG479+GETPIVOTDATA(\"Sum of 50\",BD$2,\"Day  \",\"Prob Adults\")","v":0}]
[null,"Total Sum of 52",0,51,{"$f":"E480+GETPIVOTDATA(\"Sum of 51\",$B$2,\"Day  \",\"Prob Adults\")","v":8.0374372050740401},null,null,"Total Sum of 52",0,51,{"$f":"K480+GETPIVOTDATA(\"Sum of 51\",H$2,\"Day  \",\"Prob Adults\")","v":7.5003929465646131},null,null,"Total Sum of 52",0,51,{"$f":"Q480+GETPIVOTDATA(\"Sum of 51\",N$2,\"Day  \",\"Prob Adults\")","v":5.0652173913043477},null,null,"Total Sum of 52",0,51,{"$f":"W480+GETPIVOTDATA(\"Sum of 51\",T$2,\"Day  \",\"Prob Adults\")","v":8.2318879496878843},null,null,"Total Sum of 52",0,51,{"$f":"AC480+GETPIVOTDATA(\"Sum of 51\",Z$2,\"Day  \",\"Prob Adults\")","v":10},null,null,"Total Sum of 52",0,51,{"$f":"AI480+GETPIVOTDATA(\"Sum of 51\",AF$2,\"Day  \",\"Prob Adults\")","v":7.0193236714975846},null,null,"Total Sum of 52",0,51,{"$f":"AO480+GETPIVOTDATA(\"Sum of 51\",AL$2,\"Day  \",\"Prob Adults\")","v":0},null,null,"Total Sum of 52",0,51,{"$f":"AU480+GETPIVOTDATA(\"Sum of 51\",AR$2,\"Day  \",\"Prob Adults\")","v":0},null,null,"Total Sum of 52",0,51,{"$f":"BA480+GETPIVOTDATA(\"Sum of 51\",AX$2,\"Day  \",\"Prob Adults\")","v":0},null,null,"Total Sum of 52",0,51,{"$f":"BG480+GETPIVOTDATA(\"Sum of 51\",BD$2,\"Day  \",\"Prob Adults\")","v":0}]
[null,"Total Sum of 53",0,52,{"$f":"E481+GETPIVOTDATA(\"Sum of 52\",$B$2,\"Day  \",\"Prob Adults\")","v":8.0374372050740401},null,null,"Total Sum of 53",0,52,{"$f":"K481+GETPIVOTDATA(\"Sum of 52\",H$2,\"Day  \",\"Prob Adults\")","v":7.5003929465646131},null,null,"Total Sum of 53",0,52,{"$f":"Q481+GETPIVOTDATA(\"Sum of 52\",N$2,\"Day  \",\"Prob Adults\")","v":5.0652173913043477},null,null,"Total Sum of 53",0,52,{"$f":"W481+GETPIVOTDATA(\"Sum of 52\",T$2,\"Day  \",\"Prob Adults\")","v":8.2318879496878843},null,null,"Total Sum of 53",0,52,{"$f":"AC481+GETPIVOTDATA(\"Sum of 52\",Z$2,\"Day  \",\"Prob Adults\")","v":10},null,null,"Total Sum of 53",0,52,{"$f":"AI481+GETPIVOTDATA(\"Sum of 52\",AF$2,\"Day  \",\"Prob Adults\")","v":7.0193236714975846},null,null,"Total Sum of 53",0,52,{"$f":"AO481+GETPIVOTDATA(\"Sum of 52\",AL$2,\"Day  \",\"Prob Adults\")","v":0},null,null,"Total Sum of 53",0,52,{"$f":"AU481+GETPIVOTDATA(\"Sum of 52\",AR$2,\"Day  \",\"Prob Adults\")","v":0},null,null,"Total Sum of 53",0,52,{"$f":"BA481+GETPIVOTDATA(\"Sum of 52\",AX$2,\"Day  \",\"Prob Adults\")","v":0},null,null,"Total Sum of 53",0,52,{"$f":"BG481+GETPIVOTDATA(\"Sum of 52\",BD$2,\"Day  \",\"Prob Adults\")","v":0}]
[null,"Total Sum of 54",0,53,{"$f":"E482+GETPIVOTDATA(\"Sum of 53\",$B$2,\"Day  \",\"Prob Adults\")","v":8.0374372050740401},null,null,"Total Sum of 54",0,53,{"$f":"K482+GETPIVOTDATA(\"Sum of 53\",H$2,\"Day  \",\"Prob Adults\")","v":7.5003929465646131},null,null,"Total Sum of 54",0,53,{"$f":"Q482+GETPIVOTDATA(\"Sum of 53\",N$2,\"Day  \",\"Prob Adults\")","v":5.0652173913043477},null,null,"Total Sum of 54",0,53,{"$f":"W482+GETPIVOTDATA(\"Sum of 53\",T$2,\"Day  \",\"Prob Adults\")","v":8.2318879496878843},null,null,"Total Sum of 54",0,53,{"$f":"AC482+GETPIVOTDATA(\"Sum of 53\",Z$2,\"Day  \",\"Prob Adults\")","v":10},null,null,"Total Sum of 54",0,53,{"$f":"AI482+GETPIVOTDATA(\"Sum of 53\",AF$2,\"Day  \",\"Prob Adults\")","v":7.0193236714975846},null,null,"Total Sum of 54",0,53,{"$f":"AO482+GETPIVOTDATA(\"Sum of 53\",AL$2,\"Day  \",\"Prob Adults\")","v":0},null,null,"Total Sum of 54",0,53,{"$f":"AU482+GETPIVOTDATA(\"Sum of 53\",AR$2,\"Day  \",\"Prob Adults\")","v":0},null,null,"Total Sum of 54",0,53,{"$f":"BA482+GETPIVOTDATA(\"Sum of 53\",AX$2,\"Day  \",\"Prob Adults\")","v":0},null,null,"Total Sum of 54",0,53,{"$f":"BG482+GETPIVOTDATA(\"Sum of 53\",BD$2,\"Day  \",\"Prob Adults\")","v":0}]
[null,"Total Sum of 55",0,54,{"$f":"E483+GETPIVOTDATA(\"Sum of 54\",$B$2,\"Day  \",\"Prob Adults\")","v":8.0374372050740401},null,null,"Total Sum of 55",0,54,{"$f":"K483+GETPIVOTDATA(\"Sum of 54\",H$2,\"Day  \",\"Prob Adults\")","v":7.5003929465646131},null,null,"Total Sum of 55",0,54,{"$f":"Q483+GETPIVOTDATA(\"Sum of 54\",N$2,\"Day  \",\"Prob Adults\")","v":5.0652173913043477},null,null,"Total Sum of 55",0,54,{"$f":"W483+GETPIVOTDATA(\"Sum of 54\",T$2,\"Day  \",\"Prob Adults\")","v":8.2318879496878843},null,null,"Total Sum of 55",0,54,{"$f":"AC483+GETPIVOTDATA(\"Sum of 54\",Z$2,\"Day  \",\"Prob Adults\")","v":10},null,null,"Total Sum of 55",0,54,{"$f":"AI483+GETPIVOTDATA(\"Sum of 54\",AF$2,\"Day  \",\"Prob Adults\")","v":7.0193236714975846},null,null,"Total Sum of 55",0,54,{"$f":"AO483+GETPIVOTDATA(\"Sum of 54\",AL$2,\"Day  \",\"Prob Adults\")","v":0},null,null,"Total Sum of 55",0,54,{"$f":"AU483+GETPIVOTDATA(\"Sum of 54\",AR$2,\"Day  \",\"Prob Adults\")","v":0},null,null,"Total Sum of 55",0,54,{"$f":"BA483+GETPIVOTDATA(\"Sum of 54\",AX$2,\"Day  \",\"Prob Adults\")","v":0},null,null,"Total Sum of 55",0,54,{"$f":"BG483+GETPIVOTDATA(\"Sum of 54\",BD$2,\"Day  \",\"Prob Adults\")","v":0}]
[null,"Total Sum of 56",0,55,{"$f":"E484+GETPIVOTDATA(\"Sum of 55\",$B$2,\"Day  \",\"Prob Adults\")","v":8.0374372050740401},null,null,"Total Sum of 56",0,55,{"$f":"K484+GETPIVOTDATA(\"Sum of 55\",H$2,\"Day  \",\"Prob Adults\")","v":7.5003929465646131},null,null,"Total Sum of 56",0,55,{"$f":"Q484+GETPIVOTDATA(\"Sum of 55\",N$2,\"Day  \",\"Prob Adults\")","v":5.0652173913043477},null,null,"Total Sum of 56",0,55,{"$f":"W484+GETPIVOTDATA(\"Sum of 55\",T$2,\"Day  \",\"Prob Adults\")","v":8.2318879496878843},null,null,"Total Sum of 56",0,55,{"$f":"AC484+GETPIVOTDATA(\"Sum of 55\",Z$2,\"Day  \",\"Prob Adults\")","v":10},null,null,"Total Sum of 56",0,55,{"$f":"AI484+GETPIVOTDATA(\"Sum of 55\",AF$2,\"Day  \",\"Prob Adults\")","v":7.0193236714975846},null,null,"Total Sum of 56",0,55,{"$f":"AO484+GETPIVOTDATA(\"Sum of 55\",AL$2,\"Day  \",\"Prob Adults\")","v":0},null,null,"Total Sum of 56",0,55,{"$f":"AU484+GETPIVOTDATA(\"Sum of 55\",AR$2,\"Day  \",\"Prob Adults\")","v":0},null,null,"Total Sum of 56",0,55,{"$f":"BA484+GETPIVOTDATA(\"Sum of 55\",AX$2,\"Day  \",\"Prob Adults\")","v":0},null,null,"Total Sum of 56",0,55,{"$f":"BG484+GETPIVOTDATA(\"Sum of 55\",BD$2,\"Day  \",\"Prob Adults\")","v":0}]
[null,"Total Sum of 57",0,56,{"$f":"E485+GETPIVOTDATA(\"Sum of 56\",$B$2,\"Day  \",\"Prob Adults\")","v":8.0374372050740401},null,null,"Total Sum of 57",0,56,{"$f":"K485+GETPIVOTDATA(\"Sum of 56\",H$2,\"Day  \",\"Prob Adults\")","v":7.5003929465646131},null,null,"Total Sum of 57",0,56,{"$f":"Q485+GETPIVOTDATA(\"Sum of 56\",N$2,\"Day  \",\"Prob Adults\")","v":5.0652173913043477},null,null,"Total Sum of 57",0,56,{"$f":"W485+GETPIVOTDATA(\"Sum of 56\",T$2,\"Day  \",\"Prob Adults\")","v":8.2318879496878843},null,null,"Total Sum of 57",0,56,{"$f":"AC485+GETPIVOTDATA(\"Sum of 56\",Z$2,\"Day  \",\"Prob Adults\")","v":10},null,null,"Total Sum of 57",0,56,{"$f":"AI485+GETPIVOTDATA(\"Sum of 56\",AF$2,\"Day  \",\"Prob Adults\")","v":7.0193236714975846},null,null,"Total Sum of 57",0,56,{"$f":"AO485+GETPIVOTDATA(\"Sum of 56\",AL$2,\"Day  \",\"Prob Adults\")","v":0},null,null,"Total Sum of 57",0,56,{"$f":"AU485+GETPIVOTDATA(\"Sum of 56\",AR$2,\"Day  \",\"Prob Adults\")","v":0},null,null,"Total Sum of 57",0,56,{"$f":"BA485+GETPIVOTDATA(\"Sum of 56\",AX$2,\"Day  \",\"Prob Adults\")","v":0},null,null,"Total Sum of 57",0,56,{"$f":"BG485+GETPIVOTDATA(\"Sum of 56\",BD$2,\"Day  \",\"Prob Adults\")","v":0}]
[null,"Total Sum of 58",0,57,{"$f":"E486+GETPIVOTDATA(\"Sum of 57\",$B$2,\"Day  \",\"Prob Adults\")","v":8.0374372050740401},null,null,"Total Sum of 58",0,57,{"$f":"K486+GETPIVOTDATA(\"Sum of 57\",H$2,\"Day  \",\"Prob Adults\")","v":7.5003929465646131},null,null,"Total Sum of 58",0,57,{"$f":"Q486+GETPIVOTDATA(\"Sum of 57\",N$2,\"Day  \",\"Prob Adults\")","v":5.0652173913043477},null,null,"Total Sum of 58",0,57,{"$f":"W486+GETPIVOTDATA(\"Sum of 57\",T$2,\"Day  \",\"Prob Adults\")","v":8.2318879496878843},null,null,"Total Sum of 58",0,57,{"$f":"AC486+GETPIVOTDATA(\"Sum of 57\",Z$2,\"Day  \",\"Prob Adults\")","v":10},null,null,"Total Sum of 58",0,57,{"$f":"AI486+GETPIVOTDATA(\"Sum of 57\",AF$2,\"Day  \",\"Prob Adults\")","v":7.0193236714975846},null,null,"Total Sum of 58",0,57,{"$f":"AO486+GETPIVOTDATA(\"Sum of 57\",AL$2,\"Day  \",\"Prob Adults\")","v":0},null,null,"Total Sum of 58",0,57,{"$f":"AU486+GETPIVOTDATA(\"Sum of 57\",AR$2,\"Day  \",\"Prob Adults\")","v":0},null,null,"Total Sum of 58",0,57,{"$f":"BA486+GETPIVOTDATA(\"Sum of 57\",AX$2,\"Day  \",\"Prob Adults\")","v":0},null,null,"Total Sum of 58",0,57,{"$f":"BG486+GETPIVOTDATA(\"Sum of 57\",BD$2,\"Day  \",\"Prob Adults\")","v":0}]
[null,"Total Sum of 59",0,58,{"$f":"E487+GETPIVOTDATA(\"Sum of 58\",$B$2,\"Day  \",\"Prob Adults\")","v":8.0374372050740401},null,null,"Total Sum of 59",0,58,{"$f":"K487+GETPIVOTDATA(\"Sum of 58\",H$2,\"Day  \",\"Prob Adults\")","v":7.5003929465646131},null,null,"Total Sum of 59",0,58,{"$f":"Q487+GETPIVOTDATA(\"Sum of 58\",N$2,\"Day  \",\"Prob Adults\")","v":5.0652173913043477},null,null,"Total Sum of 59",0,58,{"$f":"W487+GETPIVOTDATA(\"Sum of 58\",T$2,\"Day  \",\"Prob Adults\")","v":8.2318879496878843},null,null,"Total Sum of 59",0,58,{"$f":"AC487+GETPIVOTDATA(\"Sum of 58\",Z$2,\"Day  \",\"Prob Adults\")","v":10},null,null,"Total Sum of 59",0,58,{"$f":"AI487+GETPIVOTDATA(\"Sum of 58\",AF$2,\"Day  \",\"Prob Adults\")","v":7.0193236714975846},null,null,"Total Sum of 59",0,58,{"$f":"AO487+GETPIVOTDATA(\"Sum of 58\",AL$2,\"Day  \",\"Prob Adults\")","v":0},null,null,"Total Sum of 59",0,58,{"$f":"AU487+GETPIVOTDATA(\"Sum of 58\",AR$2,\"Day  \",\"Prob Adults\")","v":0},null,null,"Total Sum of 59",0,58,{"$f":"BA487+GETPIVOTDATA(\"Sum of 58\",AX$2,\"Day  \",\"Prob Adults\")","v":0},null,null,"Total Sum of 59",0,58,{"$f":"BG487+GETPIVOTDATA(\"Sum of 58\",BD$2,\"Day  \",\"Prob Adults\")","v":0}]
[null,"Total Sum of 60",0,59,{"$f":"E488+GETPIVOTDATA(\"Sum of 59\",$B$2,\"Day  \",\"Prob Adults\")","v":8.0374372050740401},null,null,"Total Sum of 60",0,59,{"$f":"K488+GETPIVOTDATA(\"Sum of 59\",H$2,\"Day  \",\"Prob Adults\")","v":7.5003929465646131},null,null,"Total Sum of 60",0,59,{"$f":"Q488+GETPIVOTDATA(\"Sum of 59\",N$2,\"Day  \",\"Prob Adults\")","v":5.0652173913043477},null,null,"Total Sum of 60",0,59,{"$f":"W488+GETPIVOTDATA(\"Sum of 59\",T$2,\"Day  \",\"Prob Adults\")","v":8.2318879496878843},null,null,"Total Sum of 60",0,59,{"$f":"AC488+GETPIVOTDATA(\"Sum of 59\",Z$2,\"Day  \",\"Prob Adults\")","v":10},null,null,"Total Sum of 60",0,59,{"$f":"AI488+GETPIVOTDATA(\"Sum of 59\",AF$2,\"Day  \",\"Prob Adults\")","v":7.0193236714975846},null,null,"Total Sum of 60",0,59,{"$f":"AO488+GETPIVOTDATA(\"Sum of 59\",AL$2,\"Day  \",\"Prob Adults\")","v":0},null,null,"Total Sum of 60",0,59,{"$f":"AU488+GETPIVOTDATA(\"Sum of 59\",AR$2,\"Day  \",\"Prob Adults\")","v":0},null,null,"Total Sum of 60",0,59,{"$f":"BA488+GETPIVOTDATA(\"Sum of 59\",AX$2,\"Day  \",\"Prob Adults\")","v":0},null,null,"Total Sum of 60",0,59,{"$f":"BG488+GETPIVOTDATA(\"Sum of 59\",BD$2,\"Day  \",\"Prob Adults\")","v":0}]
[null,null,null,60,{"$f":"E489+GETPIVOTDATA(\"Sum of 60\",$B$2,\"Day  \",\"Prob Adults\")","v":8.0374372050740401},null,null,null,null,60,{"$f":"K489+GETPIVOTDATA(\"Sum of 60\",H$2,\"Day  \",\"Prob Adults\")","v":7.5003929465646131},null,null,null,null,60,{"$f":"Q489+GETPIVOTDATA(\"Sum of 60\",N$2,\"Day  \",\"Prob Adults\")","v":5.0652173913043477},null,null,null,null,60,{"$f":"W489+GETPIVOTDATA(\"Sum of 60\",T$2,\"Day  \",\"Prob Adults\")","v":8.2318879496878843},null,null,null,null,60,{"$f":"AC489+GETPIVOTDATA(\"Sum of 60\",Z$2,\"Day  \",\"Prob Adults\")","v":10},null,null,null,null,60,{"$f":"AI489+GETPIVOTDATA(\"Sum of 60\",AF$2,\"Day  \",\"Prob Adults\")","v":7.0193236714975846},null,null,null,null,60,{"$f":"AO489+GETPIVOTDATA(\"Sum of 60\",AL$2,\"Day  \",\"Prob Adults\")","v":0},null,null,null,null,60,{"$f":"AU489+GETPIVOTDATA(\"Sum of 60\",AR$2,\"Day  \",\"Prob Adults\")","v":0},null,null,null,null,60,{"$f":"BA489+GETPIVOTDATA(\"Sum of 60\",AX$2,\"Day  \",\"Prob Adults\")","v":0},null,null,null,null,60,{"$f":"BG489+GETPIVOTDATA(\"Sum of 60\",BD$2,\"Day  \",\"Prob Adults\")","v":0}]
[null,null,null,null,"Prob Check (=1)",{"$f":"SUM(LSComm1Eggs,LSComm11st,LSComm12nd,LSComm13rd,LSComm14th,LSComm15th,LSComm1Pupae,LSComm1Adults)","v":0.99999999999999989},null,null,null,null,"Prob Check (=1)",{"$f":"SUM(LSComm2Eggs,LSComm21st,LSComm22nd,LSComm23rd,LSComm24th,LSComm25th,LSComm2Pupae,LSComm2Adults)","v":1.0000000000000002},null,null,null,null,"Prob Check (=1)",{"$f":"SUM(LSComm3Eggs,LSComm31st,LSComm32nd,LSComm33rd,LSComm34th,LSComm35th,LSComm3Pupae,LSComm3Adults)","v":0.99999999999999978},null,null,null,null,"Prob Check (=1)",{"$f":"SUM(LSComm4Eggs,LSComm41st,LSComm42nd,LSComm43rd,LSComm44th,LSComm45th,LSComm4Pupae,LSComm4Adults)","v":1},null,null,null,null,"Prob Check (=1)",{"$f":"SUM(LSComm5Eggs,LSComm51st,LSComm52nd,LSComm53rd,LSComm54th,LSComm55th,LSComm5Pupae,LSComm5Adults)","v":0.99999999999999989},null,null,null,null,"Prob Check (=1)",{"$f":"SUM(LSComm6Eggs,LSComm61st,LSComm62nd,LSComm63rd,LSComm64th,LSComm65th,LSComm6Pupae,LSComm6Adults)","v":1},null,null,null,null,"Prob Check (=1)",{"$f":"SUM(LSComm7Eggs,LSComm71st,LSComm72nd,LSComm73rd,LSComm74th,LSComm75th,LSComm7Pupae,LSComm7Adults)","v":0},null,null,null,null,"Prob Check (=1)",{"$f":"SUM(LSComm8Eggs,LSComm81st,LSComm82nd,LSComm83rd,LSComm84th,LSComm85th,LSComm8Pupae,LSComm8Adults)","v":0},null,null,null,null,"Prob Check (=1)",{"$f":"SUM(LSComm9Eggs,LSComm91st,LSComm92nd,LSComm93rd,LSComm94th,LSComm95th,LSComm9Pupae,LSComm9Adults)","v":0},null,null,null,null,"Prob Check (=1)",{"$f":"SUM(LSComm10Eggs,LSComm101st,LSComm102nd,LSComm103rd,LSComm104th,LSComm105th,LSComm10Pupae,LSComm10Adults)","v":0}]
[]
[]
[]
[]
[]
[]
[]
[]
[]
[]
[]
[]
[]
[]
[]
[]
[]
[]
[]
[]
[]
[]
[]
[]
[]
[]
[]
[]
[]
[]
[]
[]
[]
[]
[]
[]
[]
[]
[]
[]
[]
[]
[]
[]
[]
[]
[]
[]
[]
[]
[]
[]
[]
[]
[]
[]
[]
[]
[]
[]
[null,"Calculates 95% CI for each life stage and treatment using binomial prob and cummulative data from table below"]
[null,null,"Binomial 95% CI for LS Probability"]
[null,"LS",{"$f":"Comm1","v":"Blackberry"},{"$f":"Comm2","v":"Blueberry"},{"$f":"Comm3","v":"Cherry"},{"$f":"Comm4","v":"Grape"},{"$f":"Comm5","v":"Raspberry"},{"$f":"Comm6","v":"Strawberry"},{"$f":"Comm7","v":0},{"$f":"Comm8","v":0},{"$f":"Comm9","v":0},{"$f":"Comm10","v":0}]
[null,"Eggs",{"$f":"1.96*SQRT((LSComm1Eggs*(1-LSComm1Eggs))/HLOOKUP(LSIT,$A$565:$BI$575,2))","v":0},{"$f":"1.96*SQRT((LSComm2Eggs*(1-LSComm2Eggs))/HLOOKUP(LSIT,$A$565:$BI$575,3))","v":0},{"$f":"1.96*SQRT((LSComm3Eggs*(1-LSComm3Eggs))/HLOOKUP(LSIT,$A$565:$BI$575,4))","v":0},{"$f":"1.96*SQRT((LSComm4Eggs*(1-LSComm4Eggs))/HLOOKUP(LSIT,$A$565:$BI$575,5))","v":0},{"$f":"1.96*SQRT((LSComm5Eggs*(1-LSComm5Eggs))/HLOOKUP(LSIT,$A$565:$BI$575,6))","v":0},{"$f":"1.96*SQRT((LSComm6Eggs*(1-LSComm6Eggs))/HLOOKUP(LSIT,$A$565:$BI$575,7))","v":0},{"$f":"1.96*SQRT((LSComm7Eggs*(1-LSComm7Eggs))/HLOOKUP(LSIT,$A$565:$BI$575,8))","v":{"$error":"#DIV/0!"}},{"$f":"1.96*SQRT((LSComm8Eggs*(1-LSComm8Eggs))/HLOOKUP(LSIT,$A$565:$BI$575,9))","v":{"$error":"#DIV/0!"}},{"$f":"1.96*SQRT((LSComm9Eggs*(1-LSComm9Eggs))/HLOOKUP(LSIT,$A$565:$BI$575,10))","v":{"$error":"#DIV/0!"}},{"$f":"1.96*SQRT((LSComm10Eggs*(1-LSComm10Eggs))/HLOOKUP(LSIT,$A$565:$BI$575,11))","v":{"$error":"#DIV/0!"}}]
[null,"1st",{"$f":"1.96*SQRT((LSComm11st*(1-LSComm11st))/HLOOKUP(LSIT,$A$565:$BI$575,2))","v":0},{"$f":"1.96*SQRT((LSComm21st*(1-LSComm21st))/HLOOKUP(LSIT,$A$565:$BI$575,3))","v":3.4209830458510039E-2},{"$f":"1.96*SQRT((LSComm31st*(1-LSComm31st))/HLOOKUP(LSIT,$A$565:$BI$575,4))","v":0},{"$f":"1.96*SQRT((LSComm41st*(1-LSComm41st))/HLOOKUP(LSIT,$A$565:$BI$575,5))","v":1.5894388284780535E-2},{"$f":"1.96*SQRT((LSComm51st*(1-LSComm51st))/HLOOKUP(LSIT,$A$565:$BI$575,6))","v":0},{"$f":"1.96*SQRT((LSComm61st*(1-LSComm61st))/HLOOKUP(LSIT,$A$565:$BI$575,7))","v":3.4404172996645034E-2},{"$f":"1.96*SQRT((LSComm71st*(1-LSComm71st))/HLOOKUP(LSIT,$A$565:$BI$575,8))","v":{"$error":"#DIV/0!"}},{"$f":"1.96*SQRT((LSComm81st*(1-LSComm81st))/HLOOKUP(LSIT,$A$565:$BI$575,9))","v":{"$error":"#DIV/0!"}},{"$f":"1.96*SQRT((LSComm91st*(1-LSComm91st))/HLOOKUP(LSIT,$A$565:$BI$575,10))","v":{"$error":"#DIV/0!"}},{"$f":"1.96*SQRT((LSComm101st*(1-LSComm101st))/HLOOKUP(LSIT,$A$565:$BI$575,11))","v":{"$error":"#DIV/0!"}}]
[null,"2nd",{"$f":"1.96*SQRT((LSComm12nd*(1-LSComm12nd))/HLOOKUP(LSIT,$A$565:$BI$575,2))","v":3.4386699304816651E-2},{"$f":"1.96*SQRT((LSComm22nd*(1-LSComm22nd))/HLOOKUP(LSIT,$A$565:$BI$575,3))","v":6.8976898306606971E-2},{"$f":"1.96*SQRT((LSComm32nd*(1-LSComm32nd))/HLOOKUP(LSIT,$A$565:$BI$575,4))","v":6.5355900576169454E-2},{"$f":"1.96*SQRT((LSComm42nd*(1-LSComm42nd))/HLOOKUP(LSIT,$A$565:$BI$575,5))","v":4.9003222235621237E-2},{"$f":"1.96*SQRT((LSComm52nd*(1-LSComm52nd))/HLOOKUP(LSIT,$A$565:$BI$575,6))","v":5.0494748464648416E-2},{"$f":"1.96*SQRT((LSComm62nd*(1-LSComm62nd))/HLOOKUP(LSIT,$A$565:$BI$575,7))","v":5.2600143935406171E-2},{"$f":"1.96*SQRT((LSComm72nd*(1-LSComm72nd))/HLOOKUP(LSIT,$A$565:$BI$575,8))","v":{"$error":"#DIV/0!"}},{"$f":"1.96*SQRT((LSComm82nd*(1-LSComm82nd))/HLOOKUP(LSIT,$A$565:$BI$575,9))","v":{"$error":"#DIV/0!"}},{"$f":"1.96*SQRT((LSComm92nd*(1-LSComm92nd))/HLOOKUP(LSIT,$A$565:$BI$575,10))","v":{"$error":"#DIV/0!"}},{"$f":"1.96*SQRT((LSComm102nd*(1-LSComm102nd))/HLOOKUP(LSIT,$A$565:$BI$575,11))","v":{"$error":"#DIV/0!"}}]
[null,"3rd",{"$f":"1.96*SQRT((LSComm13rd*(1-LSComm13rd))/HLOOKUP(LSIT,$A$565:$BI$575,2))","v":3.4386699304816672E-2},{"$f":"1.96*SQRT((LSComm23rd*(1-LSComm23rd))/HLOOKUP(LSIT,$A$565:$BI$575,3))","v":6.3442887702247611E-2},{"$f":"1.96*SQRT((LSComm33rd*(1-LSComm33rd))/HLOOKUP(LSIT,$A$565:$BI$575,4))","v":6.5355900576169468E-2},{"$f":"1.96*SQRT((LSComm43rd*(1-LSComm43rd))/HLOOKUP(LSIT,$A$565:$BI$575,5))","v":5.0223186090217649E-2},{"$f":"1.96*SQRT((LSComm53rd*(1-LSComm53rd))/HLOOKUP(LSIT,$A$565:$BI$575,6))","v":5.6629899240041276E-2},{"$f":"1.96*SQRT((LSComm63rd*(1-LSComm63rd))/HLOOKUP(LSIT,$A$565:$BI$575,7))","v":5.8244460603115999E-2},{"$f":"1.96*SQRT((LSComm73rd*(1-LSComm73rd))/HLOOKUP(LSIT,$A$565:$BI$575,8))","v":{"$error":"#DIV/0!"}},{"$f":"1.96*SQRT((LSComm83rd*(1-LSComm83rd))/HLOOKUP(LSIT,$A$565:$BI$575,9))","v":{"$error":"#DIV/0!"}},{"$f":"1.96*SQRT((LSComm93rd*(1-LSComm93rd))/HLOOKUP(LSIT,$A$565:$BI$575,10))","v":{"$error":"#DIV/0!"}},{"$f":"1.96*SQRT((LSComm103rd*(1-LSComm103rd))/HLOOKUP(LSIT,$A$565:$BI$575,11))","v":{"$error":"#DIV/0!"}}]
[null,"4th",{"$f":"1.96*SQRT((LSComm14th*(1-LSComm14th))/HLOOKUP(LSIT,$A$565:$BI$575,2))","v":0},{"$f":"1.96*SQRT((LSComm24th*(1-LSComm24th))/HLOOKUP(LSIT,$A$565:$BI$575,3))","v":0},{"$f":"1.96*SQRT((LSComm34th*(1-LSComm34th))/HLOOKUP(LSIT,$A$565:$BI$575,4))","v":0},{"$f":"1.96*SQRT((LSComm44th*(1-LSComm44th))/HLOOKUP(LSIT,$A$565:$BI$575,5))","v":0},{"$f":"1.96*SQRT((LSComm54th*(1-LSComm54th))/HLOOKUP(LSIT,$A$565:$BI$575,6))","v":0},{"$f":"1.96*SQRT((LSComm64th*(1-LSComm64th))/HLOOKUP(LSIT,$A$565:$BI$575,7))","v":0},{"$f":"1.96*SQRT((LSComm74th*(1-LSComm74th))/HLOOKUP(LSIT,$A$565:$BI$575,8))","v":{"$error":"#DIV/0!"}},{"$f":"1.96*SQRT((LSComm84th*(1-LSComm84th))/HLOOKUP(LSIT,$A$565:$BI$575,9))","v":{"$error":"#DIV/0!"}},{"$f":"1.96*SQRT((LSComm94th*(1-LSComm94th))/HLOOKUP(LSIT,$A$565:$BI$575,10))","v":{"$error":"#DIV/0!"}},{"$f":"1.96*SQRT((LSComm104th*(1-LSComm104th))/HLOOKUP(LSIT,$A$565:$BI$575,11))","v":{"$error":"#DIV/0!"}}]
[null,"5th",{"$f":"1.96*SQRT((LSComm15th*(1-LSComm15th))/HLOOKUP(LSIT,$A$565:$BI$575,2))","v":0},{"$f":"1.96*SQRT((LSComm25th*(1-LSComm25th))/HLOOKUP(LSIT,$A$565:$BI$575,3))","v":0},{"$f":"1.96*SQRT((LSComm35th*(1-LSComm35th))/HLOOKUP(LSIT,$A$565:$BI$575,4))","v":0},{"$f":"1.96*SQRT((LSComm45th*(1-LSComm45th))/HLOOKUP(LSIT,$A$565:$BI$575,5))","v":0},{"$f":"1.96*SQRT((LSComm55th*(1-LSComm55th))/HLOOKUP(LSIT,$A$565:$BI$575,6))","v":0},{"$f":"1.96*SQRT((LSComm65th*(1-LSComm65th))/HLOOKUP(LSIT,$A$565:$BI$575,7))","v":0},{"$f":"1.96*SQRT((LSComm75th*(1-LSComm75th))/HLOOKUP(LSIT,$A$565:$BI$575,8))","v":{"$error":"#DIV/0!"}},{"$f":"1.96*SQRT((LSComm85th*(1-LSComm85th))/HLOOKUP(LSIT,$A$565:$BI$575,9))","v":{"$error":"#DIV/0!"}},{"$f":"1.96*SQRT((LSComm95th*(1-LSComm95th))/HLOOKUP(LSIT,$A$565:$BI$575,10))","v":{"$error":"#DIV/0!"}},{"$f":"1.96*SQRT((LSComm105th*(1-LSComm105th))/HLOOKUP(LSIT,$A$565:$BI$575,11))","v":{"$error":"#DIV/0!"}}]
[null,"Pupae",{"$f":"1.96*SQRT((LSComm1Pupae*(1-LSComm1Pupae))/HLOOKUP(LSIT,$A$565:$BI$575,2))","v":0},{"$f":"1.96*SQRT((LSComm2Pupae*(1-LSComm2Pupae))/HLOOKUP(LSIT,$A$565:$BI$575,3))","v":0},{"$f":"1.96*SQRT((LSComm3Pupae*(1-LSComm3Pupae))/HLOOKUP(LSIT,$A$565:$BI$575,4))","v":0},{"$f":"1.96*SQRT((LSComm4Pupae*(1-LSComm4Pupae))/HLOOKUP(LSIT,$A$565:$BI$575,5))","v":0},{"$f":"1.96*SQRT((LSComm5Pupae*(1-LSComm5Pupae))/HLOOKUP(LSIT,$A$565:$BI$575,6))","v":2.771431471858482E-2},{"$f":"1.96*SQRT((LSComm6Pupae*(1-LSComm6Pupae))/HLOOKUP(LSIT,$A$565:$BI$575,7))","v":0},{"$f":"1.96*SQRT((LSComm7Pupae*(1-LSComm7Pupae))/HLOOKUP(LSIT,$A$565:$BI$575,8))","v":{"$error":"#DIV/0!"}},{"$f":"1.96*SQRT((LSComm8Pupae*(1-LSComm8Pupae))/HLOOKUP(LSIT,$A$565:$BI$575,9))","v":{"$error":"#DIV/0!"}},{"$f":"1.96*SQRT((LSComm9Pupae*(1-LSComm9Pupae))/HLOOKUP(LSIT,$A$565:$BI$575,10))","v":{"$error":"#DIV/0!"}},{"$f":"1.96*SQRT((LSComm10Pupae*(1-LSComm10Pupae))/HLOOKUP(LSIT,$A$565:$BI$575,11))","v":{"$error":"#DIV/0!"}}]
[null,"Adults",{"$f":"1.96*SQRT((LSComm1Adults*(1-LSComm1Adults))/HLOOKUP(LSIT,$A$565:$BI$575,2))","v":0},{"$f":"1.96*SQRT((LSComm2Adults*(1-LSComm2Adults))/HLOOKUP(LSIT,$A$565:$BI$575,3))","v":0},{"$f":"1.96*SQRT((LSComm3Adults*(1-LSComm3Adults))/HLOOKUP(LSIT,$A$565:$BI$575,4))","v":0},{"$f":"1.96*SQRT((LSComm4Adults*(1-LSComm4Adults))/HLOOKUP(LSIT,$A$565:$BI$575,5))","v":0},{"$f":"1.96*SQRT((LSComm5Adults*(1-LSComm5Adults))/HLOOKUP(LSIT,$A$565:$BI$575,6))","v":0},{"$f":"1.96*SQRT((LSComm6Adults*(1-LSComm6Adults))/HLOOKUP(LSIT,$A$565:$BI$575,7))","v":0},{"$f":"1.96*SQRT((LSComm7Adults*(1-LSComm7Adults))/HLOOKUP(LSIT,$A$565:$BI$575,8))","v":{"$error":"#DIV/0!"}},{"$f":"1.96*SQRT((LSComm8Adults*(1-LSComm8Adults))/HLOOKUP(LSIT,$A$565:$BI$575,9))","v":{"$error":"#DIV/0!"}},{"$f":"1.96*SQRT((LSComm9Adults*(1-LSComm9Adults))/HLOOKUP(LSIT,$A$565:$BI$575,10))","v":{"$error":"#DIV/0!"}},{"$f":"1.96*SQRT((LSComm10Adults*(1-LSComm10Adults))/HLOOKUP(LSIT,$A$565:$BI$575,11))","v":{"$error":"#DIV/0!"}}]
[null,"Calculates cumulative counts for each commodity for each day of insect's life cycle"]
["Cummulative Daily totals"]
["LSIT",1,2,3,4,5,6,7,8,9,10,11,12,13,14,15,16,17,18,19,20,21,22,23,24,25,26,27,28,29,30,31,32,33,34,35,36,37,38,39,40,41,42,43,44,45,46,47,48,49,50,51,52,53,54,55,56,57,58,59,60]
[{"$f":"Comm1","v":"Blackberry"},{"$f":"'Step 1 - Enter Raw Data'!B37","v":264},{"$f":"SUM('Step 1 - Enter Raw Data'!$B37:C37)","v":457},{"$f":"SUM('Step 1 - Enter Raw Data'!$B37:D37)","v":723},{"$f":"SUM('Step 1 - Enter Raw Data'!$B37:E37)","v":992},{"$f":"SUM('Step 1 - Enter Raw Data'!$B37:F37)","v":1289},{"$f":"SUM('Step 1 - Enter Raw Data'!$B37:G37)","v":1638},{"$f":"SUM('Step 1 - Enter Raw Data'!$B37:H37)","v":2121},{"$f":"SUM('Step 1 - Enter Raw Data'!$B37:I37)","v":2457},{"$f":"SUM('Step 1 - Enter Raw Data'!$B37:J37)","v":4033},{"$f":"SUM('Step 1 - Enter Raw Data'!$B37:K37)","v":5554},{"$f":"SUM('Step 1 - Enter Raw Data'!$B37:L37)","v":5756},{"$f":"SUM('Step 1 - Enter Raw Data'!$B37:M37)","v":5861},{"$f":"SUM('Step 1 - Enter Raw Data'!$B37:N37)","v":5920},{"$f":"SUM('Step 1 - Enter Raw Data'!$B37:O37)","v":5933},{"$f":"SUM('Step 1 - Enter Raw Data'!$B37:P37)","v":5936},{"$f":"SUM('Step 1 - Enter Raw Data'!$B37:Q37)","v":5938},{"$f":"SUM('Step 1 - Enter Raw Data'!$B37:R37)","v":5938},{"$f":"SUM('Step 1 - Enter Raw Data'!$B37:S37)","v":5938},{"$f":"SUM('Step 1 - Enter Raw Data'!$B37:T37)","v":5938},{"$f":"SUM('Step 1 - Enter Raw Data'!$B37:U37)","v":5938},{"$f":"SUM('Step 1 - Enter Raw Data'!$B37:V37)","v":5938},{"$f":"SUM('Step 1 - Enter Raw Data'!$B37:W37)","v":5938},{"$f":"SUM('Step 1 - Enter Raw Data'!$B37:X37)","v":5938},{"$f":"SUM('Step 1 - Enter Raw Data'!$B37:Y37)","v":5938},{"$f":"SUM('Step 1 - Enter Raw Data'!$B37:Z37)","v":5938},{"$f":"SUM('Step 1 - Enter Raw Data'!$B37:AA37)","v":5938},{"$f":"SUM('Step 1 - Enter Raw Data'!$B37:AB37)","v":5938},{"$f":"SUM('Step 1 - Enter Raw Data'!$B37:AC37)","v":5938},{"$f":"SUM('Step 1 - Enter Raw Data'!$B37:AD37)","v":5938},{"$f":"SUM('Step 1 - Enter Raw Data'!$B37:AE37)","v":5938},{"$f":"SUM('Step 1 - Enter Raw Data'!$B37:AF37)","v":5938},{"$f":"SUM('Step 1 - Enter Raw Data'!$B37:AG37)","v":5938},{"$f":"SUM('Step 1 - Enter Raw Data'!$B37:AH37)","v":5938},{"$f":"SUM('Step 1 - Enter Raw Data'!$B37:AI37)","v":5938},{"$f":"SUM('Step 1 - Enter Raw Data'!$B37:AJ37)","v":5938},{"$f":"SUM('Step 1 - Enter Raw Data'!$B37:AK37)","v":5938},{"$f":"SUM('Step 1 - Enter Raw Data'!$B37:AL37)","v":5938},{"$f":"SUM('Step 1 - Enter Raw Data'!$B37:AM37)","v":5938},{"$f":"SUM('Step 1 - Enter Raw Data'!$B37:AN37)","v":5938},{"$f":"SUM('Step 1 - Enter Raw Data'!$B37:AO37)","v":5938},{"$f":"SUM('Step 1 - Enter Raw Data'!$B37:AP37)","v":5938},{"$f":"SUM('Step 1 - Enter Raw Data'!$B37:AQ37)","v":5938},{"$f":"SUM('Step 1 - Enter Raw Data'!$B37:AR37)","v":5938},{"$f":"SUM('Step 1 - Enter Raw Data'!$B37:AS37)","v":5938},{"$f":"SUM('Step 1 - Enter Raw Data'!$B37:AT37)","v":5938},{"$f":"SUM('Step 1 - Enter Raw Data'!$B37:AU37)","v":5938},{"$f":"SUM('Step 1 - Enter Raw Data'!$B37:AV37)","v":5938},{"$f":"SUM('Step 1 - Enter Raw Data'!$B37:AW37)","v":5938},{"$f":"SUM('Step 1 - Enter Raw Data'!$B37:AX37)","v":5938},{"$f":"SUM('Step 1 - Enter Raw Data'!$B37:AY37)","v":5938},{"$f":"SUM('Step 1 - Enter Raw Data'!$B37:AZ37)","v":5938},{"$f":"SUM('Step 1 - Enter Raw Data'!$B37:BA37)","v":5938},{"$f":"SUM('Step 1 - Enter Raw Data'!$B37:BB37)","v":5938},{"$f":"SUM('Step 1 - Enter Raw Data'!$B37:BC37)","v":5938},{"$f":"SUM('Step 1 - Enter Raw Data'!$B37:BD37)","v":5938},{"$f":"SUM('Step 1 - Enter Raw Data'!$B37:BE37)","v":5938},{"$f":"SUM('Step 1 - Enter Raw Data'!$B37:BF37)","v":5938},{"$f":"SUM('Step 1 - Enter Raw Data'!$B37:BG37)","v":5938},{"$f":"SUM('Step 1 - Enter Raw Data'!$B37:BH37)","v":5938},{"$f":"SUM('Step 1 - Enter Raw Data'!$B37:BI37)","v":5938}]
[{"$f":"Comm2","v":"Blueberry"},{"$f":"'Step 1 - Enter Raw Data'!B48","v":140},{"$f":"SUM('Step 1 - Enter Raw Data'!$B48:C48)","v":257},{"$f":"SUM('Step 1 - Enter Raw Data'!$B48:D48)","v":330},{"$f":"SUM('Step 1 - Enter Raw Data'!$B48:E48)","v":442},{"$f":"SUM('Step 1 - Enter Raw Data'!$B48:F48)","v":542},{"$f":"SUM('Step 1 - Enter Raw Data'!$B48:G48)","v":631},{"$f":"SUM('Step 1 - Enter Raw Data'!$B48:H48)","v":707},{"$f":"SUM('Step 1 - Enter Raw Data'!$B48:I48)","v":772},{"$f":"SUM('Step 1 - Enter Raw Data'!$B48:J48)","v":950},{"$f":"SUM('Step 1 - Enter Raw Data'!$B48:K48)","v":1435},{"$f":"SUM('Step 1 - Enter Raw Data'!$B48:L48)","v":1598},{"$f":"SUM('Step 1 - Enter Raw Data'!$B48:M48)","v":1726},{"$f":"SUM('Step 1 - Enter Raw Data'!$B48:N48)","v":1745},{"$f":"SUM('Step 1 - Enter Raw Data'!$B48:O48)","v":1750},{"$f":"SUM('Step 1 - Enter Raw Data'!$B48:P48)","v":1752},{"$f":"SUM('Step 1 - Enter Raw Data'!$B48:Q48)","v":1753},{"$f":"SUM('Step 1 - Enter Raw Data'!$B48:R48)","v":1753},{"$f":"SUM('Step 1 - Enter Raw Data'!$B48:S48)","v":1753},{"$f":"SUM('Step 1 - Enter Raw Data'!$B48:T48)","v":1753},{"$f":"SUM('Step 1 - Enter Raw Data'!$B48:U48)","v":1753},{"$f":"SUM('Step 1 - Enter Raw Data'!$B48:V48)","v":1753},{"$f":"SUM('Step 1 - Enter Raw Data'!$B48:W48)","v":1753},{"$f":"SUM('Step 1 - Enter Raw Data'!$B48:X48)","v":1753},{"$f":"SUM('Step 1 - Enter Raw Data'!$B48:Y48)","v":1753},{"$f":"SUM('Step 1 - Enter Raw Data'!$B48:Z48)","v":1753},{"$f":"SUM('Step 1 - Enter Raw Data'!$B48:AA48)","v":1753},{"$f":"SUM('Step 1 - Enter Raw Data'!$B48:AB48)","v":1753},{"$f":"SUM('Step 1 - Enter Raw Data'!$B48:AC48)","v":1753},{"$f":"SUM('Step 1 - Enter Raw Data'!$B48:AD48)","v":1753},{"$f":"SUM('Step 1 - Enter Raw Data'!$B48:AE48)","v":1753},{"$f":"SUM('Step 1 - Enter Raw Data'!$B48:AF48)","v":1753},{"$f":"SUM('Step 1 - Enter Raw Data'!$B48:AG48)","v":1753},{"$f":"SUM('Step 1 - Enter Raw Data'!$B48:AH48)","v":1753},{"$f":"SUM('Step 1 - Enter Raw Data'!$B48:AI48)","v":1753},{"$f":"SUM('Step 1 - Enter Raw Data'!$B48:AJ48)","v":1753},{"$f":"SUM('Step 1 - Enter Raw Data'!$B48:AK48)","v":1753},{"$f":"SUM('Step 1 - Enter Raw Data'!$B48:AL48)","v":1753},{"$f":"SUM('Step 1 - Enter Raw Data'!$B48:AM48)","v":1753},{"$f":"SUM('Step 1 - Enter Raw Data'!$B48:AN48)","v":1753},{"$f":"SUM('Step 1 - Enter Raw Data'!$B48:AO48)","v":1753},{"$f":"SUM('Step 1 - Enter Raw Data'!$B48:AP48)","v":1753},{"$f":"SUM('Step 1 - Enter Raw Data'!$B48:AQ48)","v":1753},{"$f":"SUM('Step 1 - Enter Raw Data'!$B48:AR48)","v":1753},{"$f":"SUM('Step 1 - Enter Raw Data'!$B48:AS48)","v":1753},{"$f":"SUM('Step 1 - Enter Raw Data'!$B48:AT48)","v":1753},{"$f":"SUM('Step 1 - Enter Raw Data'!$B48:AU48)","v":1753},{"$f":"SUM('Step 1 - Enter Raw Data'!$B48:AV48)","v":1753},{"$f":"SUM('Step 1 - Enter Raw Data'!$B48:AW48)","v":1753},{"$f":"SUM('Step 1 - Enter Raw Data'!$B48:AX48)","v":1753},{"$f":"SUM('Step 1 - Enter Raw Data'!$B48:AY48)","v":1753},{"$f":"SUM('Step 1 - Enter Raw Data'!$B48:AZ48)","v":1753},{"$f":"SUM('Step 1 - Enter Raw Data'!$B48:BA48)","v":1753},{"$f":"SUM('Step 1 - Enter Raw Data'!$B48:BB48)","v":1753},{"$f":"SUM('Step 1 - Enter Raw Data'!$B48:BC48)","v":1753},{"$f":"SUM('Step 1 - Enter Raw Data'!$B48:BD48)","v":1753},{"$f":"SUM('Step 1 - Enter Raw Data'!$B48:BE48)","v":1753},{"$f":"SUM('Step 1 - Enter Raw Data'!$B48:BF48)","v":1753},{"$f":"SUM('Step 1 - Enter Raw Data'!$B48:BG48)","v":1753},{"$f":"SUM('Step 1 - Enter Raw Data'!$B48:BH48)","v":1753},{"$f":"SUM('Step 1 - Enter Raw Data'!$B48:BI48)","v":1753}]
[{"$f":"Comm3","v":"Cherry"},{"$f":"'Step 1 - Enter Raw Data'!B59","v":171},{"$f":"SUM('Step 1 - Enter Raw Data'!$B59:C59)","v":228},{"$f":"SUM('Step 1 - Enter Raw Data'!$B59:D59)","v":296},{"$f":"SUM('Step 1 - Enter Raw Data'!$B59:E59)","v":390},{"$f":"SUM('Step 1 - Enter Raw Data'!$B59:F59)","v":475},{"$f":"SUM('Step 1 - Enter Raw Data'!$B59:G59)","v":627},{"$f":"SUM('Step 1 - Enter Raw Data'!$B59:H59)","v":730},{"$f":"SUM('Step 1 - Enter Raw Data'!$B59:I59)","v":822},{"$f":"SUM('Step 1 - Enter Raw Data'!$B59:J59)","v":1036},{"$f":"SUM('Step 1 - Enter Raw Data'!$B59:K59)","v":2014},{"$f":"SUM('Step 1 - Enter Raw Data'!$B59:L59)","v":3586},{"$f":"SUM('Step 1 - Enter Raw Data'!$B59:M59)","v":4084},{"$f":"SUM('Step 1 - Enter Raw Data'!$B59:N59)","v":4107},{"$f":"SUM('Step 1 - Enter Raw Data'!$B59:O59)","v":4107},{"$f":"SUM('Step 1 - Enter Raw Data'!$B59:P59)","v":4107},{"$f":"SUM('Step 1 - Enter Raw Data'!$B59:Q59)","v":4107},{"$f":"SUM('Step 1 - Enter Raw Data'!$B59:R59)","v":4107},{"$f":"SUM('Step 1 - Enter Raw Data'!$B59:S59)","v":4107},{"$f":"SUM('Step 1 - Enter Raw Data'!$B59:T59)","v":4107},{"$f":"SUM('Step 1 - Enter Raw Data'!$B59:U59)","v":4107},{"$f":"SUM('Step 1 - Enter Raw Data'!$B59:V59)","v":4107},{"$f":"SUM('Step 1 - Enter Raw Data'!$B59:W59)","v":4107},{"$f":"SUM('Step 1 - Enter Raw Data'!$B59:X59)","v":4107},{"$f":"SUM('Step 1 - Enter Raw Data'!$B59:Y59)","v":4107},{"$f":"SUM('Step 1 - Enter Raw Data'!$B59:Z59)","v":4107},{"$f":"SUM('Step 1 - Enter Raw Data'!$B59:AA59)","v":4107},{"$f":"SUM('Step 1 - Enter Raw Data'!$B59:AB59)","v":4107},{"$f":"SUM('Step 1 - Enter Raw Data'!$B59:AC59)","v":4107},{"$f":"SUM('Step 1 - Enter Raw Data'!$B59:AD59)","v":4107},{"$f":"SUM('Step 1 - Enter Raw Data'!$B59:AE59)","v":4107},{"$f":"SUM('Step 1 - Enter Raw Data'!$B59:AF59)","v":4107},{"$f":"SUM('Step 1 - Enter Raw Data'!$B59:AG59)","v":4107},{"$f":"SUM('Step 1 - Enter Raw Data'!$B59:AH59)","v":4107},{"$f":"SUM('Step 1 - Enter Raw Data'!$B59:AI59)","v":4107},{"$f":"SUM('Step 1 - Enter Raw Data'!$B59:AJ59)","v":4107},{"$f":"SUM('Step 1 - Enter Raw Data'!$B59:AK59)","v":4107},{"$f":"SUM('Step 1 - Enter Raw Data'!$B59:AL59)","v":4107},{"$f":"SUM('Step 1 - Enter Raw Data'!$B59:AM59)","v":4107},{"$f":"SUM('Step 1 - Enter Raw Data'!$B59:AN59)","v":4107},{"$f":"SUM('Step 1 - Enter Raw Data'!$B59:AO59)","v":4107},{"$f":"SUM('Step 1 - Enter Raw Data'!$B59:AP59)","v":4107},{"$f":"SUM('Step 1 - Enter Raw Data'!$B59:AQ59)","v":4107},{"$f":"SUM('Step 1 - Enter Raw Data'!$B59:AR59)","v":4107},{"$f":"SUM('Step 1 - Enter Raw Data'!$B59:AS59)","v":4107},{"$f":"SUM('Step 1 - Enter Raw Data'!$B59:AT59)","v":4107},{"$f":"SUM('Step 1 - Enter Raw Data'!$B59:AU59)","v":4107},{"$f":"SUM('Step 1 - Enter Raw Data'!$B59:AV59)","v":4107},{"$f":"SUM('Step 1 - Enter Raw Data'!$B59:AW59)","v":4107},{"$f":"SUM('Step 1 - Enter Raw Data'!$B59:AX59)","v":4107},{"$f":"SUM('Step 1 - Enter Raw Data'!$B59:AY59)","v":4107},{"$f":"SUM('Step 1 - Enter Raw Data'!$B59:AZ59)","v":4107},{"$f":"SUM('Step 1 - Enter Raw Data'!$B59:BA59)","v":4107},{"$f":"SUM('Step 1 - Enter Raw Data'!$B59:BB59)","v":4107},{"$f":"SUM('Step 1 - Enter Raw Data'!$B59:BC59)","v":4107},{"$f":"SUM('Step 1 - Enter Raw Data'!$B59:BD59)","v":4107},{"$f":"SUM('Step 1 - Enter Raw Data'!$B59:BE59)","v":4107},{"$f":"SUM('Step 1 - Enter Raw Data'!$B59:BF59)","v":4107},{"$f":"SUM('Step 1 - Enter Raw Data'!$B59:BG59)","v":4107},{"$f":"SUM('Step 1 - Enter Raw Data'!$B59:BH59)","v":4107},{"$f":"SUM('Step 1 - Enter Raw Data'!$B59:BI59)","v":4107}]
[{"$f":"Comm4","v":"Grape"},{"$f":"'Step 1 - Enter Raw Data'!B70","v":304},{"$f":"SUM('Step 1 - Enter Raw Data'!$B70:C70)","v":438},{"$f":"SUM('Step 1 - Enter Raw Data'!$B70:D70)","v":546},{"$f":"SUM('Step 1 - Enter Raw Data'!$B70:E70)","v":644},{"$f":"SUM('Step 1 - Enter Raw Data'!$B70:F70)","v":702},{"$f":"SUM('Step 1 - Enter Raw Data'!$B70:G70)","v":777},{"$f":"SUM('Step 1 - Enter Raw Data'!$B70:H70)","v":913},{"$f":"SUM('Step 1 - Enter Raw Data'!$B70:I70)","v":1060},{"$f":"SUM('Step 1 - Enter Raw Data'!$B70:J70)","v":1244},{"$f":"SUM('Step 1 - Enter Raw Data'!$B70:K70)","v":1700},{"$f":"SUM('Step 1 - Enter Raw Data'!$B70:L70)","v":1990},{"$f":"SUM('Step 1 - Enter Raw Data'!$B70:M70)","v":2099},{"$f":"SUM('Step 1 - Enter Raw Data'!$B70:N70)","v":2140},{"$f":"SUM('Step 1 - Enter Raw Data'!$B70:O70)","v":2162},{"$f":"SUM('Step 1 - Enter Raw Data'!$B70:P70)","v":2202},{"$f":"SUM('Step 1 - Enter Raw Data'!$B70:Q70)","v":2216},{"$f":"SUM('Step 1 - Enter Raw Data'!$B70:R70)","v":2226},{"$f":"SUM('Step 1 - Enter Raw Data'!$B70:S70)","v":2226},{"$f":"SUM('Step 1 - Enter Raw Data'!$B70:T70)","v":2226},{"$f":"SUM('Step 1 - Enter Raw Data'!$B70:U70)","v":2226},{"$f":"SUM('Step 1 - Enter Raw Data'!$B70:V70)","v":2226},{"$f":"SUM('Step 1 - Enter Raw Data'!$B70:W70)","v":2226},{"$f":"SUM('Step 1 - Enter Raw Data'!$B70:X70)","v":2226},{"$f":"SUM('Step 1 - Enter Raw Data'!$B70:Y70)","v":2226},{"$f":"SUM('Step 1 - Enter Raw Data'!$B70:Z70)","v":2226},{"$f":"SUM('Step 1 - Enter Raw Data'!$B70:AA70)","v":2226},{"$f":"SUM('Step 1 - Enter Raw Data'!$B70:AB70)","v":2226},{"$f":"SUM('Step 1 - Enter Raw Data'!$B70:AC70)","v":2226},{"$f":"SUM('Step 1 - Enter Raw Data'!$B70:AD70)","v":2226},{"$f":"SUM('Step 1 - Enter Raw Data'!$B70:AE70)","v":2226},{"$f":"SUM('Step 1 - Enter Raw Data'!$B70:AF70)","v":2226},{"$f":"SUM('Step 1 - Enter Raw Data'!$B70:AG70)","v":2226},{"$f":"SUM('Step 1 - Enter Raw Data'!$B70:AH70)","v":2226},{"$f":"SUM('Step 1 - Enter Raw Data'!$B70:AI70)","v":2226},{"$f":"SUM('Step 1 - Enter Raw Data'!$B70:AJ70)","v":2226},{"$f":"SUM('Step 1 - Enter Raw Data'!$B70:AK70)","v":2226},{"$f":"SUM('Step 1 - Enter Raw Data'!$B70:AL70)","v":2226},{"$f":"SUM('Step 1 - Enter Raw Data'!$B70:AM70)","v":2226},{"$f":"SUM('Step 1 - Enter Raw Data'!$B70:AN70)","v":2226},{"$f":"SUM('Step 1 - Enter Raw Data'!$B70:AO70)","v":2226},{"$f":"SUM('Step 1 - Enter Raw Data'!$B70:AP70)","v":2226},{"$f":"SUM('Step 1 - Enter Raw Data'!$B70:AQ70)","v":2226},{"$f":"SUM('Step 1 - Enter Raw Data'!$B70:AR70)","v":2226},{"$f":"SUM('Step 1 - Enter Raw Data'!$B70:AS70)","v":2226},{"$f":"SUM('Step 1 - Enter Raw Data'!$B70:AT70)","v":2226},{"$f":"SUM('Step 1 - Enter Raw Data'!$B70:AU70)","v":2226},{"$f":"SUM('Step 1 - Enter Raw Data'!$B70:AV70)","v":2226},{"$f":"SUM('Step 1 - Enter Raw Data'!$B70:AW70)","v":2226},{"$f":"SUM('Step 1 - Enter Raw Data'!$B70:AX70)","v":2226},{"$f":"SUM('Step 1 - Enter Raw Data'!$B70:AY70)","v":2226},{"$f":"SUM('Step 1 - Enter Raw Data'!$B70:AZ70)","v":2226},{"$f":"SUM('Step 1 - Enter Raw Data'!$B70:BA70)","v":2226},{"$f":"SUM('Step 1 - Enter Raw Data'!$B70:BB70)","v":2226},{"$f":"SUM('Step 1 - Enter Raw Data'!$B70:BC70)","v":2226},{"$f":"SUM('Step 1 - Enter Raw Data'!$B70:BD70)","v":2226},{"$f":"SUM('Step 1 - Enter Raw Data'!$B70:BE70)","v":2226},{"$f":"SUM('Step 1 - Enter Raw Data'!$B70:BF70)","v":2226},{"$f":"SUM('Step 1 - Enter Raw Data'!$B70:BG70)","v":2226},{"$f":"SUM('Step 1 - Enter Raw Data'!$B70:BH70)","v":2226},{"$f":"SUM('Step 1 - Enter Raw Data'!$B70:BI70)","v":2226}]
[{"$f":"Comm5","v":"Raspberry"},{"$f":"'Step 1 - Enter Raw Data'!B81","v":99},{"$f":"SUM('Step 1 - Enter Raw Data'!$B81:C81)","v":185},{"$f":"SUM('Step 1 - Enter Raw Data'!$B81:D81)","v":307},{"$f":"SUM('Step 1 - Enter Raw Data'!$B81:E81)","v":406},{"$f":"SUM('Step 1 - Enter Raw Data'!$B81:F81)","v":499},{"$f":"SUM('Step 1 - Enter Raw Data'!$B81:G81)","v":644},{"$f":"SUM('Step 1 - Enter Raw Data'!$B81:H81)","v":683},{"$f":"SUM('Step 1 - Enter Raw Data'!$B81:I81)","v":790},{"$f":"SUM('Step 1 - Enter Raw Data'!$B81:J81)","v":1774},{"$f":"SUM('Step 1 - Enter Raw Data'!$B81:K81)","v":2334},{"$f":"SUM('Step 1 - Enter Raw Data'!$B81:L81)","v":2406},{"$f":"SUM('Step 1 - Enter Raw Data'!$B81:M81)","v":2453},{"$f":"SUM('Step 1 - Enter Raw Data'!$B81:N81)","v":2463},{"$f":"SUM('Step 1 - Enter Raw Data'!$B81:O81)","v":2465},{"$f":"SUM('Step 1 - Enter Raw Data'!$B81:P81)","v":2467},{"$f":"SUM('Step 1 - Enter Raw Data'!$B81:Q81)","v":2469},{"$f":"SUM('Step 1 - Enter Raw Data'!$B81:R81)","v":2470},{"$f":"SUM('Step 1 - Enter Raw Data'!$B81:S81)","v":2470},{"$f":"SUM('Step 1 - Enter Raw Data'!$B81:T81)","v":2470},{"$f":"SUM('Step 1 - Enter Raw Data'!$B81:U81)","v":2470},{"$f":"SUM('Step 1 - Enter Raw Data'!$B81:V81)","v":2470},{"$f":"SUM('Step 1 - Enter Raw Data'!$B81:W81)","v":2470},{"$f":"SUM('Step 1 - Enter Raw Data'!$B81:X81)","v":2470},{"$f":"SUM('Step 1 - Enter Raw Data'!$B81:Y81)","v":2470},{"$f":"SUM('Step 1 - Enter Raw Data'!$B81:Z81)","v":2470},{"$f":"SUM('Step 1 - Enter Raw Data'!$B81:AA81)","v":2470},{"$f":"SUM('Step 1 - Enter Raw Data'!$B81:AB81)","v":2470},{"$f":"SUM('Step 1 - Enter Raw Data'!$B81:AC81)","v":2470},{"$f":"SUM('Step 1 - Enter Raw Data'!$B81:AD81)","v":2470},{"$f":"SUM('Step 1 - Enter Raw Data'!$B81:AE81)","v":2470},{"$f":"SUM('Step 1 - Enter Raw Data'!$B81:AF81)","v":2470},{"$f":"SUM('Step 1 - Enter Raw Data'!$B81:AG81)","v":2470},{"$f":"SUM('Step 1 - Enter Raw Data'!$B81:AH81)","v":2470},{"$f":"SUM('Step 1 - Enter Raw Data'!$B81:AI81)","v":2470},{"$f":"SUM('Step 1 - Enter Raw Data'!$B81:AJ81)","v":2470},{"$f":"SUM('Step 1 - Enter Raw Data'!$B81:AK81)","v":2470},{"$f":"SUM('Step 1 - Enter Raw Data'!$B81:AL81)","v":2470},{"$f":"SUM('Step 1 - Enter Raw Data'!$B81:AM81)","v":2470},{"$f":"SUM('Step 1 - Enter Raw Data'!$B81:AN81)","v":2470},{"$f":"SUM('Step 1 - Enter Raw Data'!$B81:AO81)","v":2470},{"$f":"SUM('Step 1 - Enter Raw Data'!$B81:AP81)","v":2470},{"$f":"SUM('Step 1 - Enter Raw Data'!$B81:AQ81)","v":2470},{"$f":"SUM('Step 1 - Enter Raw Data'!$B81:AR81)","v":2470},{"$f":"SUM('Step 1 - Enter Raw Data'!$B81:AS81)","v":2470},{"$f":"SUM('Step 1 - Enter Raw Data'!$B81:AT81)","v":2470},{"$f":"SUM('Step 1 - Enter Raw Data'!$B81:AU81)","v":2470},{"$f":"SUM('Step 1 - Enter Raw Data'!$B81:AV81)","v":2470},{"$f":"SUM('Step 1 - Enter Raw Data'!$B81:AW81)","v":2470},{"$f":"SUM('Step 1 - Enter Raw Data'!$B81:AX81)","v":2470},{"$f":"SUM('Step 1 - Enter Raw Data'!$B81:AY81)","v":2470},{"$f":"SUM('Step 1 - Enter Raw Data'!$B81:AZ81)","v":2470},{"$f":"SUM('Step 1 - Enter Raw Data'!$B81:BA81)","v":2470},{"$f":"SUM('Step 1 - Enter Raw Data'!$B81:BB81)","v":2470},{"$f":"SUM('Step 1 - Enter Raw Data'!$B81:BC81)","v":2470},{"$f":"SUM('Step 1 - Enter Raw Data'!$B81:BD81)","v":2470},{"$f":"SUM('Step 1 - Enter Raw Data'!$B81:BE81)","v":2470},{"$f":"SUM('Step 1 - Enter Raw Data'!$B81:BF81)","v":2470},{"$f":"SUM('Step 1 - Enter Raw Data'!$B81:BG81)","v":2470},{"$f":"SUM('Step 1 - Enter Raw Data'!$B81:BH81)","v":2470},{"$f":"SUM('Step 1 - Enter Raw Data'!$B81:BI81)","v":2470}]
[{"$f":"Comm6","v":"Strawberry"},{"$f":"'Step 1 - Enter Raw Data'!B92","v":236},{"$f":"SUM('Step 1 - Enter Raw Data'!$B92:C92)","v":489},{"$f":"SUM('Step 1 - Enter Raw Data'!$B92:D92)","v":796},{"$f":"SUM('Step 1 - Enter Raw Data'!$B92:E92)","v":1100},{"$f":"SUM('Step 1 - Enter Raw Data'!$B92:F92)","v":1346},{"$f":"SUM('Step 1 - Enter Raw Data'!$B92:G92)","v":1575},{"$f":"SUM('Step 1 - Enter Raw Data'!$B92:H92)","v":1826},{"$f":"SUM('Step 1 - Enter Raw Data'!$B92:I92)","v":2033},{"$f":"SUM('Step 1 - Enter Raw Data'!$B92:J92)","v":2279},{"$f":"SUM('Step 1 - Enter Raw Data'!$B92:K92)","v":3327},{"$f":"SUM('Step 1 - Enter Raw Data'!$B92:L92)","v":3768},{"$f":"SUM('Step 1 - Enter Raw Data'!$B92:M92)","v":4042},{"$f":"SUM('Step 1 - Enter Raw Data'!$B92:N92)","v":4081},{"$f":"SUM('Step 1 - Enter Raw Data'!$B92:O92)","v":4102},{"$f":"SUM('Step 1 - Enter Raw Data'!$B92:P92)","v":4106},{"$f":"SUM('Step 1 - Enter Raw Data'!$B92:Q92)","v":4106},{"$f":"SUM('Step 1 - Enter Raw Data'!$B92:R92)","v":4106},{"$f":"SUM('Step 1 - Enter Raw Data'!$B92:S92)","v":4106},{"$f":"SUM('Step 1 - Enter Raw Data'!$B92:T92)","v":4106},{"$f":"SUM('Step 1 - Enter Raw Data'!$B92:U92)","v":4106},{"$f":"SUM('Step 1 - Enter Raw Data'!$B92:V92)","v":4106},{"$f":"SUM('Step 1 - Enter Raw Data'!$B92:W92)","v":4106},{"$f":"SUM('Step 1 - Enter Raw Data'!$B92:X92)","v":4106},{"$f":"SUM('Step 1 - Enter Raw Data'!$B92:Y92)","v":4106},{"$f":"SUM('Step 1 - Enter Raw Data'!$B92:Z92)","v":4106},{"$f":"SUM('Step 1 - Enter Raw Data'!$B92:AA92)","v":4106},{"$f":"SUM('Step 1 - Enter Raw Data'!$B92:AB92)","v":4106},{"$f":"SUM('Step 1 - Enter Raw Data'!$B92:AC92)","v":4106},{"$f":"SUM('Step 1 - Enter Raw Data'!$B92:AD92)","v":4106},{"$f":"SUM('Step 1 - Enter Raw Data'!$B92:AE92)","v":4106},{"$f":"SUM('Step 1 - Enter Raw Data'!$B92:AF92)","v":4106},{"$f":"SUM('Step 1 - Enter Raw Data'!$B92:AG92)","v":4106},{"$f":"SUM('Step 1 - Enter Raw Data'!$B92:AH92)","v":4106},{"$f":"SUM('Step 1 - Enter Raw Data'!$B92:AI92)","v":4106},{"$f":"SUM('Step 1 - Enter Raw Data'!$B92:AJ92)","v":4106},{"$f":"SUM('Step 1 - Enter Raw Data'!$B92:AK92)","v":4106},{"$f":"SUM('Step 1 - Enter Raw Data'!$B92:AL92)","v":4106},{"$f":"SUM('Step 1 - Enter Raw Data'!$B92:AM92)","v":4106},{"$f":"SUM('Step 1 - Enter Raw Data'!$B92:AN92)","v":4106},{"$f":"SUM('Step 1 - Enter Raw Data'!$B92:AO92)","v":4106},{"$f":"SUM('Step 1 - Enter Raw Data'!$B92:AP92)","v":4106},{"$f":"SUM('Step 1 - Enter Raw Data'!$B92:AQ92)","v":4106},{"$f":"SUM('Step 1 - Enter Raw Data'!$B92:AR92)","v":4106},{"$f":"SUM('Step 1 - Enter Raw Data'!$B92:AS92)","v":4106},{"$f":"SUM('Step 1 - Enter Raw Data'!$B92:AT92)","v":4106},{"$f":"SUM('Step 1 - Enter Raw Data'!$B92:AU92)","v":4106},{"$f":"SUM('Step 1 - Enter Raw Data'!$B92:AV92)","v":4106},{"$f":"SUM('Step 1 - Enter Raw Data'!$B92:AW92)","v":4106},{"$f":"SUM('Step 1 - Enter Raw Data'!$B92:AX92)","v":4106},{"$f":"SUM('Step 1 - Enter Raw Data'!$B92:AY92)","v":4106},{"$f":"SUM('Step 1 - Enter Raw Data'!$B92:AZ92)","v":4106},{"$f":"SUM('Step 1 - Enter Raw Data'!$B92:BA92)","v":4106},{"$f":"SUM('Step 1 - Enter Raw Data'!$B92:BB92)","v":4106},{"$f":"SUM('Step 1 - Enter Raw Data'!$B92:BC92)","v":4106},{"$f":"SUM('Step 1 - Enter Raw Data'!$B92:BD92)","v":4106},{"$f":"SUM('Step 1 - Enter Raw Data'!$B92:BE92)","v":4106},{"$f":"SUM('Step 1 - Enter Raw Data'!$B92:BF92)","v":4106},{"$f":"SUM('Step 1 - Enter Raw Data'!$B92:BG92)","v":4106},{"$f":"SUM('Step 1 - Enter Raw Data'!$B92:BH92)","v":4106},{"$f":"SUM('Step 1 - Enter Raw Data'!$B92:BI92)","v":4106}]
[{"$f":"Comm7","v":0},{"$f":"'Step 1 - Enter Raw Data'!B103","v":0},{"$f":"SUM('Step 1 - Enter Raw Data'!$B103:C103)","v":0},{"$f":"SUM('Step 1 - Enter Raw Data'!$B103:D103)","v":0},{"$f":"SUM('Step 1 - Enter Raw Data'!$B103:E103)","v":0},{"$f":"SUM('Step 1 - Enter Raw Data'!$B103:F103)","v":0},{"$f":"SUM('Step 1 - Enter Raw Data'!$B103:G103)","v":0},{"$f":"SUM('Step 1 - Enter Raw Data'!$B103:H103)","v":0},{"$f":"SUM('Step 1 - Enter Raw Data'!$B103:I103)","v":0},{"$f":"SUM('Step 1 - Enter Raw Data'!$B103:J103)","v":0},{"$f":"SUM('Step 1 - Enter Raw Data'!$B103:K103)","v":0},{"$f":"SUM('Step 1 - Enter Raw Data'!$B103:L103)","v":0},{"$f":"SUM('Step 1 - Enter Raw Data'!$B103:M103)","v":0},{"$f":"SUM('Step 1 - Enter Raw Data'!$B103:N103)","v":0},{"$f":"SUM('Step 1 - Enter Raw Data'!$B103:O103)","v":0},{"$f":"SUM('Step 1 - Enter Raw Data'!$B103:P103)","v":0},{"$f":"SUM('Step 1 - Enter Raw Data'!$B103:Q103)","v":0},{"$f":"SUM('Step 1 - Enter Raw Data'!$B103:R103)","v":0},{"$f":"SUM('Step 1 - Enter Raw Data'!$B103:S103)","v":0},{"$f":"SUM('Step 1 - Enter Raw Data'!$B103:T103)","v":0},{"$f":"SUM('Step 1 - Enter Raw Data'!$B103:U103)","v":0},{"$f":"SUM('Step 1 - Enter Raw Data'!$B103:V103)","v":0},{"$f":"SUM('Step 1 - Enter Raw Data'!$B103:W103)","v":0},{"$f":"SUM('Step 1 - Enter Raw Data'!$B103:X103)","v":0},{"$f":"SUM('Step 1 - Enter Raw Data'!$B103:Y103)","v":0},{"$f":"SUM('Step 1 - Enter Raw Data'!$B103:Z103)","v":0},{"$f":"SUM('Step 1 - Enter Raw Data'!$B103:AA103)","v":0},{"$f":"SUM('Step 1 - Enter Raw Data'!$B103:AB103)","v":0},{"$f":"SUM('Step 1 - Enter Raw Data'!$B103:AC103)","v":0},{"$f":"SUM('Step 1 - Enter Raw Data'!$B103:AD103)","v":0},{"$f":"SUM('Step 1 - Enter Raw Data'!$B103:AE103)","v":0},{"$f":"SUM('Step 1 - Enter Raw Data'!$B103:AF103)","v":0},{"$f":"SUM('Step 1 - Enter Raw Data'!$B103:AG103)","v":0},{"$f":"SUM('Step 1 - Enter Raw Data'!$B103:AH103)","v":0},{"$f":"SUM('Step 1 - Enter Raw Data'!$B103:AI103)","v":0},{"$f":"SUM('Step 1 - Enter Raw Data'!$B103:AJ103)","v":0},{"$f":"SUM('Step 1 - Enter Raw Data'!$B103:AK103)","v":0},{"$f":"SUM('Step 1 - Enter Raw Data'!$B103:AL103)","v":0},{"$f":"SUM('Step 1 - Enter Raw Data'!$B103:AM103)","v":0},{"$f":"SUM('Step 1 - Enter Raw Data'!$B103:AN103)","v":0},{"$f":"SUM('Step 1 - Enter Raw Data'!$B103:AO103)","v":0},{"$f":"SUM('Step 1 - Enter Raw Data'!$B103:AP103)","v":0},{"$f":"SUM('Step 1 - Enter Raw Data'!$B103:AQ103)","v":0},{"$f":"SUM('Step 1 - Enter Raw Data'!$B103:AR103)","v":0},{"$f":"SUM('Step 1 - Enter Raw Data'!$B103:AS103)","v":0},{"$f":"SUM('Step 1 - Enter Raw Data'!$B103:AT103)","v":0},{"$f":"SUM('Step 1 - Enter Raw Data'!$B103:AU103)","v":0},{"$f":"SUM('Step 1 - Enter Raw Data'!$B103:AV103)","v":0},{"$f":"SUM('Step 1 - Enter Raw Data'!$B103:AW103)","v":0},{"$f":"SUM('Step 1 - Enter Raw Data'!$B103:AX103)","v":0},{"$f":"SUM('Step 1 - Enter Raw Data'!$B103:AY103)","v":0},{"$f":"SUM('Step 1 - Enter Raw Data'!$B103:AZ103)","v":0},{"$f":"SUM('Step 1 - Enter Raw Data'!$B103:BA103)","v":0},{"$f":"SUM('Step 1 - Enter Raw Data'!$B103:BB103)","v":0},{"$f":"SUM('Step 1 - Enter Raw Data'!$B103:BC103)","v":0},{"$f":"SUM('Step 1 - Enter Raw Data'!$B103:BD103)","v":0},{"$f":"SUM('Step 1 - Enter Raw Data'!$B103:BE103)","v":0},{"$f":"SUM('Step 1 - Enter Raw Data'!$B103:BF103)","v":0},{"$f":"SUM('Step 1 - Enter Raw Data'!$B103:BG103)","v":0},{"$f":"SUM('Step 1 - Enter Raw Data'!$B103:BH103)","v":0},{"$f":"SUM('Step 1 - Enter Raw Data'!$B103:BI103)","v":0}]
[{"$f":"Comm8","v":0},{"$f":"'Step 1 - Enter Raw Data'!B114","v":0},{"$f":"SUM('Step 1 - Enter Raw Data'!$B114:C114)","v":0},{"$f":"SUM('Step 1 - Enter Raw Data'!$B114:D114)","v":0},{"$f":"SUM('Step 1 - Enter Raw Data'!$B114:E114)","v":0},{"$f":"SUM('Step 1 - Enter Raw Data'!$B114:F114)","v":0},{"$f":"SUM('Step 1 - Enter Raw Data'!$B114:G114)","v":0},{"$f":"SUM('Step 1 - Enter Raw Data'!$B114:H114)","v":0},{"$f":"SUM('Step 1 - Enter Raw Data'!$B114:I114)","v":0},{"$f":"SUM('Step 1 - Enter Raw Data'!$B114:J114)","v":0},{"$f":"SUM('Step 1 - Enter Raw Data'!$B114:K114)","v":0},{"$f":"SUM('Step 1 - Enter Raw Data'!$B114:L114)","v":0},{"$f":"SUM('Step 1 - Enter Raw Data'!$B114:M114)","v":0},{"$f":"SUM('Step 1 - Enter Raw Data'!$B114:N114)","v":0},{"$f":"SUM('Step 1 - Enter Raw Data'!$B114:O114)","v":0},{"$f":"SUM('Step 1 - Enter Raw Data'!$B114:P114)","v":0},{"$f":"SUM('Step 1 - Enter Raw Data'!$B114:Q114)","v":0},{"$f":"SUM('Step 1 - Enter Raw Data'!$B114:R114)","v":0},{"$f":"SUM('Step 1 - Enter Raw Data'!$B114:S114)","v":0},{"$f":"SUM('Step 1 - Enter Raw Data'!$B114:T114)","v":0},{"$f":"SUM('Step 1 - Enter Raw Data'!$B114:U114)","v":0},{"$f":"SUM('Step 1 - Enter Raw Data'!$B114:V114)","v":0},{"$f":"SUM('Step 1 - Enter Raw Data'!$B114:W114)","v":0},{"$f":"SUM('Step 1 - Enter Raw Data'!$B114:X114)","v":0},{"$f":"SUM('Step 1 - Enter Raw Data'!$B114:Y114)","v":0},{"$f":"SUM('Step 1 - Enter Raw Data'!$B114:Z114)","v":0},{"$f":"SUM('Step 1 - Enter Raw Data'!$B114:AA114)","v":0},{"$f":"SUM('Step 1 - Enter Raw Data'!$B114:AB114)","v":0},{"$f":"SUM('Step 1 - Enter Raw Data'!$B114:AC114)","v":0},{"$f":"SUM('Step 1 - Enter Raw Data'!$B114:AD114)","v":0},{"$f":"SUM('Step 1 - Enter Raw Data'!$B114:AE114)","v":0},{"$f":"SUM('Step 1 - Enter Raw Data'!$B114:AF114)","v":0},{"$f":"SUM('Step 1 - Enter Raw Data'!$B114:AG114)","v":0},{"$f":"SUM('Step 1 - Enter Raw Data'!$B114:AH114)","v":0},{"$f":"SUM('Step 1 - Enter Raw Data'!$B114:AI114)","v":0},{"$f":"SUM('Step 1 - Enter Raw Data'!$B114:AJ114)","v":0},{"$f":"SUM('Step 1 - Enter Raw Data'!$B114:AK114)","v":0},{"$f":"SUM('Step 1 - Enter Raw Data'!$B114:AL114)","v":0},{"$f":"SUM('Step 1 - Enter Raw Data'!$B114:AM114)","v":0},{"$f":"SUM('Step 1 - Enter Raw Data'!$B114:AN114)","v":0},{"$f":"SUM('Step 1 - Enter Raw Data'!$B114:AO114)","v":0},{"$f":"SUM('Step 1 - Enter Raw Data'!$B114:AP114)","v":0},{"$f":"SUM('Step 1 - Enter Raw Data'!$B114:AQ114)","v":0},{"$f":"SUM('Step 1 - Enter Raw Data'!$B114:AR114)","v":0},{"$f":"SUM('Step 1 - Enter Raw Data'!$B114:AS114)","v":0},{"$f":"SUM('Step 1 - Enter Raw Data'!$B114:AT114)","v":0},{"$f":"SUM('Step 1 - Enter Raw Data'!$B114:AU114)","v":0},{"$f":"SUM('Step 1 - Enter Raw Data'!$B114:AV114)","v":0},{"$f":"SUM('Step 1 - Enter Raw Data'!$B114:AW114)","v":0},{"$f":"SUM('Step 1 - Enter Raw Data'!$B114:AX114)","v":0},{"$f":"SUM('Step 1 - Enter Raw Data'!$B114:AY114)","v":0},{"$f":"SUM('Step 1 - Enter Raw Data'!$B114:AZ114)","v":0},{"$f":"SUM('Step 1 - Enter Raw Data'!$B114:BA114)","v":0},{"$f":"SUM('Step 1 - Enter Raw Data'!$B114:BB114)","v":0},{"$f":"SUM('Step 1 - Enter Raw Data'!$B114:BC114)","v":0},{"$f":"SUM('Step 1 - Enter Raw Data'!$B114:BD114)","v":0},{"$f":"SUM('Step 1 - Enter Raw Data'!$B114:BE114)","v":0},{"$f":"SUM('Step 1 - Enter Raw Data'!$B114:BF114)","v":0},{"$f":"SUM('Step 1 - Enter Raw Data'!$B114:BG114)","v":0},{"$f":"SUM('Step 1 - Enter Raw Data'!$B114:BH114)","v":0},{"$f":"SUM('Step 1 - Enter Raw Data'!$B114:BI114)","v":0}]
[{"$f":"Comm9","v":0},{"$f":"'Step 1 - Enter Raw Data'!B125","v":0},{"$f":"SUM('Step 1 - Enter Raw Data'!$B125:C125)","v":0},{"$f":"SUM('Step 1 - Enter Raw Data'!$B125:D125)","v":0},{"$f":"SUM('Step 1 - Enter Raw Data'!$B125:E125)","v":0},{"$f":"SUM('Step 1 - Enter Raw Data'!$B125:F125)","v":0},{"$f":"SUM('Step 1 - Enter Raw Data'!$B125:G125)","v":0},{"$f":"SUM('Step 1 - Enter Raw Data'!$B125:H125)","v":0},{"$f":"SUM('Step 1 - Enter Raw Data'!$B125:I125)","v":0},{"$f":"SUM('Step 1 - Enter Raw Data'!$B125:J125)","v":0},{"$f":"SUM('Step 1 - Enter Raw Data'!$B125:K125)","v":0},{"$f":"SUM('Step 1 - Enter Raw Data'!$B125:L125)","v":0},{"$f":"SUM('Step 1 - Enter Raw Data'!$B125:M125)","v":0},{"$f":"SUM('Step 1 - Enter Raw Data'!$B125:N125)","v":0},{"$f":"SUM('Step 1 - Enter Raw Data'!$B125:O125)","v":0},{"$f":"SUM('Step 1 - Enter Raw Data'!$B125:P125)","v":0},{"$f":"SUM('Step 1 - Enter Raw Data'!$B125:Q125)","v":0},{"$f":"SUM('Step 1 - Enter Raw Data'!$B125:R125)","v":0},{"$f":"SUM('Step 1 - Enter Raw Data'!$B125:S125)","v":0},{"$f":"SUM('Step 1 - Enter Raw Data'!$B125:T125)","v":0},{"$f":"SUM('Step 1 - Enter Raw Data'!$B125:U125)","v":0},{"$f":"SUM('Step 1 - Enter Raw Data'!$B125:V125)","v":0},{"$f":"SUM('Step 1 - Enter Raw Data'!$B125:W125)","v":0},{"$f":"SUM('Step 1 - Enter Raw Data'!$B125:X125)","v":0},{"$f":"SUM('Step 1 - Enter Raw Data'!$B125:Y125)","v":0},{"$f":"SUM('Step 1 - Enter Raw Data'!$B125:Z125)","v":0},{"$f":"SUM('Step 1 - Enter Raw Data'!$B125:AA125)","v":0},{"$f":"SUM('Step 1 - Enter Raw Data'!$B125:AB125)","v":0},{"$f":"SUM('Step 1 - Enter Raw Data'!$B125:AC125)","v":0},{"$f":"SUM('Step 1 - Enter Raw Data'!$B125:AD125)","v":0},{"$f":"SUM('Step 1 - Enter Raw Data'!$B125:AE125)","v":0},{"$f":"SUM('Step 1 - Enter Raw Data'!$B125:AF125)","v":0},{"$f":"SUM('Step 1 - Enter Raw Data'!$B125:AG125)","v":0},{"$f":"SUM('Step 1 - Enter Raw Data'!$B125:AH125)","v":0},{"$f":"SUM('Step 1 - Enter Raw Data'!$B125:AI125)","v":0},{"$f":"SUM('Step 1 - Enter Raw Data'!$B125:AJ125)","v":0},{"$f":"SUM('Step 1 - Enter Raw Data'!$B125:AK125)","v":0},{"$f":"SUM('Step 1 - Enter Raw Data'!$B125:AL125)","v":0},{"$f":"SUM('Step 1 - Enter Raw Data'!$B125:AM125)","v":0},{"$f":"SUM('Step 1 - Enter Raw Data'!$B125:AN125)","v":0},{"$f":"SUM('Step 1 - Enter Raw Data'!$B125:AO125)","v":0},{"$f":"SUM('Step 1 - Enter Raw Data'!$B125:AP125)","v":0},{"$f":"SUM('Step 1 - Enter Raw Data'!$B125:AQ125)","v":0},{"$f":"SUM('Step 1 - Enter Raw Data'!$B125:AR125)","v":0},{"$f":"SUM('Step 1 - Enter Raw Data'!$B125:AS125)","v":0},{"$f":"SUM('Step 1 - Enter Raw Data'!$B125:AT125)","v":0},{"$f":"SUM('Step 1 - Enter Raw Data'!$B125:AU125)","v":0},{"$f":"SUM('Step 1 - Enter Raw Data'!$B125:AV125)","v":0},{"$f":"SUM('Step 1 - Enter Raw Data'!$B125:AW125)","v":0},{"$f":"SUM('Step 1 - Enter Raw Data'!$B125:AX125)","v":0},{"$f":"SUM('Step 1 - Enter Raw Data'!$B125:AY125)","v":0},{"$f":"SUM('Step 1 - Enter Raw Data'!$B125:AZ125)","v":0},{"$f":"SUM('Step 1 - Enter Raw Data'!$B125:BA125)","v":0},{"$f":"SUM('Step 1 - Enter Raw Data'!$B125:BB125)","v":0},{"$f":"SUM('Step 1 - Enter Raw Data'!$B125:BC125)","v":0},{"$f":"SUM('Step 1 - Enter Raw Data'!$B125:BD125)","v":0},{"$f":"SUM('Step 1 - Enter Raw Data'!$B125:BE125)","v":0},{"$f":"SUM('Step 1 - Enter Raw Data'!$B125:BF125)","v":0},{"$f":"SUM('Step 1 - Enter Raw Data'!$B125:BG125)","v":0},{"$f":"SUM('Step 1 - Enter Raw Data'!$B125:BH125)","v":0},{"$f":"SUM('Step 1 - Enter Raw Data'!$B125:BI125)","v":0}]
[{"$f":"Comm10","v":0},{"$f":"'Step 1 - Enter Raw Data'!B136","v":0},{"$f":"SUM('Step 1 - Enter Raw Data'!$B136:C136)","v":0},{"$f":"SUM('Step 1 - Enter Raw Data'!$B136:D136)","v":0},{"$f":"SUM('Step 1 - Enter Raw Data'!$B136:E136)","v":0},{"$f":"SUM('Step 1 - Enter Raw Data'!$B136:F136)","v":0},{"$f":"SUM('Step 1 - Enter Raw Data'!$B136:G136)","v":0},{"$f":"SUM('Step 1 - Enter Raw Data'!$B136:H136)","v":0},{"$f":"SUM('Step 1 - Enter Raw Data'!$B136:I136)","v":0},{"$f":"SUM('Step 1 - Enter Raw Data'!$B136:J136)","v":0},{"$f":"SUM('Step 1 - Enter Raw Data'!$B136:K136)","v":0},{"$f":"SUM('Step 1 - Enter Raw Data'!$B136:L136)","v":0},{"$f":"SUM('Step 1 - Enter Raw Data'!$B136:M136)","v":0},{"$f":"SUM('Step 1 - Enter Raw Data'!$B136:N136)","v":0},{"$f":"SUM('Step 1 - Enter Raw Data'!$B136:O136)","v":0},{"$f":"SUM('Step 1 - Enter Raw Data'!$B136:P136)","v":0},{"$f":"SUM('Step 1 - Enter Raw Data'!$B136:Q136)","v":0},{"$f":"SUM('Step 1 - Enter Raw Data'!$B136:R136)","v":0},{"$f":"SUM('Step 1 - Enter Raw Data'!$B136:S136)","v":0},{"$f":"SUM('Step 1 - Enter Raw Data'!$B136:T136)","v":0},{"$f":"SUM('Step 1 - Enter Raw Data'!$B136:U136)","v":0},{"$f":"SUM('Step 1 - Enter Raw Data'!$B136:V136)","v":0},{"$f":"SUM('Step 1 - Enter Raw Data'!$B136:W136)","v":0},{"$f":"SUM('Step 1 - Enter Raw Data'!$B136:X136)","v":0},{"$f":"SUM('Step 1 - Enter Raw Data'!$B136:Y136)","v":0},{"$f":"SUM('Step 1 - Enter Raw Data'!$B136:Z136)","v":0},{"$f":"SUM('Step 1 - Enter Raw Data'!$B136:AA136)","v":0},{"$f":"SUM('Step 1 - Enter Raw Data'!$B136:AB136)","v":0},{"$f":"SUM('Step 1 - Enter Raw Data'!$B136:AC136)","v":0},{"$f":"SUM('Step 1 - Enter Raw Data'!$B136:AD136)","v":0},{"$f":"SUM('Step 1 - Enter Raw Data'!$B136:AE136)","v":0},{"$f":"SUM('Step 1 - Enter Raw Data'!$B136:AF136)","v":0},{"$f":"SUM('Step 1 - Enter Raw Data'!$B136:AG136)","v":0},{"$f":"SUM('Step 1 - Enter Raw Data'!$B136:AH136)","v":0},{"$f":"SUM('Step 1 - Enter Raw Data'!$B136:AI136)","v":0},{"$f":"SUM('Step 1 - Enter Raw Data'!$B136:AJ136)","v":0},{"$f":"SUM('Step 1 - Enter Raw Data'!$B136:AK136)","v":0},{"$f":"SUM('Step 1 - Enter Raw Data'!$B136:AL136)","v":0},{"$f":"SUM('Step 1 - Enter Raw Data'!$B136:AM136)","v":0},{"$f":"SUM('Step 1 - Enter Raw Data'!$B136:AN136)","v":0},{"$f":"SUM('Step 1 - Enter Raw Data'!$B136:AO136)","v":0},{"$f":"SUM('Step 1 - Enter Raw Data'!$B136:AP136)","v":0},{"$f":"SUM('Step 1 - Enter Raw Data'!$B136:AQ136)","v":0},{"$f":"SUM('Step 1 - Enter Raw Data'!$B136:AR136)","v":0},{"$f":"SUM('Step 1 - Enter Raw Data'!$B136:AS136)","v":0},{"$f":"SUM('Step 1 - Enter Raw Data'!$B136:AT136)","v":0},{"$f":"SUM('Step 1 - Enter Raw Data'!$B136:AU136)","v":0},{"$f":"SUM('Step 1 - Enter Raw Data'!$B136:AV136)","v":0},{"$f":"SUM('Step 1 - Enter Raw Data'!$B136:AW136)","v":0},{"$f":"SUM('Step 1 - Enter Raw Data'!$B136:AX136)","v":0},{"$f":"SUM('Step 1 - Enter Raw Data'!$B136:AY136)","v":0},{"$f":"SUM('Step 1 - Enter Raw Data'!$B136:AZ136)","v":0},{"$f":"SUM('Step 1 - Enter Raw Data'!$B136:BA136)","v":0},{"$f":"SUM('Step 1 - Enter Raw Data'!$B136:BB136)","v":0},{"$f":"SUM('Step 1 - Enter Raw Data'!$B136:BC136)","v":0},{"$f":"SUM('Step 1 - Enter Raw Data'!$B136:BD136)","v":0},{"$f":"SUM('Step 1 - Enter Raw Data'!$B136:BE136)","v":0},{"$f":"SUM('Step 1 - Enter Raw Data'!$B136:BF136)","v":0},{"$f":"SUM('Step 1 - Enter Raw Data'!$B136:BG136)","v":0},{"$f":"SUM('Step 1 - Enter Raw Data'!$B136:BH136)","v":0},{"$f":"SUM('Step 1 - Enter Raw Data'!$B136:BI136)","v":0}]

{"sheet":"Retroactive","index":7,"n_rows":1517,"n_cols":179,"rows_kept":562,"cut":true,"hidden":true,"merged":[],"bounds":{"rows_first":250,"rows_last":62,"rows_between":250,"halvings":3}}
[{"$f":"Comm1","v":"Blackberry"},"ATAI (h)","1.96s ± ATAI (h)",null,{"$f":"Comm2","v":"Blueberry"},"ATAI (h)","1.96s ± ATAI (h)",null,{"$f":"Comm3","v":"Cherry"},"ATAI (h)","1.96s ± ATAI (h)",null,{"$f":"Comm4","v":"Grape"},"ATAI (h)","1.96s ± ATAI (h)",null,{"$f":"Comm5","v":"Raspberry"},"ATAI (h)","1.96s ± ATAI (h)",null,{"$f":"Comm6","v":"Strawberry"},"ATAI (h)","1.96s ± ATAI (h)",null,{"$f":"Comm7","v":0},"ATAI (h)","1.96s ± ATAI (h)",null,{"$f":"Comm8","v":0},"ATAI (h)","1.96s ± ATAI (h)",null,{"$f":"Comm9","v":0},"ATAI (h)","1.96s ± ATAI (h)",null,{"$f":"Comm10","v":0},"ATAI (h)","1.96s ± ATAI (h)"]
["Eggs",{"$f":"IF(DEggsComm1=\"\",\"\",DEggsComm1+(RSTOT*24))","v":306.15903614457829},{"$f":"DSTDEggsComm1","v":22.477869193266944},null,"Eggs",{"$f":"IF(DEggsComm2=\"\",\"\",DEggsComm2+(RSTOT*24))","v":322.2592907198981},{"$f":"DSTDEggsComm2","v":26.187579540011381},null,"Eggs",{"$f":"IF(DEggsComm3=\"\",\"\",DEggsComm3+(RSTOT*24))","v":328.14537197255447},{"$f":"DSTDEggsComm3","v":20.621892913872149},null,"Eggs",{"$f":"IF(DEggsComm4=\"\",\"\",DEggsComm4+(RSTOT*24))","v":333.13394591756366},{"$f":"DSTDEggsComm4","v":39.416621623985741},null,"Eggs",{"$f":"IF(DEggsComm5=\"\",\"\",DEggsComm5+(RSTOT*24))","v":297.7494088127516},{"$f":"DSTDEggsComm5","v":22.810769173588966},null,"Eggs",{"$f":"IF(DEggsComm6=\"\",\"\",DEggsComm6+(RSTOT*24))","v":320.74785139928838},{"$f":"DSTDEggsComm6","v":25.40657513594644},null,"Eggs",{"$f":"IF(DEggsComm7=\"\",\"\",DEggsComm7+(RSTOT*24))","v":""},{"$f":"DSTDEggsComm7","v":"N/A"},null,"Eggs",{"$f":"IF(DEggsComm8=\"\",\"\",DEggsComm8+(RSTOT*24))","v":""},{"$f":"DSTDEggsComm8","v":"N/A"},null,"Eggs",{"$f":"IF(DEggsComm9=\"\",\"\",DEggsComm9+(RSTOT*24))","v":""},{"$f":"DSTDEggsComm9","v":"N/A"},null,"Eggs",{"$f":"IF(DEggsComm10=\"\",\"\",DEggsComm10+(RSTOT*24))","v":""},{"$f":"DSTDEggsComm10","v":"N/A"}]
["1st",{"$f":"IF(D1stComm1=\"\",\"\",D1stComm1+(RSTOT*24))","v":284.33098184593575},{"$f":"DSTD1stComm1","v":24.495034638460599},null,"1st",{"$f":"IF(D1stComm2=\"\",\"\",D1stComm2+(RSTOT*24))","v":288.77118058222601},{"$f":"DSTD1stComm2","v":37.437051950280278},null,"1st",{"$f":"IF(D1stComm3=\"\",\"\",D1stComm3+(RSTOT*24))","v":311.34249772105744},{"$f":"DSTD1stComm3","v":23.385217191903692},null,"1st",{"$f":"IF(D1stComm4=\"\",\"\",D1stComm4+(RSTOT*24))","v":315.96599190283405},{"$f":"DSTD1stComm4","v":42.426609040933592},null,"1st",{"$f":"IF(D1stComm5=\"\",\"\",D1stComm5+(RSTOT*24))","v":269.87050062416597},{"$f":"DSTD1stComm5","v":24.505671427617607},null,"1st",{"$f":"IF(D1stComm6=\"\",\"\",D1stComm6+(RSTOT*24))","v":289.05960519980744},{"$f":"DSTD1stComm6","v":30.245116437512472},null,"1st",{"$f":"IF(D1stComm7=\"\",\"\",D1stComm7+(RSTOT*24))","v":""},{"$f":"DSTD1stComm7","v":"N/A"},null,"1st",{"$f":"IF(D1stComm8=\"\",\"\",D1stComm8+(RSTOT*24))","v":""},{"$f":"DSTD1stComm8","v":"N/A"},null,"1st",{"$f":"IF(D1stComm9=\"\",\"\",D1stComm9+(RSTOT*24))","v":""},{"$f":"DSTD1stComm9","v":"N/A"},null,"1st",{"$f":"IF(D1stComm10=\"\",\"\",D1stComm10+(RSTOT*24))","v":""},{"$f":"DSTD1stComm10","v":"N/A"}]
["2nd",{"$f":"IF(D2ndComm1=\"\",\"\",D2ndComm1+(RSTOT*24))","v":255.91184513334235},{"$f":"DSTD2ndComm1","v":25.05883377295951},null,"2nd",{"$f":"IF(D2ndComm2=\"\",\"\",D2ndComm2+(RSTOT*24))","v":247.47598018638234},{"$f":"DSTD2ndComm2","v":37.849205624260399},null,"2nd",{"$f":"IF(D2ndComm3=\"\",\"\",D2ndComm3+(RSTOT*24))","v":274.46161860017833},{"$f":"DSTD2ndComm3","v":27.981621015707226},null,"2nd",{"$f":"IF(D2ndComm4=\"\",\"\",D2ndComm4+(RSTOT*24))","v":253.91603650586703},{"$f":"DSTD2ndComm4","v":62.540018103863765},null,"2nd",{"$f":"IF(D2ndComm5=\"\",\"\",D2ndComm5+(RSTOT*24))","v":258.51799226296197},{"$f":"DSTD2ndComm5","v":27.075284432605951},null,"2nd",{"$f":"IF(D2ndComm6=\"\",\"\",D2ndComm6+(RSTOT*24))","v":268.14849838118658},{"$f":"DSTD2ndComm6","v":28.410312083049284},null,"2nd",{"$f":"IF(D2ndComm7=\"\",\"\",D2ndComm7+(RSTOT*24))","v":""},{"$f":"DSTD2ndComm7","v":"N/A"},null,"2nd",{"$f":"IF(D2ndComm8=\"\",\"\",D2ndComm8+(RSTOT*24))","v":""},{"$f":"DSTD2ndComm8","v":"N/A"},null,"2nd",{"$f":"IF(D2ndComm9=\"\",\"\",D2ndComm9+(RSTOT*24))","v":""},{"$f":"DSTD2ndComm9","v":"N/A"},null,"2nd",{"$f":"IF(D2ndComm10=\"\",\"\",D2ndComm10+(RSTOT*24))","v":""},{"$f":"DSTD2ndComm10","v":"N/A"}]
["3rd",{"$f":"IF(D3rdComm1=\"\",\"\",D3rdComm1+(RSTOT*24))","v":200.63094625693788},{"$f":"DSTD3rdComm1","v":35.279534666229026},null,"3rd",{"$f":"IF(D3rdComm2=\"\",\"\",D3rdComm2+(RSTOT*24))","v":200.38870248460395},{"$f":"DSTD3rdComm2","v":44.178189581698895},null,"3rd",{"$f":"IF(D3rdComm3=\"\",\"\",D3rdComm3+(RSTOT*24))","v":221.11005677617555},{"$f":"DSTD3rdComm3","v":35.42994234282267},null,"3rd",{"$f":"IF(D3rdComm4=\"\",\"\",D3rdComm4+(RSTOT*24))","v":206.21466063348416},{"$f":"DSTD3rdComm4","v":57.224856843393837},null,"3rd",{"$f":"IF(D3rdComm5=\"\",\"\",D3rdComm5+(RSTOT*24))","v":207.35627815598667},{"$f":"DSTD3rdComm5","v":30.892484740756466},null,"3rd",{"$f":"IF(D3rdComm6=\"\",\"\",D3rdComm6+(RSTOT*24))","v":226.86293474582334},{"$f":"DSTD3rdComm6","v":32.463575432122418},null,"3rd",{"$f":"IF(D3rdComm7=\"\",\"\",D3rdComm7+(RSTOT*24))","v":""},{"$f":"DSTD3rdComm7","v":"N/A"},null,"3rd",{"$f":"IF(D3rdComm8=\"\",\"\",D3rdComm8+(RSTOT*24))","v":""},{"$f":"DSTD3rdComm8","v":"N/A"},null,"3rd",{"$f":"IF(D3rdComm9=\"\",\"\",D3rdComm9+(RSTOT*24))","v":""},{"$f":"DSTD3rdComm9","v":"N/A"},null,"3rd",{"$f":"IF(D3rdComm10=\"\",\"\",D3rdComm10+(RSTOT*24))","v":""},{"$f":"DSTD3rdComm10","v":"N/A"}]
["4th",{"$f":"IF(D4thComm1=\"\",\"\",D4thComm1+(RSTOT*24))","v":""},{"$f":"DSTD4thComm1","v":"N/A"},null,"4th",{"$f":"IF(D4thComm2=\"\",\"\",D4thComm2+(RSTOT*24))","v":""},{"$f":"DSTD4thComm2","v":"N/A"},null,"4th",{"$f":"IF(D4thComm3=\"\",\"\",D4thComm3+(RSTOT*24))","v":""},{"$f":"DSTD4thComm3","v":"N/A"},null,"4th",{"$f":"IF(D4thComm4=\"\",\"\",D4thComm4+(RSTOT*24))","v":""},{"$f":"DSTD4thComm4","v":"N/A"},null,"4th",{"$f":"IF(D4thComm5=\"\",\"\",D4thComm5+(RSTOT*24))","v":""},{"$f":"DSTD4thComm5","v":"N/A"},null,"4th",{"$f":"IF(D4thComm6=\"\",\"\",D4thComm6+(RSTOT*24))","v":""},{"$f":"DSTD4thComm6","v":"N/A"},null,"4th",{"$f":"IF(D4thComm7=\"\",\"\",D4thComm7+(RSTOT*24))","v":""},{"$f":"DSTD4thComm7","v":"N/A"},null,"4th",{"$f":"IF(D4thComm8=\"\",\"\",D4thComm8+(RSTOT*24))","v":""},{"$f":"DSTD4thComm8","v":"N/A"},null,"4th",{"$f":"IF(D4thComm9=\"\",\"\",D4thComm9+(RSTOT*24))","v":""},{"$f":"DSTD4thComm9","v":"N/A"},null,"4th",{"$f":"IF(D4thComm10=\"\",\"\",D4thComm10+(RSTOT*24))","v":""},{"$f":"DSTD4thComm10","v":"N/A"}]
["5th",{"$f":"IF(D5thComm1=\"\",\"\",D5thComm1+(RSTOT*24))","v":""},{"$f":"DSTD5thComm1","v":"N/A"},null,"5th",{"$f":"IF(D5thComm2=\"\",\"\",D5thComm2+(RSTOT*24))","v":""},{"$f":"DSTD5thComm2","v":"N/A"},null,"5th",{"$f":"IF(D5thComm3=\"\",\"\",D5thComm3+(RSTOT*24))","v":""},{"$f":"DSTD5thComm3","v":"N/A"},null,"5th",{"$f":"IF(D5thComm4=\"\",\"\",D5thComm4+(RSTOT*24))","v":""},{"$f":"DSTD5thComm4","v":"N/A"},null,"5th",{"$f":"IF(D5thComm5=\"\",\"\",D5thComm5+(RSTOT*24))","v":""},{"$f":"DSTD5thComm5","v":"N/A"},null,"5th",{"$f":"IF(D5thComm6=\"\",\"\",D5thComm6+(RSTOT*24))","v":""},{"$f":"DSTD5thComm6","v":"N/A"},null,"5th",{"$f":"IF(D5thComm7=\"\",\"\",D5thComm7+(RSTOT*24))","v":""},{"$f":"DSTD5thComm7","v":"N/A"},null,"5th",{"$f":"IF(D5thComm8=\"\",\"\",D5thComm8+(RSTOT*24))","v":""},{"$f":"DSTD5thComm8","v":"N/A"},null,"5th",{"$f":"IF(D5thComm9=\"\",\"\",D5thComm9+(RSTOT*24))","v":""},{"$f":"DSTD5thComm9","v":"N/A"},null,"5th",{"$f":"IF(D5thComm10=\"\",\"\",D5thComm10+(RSTOT*24))","v":""},{"$f":"DSTD5thComm10","v":"N/A"}]
["Pupae",{"$f":"IF(DPupaeComm1=\"\",\"\",DPupaeComm1+(RSTOT*24))","v":143.41175682172462},{"$f":"DSTDPupaeComm1","v":31.86340557479236},null,"Pupae",{"$f":"IF(DPupaeComm2=\"\",\"\",DPupaeComm2+(RSTOT*24))","v":125.87172769468798},{"$f":"DSTDPupaeComm2","v":33.450008417175013},null,"Pupae",{"$f":"IF(DPupaeComm3=\"\",\"\",DPupaeComm3+(RSTOT*24))","v":175.37777331160862},{"$f":"DSTDPupaeComm3","v":26.612966637869974},null,"Pupae",{"$f":"IF(DPupaeComm4=\"\",\"\",DPupaeComm4+(RSTOT*24))","v":145.66877828054299},{"$f":"DSTDPupaeComm4","v":45.404373184602001},null,"Pupae",{"$f":"IF(DPupaeComm5=\"\",\"\",DPupaeComm5+(RSTOT*24))","v":171.55349286128663},{"$f":"DSTDPupaeComm5","v":25.789604543794688},null,"Pupae",{"$f":"IF(DPupaeComm6=\"\",\"\",DPupaeComm6+(RSTOT*24))","v":170.69001407591182},{"$f":"DSTDPupaeComm6","v":28.670723601719327},null,"Pupae",{"$f":"IF(DPupaeComm7=\"\",\"\",DPupaeComm7+(RSTOT*24))","v":""},{"$f":"DSTDPupaeComm7","v":"N/A"},null,"Pupae",{"$f":"IF(DPupaeComm8=\"\",\"\",DPupaeComm8+(RSTOT*24))","v":""},{"$f":"DSTDPupaeComm8","v":"N/A"},null,"Pupae",{"$f":"IF(DPupaeComm9=\"\",\"\",DPupaeComm9+(RSTOT*24))","v":""},{"$f":"DSTDPupaeComm9","v":"N/A"},null,"Pupae",{"$f":"IF(DPupaeComm10=\"\",\"\",DPupaeComm10+(RSTOT*24))","v":""},{"$f":"DSTDPupaeComm10","v":"N/A"}]
[]
[]
[{"$f":"Comm1","v":"Blackberry"},null,null,null,null,null,null,null,null,null,null,null,null,null,null,null,null,null,{"$f":"Comm2","v":"Blueberry"},null,null,null,null,null,null,null,null,null,null,null,null,null,null,null,null,null,{"$f":"Comm3","v":"Cherry"},null,null,null,null,null,null,null,null,null,null,null,null,null,null,null,null,null,{"$f":"Comm4","v":"Grape"},null,null,null,null,null,null,null,null,null,null,null,null,null,null,null,null,null,{"$f":"Comm5","v":"Raspberry"},null,null,null,null,null,null,null,null,null,null,null,null,null,null,null,null,null,{"$f":"Comm6","v":"Strawberry"},null,null,null,null,null,null,null,null,null,null,null,null,null,null,null,null,null,{"$f":"Comm7","v":0},null,null,null,null,null,null,null,null,null,null,null,null,null,null,null,null,null,{"$f":"Comm8","v":0},null,null,null,null,null,null,null,null,null,null,null,null,null,null,null,null,null,{"$f":"Comm9","v":0},null,null,null,null,null,null,null,null,null,null,null,null,null,null,null,null,null,{"$f":"Comm10","v":0}]
["time (h)","eggs","1st","2nd","3rd","4th","5th","pupae","time (d)","total","Prob egg","Prob 1st","Prob 2nd","Prob 3rd","Prob 4th","Prob 5th","Prob Pupae",null,"time (h)","eggs","1st","2nd","3rd","4th","5th","pupae","time (d)","total","Prob egg","Prob 1st","Prob 2nd","Prob 3rd","Prob 4th","Prob 5th","Prob Pupae",null,"time (h)","eggs","1st","2nd","3rd","4th","5th","pupae","time (d)","total","Prob egg","Prob 1st","Prob 2nd","Prob 3rd","Prob 4th","Prob 5th","Prob Pupae",null,"time (h)","eggs","1st","2nd","3rd","4th","5th","pupae","time (d)","total","Prob egg","Prob 1st","Prob 2nd","Prob 3rd","Prob 4th","Prob 5th","Prob Pupae",null,"time (h)","eggs","1st","2nd","3rd","4th","5th","pupae","time (d)","total","Prob egg","Prob 1st","Prob 2nd","Prob 3rd","Prob 4th","Prob 5th","Prob Pupae",null,"time (h)","eggs","1st","2nd","3rd","4th","5th","pupae","time (d)","total","Prob egg","Prob 1st","Prob 2nd","Prob 3rd","Prob 4th","Prob 5th","Prob Pupae",null,"time (h)","eggs","1st","2nd","3rd","4th","5th","pupae","time (d)","total","Prob egg","Prob 1st","Prob 2nd","Prob 3rd","Prob 4th","Prob 5th","Prob Pupae",null,"time (h)","eggs","1st","2nd","3rd","4th","5th","pupae","time (d)","total","Prob egg","Prob 1st","Prob 2nd","Prob 3rd","Prob 4th","Prob 5th","Prob Pupae",null,"time (h)","eggs","1st","2nd","3rd","4th","5th","pupae","time (d)","total","Prob egg","Prob 1st","Prob 2nd","Prob 3rd","Prob 4th","Prob 5th","Prob Pupae",null,"time (h)","eggs","1st","2nd","3rd","4th","5th","pupae","time (d)","total","Prob egg","Prob 1st","Prob 2nd","Prob 3rd","Prob 4th","Prob 5th","Prob Pupae"]
[1,{"$f":"IF(RAEggsComm1=\"\",0,(IF(A13<(RAEggsComm1-DSTDEggsComm1),0,IF(A13<(RAEggsComm1+DSTDEggsComm1),LSComm1Eggs,0))))","v":0},{"$f":"IF(RA1stComm1=\"\",0,(IF(A13<(RA1stComm1-DSTD1stComm1),0,IF(A13<(RA1stComm1+DSTD1stComm1),LSComm11st,0))))","v":0},{"$f":"IF(RA2ndComm1=\"\",0,(IF(A13<(RA2ndComm1-DSTD2ndComm1),0,IF(A13<(RA2ndComm1+DSTD2ndComm1),LSComm12nd,0))))","v":0},{"$f":"IF(RA3rdComm1=\"\",0,(IF(A13<(RA3rdComm1-DSTD3rdComm1),0,IF(A13<(RA3rdComm1+DSTD3rdComm1),LSComm13rd,0))))","v":0},{"$f":"IF(RA4thComm1=\"\",0,(IF(A13<(RA4thComm1-DSTD4thComm1),0,IF(A13<(RA4thComm1+DSTD4thComm1),LSComm14th,0))))","v":0},{"$f":"IF(RA5thComm1=\"\",0,(IF(A13<(RA5thComm1-DSTD5thComm1),0,IF(A13<(RA5thComm1+DSTD5thComm1),LSComm15th,0))))","v":0},{"$f":"IF(RAPupaeComm1=\"\",0,(IF(A13<(RAPupaeComm1-DSTDPupaeComm1),0,IF(A13<(RAPupaeComm1+DSTDPupaeComm1),LSComm1Pupae,0))))","v":0},{"$f":"A13/24","v":4.1666666666666664E-2},{"$f":"SUM(B13:H13)","v":0},{"$f":"IF(J13=0,0,B13/J13)","v":0},{"$f":"IF(J13=0,0,C13/J13)","v":0},{"$f":"IF(J13=0,0,D13/J13)","v":0},{"$f":"IF(J13=0,0,E13/J13)","v":0},{"$f":"IF(J13=0,0,F13/J13)","v":0},{"$f":"IF(J13=0,0,G13/J13)","v":0},{"$f":"IF(J13=0,0,H13/J13)","v":0},null,1,{"$f":"IF(RAEggsComm2=\"\",0,(IF(S13<(RAEggsComm2-DSTDEggsComm2),0,IF(S13<(RAEggsComm2+DSTDEggsComm2),LSComm2Eggs,0))))","v":0},{"$f":"IF(RA1stComm2=\"\",0,(IF(S13<(RA1stComm2-DSTD1stComm2),0,IF(S13<(RA1stComm2+DSTD1stComm2),LSComm21st,0))))","v":0},{"$f":"IF(RA2ndComm2=\"\",0,(IF(S13<(RA2ndComm2-DSTD2ndComm2),0,IF(S13<(RA2ndComm2+DSTD2ndComm2),LSComm22nd,0))))","v":0},{"$f":"IF(RA3rdComm2=\"\",0,(IF(S13<(RA3rdComm2-DSTD3rdComm2),0,IF(S13<(RA3rdComm2+DSTD3rdComm2),LSComm23rd,0))))","v":0},{"$f":"IF(RA4thComm2=\"\",0,(IF(S13<(RA4thComm2-DSTD4thComm2),0,IF(S13<(RA4thComm2+DSTD4thComm2),LSComm24th,0))))","v":0},{"$f":"IF(RA5thComm2=\"\",0,(IF(S13<(RA5thComm2-DSTD5thComm2),0,IF(S13<(RA5thComm2+DSTD5thComm2),LSComm25th,0))))","v":0},{"$f":"IF(RAPupaeComm2=\"\",0,(IF(S13<(RAPupaeComm2-DSTDPupaeComm2),0,IF(S13<(RAPupaeComm2+DSTDPupaeComm2),LSComm2Pupae,0))))","v":0},{"$f":"S13/24","v":4.1666666666666664E-2},{"$f":"SUM(T13:Z13)","v":0},{"$f":"IF(AB13=0,0,T13/AB13)","v":0},{"$f":"IF(AB13=0,0,U13/AB13)","v":0},{"$f":"IF(AB13=0,0,V13/AB13)","v":0},{"$f":"IF(AB13=0,0,W13/AB13)","v":0},{"$f":"IF(AB13=0,0,X13/AB13)","v":0},{"$f":"IF(AB13=0,0,Y13/AB13)","v":0},{"$f":"IF(AB13=0,0,Z13/AB13)","v":0},null,1,{"$f":"IF(RAEggsComm3=\"\",0,(IF(AK13<(RAEggsComm3-DSTDEggsComm3),0,IF(AK13<(RAEggsComm3+DSTDEggsComm3),LSComm3Eggs,0))))","v":0},{"$f":"IF(RA1stComm3=\"\",0,(IF(AK13<(RA1stComm3-DSTD1stComm3),0,IF(AK13<(RA1stComm3+DSTD1stComm3),LSComm31st,0))))","v":0},{"$f":"IF(RA2ndComm3=\"\",0,(IF(AK13<(RA2ndComm3-DSTD2ndComm3),0,IF(AK13<(RA2ndComm3+DSTD2ndComm3),LSComm32nd,0))))","v":0},{"$f":"IF(RA3rdComm3=\"\",0,(IF(AK13<(RA3rdComm3-DSTD3rdComm3),0,IF(AK13<(RA3rdComm3+DSTD3rdComm3),LSComm33rd,0))))","v":0},{"$f":"IF(RA4thComm3=\"\",0,(IF(AK13<(RA4thComm3-DSTD4thComm3),0,IF(AK13<(RA4thComm3+DSTD4thComm3),LSComm34th,0))))","v":0},{"$f":"IF(RA5thComm3=\"\",0,(IF(AK13<(RA5thComm3-DSTD5thComm3),0,IF(AK13<(RA5thComm3+DSTD5thComm3),LSComm35th,0))))","v":0},{"$f":"IF(RAPupaeComm3=\"\",0,(IF(AK13<(RAPupaeComm3-DSTDPupaeComm3),0,IF(AK13<(RAPupaeComm3+DSTDPupaeComm3),LSComm3Pupae,0))))","v":0},{"$f":"AK13/24","v":4.1666666666666664E-2},{"$f":"SUM(AL13:AR13)","v":0},{"$f":"IF(AT13=0,0,AL13/AT13)","v":0},{"$f":"IF(AT13=0,0,AM13/AT13)","v":0},{"$f":"IF(AT13=0,0,AN13/AT13)","v":0},{"$f":"IF(AT13=0,0,AO13/AT13)","v":0},{"$f":"IF(AT13=0,0,AP13/AT13)","v":0},{"$f":"IF(AT13=0,0,AQ13/AT13)","v":0},{"$f":"IF(AT13=0,0,AR13/AT13)","v":0},null,1,{"$f":"IF(RAEggsComm4=\"\",0,(IF(BC13<(RAEggsComm4-DSTDEggsComm4),0,IF(BC13<(RAEggsComm4+DSTDEggsComm4),LSComm4Eggs,0))))","v":0},{"$f":"IF(RA1stComm4=\"\",0,(IF(BC13<(RA1stComm4-DSTD1stComm4),0,IF(BC13<(RA1stComm4+DSTD1stComm4),LSComm41st,0))))","v":0},{"$f":"IF(RA2ndComm4=\"\",0,(IF(BC13<(RA2ndComm4-DSTD2ndComm4),0,IF(BC13<(RA2ndComm4+DSTD2ndComm4),LSComm42nd,0))))","v":0},{"$f":"IF(RA3rdComm4=\"\",0,(IF(BC13<(RA3rdComm4-DSTD3rdComm4),0,IF(BC13<(RA3rdComm4+DSTD3rdComm4),LSComm43rd,0))))","v":0},{"$f":"IF(RA4thComm4=\"\",0,(IF(BC13<(RA4thComm4-DSTD4thComm4),0,IF(BC13<(RA4thComm4+DSTD4thComm4),LSComm44th,0))))","v":0},{"$f":"IF(RA5thComm4=\"\",0,(IF(BC13<(RA5thComm4-DSTD5thComm4),0,IF(BC13<(RA5thComm4+DSTD5thComm4),LSComm45th,0))))","v":0},{"$f":"IF(RAPupaeComm4=\"\",0,(IF(BC13<(RAPupaeComm4-DSTDPupaeComm4),0,IF(BC13<(RAPupaeComm4+DSTDPupaeComm4),LSComm4Pupae,0))))","v":0},{"$f":"BC13/24","v":4.1666666666666664E-2},{"$f":"SUM(BD13:BJ13)","v":0},{"$f":"IF(BL13=0,0,BD13/BL13)","v":0},{"$f":"IF(BL13=0,0,BE13/BL13)","v":0},{"$f":"IF(BL13=0,0,BF13/BL13)","v":0},{"$f":"IF(BL13=0,0,BG13/BL13)","v":0},{"$f":"IF(BL13=0,0,BH13/BL13)","v":0},{"$f":"IF(BL13=0,0,BI13/BL13)","v":0},{"$f":"IF(BL13=0,0,BJ13/BL13)","v":0},null,1,{"$f":"IF(RAEggsComm5=\"\",0,(IF(BU13<(RAEggsComm5-DSTDEggsComm5),0,IF(BU13<(RAEggsComm5+DSTDEggsComm5),LSComm5Eggs,0))))","v":0},{"$f":"IF(RA1stComm5=\"\",0,(IF(BU13<(RA1stComm5-DSTD1stComm5),0,IF(BU13<(RA1stComm5+DSTD1stComm5),LSComm51st,0))))","v":0},{"$f":"IF(RA2ndComm5=\"\",0,(IF(BU13<(RA2ndComm5-DSTD2ndComm5),0,IF(BU13<(RA2ndComm5+DSTD2ndComm5),LSComm52nd,0))))","v":0},{"$f":"IF(RA3rdComm5=\"\",0,(IF(BU13<(RA3rdComm5-DSTD3rdComm5),0,IF(BU13<(RA3rdComm5+DSTD3rdComm5),LSComm53rd,0))))","v":0},{"$f":"IF(RA4thComm5=\"\",0,(IF(BU13<(RA4thComm5-DSTD4thComm5),0,IF(BU13<(RA4thComm5+DSTD4thComm5),LSComm54th,0))))","v":0},{"$f":"IF(RA5thComm5=\"\",0,(IF(BU13<(RA5thComm5-DSTD5thComm5),0,IF(BU13<(RA5thComm5+DSTD5thComm5),LSComm55th,0))))","v":0},{"$f":"IF(RAPupaeComm5=\"\",0,(IF(BU13<(RAPupaeComm5-DSTDPupaeComm5),0,IF(BU13<(RAPupaeComm5+DSTDPupaeComm5),LSComm5Pupae,0))))","v":0},{"$f":"BU13/24","v":4.1666666666666664E-2},{"$f":"SUM(BV13:CB13)","v":0},{"$f":"IF(CD13=0,0,BV13/CD13)","v":0},{"$f":"IF(CD13=0,0,BW13/CD13)","v":0},{"$f":"IF(CD13=0,0,BX13/CD13)","v":0},{"$f":"IF(CD13=0,0,BY13/CD13)","v":0},{"$f":"IF(CD13=0,0,BZ13/CD13)","v":0},{"$f":"IF(CD13=0,0,CA13/CD13)","v":0},{"$f":"IF(CD13=0,0,CB13/CD13)","v":0},null,1,{"$f":"IF(RAEggsComm6=\"\",0,(IF(CM13<(RAEggsComm6-DSTDEggsComm6),0,IF(CM13<(RAEggsComm6+DSTDEggsComm6),LSComm6Eggs,0))))","v":0},{"$f":"IF(RA1stComm6=\"\",0,(IF(CM13<(RA1stComm6-DSTD1stComm6),0,IF(CM13<(RA1stComm6+DSTD1stComm6),LSComm61st,0))))","v":0},{"$f":"IF(RA2ndComm6=\"\",0,(IF(CM13<(RA2ndComm6-DSTD2ndComm6),0,IF(CM13<(RA2ndComm6+DSTD2ndComm6),LSComm62nd,0))))","v":0},{"$f":"IF(RA3rdComm6=\"\",0,(IF(CM13<(RA3rdComm6-DSTD3rdComm6),0,IF(CM13<(RA3rdComm6+DSTD3rdComm6),LSComm63rd,0))))","v":0},{"$f":"IF(RA4thComm6=\"\",0,(IF(CM13<(RA4thComm6-DSTD4thComm6),0,IF(CM13<(RA4thComm6+DSTD4thComm6),LSComm64th,0))))","v":0},{"$f":"IF(RA5thComm6=\"\",0,(IF(CM13<(RA5thComm6-DSTD5thComm6),0,IF(CM13<(RA5thComm6+DSTD5thComm6),LSComm65th,0))))","v":0},{"$f":"IF(RAPupaeComm6=\"\",0,(IF(CM13<(RAPupaeComm6-DSTDPupaeComm6),0,IF(CM13<(RAPupaeComm6+DSTDPupaeComm6),LSComm6Pupae,0))))","v":0},{"$f":"CM13/24","v":4.1666666666666664E-2},{"$f":"SUM(CN13:CT13)","v":0},{"$f":"IF(CV13=0,0,CN13/CV13)","v":0},{"$f":"IF(CV13=0,0,CO13/CV13)","v":0},{"$f":"IF(CV13=0,0,CP13/CV13)","v":0},{"$f":"IF(CV13=0,0,CQ13/CV13)","v":0},{"$f":"IF(CV13=0,0,CR13/CV13)","v":0},{"$f":"IF(CV13=0,0,CS13/CV13)","v":0},{"$f":"IF(CV13=0,0,CT13/CV13)","v":0},null,1,{"$f":"IF(RAEggsComm7=\"\",0,(IF(DE13<(RAEggsComm7-DSTDEggsComm7),0,IF(DE13<(RAEggsComm7+DSTDEggsComm7),LSComm7Eggs,0))))","v":0},{"$f":"IF(RA1stComm7=\"\",0,(IF(DE13<(RA1stComm7-DSTD1stComm7),0,IF(DE13<(RA1stComm7+DSTD1stComm7),LSComm71st,0))))","v":0},{"$f":"IF(RA2ndComm7=\"\",0,(IF(DE13<(RA2ndComm7-DSTD2ndComm7),0,IF(DE13<(RA2ndComm7+DSTD2ndComm7),LSComm72nd,0))))","v":0},{"$f":"IF(RA3rdComm7=\"\",0,(IF(DE13<(RA3rdComm7-DSTD3rdComm7),0,IF(DE13<(RA3rdComm7+DSTD3rdComm7),LSComm73rd,0))))","v":0},{"$f":"IF(RA4thComm7=\"\",0,(IF(DE13<(RA4thComm7-DSTD4thComm7),0,IF(DE13<(RA4thComm7+DSTD4thComm7),LSComm74th,0))))","v":0},{"$f":"IF(RA5thComm7=\"\",0,(IF(DE13<(RA5thComm7-DSTD5thComm7),0,IF(DE13<(RA5thComm7+DSTD5thComm7),LSComm75th,0))))","v":0},{"$f":"IF(RAPupaeComm7=\"\",0,(IF(DE13<(RAPupaeComm7-DSTDPupaeComm7),0,IF(DE13<(RAPupaeComm7+DSTDPupaeComm7),LSComm7Pupae,0))))","v":0},{"$f":"DE13/24","v":4.1666666666666664E-2},{"$f":"SUM(DF13:DL13)","v":0},{"$f":"IF(DN13=0,0,DF13/DN13)","v":0},{"$f":"IF(DN13=0,0,DG13/DN13)","v":0},{"$f":"IF(DN13=0,0,DH13/DN13)","v":0},{"$f":"IF(DN13=0,0,DI13/DN13)","v":0},{"$f":"IF(DN13=0,0,DJ13/DN13)","v":0},{"$f":"IF(DN13=0,0,DK13/DN13)","v":0},{"$f":"IF(DN13=0,0,DL13/DN13)","v":0},null,1,{"$f":"IF(RAEggsComm8=\"\",0,(IF(DW13<(RAEggsComm8-DSTDEggsComm8),0,IF(DW13<(RAEggsComm8+DSTDEggsComm8),LSComm8Eggs,0))))","v":0},{"$f":"IF(RA1stComm8=\"\",0,(IF(DW13<(RA1stComm8-DSTD1stComm8),0,IF(DW13<(RA1stComm8+DSTD1stComm8),LSComm81st,0))))","v":0},{"$f":"IF(RA2ndComm8=\"\",0,(IF(DW13<(RA2ndComm8-DSTD2ndComm8),0,IF(DW13<(RA2ndComm8+DSTD2ndComm8),LSComm82nd,0))))","v":0},{"$f":"IF(RA3rdComm8=\"\",0,(IF(DW13<(RA3rdComm8-DSTD3rdComm8),0,IF(DW13<(RA3rdComm8+DSTD3rdComm8),LSComm83rd,0))))","v":0},{"$f":"IF(RA4thComm8=\"\",0,(IF(DW13<(RA4thComm8-DSTD4thComm8),0,IF(DW13<(RA4thComm8+DSTD4thComm8),LSComm84th,0))))","v":0},{"$f":"IF(RA5thComm8=\"\",0,(IF(DW13<(RA5thComm8-DSTD5thComm8),0,IF(DW13<(RA5thComm8+DSTD5thComm8),LSComm85th,0))))","v":0},{"$f":"IF(RAPupaeComm8=\"\",0,(IF(DW13<(RAPupaeComm8-DSTDPupaeComm8),0,IF(DW13<(RAPupaeComm8+DSTDPupaeComm8),LSComm8Pupae,0))))","v":0},{"$f":"DW13/24","v":4.1666666666666664E-2},{"$f":"SUM(DX13:ED13)","v":0},{"$f":"IF(EF13=0,0,DX13/EF13)","v":0},{"$f":"IF(EF13=0,0,DY13/EF13)","v":0},{"$f":"IF(EF13=0,0,DZ13/EF13)","v":0},{"$f":"IF(EF13=0,0,EA13/EF13)","v":0},{"$f":"IF(EF13=0,0,EB13/EF13)","v":0},{"$f":"IF(EF13=0,0,EC13/EF13)","v":0},{"$f":"IF(EF13=0,0,ED13/EF13)","v":0},null,1,{"$f":"IF(RAEggsComm9=\"\",0,(IF(EO13<(RAEggsComm9-DSTDEggsComm9),0,IF(EO13<(RAEggsComm9+DSTDEggsComm9),LSComm9Eggs,0))))","v":0},{"$f":"IF(RA1stComm9=\"\",0,(IF(EO13<(RA1stComm9-DSTD1stComm9),0,IF(EO13<(RA1stComm9+DSTD1stComm9),LSComm91st,0))))","v":0},{"$f":"IF(RA2ndComm9=\"\",0,(IF(EO13<(RA2ndComm9-DSTD2ndComm9),0,IF(EO13<(RA2ndComm9+DSTD2ndComm9),LSComm92nd,0))))","v":0},{"$f":"IF(RA3rdComm9=\"\",0,(IF(EO13<(RA3rdComm9-DSTD3rdComm9),0,IF(EO13<(RA3rdComm9+DSTD3rdComm9),LSComm93rd,0))))","v":0},{"$f":"IF(RA4thComm9=\"\",0,(IF(EO13<(RA4thComm9-DSTD4thComm9),0,IF(EO13<(RA4thComm9+DSTD4thComm9),LSComm94th,0))))","v":0},{"$f":"IF(RA5thComm9=\"\",0,(IF(EO13<(RA5thComm9-DSTD5thComm9),0,IF(EO13<(RA5thComm9+DSTD5thComm9),LSComm95th,0))))","v":0},{"$f":"IF(RAPupaeComm9=\"\",0,(IF(EO13<(RAPupaeComm9-DSTDPupaeComm9),0,IF(EO13<(RAPupaeComm9+DSTDPupaeComm9),LSComm9Pupae,0))))","v":0},{"$f":"EO13/24","v":4.1666666666666664E-2},{"$f":"SUM(EP13:EV13)","v":0},{"$f":"IF(EX13=0,0,EP13/EX13)","v":0},{"$f":"IF(EX13=0,0,EQ13/EX13)","v":0},{"$f":"IF(EX13=0,0,ER13/EX13)","v":0},{"$f":"IF(EX13=0,0,ES13/EX13)","v":0},{"$f":"IF(EX13=0,0,ET13/EX13)","v":0},{"$f":"IF(EX13=0,0,EU13/EX13)","v":0},{"$f":"IF(EX13=0,0,EV13/EX13)","v":0},null,1,{"$f":"IF(RAEggsComm10=\"\",0,(IF(FG13<(RAEggsComm10-DSTDEggsComm10),0,IF(FG13<(RAEggsComm10+DSTDEggsComm10),LSComm10Eggs,0))))","v":0},{"$f":"IF(RA1stComm10=\"\",0,(IF(FG13<(RA1stComm10-DSTD1stComm10),0,IF(FG13<(RA1stComm10+DSTD1stComm10),LSComm101st,0))))","v":0},{"$f":"IF(RA2ndComm10=\"\",0,(IF(FG13<(RA2ndComm10-DSTD2ndComm10),0,IF(FG13<(RA2ndComm10+DSTD2ndComm10),LSComm102nd,0))))","v":0},{"$f":"IF(RA3rdComm10=\"\",0,(IF(FG13<(RA3rdComm10-DSTD3rdComm10),0,IF(FG13<(RA3rdComm10+DSTD3rdComm10),LSComm103rd,0))))","v":0},{"$f":"IF(RA4thComm10=\"\",0,(IF(FG13<(RA4thComm10-DSTD4thComm10),0,IF(FG13<(RA4thComm10+DSTD4thComm10),LSComm104th,0))))","v":0},{"$f":"IF(RA5thComm10=\"\",0,(IF(FG13<(RA5thComm10-DSTD5thComm10),0,IF(FG13<(RA5thComm10+DSTD5thComm10),LSComm105th,0))))","v":0},{"$f":"IF(RAPupaeComm10=\"\",0,(IF(FG13<(RAPupaeComm10-DSTDPupaeComm10),0,IF(FG13<(RAPupaeComm10+DSTDPupaeComm10),LSComm10Pupae,0))))","v":0},{"$f":"FG13/24","v":4.1666666666666664E-2},{"$f":"SUM(FH13:FN13)","v":0},{"$f":"IF(FP13=0,0,FH13/FP13)","v":0},{"$f":"IF(FP13=0,0,FI13/FP13)","v":0},{"$f":"IF(FP13=0,0,FJ13/FP13)","v":0},{"$f":"IF(FP13=0,0,FK13/FP13)","v":0},{"$f":"IF(FP13=0,0,FL13/FP13)","v":0},{"$f":"IF(FP13=0,0,FM13/FP13)","v":0},{"$f":"IF(FP13=0,0,FN13/FP13)","v":0}]
[2,0,0,0,0,{"$f":"IF(RA4thComm1=\"\",0,(IF(A14<(RA4thComm1-DSTD4thComm1),0,IF(A14<(RA4thComm1+DSTD4thComm1),LSComm14th,0))))","v":0},0,0,8.3333333333333329E-2,0,{"$f":"IF(J14=0,0,B14/J14)","v":0},{"$f":"IF(J14=0,0,C14/J14)","v":0},{"$f":"IF(J14=0,0,D14/J14)","v":0},{"$f":"IF(J14=0,0,E14/J14)","v":0},{"$f":"IF(J14=0,0,F14/J14)","v":0},{"$f":"IF(J14=0,0,G14/J14)","v":0},{"$f":"IF(J14=0,0,H14/J14)","v":0},null,2,0,0,0,0,0,0,0,8.3333333333333329E-2,0,{"$f":"IF(AB14=0,0,T14/AB14)","v":0},{"$f":"IF(AB14=0,0,U14/AB14)","v":0},{"$f":"IF(AB14=0,0,V14/AB14)","v":0},{"$f":"IF(AB14=0,0,W14/AB14)","v":0},{"$f":"IF(AB14=0,0,X14/AB14)","v":0},{"$f":"IF(AB14=0,0,Y14/AB14)","v":0},{"$f":"IF(AB14=0,0,Z14/AB14)","v":0},null,2,0,0,0,0,0,0,0,8.3333333333333329E-2,0,{"$f":"IF(AT14=0,0,AL14/AT14)","v":0},{"$f":"IF(AT14=0,0,AM14/AT14)","v":0},{"$f":"IF(AT14=0,0,AN14/AT14)","v":0},{"$f":"IF(AT14=0,0,AO14/AT14)","v":0},{"$f":"IF(AT14=0,0,AP14/AT14)","v":0},{"$f":"IF(AT14=0,0,AQ14/AT14)","v":0},{"$f":"IF(AT14=0,0,AR14/AT14)","v":0},null,2,0,0,0,0,0,0,0,8.3333333333333329E-2,0,{"$f":"IF(BL14=0,0,BD14/BL14)","v":0},{"$f":"IF(BL14=0,0,BE14/BL14)","v":0},{"$f":"IF(BL14=0,0,BF14/BL14)","v":0},{"$f":"IF(BL14=0,0,BG14/BL14)","v":0},{"$f":"IF(BL14=0,0,BH14/BL14)","v":0},{"$f":"IF(BL14=0,0,BI14/BL14)","v":0},{"$f":"IF(BL14=0,0,BJ14/BL14)","v":0},null,2,0,0,0,0,0,0,0,8.3333333333333329E-2,0,{"$f":"IF(CD14=0,0,BV14/CD14)","v":0},{"$f":"IF(CD14=0,0,BW14/CD14)","v":0},{"$f":"IF(CD14=0,0,BX14/CD14)","v":0},{"$f":"IF(CD14=0,0,BY14/CD14)","v":0},{"$f":"IF(CD14=0,0,BZ14/CD14)","v":0},{"$f":"IF(CD14=0,0,CA14/CD14)","v":0},{"$f":"IF(CD14=0,0,CB14/CD14)","v":0},null,2,0,0,0,0,0,0,0,8.3333333333333329E-2,0,{"$f":"IF(CV14=0,0,CN14/CV14)","v":0},{"$f":"IF(CV14=0,0,CO14/CV14)","v":0},{"$f":"IF(CV14=0,0,CP14/CV14)","v":0},{"$f":"IF(CV14=0,0,CQ14/CV14)","v":0},{"$f":"IF(CV14=0,0,CR14/CV14)","v":0},{"$f":"IF(CV14=0,0,CS14/CV14)","v":0},{"$f":"IF(CV14=0,0,CT14/CV14)","v":0},null,2,0,0,0,0,0,0,0,8.3333333333333329E-2,0,{"$f":"IF(DN14=0,0,DF14/DN14)","v":0},{"$f":"IF(DN14=0,0,DG14/DN14)","v":0},{"$f":"IF(DN14=0,0,DH14/DN14)","v":0},{"$f":"IF(DN14=0,0,DI14/DN14)","v":0},{"$f":"IF(DN14=0,0,DJ14/DN14)","v":0},{"$f":"IF(DN14=0,0,DK14/DN14)","v":0},{"$f":"IF(DN14=0,0,DL14/DN14)","v":0},null,2,0,0,0,0,0,0,0,8.3333333333333329E-2,0,{"$f":"IF(EF14=0,0,DX14/EF14)","v":0},{"$f":"IF(EF14=0,0,DY14/EF14)","v":0},{"$f":"IF(EF14=0,0,DZ14/EF14)","v":0},{"$f":"IF(EF14=0,0,EA14/EF14)","v":0},{"$f":"IF(EF14=0,0,EB14/EF14)","v":0},{"$f":"IF(EF14=0,0,EC14/EF14)","v":0},{"$f":"IF(EF14=0,0,ED14/EF14)","v":0},null,2,0,0,0,0,0,0,0,8.3333333333333329E-2,0,{"$f":"IF(EX14=0,0,EP14/EX14)","v":0},{"$f":"IF(EX14=0,0,EQ14/EX14)","v":0},{"$f":"IF(EX14=0,0,ER14/EX14)","v":0},{"$f":"IF(EX14=0,0,ES14/EX14)","v":0},{"$f":"IF(EX14=0,0,ET14/EX14)","v":0},{"$f":"IF(EX14=0,0,EU14/EX14)","v":0},{"$f":"IF(EX14=0,0,EV14/EX14)","v":0},null,2,0,0,0,0,0,0,0,8.3333333333333329E-2,0,{"$f":"IF(FP14=0,0,FH14/FP14)","v":0},{"$f":"IF(FP14=0,0,FI14/FP14)","v":0},{"$f":"IF(FP14=0,0,FJ14/FP14)","v":0},{"$f":"IF(FP14=0,0,FK14/FP14)","v":0},{"$f":"IF(FP14=0,0,FL14/FP14)","v":0},{"$f":"IF(FP14=0,0,FM14/FP14)","v":0},{"$f":"IF(FP14=0,0,FN14/FP14)","v":0}]
[3,0,0,0,0,0,0,0,0.125,0,0,0,0,0,0,0,0,null,3,0,0,0,0,0,0,0,0.125,0,0,0,0,0,0,0,0,null,3,0,0,0,0,0,0,0,0.125,0,0,0,0,0,0,0,0,null,3,0,0,0,0,0,0,0,0.125,0,0,0,0,0,0,0,0,null,3,0,0,0,0,0,0,0,0.125,0,0,0,0,0,0,0,0,null,3,0,0,0,0,0,0,0,0.125,0,0,0,0,0,0,0,0,null,3,0,0,0,0,0,0,0,0.125,0,0,0,0,0,0,0,0,null,3,0,0,0,0,0,0,0,0.125,0,0,0,0,0,0,0,0,null,3,0,0,0,0,0,0,0,0.125,0,0,0,0,0,0,0,0,null,3,0,0,0,0,0,0,0,0.125,0,0,0,0,0,0,0,0]
[4,0,0,0,0,0,0,0,0.16666666666666666,0,0,0,0,0,0,0,0,null,4,0,0,0,0,0,0,0,0.16666666666666666,0,0,0,0,0,0,0,0,null,4,0,0,0,0,0,0,0,0.16666666666666666,0,0,0,0,0,0,0,0,null,4,0,0,0,0,0,0,0,0.16666666666666666,0,0,0,0,0,0,0,0,null,4,0,0,0,0,0,0,0,0.16666666666666666,0,0,0,0,0,0,0,0,null,4,0,0,0,0,0,0,0,0.16666666666666666,0,0,0,0,0,0,0,0,null,4,0,0,0,0,0,0,0,0.16666666666666666,0,0,0,0,0,0,0,0,null,4,0,0,0,0,0,0,0,0.16666666666666666,0,0,0,0,0,0,0,0,null,4,0,0,0,0,0,0,0,0.16666666666666666,0,0,0,0,0,0,0,0,null,4,0,0,0,0,0,0,0,0.16666666666666666,0,0,0,0,0,0,0,0]
[5,0,0,0,0,0,0,0,0.20833333333333334,0,0,0,0,0,0,0,0,null,5,0,0,0,0,0,0,0,0.20833333333333334,0,0,0,0,0,0,0,0,null,5,0,0,0,0,0,0,0,0.20833333333333334,0,0,0,0,0,0,0,0,null,5,0,0,0,0,0,0,0,0.20833333333333334,0,0,0,0,0,0,0,0,null,5,0,0,0,0,0,0,0,0.20833333333333334,0,0,0,0,0,0,0,0,null,5,0,0,0,0,0,0,0,0.20833333333333334,0,0,0,0,0,0,0,0,null,5,0,0,0,0,0,0,0,0.20833333333333334,0,0,0,0,0,0,0,0,null,5,0,0,0,0,0,0,0,0.20833333333333334,0,0,0,0,0,0,0,0,null,5,0,0,0,0,0,0,0,0.20833333333333334,0,0,0,0,0,0,0,0,null,5,0,0,0,0,0,0,0,0.20833333333333334,0,0,0,0,0,0,0,0]
[6,0,0,0,0,0,0,0,0.25,0,0,0,0,0,0,0,0,null,6,0,0,0,0,0,0,0,0.25,0,0,0,0,0,0,0,0,null,6,0,0,0,0,0,0,0,0.25,0,0,0,0,0,0,0,0,null,6,0,0,0,0,0,0,0,0.25,0,0,0,0,0,0,0,0,null,6,0,0,0,0,0,0,0,0.25,0,0,0,0,0,0,0,0,null,6,0,0,0,0,0,0,0,0.25,0,0,0,0,0,0,0,0,null,6,0,0,0,0,0,0,0,0.25,0,0,0,0,0,0,0,0,null,6,0,0,0,0,0,0,0,0.25,0,0,0,0,0,0,0,0,null,6,0,0,0,0,0,0,0,0.25,0,0,0,0,0,0,0,0,null,6,0,0,0,0,0,0,0,0.25,0,0,0,0,0,0,0,0]
[7,0,0,0,0,0,0,0,0.29166666666666669,0,0,0,0,0,0,0,0,null,7,0,0,0,0,0,0,0,0.29166666666666669,0,0,0,0,0,0,0,0,null,7,0,0,0,0,0,0,0,0.29166666666666669,0,0,0,0,0,0,0,0,null,7,0,0,0,0,0,0,0,0.29166666666666669,0,0,0,0,0,0,0,0,null,7,0,0,0,0,0,0,0,0.29166666666666669,0,0,0,0,0,0,0,0,null,7,0,0,0,0,0,0,0,0.29166666666666669,0,0,0,0,0,0,0,0,null,7,0,0,0,0,0,0,0,0.29166666666666669,0,0,0,0,0,0,0,0,null,7,0,0,0,0,0,0,0,0.29166666666666669,0,0,0,0,0,0,0,0,null,7,0,0,0,0,0,0,0,0.29166666666666669,0,0,0,0,0,0,0,0,null,7,0,0,0,0,0,0,0,0.29166666666666669,0,0,0,0,0,0,0,0]
[8,0,0,0,0,0,0,0,0.33333333333333331,0,0,0,0,0,0,0,0,null,8,0,0,0,0,0,0,0,0.33333333333333331,0,0,0,0,0,0,0,0,null,8,0,0,0,0,0,0,0,0.33333333333333331,0,0,0,0,0,0,0,0,null,8,0,0,0,0,0,0,0,0.33333333333333331,0,0,0,0,0,0,0,0,null,8,0,0,0,0,0,0,0,0.33333333333333331,0,0,0,0,0,0,0,0,null,8,0,0,0,0,0,0,0,0.33333333333333331,0,0,0,0,0,0,0,0,null,8,0,0,0,0,0,0,0,0.33333333333333331,0,0,0,0,0,0,0,0,null,8,0,0,0,0,0,0,0,0.33333333333333331,0,0,0,0,0,0,0,0,null,8,0,0,0,0,0,0,0,0.33333333333333331,0,0,0,0,0,0,0,0,null,8,0,0,0,0,0,0,0,0.33333333333333331,0,0,0,0,0,0,0,0]
[9,0,0,0,0,0,0,0,0.375,0,0,0,0,0,0,0,0,null,9,0,0,0,0,0,0,0,0.375,0,0,0,0,0,0,0,0,null,9,0,0,0,0,0,0,0,0.375,0,0,0,0,0,0,0,0,null,9,0,0,0,0,0,0,0,0.375,0,0,0,0,0,0,0,0,null,9,0,0,0,0,0,0,0,0.375,0,0,0,0,0,0,0,0,null,9,0,0,0,0,0,0,0,0.375,0,0,0,0,0,0,0,0,null,9,0,0,0,0,0,0,0,0.375,0,0,0,0,0,0,0,0,null,9,0,0,0,0,0,0,0,0.375,0,0,0,0,0,0,0,0,null,9,0,0,0,0,0,0,0,0.375,0,0,0,0,0,0,0,0,null,9,0,0,0,0,0,0,0,0.375,0,0,0,0,0,0,0,0]
[10,0,0,0,0,0,0,0,0.41666666666666669,0,0,0,0,0,0,0,0,null,10,0,0,0,0,0,0,0,0.41666666666666669,0,0,0,0,0,0,0,0,null,10,0,0,0,0,0,0,0,0.41666666666666669,0,0,0,0,0,0,0,0,null,10,0,0,0,0,0,0,0,0.41666666666666669,0,0,0,0,0,0,0,0,null,10,0,0,0,0,0,0,0,0.41666666666666669,0,0,0,0,0,0,0,0,null,10,0,0,0,0,0,0,0,0.41666666666666669,0,0,0,0,0,0,0,0,null,10,0,0,0,0,0,0,0,0.41666666666666669,0,0,0,0,0,0,0,0,null,10,0,0,0,0,0,0,0,0.41666666666666669,0,0,0,0,0,0,0,0,null,10,0,0,0,0,0,0,0,0.41666666666666669,0,0,0,0,0,0,0,0,null,10,0,0,0,0,0,0,0,0.41666666666666669,0,0,0,0,0,0,0,0]
[11,0,0,0,0,0,0,0,0.45833333333333331,0,0,0,0,0,0,0,0,null,11,0,0,0,0,0,0,0,0.45833333333333331,0,0,0,0,0,0,0,0,null,11,0,0,0,0,0,0,0,0.45833333333333331,0,0,0,0,0,0,0,0,null,11,0,0,0,0,0,0,0,0.45833333333333331,0,0,0,0,0,0,0,0,null,11,0,0,0,0,0,0,0,0.45833333333333331,0,0,0,0,0,0,0,0,null,11,0,0,0,0,0,0,0,0.45833333333333331,0,0,0,0,0,0,0,0,null,11,0,0,0,0,0,0,0,0.45833333333333331,0,0,0,0,0,0,0,0,null,11,0,0,0,0,0,0,0,0.45833333333333331,0,0,0,0,0,0,0,0,null,11,0,0,0,0,0,0,0,0.45833333333333331,0,0,0,0,0,0,0,0,null,11,0,0,0,0,0,0,0,0.45833333333333331,0,0,0,0,0,0,0,0]
[12,0,0,0,0,0,0,0,0.5,0,0,0,0,0,0,0,0,null,12,0,0,0,0,0,0,0,0.5,0,0,0,0,0,0,0,0,null,12,0,0,0,0,0,0,0,0.5,0,0,0,0,0,0,0,0,null,12,0,0,0,0,0,0,0,0.5,0,0,0,0,0,0,0,0,null,12,0,0,0,0,0,0,0,0.5,0,0,0,0,0,0,0,0,null,12,0,0,0,0,0,0,0,0.5,0,0,0,0,0,0,0,0,null,12,0,0,0,0,0,0,0,0.5,0,0,0,0,0,0,0,0,null,12,0,0,0,0,0,0,0,0.5,0,0,0,0,0,0,0,0,null,12,0,0,0,0,0,0,0,0.5,0,0,0,0,0,0,0,0,null,12,0,0,0,0,0,0,0,0.5,0,0,0,0,0,0,0,0]
[13,0,0,0,0,0,0,0,0.54166666666666663,0,0,0,0,0,0,0,0,null,13,0,0,0,0,0,0,0,0.54166666666666663,0,0,0,0,0,0,0,0,null,13,0,0,0,0,0,0,0,0.54166666666666663,0,0,0,0,0,0,0,0,null,13,0,0,0,0,0,0,0,0.54166666666666663,0,0,0,0,0,0,0,0,null,13,0,0,0,0,0,0,0,0.54166666666666663,0,0,0,0,0,0,0,0,null,13,0,0,0,0,0,0,0,0.54166666666666663,0,0,0,0,0,0,0,0,null,13,0,0,0,0,0,0,0,0.54166666666666663,0,0,0,0,0,0,0,0,null,13,0,0,0,0,0,0,0,0.54166666666666663,0,0,0,0,0,0,0,0,null,13,0,0,0,0,0,0,0,0.54166666666666663,0,0,0,0,0,0,0,0,null,13,0,0,0,0,0,0,0,0.54166666666666663,0,0,0,0,0,0,0,0]
[14,0,0,0,0,0,0,0,0.58333333333333337,0,0,0,0,0,0,0,0,null,14,0,0,0,0,0,0,0,0.58333333333333337,0,0,0,0,0,0,0,0,null,14,0,0,0,0,0,0,0,0.58333333333333337,0,0,0,0,0,0,0,0,null,14,0,0,0,0,0,0,0,0.58333333333333337,0,0,0,0,0,0,0,0,null,14,0,0,0,0,0,0,0,0.58333333333333337,0,0,0,0,0,0,0,0,null,14,0,0,0,0,0,0,0,0.58333333333333337,0,0,0,0,0,0,0,0,null,14,0,0,0,0,0,0,0,0.58333333333333337,0,0,0,0,0,0,0,0,null,14,0,0,0,0,0,0,0,0.58333333333333337,0,0,0,0,0,0,0,0,null,14,0,0,0,0,0,0,0,0.58333333333333337,0,0,0,0,0,0,0,0,null,14,0,0,0,0,0,0,0,0.58333333333333337,0,0,0,0,0,0,0,0]
[15,0,0,0,0,0,0,0,0.625,0,0,0,0,0,0,0,0,null,15,0,0,0,0,0,0,0,0.625,0,0,0,0,0,0,0,0,null,15,0,0,0,0,0,0,0,0.625,0,0,0,0,0,0,0,0,null,15,0,0,0,0,0,0,0,0.625,0,0,0,0,0,0,0,0,null,15,0,0,0,0,0,0,0,0.625,0,0,0,0,0,0,0,0,null,15,0,0,0,0,0,0,0,0.625,0,0,0,0,0,0,0,0,null,15,0,0,0,0,0,0,0,0.625,0,0,0,0,0,0,0,0,null,15,0,0,0,0,0,0,0,0.625,0,0,0,0,0,0,0,0,null,15,0,0,0,0,0,0,0,0.625,0,0,0,0,0,0,0,0,null,15,0,0,0,0,0,0,0,0.625,0,0,0,0,0,0,0,0]
[16,0,0,0,0,0,0,0,0.66666666666666663,0,0,0,0,0,0,0,0,null,16,0,0,0,0,0,0,0,0.66666666666666663,0,0,0,0,0,0,0,0,null,16,0,0,0,0,0,0,0,0.66666666666666663,0,0,0,0,0,0,0,0,null,16,0,0,0,0,0,0,0,0.66666666666666663,0,0,0,0,0,0,0,0,null,16,0,0,0,0,0,0,0,0.66666666666666663,0,0,0,0,0,0,0,0,null,16,0,0,0,0,0,0,0,0.66666666666666663,0,0,0,0,0,0,0,0,null,16,0,0,0,0,0,0,0,0.66666666666666663,0,0,0,0,0,0,0,0,null,16,0,0,0,0,0,0,0,0.66666666666666663,0,0,0,0,0,0,0,0,null,16,0,0,0,0,0,0,0,0.66666666666666663,0,0,0,0,0,0,0,0,null,16,0,0,0,0,0,0,0,0.66666666666666663,0,0,0,0,0,0,0,0]
[17,0,0,0,0,0,0,0,0.70833333333333337,0,0,0,0,0,0,0,0,null,17,0,0,0,0,0,0,0,0.70833333333333337,0,0,0,0,0,0,0,0,null,17,0,0,0,0,0,0,0,0.70833333333333337,0,0,0,0,0,0,0,0,null,17,0,0,0,0,0,0,0,0.70833333333333337,0,0,0,0,0,0,0,0,null,17,0,0,0,0,0,0,0,0.70833333333333337,0,0,0,0,0,0,0,0,null,17,0,0,0,0,0,0,0,0.70833333333333337,0,0,0,0,0,0,0,0,null,17,0,0,0,0,0,0,0,0.70833333333333337,0,0,0,0,0,0,0,0,null,17,0,0,0,0,0,0,0,0.70833333333333337,0,0,0,0,0,0,0,0,null,17,0,0,0,0,0,0,0,0.70833333333333337,0,0,0,0,0,0,0,0,null,17,0,0,0,0,0,0,0,0.70833333333333337,0,0,0,0,0,0,0,0]
[18,0,0,0,0,0,0,0,0.75,0,0,0,0,0,0,0,0,null,18,0,0,0,0,0,0,0,0.75,0,0,0,0,0,0,0,0,null,18,0,0,0,0,0,0,0,0.75,0,0,0,0,0,0,0,0,null,18,0,0,0,0,0,0,0,0.75,0,0,0,0,0,0,0,0,null,18,0,0,0,0,0,0,0,0.75,0,0,0,0,0,0,0,0,null,18,0,0,0,0,0,0,0,0.75,0,0,0,0,0,0,0,0,null,18,0,0,0,0,0,0,0,0.75,0,0,0,0,0,0,0,0,null,18,0,0,0,0,0,0,0,0.75,0,0,0,0,0,0,0,0,null,18,0,0,0,0,0,0,0,0.75,0,0,0,0,0,0,0,0,null,18,0,0,0,0,0,0,0,0.75,0,0,0,0,0,0,0,0]
[19,0,0,0,0,0,0,0,0.79166666666666663,0,0,0,0,0,0,0,0,null,19,0,0,0,0,0,0,0,0.79166666666666663,0,0,0,0,0,0,0,0,null,19,0,0,0,0,0,0,0,0.79166666666666663,0,0,0,0,0,0,0,0,null,19,0,0,0,0,0,0,0,0.79166666666666663,0,0,0,0,0,0,0,0,null,19,0,0,0,0,0,0,0,0.79166666666666663,0,0,0,0,0,0,0,0,null,19,0,0,0,0,0,0,0,0.79166666666666663,0,0,0,0,0,0,0,0,null,19,0,0,0,0,0,0,0,0.79166666666666663,0,0,0,0,0,0,0,0,null,19,0,0,0,0,0,0,0,0.79166666666666663,0,0,0,0,0,0,0,0,null,19,0,0,0,0,0,0,0,0.79166666666666663,0,0,0,0,0,0,0,0,null,19,0,0,0,0,0,0,0,0.79166666666666663,0,0,0,0,0,0,0,0]
[20,0,0,0,0,0,0,0,0.83333333333333337,0,0,0,0,0,0,0,0,null,20,0,0,0,0,0,0,0,0.83333333333333337,0,0,0,0,0,0,0,0,null,20,0,0,0,0,0,0,0,0.83333333333333337,0,0,0,0,0,0,0,0,null,20,0,0,0,0,0,0,0,0.83333333333333337,0,0,0,0,0,0,0,0,null,20,0,0,0,0,0,0,0,0.83333333333333337,0,0,0,0,0,0,0,0,null,20,0,0,0,0,0,0,0,0.83333333333333337,0,0,0,0,0,0,0,0,null,20,0,0,0,0,0,0,0,0.83333333333333337,0,0,0,0,0,0,0,0,null,20,0,0,0,0,0,0,0,0.83333333333333337,0,0,0,0,0,0,0,0,null,20,0,0,0,0,0,0,0,0.83333333333333337,0,0,0,0,0,0,0,0,null,20,0,0,0,0,0,0,0,0.83333333333333337,0,0,0,0,0,0,0,0]
[21,0,0,0,0,0,0,0,0.875,0,0,0,0,0,0,0,0,null,21,0,0,0,0,0,0,0,0.875,0,0,0,0,0,0,0,0,null,21,0,0,0,0,0,0,0,0.875,0,0,0,0,0,0,0,0,null,21,0,0,0,0,0,0,0,0.875,0,0,0,0,0,0,0,0,null,21,0,0,0,0,0,0,0,0.875,0,0,0,0,0,0,0,0,null,21,0,0,0,0,0,0,0,0.875,0,0,0,0,0,0,0,0,null,21,0,0,0,0,0,0,0,0.875,0,0,0,0,0,0,0,0,null,21,0,0,0,0,0,0,0,0.875,0,0,0,0,0,0,0,0,null,21,0,0,0,0,0,0,0,0.875,0,0,0,0,0,0,0,0,null,21,0,0,0,0,0,0,0,0.875,0,0,0,0,0,0,0,0]
[22,0,0,0,0,0,0,0,0.91666666666666663,0,0,0,0,0,0,0,0,null,22,0,0,0,0,0,0,0,0.91666666666666663,0,0,0,0,0,0,0,0,null,22,0,0,0,0,0,0,0,0.91666666666666663,0,0,0,0,0,0,0,0,null,22,0,0,0,0,0,0,0,0.91666666666666663,0,0,0,0,0,0,0,0,null,22,0,0,0,0,0,0,0,0.91666666666666663,0,0,0,0,0,0,0,0,null,22,0,0,0,0,0,0,0,0.91666666666666663,0,0,0,0,0,0,0,0,null,22,0,0,0,0,0,0,0,0.91666666666666663,0,0,0,0,0,0,0,0,null,22,0,0,0,0,0,0,0,0.91666666666666663,0,0,0,0,0,0,0,0,null,22,0,0,0,0,0,0,0,0.91666666666666663,0,0,0,0,0,0,0,0,null,22,0,0,0,0,0,0,0,0.91666666666666663,0,0,0,0,0,0,0,0]
[23,0,0,0,0,0,0,0,0.95833333333333337,0,0,0,0,0,0,0,0,null,23,0,0,0,0,0,0,0,0.95833333333333337,0,0,0,0,0,0,0,0,null,23,0,0,0,0,0,0,0,0.95833333333333337,0,0,0,0,0,0,0,0,null,23,0,0,0,0,0,0,0,0.95833333333333337,0,0,0,0,0,0,0,0,null,23,0,0,0,0,0,0,0,0.95833333333333337,0,0,0,0,0,0,0,0,null,23,0,0,0,0,0,0,0,0.95833333333333337,0,0,0,0,0,0,0,0,null,23,0,0,0,0,0,0,0,0.95833333333333337,0,0,0,0,0,0,0,0,null,23,0,0,0,0,0,0,0,0.95833333333333337,0,0,0,0,0,0,0,0,null,23,0,0,0,0,0,0,0,0.95833333333333337,0,0,0,0,0,0,0,0,null,23,0,0,0,0,0,0,0,0.95833333333333337,0,0,0,0,0,0,0,0]
[24,0,0,0,0,0,0,0,1,0,0,0,0,0,0,0,0,null,24,0,0,0,0,0,0,0,1,0,0,0,0,0,0,0,0,null,24,0,0,0,0,0,0,0,1,0,0,0,0,0,0,0,0,null,24,0,0,0,0,0,0,0,1,0,0,0,0,0,0,0,0,null,24,0,0,0,0,0,0,0,1,0,0,0,0,0,0,0,0,null,24,0,0,0,0,0,0,0,1,0,0,0,0,0,0,0,0,null,24,0,0,0,0,0,0,0,1,0,0,0,0,0,0,0,0,null,24,0,0,0,0,0,0,0,1,0,0,0,0,0,0,0,0,null,24,0,0,0,0,0,0,0,1,0,0,0,0,0,0,0,0,null,24,0,0,0,0,0,0,0,1,0,0,0,0,0,0,0,0]
[25,0,0,0,0,0,0,0,1.0416666666666667,0,0,0,0,0,0,0,0,null,25,0,0,0,0,0,0,0,1.0416666666666667,0,0,0,0,0,0,0,0,null,25,0,0,0,0,0,0,0,1.0416666666666667,0,0,0,0,0,0,0,0,null,25,0,0,0,0,0,0,0,1.0416666666666667,0,0,0,0,0,0,0,0,null,25,0,0,0,0,0,0,0,1.0416666666666667,0,0,0,0,0,0,0,0,null,25,0,0,0,0,0,0,0,1.0416666666666667,0,0,0,0,0,0,0,0,null,25,0,0,0,0,0,0,0,1.0416666666666667,0,0,0,0,0,0,0,0,null,25,0,0,0,0,0,0,0,1.0416666666666667,0,0,0,0,0,0,0,0,null,25,0,0,0,0,0,0,0,1.0416666666666667,0,0,0,0,0,0,0,0,null,25,0,0,0,0,0,0,0,1.0416666666666667,0,0,0,0,0,0,0,0]
[26,0,0,0,0,0,0,0,1.0833333333333333,0,0,0,0,0,0,0,0,null,26,0,0,0,0,0,0,0,1.0833333333333333,0,0,0,0,0,0,0,0,null,26,0,0,0,0,0,0,0,1.0833333333333333,0,0,0,0,0,0,0,0,null,26,0,0,0,0,0,0,0,1.0833333333333333,0,0,0,0,0,0,0,0,null,26,0,0,0,0,0,0,0,1.0833333333333333,0,0,0,0,0,0,0,0,null,26,0,0,0,0,0,0,0,1.0833333333333333,0,0,0,0,0,0,0,0,null,26,0,0,0,0,0,0,0,1.0833333333333333,0,0,0,0,0,0,0,0,null,26,0,0,0,0,0,0,0,1.0833333333333333,0,0,0,0,0,0,0,0,null,26,0,0,0,0,0,0,0,1.0833333333333333,0,0,0,0,0,0,0,0,null,26,0,0,0,0,0,0,0,1.0833333333333333,0,0,0,0,0,0,0,0]
[27,0,0,0,0,0,0,0,1.125,0,0,0,0,0,0,0,0,null,27,0,0,0,0,0,0,0,1.125,0,0,0,0,0,0,0,0,null,27,0,0,0,0,0,0,0,1.125,0,0,0,0,0,0,0,0,null,27,0,0,0,0,0,0,0,1.125,0,0,0,0,0,0,0,0,null,27,0,0,0,0,0,0,0,1.125,0,0,0,0,0,0,0,0,null,27,0,0,0,0,0,0,0,1.125,0,0,0,0,0,0,0,0,null,27,0,0,0,0,0,0,0,1.125,0,0,0,0,0,0,0,0,null,27,0,0,0,0,0,0,0,1.125,0,0,0,0,0,0,0,0,null,27,0,0,0,0,0,0,0,1.125,0,0,0,0,0,0,0,0,null,27,0,0,0,0,0,0,0,1.125,0,0,0,0,0,0,0,0]
[28,0,0,0,0,0,0,0,1.1666666666666667,0,0,0,0,0,0,0,0,null,28,0,0,0,0,0,0,0,1.1666666666666667,0,0,0,0,0,0,0,0,null,28,0,0,0,0,0,0,0,1.1666666666666667,0,0,0,0,0,0,0,0,null,28,0,0,0,0,0,0,0,1.1666666666666667,0,0,0,0,0,0,0,0,null,28,0,0,0,0,0,0,0,1.1666666666666667,0,0,0,0,0,0,0,0,null,28,0,0,0,0,0,0,0,1.1666666666666667,0,0,0,0,0,0,0,0,null,28,0,0,0,0,0,0,0,1.1666666666666667,0,0,0,0,0,0,0,0,null,28,0,0,0,0,0,0,0,1.1666666666666667,0,0,0,0,0,0,0,0,null,28,0,0,0,0,0,0,0,1.1666666666666667,0,0,0,0,0,0,0,0,null,28,0,0,0,0,0,0,0,1.1666666666666667,0,0,0,0,0,0,0,0]
[29,0,0,0,0,0,0,0,1.2083333333333333,0,0,0,0,0,0,0,0,null,29,0,0,0,0,0,0,0,1.2083333333333333,0,0,0,0,0,0,0,0,null,29,0,0,0,0,0,0,0,1.2083333333333333,0,0,0,0,0,0,0,0,null,29,0,0,0,0,0,0,0,1.2083333333333333,0,0,0,0,0,0,0,0,null,29,0,0,0,0,0,0,0,1.2083333333333333,0,0,0,0,0,0,0,0,null,29,0,0,0,0,0,0,0,1.2083333333333333,0,0,0,0,0,0,0,0,null,29,0,0,0,0,0,0,0,1.2083333333333333,0,0,0,0,0,0,0,0,null,29,0,0,0,0,0,0,0,1.2083333333333333,0,0,0,0,0,0,0,0,null,29,0,0,0,0,0,0,0,1.2083333333333333,0,0,0,0,0,0,0,0,null,29,0,0,0,0,0,0,0,1.2083333333333333,0,0,0,0,0,0,0,0]
[30,0,0,0,0,0,0,0,1.25,0,0,0,0,0,0,0,0,null,30,0,0,0,0,0,0,0,1.25,0,0,0,0,0,0,0,0,null,30,0,0,0,0,0,0,0,1.25,0,0,0,0,0,0,0,0,null,30,0,0,0,0,0,0,0,1.25,0,0,0,0,0,0,0,0,null,30,0,0,0,0,0,0,0,1.25,0,0,0,0,0,0,0,0,null,30,0,0,0,0,0,0,0,1.25,0,0,0,0,0,0,0,0,null,30,0,0,0,0,0,0,0,1.25,0,0,0,0,0,0,0,0,null,30,0,0,0,0,0,0,0,1.25,0,0,0,0,0,0,0,0,null,30,0,0,0,0,0,0,0,1.25,0,0,0,0,0,0,0,0,null,30,0,0,0,0,0,0,0,1.25,0,0,0,0,0,0,0,0]
[31,0,0,0,0,0,0,0,1.2916666666666667,0,0,0,0,0,0,0,0,null,31,0,0,0,0,0,0,0,1.2916666666666667,0,0,0,0,0,0,0,0,null,31,0,0,0,0,0,0,0,1.2916666666666667,0,0,0,0,0,0,0,0,null,31,0,0,0,0,0,0,0,1.2916666666666667,0,0,0,0,0,0,0,0,null,31,0,0,0,0,0,0,0,1.2916666666666667,0,0,0,0,0,0,0,0,null,31,0,0,0,0,0,0,0,1.2916666666666667,0,0,0,0,0,0,0,0,null,31,0,0,0,0,0,0,0,1.2916666666666667,0,0,0,0,0,0,0,0,null,31,0,0,0,0,0,0,0,1.2916666666666667,0,0,0,0,0,0,0,0,null,31,0,0,0,0,0,0,0,1.2916666666666667,0,0,0,0,0,0,0,0,null,31,0,0,0,0,0,0,0,1.2916666666666667,0,0,0,0,0,0,0,0]
[32,0,0,0,0,0,0,0,1.3333333333333333,0,0,0,0,0,0,0,0,null,32,0,0,0,0,0,0,0,1.3333333333333333,0,0,0,0,0,0,0,0,null,32,0,0,0,0,0,0,0,1.3333333333333333,0,0,0,0,0,0,0,0,null,32,0,0,0,0,0,0,0,1.3333333333333333,0,0,0,0,0,0,0,0,null,32,0,0,0,0,0,0,0,1.3333333333333333,0,0,0,0,0,0,0,0,null,32,0,0,0,0,0,0,0,1.3333333333333333,0,0,0,0,0,0,0,0,null,32,0,0,0,0,0,0,0,1.3333333333333333,0,0,0,0,0,0,0,0,null,32,0,0,0,0,0,0,0,1.3333333333333333,0,0,0,0,0,0,0,0,null,32,0,0,0,0,0,0,0,1.3333333333333333,0,0,0,0,0,0,0,0,null,32,0,0,0,0,0,0,0,1.3333333333333333,0,0,0,0,0,0,0,0]
[33,0,0,0,0,0,0,0,1.375,0,0,0,0,0,0,0,0,null,33,0,0,0,0,0,0,0,1.375,0,0,0,0,0,0,0,0,null,33,0,0,0,0,0,0,0,1.375,0,0,0,0,0,0,0,0,null,33,0,0,0,0,0,0,0,1.375,0,0,0,0,0,0,0,0,null,33,0,0,0,0,0,0,0,1.375,0,0,0,0,0,0,0,0,null,33,0,0,0,0,0,0,0,1.375,0,0,0,0,0,0,0,0,null,33,0,0,0,0,0,0,0,1.375,0,0,0,0,0,0,0,0,null,33,0,0,0,0,0,0,0,1.375,0,0,0,0,0,0,0,0,null,33,0,0,0,0,0,0,0,1.375,0,0,0,0,0,0,0,0,null,33,0,0,0,0,0,0,0,1.375,0,0,0,0,0,0,0,0]
[34,0,0,0,0,0,0,0,1.4166666666666667,0,0,0,0,0,0,0,0,null,34,0,0,0,0,0,0,0,1.4166666666666667,0,0,0,0,0,0,0,0,null,34,0,0,0,0,0,0,0,1.4166666666666667,0,0,0,0,0,0,0,0,null,34,0,0,0,0,0,0,0,1.4166666666666667,0,0,0,0,0,0,0,0,null,34,0,0,0,0,0,0,0,1.4166666666666667,0,0,0,0,0,0,0,0,null,34,0,0,0,0,0,0,0,1.4166666666666667,0,0,0,0,0,0,0,0,null,34,0,0,0,0,0,0,0,1.4166666666666667,0,0,0,0,0,0,0,0,null,34,0,0,0,0,0,0,0,1.4166666666666667,0,0,0,0,0,0,0,0,null,34,0,0,0,0,0,0,0,1.4166666666666667,0,0,0,0,0,0,0,0,null,34,0,0,0,0,0,0,0,1.4166666666666667,0,0,0,0,0,0,0,0]
[35,0,0,0,0,0,0,0,1.4583333333333333,0,0,0,0,0,0,0,0,null,35,0,0,0,0,0,0,0,1.4583333333333333,0,0,0,0,0,0,0,0,null,35,0,0,0,0,0,0,0,1.4583333333333333,0,0,0,0,0,0,0,0,null,35,0,0,0,0,0,0,0,1.4583333333333333,0,0,0,0,0,0,0,0,null,35,0,0,0,0,0,0,0,1.4583333333333333,0,0,0,0,0,0,0,0,null,35,0,0,0,0,0,0,0,1.4583333333333333,0,0,0,0,0,0,0,0,null,35,0,0,0,0,0,0,0,1.4583333333333333,0,0,0,0,0,0,0,0,null,35,0,0,0,0,0,0,0,1.4583333333333333,0,0,0,0,0,0,0,0,null,35,0,0,0,0,0,0,0,1.4583333333333333,0,0,0,0,0,0,0,0,null,35,0,0,0,0,0,0,0,1.4583333333333333,0,0,0,0,0,0,0,0]
[36,0,0,0,0,0,0,0,1.5,0,0,0,0,0,0,0,0,null,36,0,0,0,0,0,0,0,1.5,0,0,0,0,0,0,0,0,null,36,0,0,0,0,0,0,0,1.5,0,0,0,0,0,0,0,0,null,36,0,0,0,0,0,0,0,1.5,0,0,0,0,0,0,0,0,null,36,0,0,0,0,0,0,0,1.5,0,0,0,0,0,0,0,0,null,36,0,0,0,0,0,0,0,1.5,0,0,0,0,0,0,0,0,null,36,0,0,0,0,0,0,0,1.5,0,0,0,0,0,0,0,0,null,36,0,0,0,0,0,0,0,1.5,0,0,0,0,0,0,0,0,null,36,0,0,0,0,0,0,0,1.5,0,0,0,0,0,0,0,0,null,36,0,0,0,0,0,0,0,1.5,0,0,0,0,0,0,0,0]
[37,0,0,0,0,0,0,0,1.5416666666666667,0,0,0,0,0,0,0,0,null,37,0,0,0,0,0,0,0,1.5416666666666667,0,0,0,0,0,0,0,0,null,37,0,0,0,0,0,0,0,1.5416666666666667,0,0,0,0,0,0,0,0,null,37,0,0,0,0,0,0,0,1.5416666666666667,0,0,0,0,0,0,0,0,null,37,0,0,0,0,0,0,0,1.5416666666666667,0,0,0,0,0,0,0,0,null,37,0,0,0,0,0,0,0,1.5416666666666667,0,0,0,0,0,0,0,0,null,37,0,0,0,0,0,0,0,1.5416666666666667,0,0,0,0,0,0,0,0,null,37,0,0,0,0,0,0,0,1.5416666666666667,0,0,0,0,0,0,0,0,null,37,0,0,0,0,0,0,0,1.5416666666666667,0,0,0,0,0,0,0,0,null,37,0,0,0,0,0,0,0,1.5416666666666667,0,0,0,0,0,0,0,0]
[38,0,0,0,0,0,0,0,1.5833333333333333,0,0,0,0,0,0,0,0,null,38,0,0,0,0,0,0,0,1.5833333333333333,0,0,0,0,0,0,0,0,null,38,0,0,0,0,0,0,0,1.5833333333333333,0,0,0,0,0,0,0,0,null,38,0,0,0,0,0,0,0,1.5833333333333333,0,0,0,0,0,0,0,0,null,38,0,0,0,0,0,0,0,1.5833333333333333,0,0,0,0,0,0,0,0,null,38,0,0,0,0,0,0,0,1.5833333333333333,0,0,0,0,0,0,0,0,null,38,0,0,0,0,0,0,0,1.5833333333333333,0,0,0,0,0,0,0,0,null,38,0,0,0,0,0,0,0,1.5833333333333333,0,0,0,0,0,0,0,0,null,38,0,0,0,0,0,0,0,1.5833333333333333,0,0,0,0,0,0,0,0,null,38,0,0,0,0,0,0,0,1.5833333333333333,0,0,0,0,0,0,0,0]
[39,0,0,0,0,0,0,0,1.625,0,0,0,0,0,0,0,0,null,39,0,0,0,0,0,0,0,1.625,0,0,0,0,0,0,0,0,null,39,0,0,0,0,0,0,0,1.625,0,0,0,0,0,0,0,0,null,39,0,0,0,0,0,0,0,1.625,0,0,0,0,0,0,0,0,null,39,0,0,0,0,0,0,0,1.625,0,0,0,0,0,0,0,0,null,39,0,0,0,0,0,0,0,1.625,0,0,0,0,0,0,0,0,null,39,0,0,0,0,0,0,0,1.625,0,0,0,0,0,0,0,0,null,39,0,0,0,0,0,0,0,1.625,0,0,0,0,0,0,0,0,null,39,0,0,0,0,0,0,0,1.625,0,0,0,0,0,0,0,0,null,39,0,0,0,0,0,0,0,1.625,0,0,0,0,0,0,0,0]
[40,0,0,0,0,0,0,0,1.6666666666666667,0,0,0,0,0,0,0,0,null,40,0,0,0,0,0,0,0,1.6666666666666667,0,0,0,0,0,0,0,0,null,40,0,0,0,0,0,0,0,1.6666666666666667,0,0,0,0,0,0,0,0,null,40,0,0,0,0,0,0,0,1.6666666666666667,0,0,0,0,0,0,0,0,null,40,0,0,0,0,0,0,0,1.6666666666666667,0,0,0,0,0,0,0,0,null,40,0,0,0,0,0,0,0,1.6666666666666667,0,0,0,0,0,0,0,0,null,40,0,0,0,0,0,0,0,1.6666666666666667,0,0,0,0,0,0,0,0,null,40,0,0,0,0,0,0,0,1.6666666666666667,0,0,0,0,0,0,0,0,null,40,0,0,0,0,0,0,0,1.6666666666666667,0,0,0,0,0,0,0,0,null,40,0,0,0,0,0,0,0,1.6666666666666667,0,0,0,0,0,0,0,0]
[41,0,0,0,0,0,0,0,1.7083333333333333,0,0,0,0,0,0,0,0,null,41,0,0,0,0,0,0,0,1.7083333333333333,0,0,0,0,0,0,0,0,null,41,0,0,0,0,0,0,0,1.7083333333333333,0,0,0,0,0,0,0,0,null,41,0,0,0,0,0,0,0,1.7083333333333333,0,0,0,0,0,0,0,0,null,41,0,0,0,0,0,0,0,1.7083333333333333,0,0,0,0,0,0,0,0,null,41,0,0,0,0,0,0,0,1.7083333333333333,0,0,0,0,0,0,0,0,null,41,0,0,0,0,0,0,0,1.7083333333333333,0,0,0,0,0,0,0,0,null,41,0,0,0,0,0,0,0,1.7083333333333333,0,0,0,0,0,0,0,0,null,41,0,0,0,0,0,0,0,1.7083333333333333,0,0,0,0,0,0,0,0,null,41,0,0,0,0,0,0,0,1.7083333333333333,0,0,0,0,0,0,0,0]
[42,0,0,0,0,0,0,0,1.75,0,0,0,0,0,0,0,0,null,42,0,0,0,0,0,0,0,1.75,0,0,0,0,0,0,0,0,null,42,0,0,0,0,0,0,0,1.75,0,0,0,0,0,0,0,0,null,42,0,0,0,0,0,0,0,1.75,0,0,0,0,0,0,0,0,null,42,0,0,0,0,0,0,0,1.75,0,0,0,0,0,0,0,0,null,42,0,0,0,0,0,0,0,1.75,0,0,0,0,0,0,0,0,null,42,0,0,0,0,0,0,0,1.75,0,0,0,0,0,0,0,0,null,42,0,0,0,0,0,0,0,1.75,0,0,0,0,0,0,0,0,null,42,0,0,0,0,0,0,0,1.75,0,0,0,0,0,0,0,0,null,42,0,0,0,0,0,0,0,1.75,0,0,0,0,0,0,0,0]
[43,0,0,0,0,0,0,0,1.7916666666666667,0,0,0,0,0,0,0,0,null,43,0,0,0,0,0,0,0,1.7916666666666667,0,0,0,0,0,0,0,0,null,43,0,0,0,0,0,0,0,1.7916666666666667,0,0,0,0,0,0,0,0,null,43,0,0,0,0,0,0,0,1.7916666666666667,0,0,0,0,0,0,0,0,null,43,0,0,0,0,0,0,0,1.7916666666666667,0,0,0,0,0,0,0,0,null,43,0,0,0,0,0,0,0,1.7916666666666667,0,0,0,0,0,0,0,0,null,43,0,0,0,0,0,0,0,1.7916666666666667,0,0,0,0,0,0,0,0,null,43,0,0,0,0,0,0,0,1.7916666666666667,0,0,0,0,0,0,0,0,null,43,0,0,0,0,0,0,0,1.7916666666666667,0,0,0,0,0,0,0,0,null,43,0,0,0,0,0,0,0,1.7916666666666667,0,0,0,0,0,0,0,0]
[44,0,0,0,0,0,0,0,1.8333333333333333,0,0,0,0,0,0,0,0,null,44,0,0,0,0,0,0,0,1.8333333333333333,0,0,0,0,0,0,0,0,null,44,0,0,0,0,0,0,0,1.8333333333333333,0,0,0,0,0,0,0,0,null,44,0,0,0,0,0,0,0,1.8333333333333333,0,0,0,0,0,0,0,0,null,44,0,0,0,0,0,0,0,1.8333333333333333,0,0,0,0,0,0,0,0,null,44,0,0,0,0,0,0,0,1.8333333333333333,0,0,0,0,0,0,0,0,null,44,0,0,0,0,0,0,0,1.8333333333333333,0,0,0,0,0,0,0,0,null,44,0,0,0,0,0,0,0,1.8333333333333333,0,0,0,0,0,0,0,0,null,44,0,0,0,0,0,0,0,1.8333333333333333,0,0,0,0,0,0,0,0,null,44,0,0,0,0,0,0,0,1.8333333333333333,0,0,0,0,0,0,0,0]
[45,0,0,0,0,0,0,0,1.875,0,0,0,0,0,0,0,0,null,45,0,0,0,0,0,0,0,1.875,0,0,0,0,0,0,0,0,null,45,0,0,0,0,0,0,0,1.875,0,0,0,0,0,0,0,0,null,45,0,0,0,0,0,0,0,1.875,0,0,0,0,0,0,0,0,null,45,0,0,0,0,0,0,0,1.875,0,0,0,0,0,0,0,0,null,45,0,0,0,0,0,0,0,1.875,0,0,0,0,0,0,0,0,null,45,0,0,0,0,0,0,0,1.875,0,0,0,0,0,0,0,0,null,45,0,0,0,0,0,0,0,1.875,0,0,0,0,0,0,0,0,null,45,0,0,0,0,0,0,0,1.875,0,0,0,0,0,0,0,0,null,45,0,0,0,0,0,0,0,1.875,0,0,0,0,0,0,0,0]
[46,0,0,0,0,0,0,0,1.9166666666666667,0,0,0,0,0,0,0,0,null,46,0,0,0,0,0,0,0,1.9166666666666667,0,0,0,0,0,0,0,0,null,46,0,0,0,0,0,0,0,1.9166666666666667,0,0,0,0,0,0,0,0,null,46,0,0,0,0,0,0,0,1.9166666666666667,0,0,0,0,0,0,0,0,null,46,0,0,0,0,0,0,0,1.9166666666666667,0,0,0,0,0,0,0,0,null,46,0,0,0,0,0,0,0,1.9166666666666667,0,0,0,0,0,0,0,0,null,46,0,0,0,0,0,0,0,1.9166666666666667,0,0,0,0,0,0,0,0,null,46,0,0,0,0,0,0,0,1.9166666666666667,0,0,0,0,0,0,0,0,null,46,0,0,0,0,0,0,0,1.9166666666666667,0,0,0,0,0,0,0,0,null,46,0,0,0,0,0,0,0,1.9166666666666667,0,0,0,0,0,0,0,0]
[47,0,0,0,0,0,0,0,1.9583333333333333,0,0,0,0,0,0,0,0,null,47,0,0,0,0,0,0,0,1.9583333333333333,0,0,0,0,0,0,0,0,null,47,0,0,0,0,0,0,0,1.9583333333333333,0,0,0,0,0,0,0,0,null,47,0,0,0,0,0,0,0,1.9583333333333333,0,0,0,0,0,0,0,0,null,47,0,0,0,0,0,0,0,1.9583333333333333,0,0,0,0,0,0,0,0,null,47,0,0,0,0,0,0,0,1.9583333333333333,0,0,0,0,0,0,0,0,null,47,0,0,0,0,0,0,0,1.9583333333333333,0,0,0,0,0,0,0,0,null,47,0,0,0,0,0,0,0,1.9583333333333333,0,0,0,0,0,0,0,0,null,47,0,0,0,0,0,0,0,1.9583333333333333,0,0,0,0,0,0,0,0,null,47,0,0,0,0,0,0,0,1.9583333333333333,0,0,0,0,0,0,0,0]
[48,0,0,0,0,0,0,0,2,0,0,0,0,0,0,0,0,null,48,0,0,0,0,0,0,0,2,0,0,0,0,0,0,0,0,null,48,0,0,0,0,0,0,0,2,0,0,0,0,0,0,0,0,null,48,0,0,0,0,0,0,0,2,0,0,0,0,0,0,0,0,null,48,0,0,0,0,0,0,0,2,0,0,0,0,0,0,0,0,null,48,0,0,0,0,0,0,0,2,0,0,0,0,0,0,0,0,null,48,0,0,0,0,0,0,0,2,0,0,0,0,0,0,0,0,null,48,0,0,0,0,0,0,0,2,0,0,0,0,0,0,0,0,null,48,0,0,0,0,0,0,0,2,0,0,0,0,0,0,0,0,null,48,0,0,0,0,0,0,0,2,0,0,0,0,0,0,0,0]
[49,0,0,0,0,0,0,0,2.0416666666666665,0,0,0,0,0,0,0,0,null,49,0,0,0,0,0,0,0,2.0416666666666665,0,0,0,0,0,0,0,0,null,49,0,0,0,0,0,0,0,2.0416666666666665,0,0,0,0,0,0,0,0,null,49,0,0,0,0,0,0,0,2.0416666666666665,0,0,0,0,0,0,0,0,null,49,0,0,0,0,0,0,0,2.0416666666666665,0,0,0,0,0,0,0,0,null,49,0,0,0,0,0,0,0,2.0416666666666665,0,0,0,0,0,0,0,0,null,49,0,0,0,0,0,0,0,2.0416666666666665,0,0,0,0,0,0,0,0,null,49,0,0,0,0,0,0,0,2.0416666666666665,0,0,0,0,0,0,0,0,null,49,0,0,0,0,0,0,0,2.0416666666666665,0,0,0,0,0,0,0,0,null,49,0,0,0,0,0,0,0,2.0416666666666665,0,0,0,0,0,0,0,0]
[50,0,0,0,0,0,0,0,2.0833333333333335,0,0,0,0,0,0,0,0,null,50,0,0,0,0,0,0,0,2.0833333333333335,0,0,0,0,0,0,0,0,null,50,0,0,0,0,0,0,0,2.0833333333333335,0,0,0,0,0,0,0,0,null,50,0,0,0,0,0,0,0,2.0833333333333335,0,0,0,0,0,0,0,0,null,50,0,0,0,0,0,0,0,2.0833333333333335,0,0,0,0,0,0,0,0,null,50,0,0,0,0,0,0,0,2.0833333333333335,0,0,0,0,0,0,0,0,null,50,0,0,0,0,0,0,0,2.0833333333333335,0,0,0,0,0,0,0,0,null,50,0,0,0,0,0,0,0,2.0833333333333335,0,0,0,0,0,0,0,0,null,50,0,0,0,0,0,0,0,2.0833333333333335,0,0,0,0,0,0,0,0,null,50,0,0,0,0,0,0,0,2.0833333333333335,0,0,0,0,0,0,0,0]
[51,0,0,0,0,0,0,0,2.125,0,0,0,0,0,0,0,0,null,51,0,0,0,0,0,0,0,2.125,0,0,0,0,0,0,0,0,null,51,0,0,0,0,0,0,0,2.125,0,0,0,0,0,0,0,0,null,51,0,0,0,0,0,0,0,2.125,0,0,0,0,0,0,0,0,null,51,0,0,0,0,0,0,0,2.125,0,0,0,0,0,0,0,0,null,51,0,0,0,0,0,0,0,2.125,0,0,0,0,0,0,0,0,null,51,0,0,0,0,0,0,0,2.125,0,0,0,0,0,0,0,0,null,51,0,0,0,0,0,0,0,2.125,0,0,0,0,0,0,0,0,null,51,0,0,0,0,0,0,0,2.125,0,0,0,0,0,0,0,0,null,51,0,0,0,0,0,0,0,2.125,0,0,0,0,0,0,0,0]
[52,0,0,0,0,0,0,0,2.1666666666666665,0,0,0,0,0,0,0,0,null,52,0,0,0,0,0,0,0,2.1666666666666665,0,0,0,0,0,0,0,0,null,52,0,0,0,0,0,0,0,2.1666666666666665,0,0,0,0,0,0,0,0,null,52,0,0,0,0,0,0,0,2.1666666666666665,0,0,0,0,0,0,0,0,null,52,0,0,0,0,0,0,0,2.1666666666666665,0,0,0,0,0,0,0,0,null,52,0,0,0,0,0,0,0,2.1666666666666665,0,0,0,0,0,0,0,0,null,52,0,0,0,0,0,0,0,2.1666666666666665,0,0,0,0,0,0,0,0,null,52,0,0,0,0,0,0,0,2.1666666666666665,0,0,0,0,0,0,0,0,null,52,0,0,0,0,0,0,0,2.1666666666666665,0,0,0,0,0,0,0,0,null,52,0,0,0,0,0,0,0,2.1666666666666665,0,0,0,0,0,0,0,0]
[53,0,0,0,0,0,0,0,2.2083333333333335,0,0,0,0,0,0,0,0,null,53,0,0,0,0,0,0,0,2.2083333333333335,0,0,0,0,0,0,0,0,null,53,0,0,0,0,0,0,0,2.2083333333333335,0,0,0,0,0,0,0,0,null,53,0,0,0,0,0,0,0,2.2083333333333335,0,0,0,0,0,0,0,0,null,53,0,0,0,0,0,0,0,2.2083333333333335,0,0,0,0,0,0,0,0,null,53,0,0,0,0,0,0,0,2.2083333333333335,0,0,0,0,0,0,0,0,null,53,0,0,0,0,0,0,0,2.2083333333333335,0,0,0,0,0,0,0,0,null,53,0,0,0,0,0,0,0,2.2083333333333335,0,0,0,0,0,0,0,0,null,53,0,0,0,0,0,0,0,2.2083333333333335,0,0,0,0,0,0,0,0,null,53,0,0,0,0,0,0,0,2.2083333333333335,0,0,0,0,0,0,0,0]
[54,0,0,0,0,0,0,0,2.25,0,0,0,0,0,0,0,0,null,54,0,0,0,0,0,0,0,2.25,0,0,0,0,0,0,0,0,null,54,0,0,0,0,0,0,0,2.25,0,0,0,0,0,0,0,0,null,54,0,0,0,0,0,0,0,2.25,0,0,0,0,0,0,0,0,null,54,0,0,0,0,0,0,0,2.25,0,0,0,0,0,0,0,0,null,54,0,0,0,0,0,0,0,2.25,0,0,0,0,0,0,0,0,null,54,0,0,0,0,0,0,0,2.25,0,0,0,0,0,0,0,0,null,54,0,0,0,0,0,0,0,2.25,0,0,0,0,0,0,0,0,null,54,0,0,0,0,0,0,0,2.25,0,0,0,0,0,0,0,0,null,54,0,0,0,0,0,0,0,2.25,0,0,0,0,0,0,0,0]
[55,0,0,0,0,0,0,0,2.2916666666666665,0,0,0,0,0,0,0,0,null,55,0,0,0,0,0,0,0,2.2916666666666665,0,0,0,0,0,0,0,0,null,55,0,0,0,0,0,0,0,2.2916666666666665,0,0,0,0,0,0,0,0,null,55,0,0,0,0,0,0,0,2.2916666666666665,0,0,0,0,0,0,0,0,null,55,0,0,0,0,0,0,0,2.2916666666666665,0,0,0,0,0,0,0,0,null,55,0,0,0,0,0,0,0,2.2916666666666665,0,0,0,0,0,0,0,0,null,55,0,0,0,0,0,0,0,2.2916666666666665,0,0,0,0,0,0,0,0,null,55,0,0,0,0,0,0,0,2.2916666666666665,0,0,0,0,0,0,0,0,null,55,0,0,0,0,0,0,0,2.2916666666666665,0,0,0,0,0,0,0,0,null,55,0,0,0,0,0,0,0,2.2916666666666665,0,0,0,0,0,0,0,0]
[56,0,0,0,0,0,0,0,2.3333333333333335,0,0,0,0,0,0,0,0,null,56,0,0,0,0,0,0,0,2.3333333333333335,0,0,0,0,0,0,0,0,null,56,0,0,0,0,0,0,0,2.3333333333333335,0,0,0,0,0,0,0,0,null,56,0,0,0,0,0,0,0,2.3333333333333335,0,0,0,0,0,0,0,0,null,56,0,0,0,0,0,0,0,2.3333333333333335,0,0,0,0,0,0,0,0,null,56,0,0,0,0,0,0,0,2.3333333333333335,0,0,0,0,0,0,0,0,null,56,0,0,0,0,0,0,0,2.3333333333333335,0,0,0,0,0,0,0,0,null,56,0,0,0,0,0,0,0,2.3333333333333335,0,0,0,0,0,0,0,0,null,56,0,0,0,0,0,0,0,2.3333333333333335,0,0,0,0,0,0,0,0,null,56,0,0,0,0,0,0,0,2.3333333333333335,0,0,0,0,0,0,0,0]
[57,0,0,0,0,0,0,0,2.375,0,0,0,0,0,0,0,0,null,57,0,0,0,0,0,0,0,2.375,0,0,0,0,0,0,0,0,null,57,0,0,0,0,0,0,0,2.375,0,0,0,0,0,0,0,0,null,57,0,0,0,0,0,0,0,2.375,0,0,0,0,0,0,0,0,null,57,0,0,0,0,0,0,0,2.375,0,0,0,0,0,0,0,0,null,57,0,0,0,0,0,0,0,2.375,0,0,0,0,0,0,0,0,null,57,0,0,0,0,0,0,0,2.375,0,0,0,0,0,0,0,0,null,57,0,0,0,0,0,0,0,2.375,0,0,0,0,0,0,0,0,null,57,0,0,0,0,0,0,0,2.375,0,0,0,0,0,0,0,0,null,57,0,0,0,0,0,0,0,2.375,0,0,0,0,0,0,0,0]
[58,0,0,0,0,0,0,0,2.4166666666666665,0,0,0,0,0,0,0,0,null,58,0,0,0,0,0,0,0,2.4166666666666665,0,0,0,0,0,0,0,0,null,58,0,0,0,0,0,0,0,2.4166666666666665,0,0,0,0,0,0,0,0,null,58,0,0,0,0,0,0,0,2.4166666666666665,0,0,0,0,0,0,0,0,null,58,0,0,0,0,0,0,0,2.4166666666666665,0,0,0,0,0,0,0,0,null,58,0,0,0,0,0,0,0,2.4166666666666665,0,0,0,0,0,0,0,0,null,58,0,0,0,0,0,0,0,2.4166666666666665,0,0,0,0,0,0,0,0,null,58,0,0,0,0,0,0,0,2.4166666666666665,0,0,0,0,0,0,0,0,null,58,0,0,0,0,0,0,0,2.4166666666666665,0,0,0,0,0,0,0,0,null,58,0,0,0,0,0,0,0,2.4166666666666665,0,0,0,0,0,0,0,0]
[59,0,0,0,0,0,0,0,2.4583333333333335,0,0,0,0,0,0,0,0,null,59,0,0,0,0,0,0,0,2.4583333333333335,0,0,0,0,0,0,0,0,null,59,0,0,0,0,0,0,0,2.4583333333333335,0,0,0,0,0,0,0,0,null,59,0,0,0,0,0,0,0,2.4583333333333335,0,0,0,0,0,0,0,0,null,59,0,0,0,0,0,0,0,2.4583333333333335,0,0,0,0,0,0,0,0,null,59,0,0,0,0,0,0,0,2.4583333333333335,0,0,0,0,0,0,0,0,null,59,0,0,0,0,0,0,0,2.4583333333333335,0,0,0,0,0,0,0,0,null,59,0,0,0,0,0,0,0,2.4583333333333335,0,0,0,0,0,0,0,0,null,59,0,0,0,0,0,0,0,2.4583333333333335,0,0,0,0,0,0,0,0,null,59,0,0,0,0,0,0,0,2.4583333333333335,0,0,0,0,0,0,0,0]
[60,0,0,0,0,0,0,0,2.5,0,0,0,0,0,0,0,0,null,60,0,0,0,0,0,0,0,2.5,0,0,0,0,0,0,0,0,null,60,0,0,0,0,0,0,0,2.5,0,0,0,0,0,0,0,0,null,60,0,0,0,0,0,0,0,2.5,0,0,0,0,0,0,0,0,null,60,0,0,0,0,0,0,0,2.5,0,0,0,0,0,0,0,0,null,60,0,0,0,0,0,0,0,2.5,0,0,0,0,0,0,0,0,null,60,0,0,0,0,0,0,0,2.5,0,0,0,0,0,0,0,0,null,60,0,0,0,0,0,0,0,2.5,0,0,0,0,0,0,0,0,null,60,0,0,0,0,0,0,0,2.5,0,0,0,0,0,0,0,0,null,60,0,0,0,0,0,0,0,2.5,0,0,0,0,0,0,0,0]
[61,0,0,0,0,0,0,0,2.5416666666666665,0,0,0,0,0,0,0,0,null,61,0,0,0,0,0,0,0,2.5416666666666665,0,0,0,0,0,0,0,0,null,61,0,0,0,0,0,0,0,2.5416666666666665,0,0,0,0,0,0,0,0,null,61,0,0,0,0,0,0,0,2.5416666666666665,0,0,0,0,0,0,0,0,null,61,0,0,0,0,0,0,0,2.5416666666666665,0,0,0,0,0,0,0,0,null,61,0,0,0,0,0,0,0,2.5416666666666665,0,0,0,0,0,0,0,0,null,61,0,0,0,0,0,0,0,2.5416666666666665,0,0,0,0,0,0,0,0,null,61,0,0,0,0,0,0,0,2.5416666666666665,0,0,0,0,0,0,0,0,null,61,0,0,0,0,0,0,0,2.5416666666666665,0,0,0,0,0,0,0,0,null,61,0,0,0,0,0,0,0,2.5416666666666665,0,0,0,0,0,0,0,0]
[62,0,0,0,0,0,0,0,2.5833333333333335,0,0,0,0,0,0,0,0,null,62,0,0,0,0,0,0,0,2.5833333333333335,0,0,0,0,0,0,0,0,null,62,0,0,0,0,0,0,0,2.5833333333333335,0,0,0,0,0,0,0,0,null,62,0,0,0,0,0,0,0,2.5833333333333335,0,0,0,0,0,0,0,0,null,62,0,0,0,0,0,0,0,2.5833333333333335,0,0,0,0,0,0,0,0,null,62,0,0,0,0,0,0,0,2.5833333333333335,0,0,0,0,0,0,0,0,null,62,0,0,0,0,0,0,0,2.5833333333333335,0,0,0,0,0,0,0,0,null,62,0,0,0,0,0,0,0,2.5833333333333335,0,0,0,0,0,0,0,0,null,62,0,0,0,0,0,0,0,2.5833333333333335,0,0,0,0,0,0,0,0,null,62,0,0,0,0,0,0,0,2.5833333333333335,0,0,0,0,0,0,0,0]
[63,0,0,0,0,0,0,0,2.625,0,0,0,0,0,0,0,0,null,63,0,0,0,0,0,0,0,2.625,0,0,0,0,0,0,0,0,null,63,0,0,0,0,0,0,0,2.625,0,0,0,0,0,0,0,0,null,63,0,0,0,0,0,0,0,2.625,0,0,0,0,0,0,0,0,null,63,0,0,0,0,0,0,0,2.625,0,0,0,0,0,0,0,0,null,63,0,0,0,0,0,0,0,2.625,0,0,0,0,0,0,0,0,null,63,0,0,0,0,0,0,0,2.625,0,0,0,0,0,0,0,0,null,63,0,0,0,0,0,0,0,2.625,0,0,0,0,0,0,0,0,null,63,0,0,0,0,0,0,0,2.625,0,0,0,0,0,0,0,0,null,63,0,0,0,0,0,0,0,2.625,0,0,0,0,0,0,0,0]
[64,0,0,0,0,0,0,0,2.6666666666666665,0,0,0,0,0,0,0,0,null,64,0,0,0,0,0,0,0,2.6666666666666665,0,0,0,0,0,0,0,0,null,64,0,0,0,0,0,0,0,2.6666666666666665,0,0,0,0,0,0,0,0,null,64,0,0,0,0,0,0,0,2.6666666666666665,0,0,0,0,0,0,0,0,null,64,0,0,0,0,0,0,0,2.6666666666666665,0,0,0,0,0,0,0,0,null,64,0,0,0,0,0,0,0,2.6666666666666665,0,0,0,0,0,0,0,0,null,64,0,0,0,0,0,0,0,2.6666666666666665,0,0,0,0,0,0,0,0,null,64,0,0,0,0,0,0,0,2.6666666666666665,0,0,0,0,0,0,0,0,null,64,0,0,0,0,0,0,0,2.6666666666666665,0,0,0,0,0,0,0,0,null,64,0,0,0,0,0,0,0,2.6666666666666665,0,0,0,0,0,0,0,0]
[65,{"$f":"IF(RAEggsComm1=\"\",0,(IF(A77<(RAEggsComm1-DSTDEggsComm1),0,IF(A77<(RAEggsComm1+DSTDEggsComm1),LSComm1Eggs,0))))","v":0},{"$f":"IF(RA1stComm1=\"\",0,(IF(A77<(RA1stComm1-DSTD1stComm1),0,IF(A77<(RA1stComm1+DSTD1stComm1),LSComm11st,0))))","v":0},{"$f":"IF(RA2ndComm1=\"\",0,(IF(A77<(RA2ndComm1-DSTD2ndComm1),0,IF(A77<(RA2ndComm1+DSTD2ndComm1),LSComm12nd,0))))","v":0},{"$f":"IF(RA3rdComm1=\"\",0,(IF(A77<(RA3rdComm1-DSTD3rdComm1),0,IF(A77<(RA3rdComm1+DSTD3rdComm1),LSComm13rd,0))))","v":0},{"$f":"IF(RA4thComm1=\"\",0,(IF(A77<(RA4thComm1-DSTD4thComm1),0,IF(A77<(RA4thComm1+DSTD4thComm1),LSComm14th,0))))","v":0},{"$f":"IF(RA5thComm1=\"\",0,(IF(A77<(RA5thComm1-DSTD5thComm1),0,IF(A77<(RA5thComm1+DSTD5thComm1),LSComm15th,0))))","v":0},{"$f":"IF(RAPupaeComm1=\"\",0,(IF(A77<(RAPupaeComm1-DSTDPupaeComm1),0,IF(A77<(RAPupaeComm1+DSTDPupaeComm1),LSComm1Pupae,0))))","v":0},{"$f":"A77/24","v":2.7083333333333335},{"$f":"SUM(B77:H77)","v":0},0,0,0,0,0,0,0,null,65,{"$f":"IF(RAEggsComm2=\"\",0,(IF(S77<(RAEggsComm2-DSTDEggsComm2),0,IF(S77<(RAEggsComm2+DSTDEggsComm2),LSComm2Eggs,0))))","v":0},{"$f":"IF(RA1stComm2=\"\",0,(IF(S77<(RA1stComm2-DSTD1stComm2),0,IF(S77<(RA1stComm2+DSTD1stComm2),LSComm21st,0))))","v":0},{"$f":"IF(RA2ndComm2=\"\",0,(IF(S77<(RA2ndComm2-DSTD2ndComm2),0,IF(S77<(RA2ndComm2+DSTD2ndComm2),LSComm22nd,0))))","v":0},{"$f":"IF(RA3rdComm2=\"\",0,(IF(S77<(RA3rdComm2-DSTD3rdComm2),0,IF(S77<(RA3rdComm2+DSTD3rdComm2),LSComm23rd,0))))","v":0},{"$f":"IF(RA4thComm2=\"\",0,(IF(S77<(RA4thComm2-DSTD4thComm2),0,IF(S77<(RA4thComm2+DSTD4thComm2),LSComm24th,0))))","v":0},{"$f":"IF(RA5thComm2=\"\",0,(IF(S77<(RA5thComm2-DSTD5thComm2),0,IF(S77<(RA5thComm2+DSTD5thComm2),LSComm25th,0))))","v":0},{"$f":"IF(RAPupaeComm2=\"\",0,(IF(S77<(RAPupaeComm2-DSTDPupaeComm2),0,IF(S77<(RAPupaeComm2+DSTDPupaeComm2),LSComm2Pupae,0))))","v":0},{"$f":"S77/24","v":2.7083333333333335},{"$f":"SUM(T77:Z77)","v":0},0,0,0,0,0,0,0,null,65,{"$f":"IF(RAEggsComm3=\"\",0,(IF(AK77<(RAEggsComm3-DSTDEggsComm3),0,IF(AK77<(RAEggsComm3+DSTDEggsComm3),LSComm3Eggs,0))))","v":0},{"$f":"IF(RA1stComm3=\"\",0,(IF(AK77<(RA1stComm3-DSTD1stComm3),0,IF(AK77<(RA1stComm3+DSTD1stComm3),LSComm31st,0))))","v":0},{"$f":"IF(RA2ndComm3=\"\",0,(IF(AK77<(RA2ndComm3-DSTD2ndComm3),0,IF(AK77<(RA2ndComm3+DSTD2ndComm3),LSComm32nd,0))))","v":0},{"$f":"IF(RA3rdComm3=\"\",0,(IF(AK77<(RA3rdComm3-DSTD3rdComm3),0,IF(AK77<(RA3rdComm3+DSTD3rdComm3),LSComm33rd,0))))","v":0},{"$f":"IF(RA4thComm3=\"\",0,(IF(AK77<(RA4thComm3-DSTD4thComm3),0,IF(AK77<(RA4thComm3+DSTD4thComm3),LSComm34th,0))))","v":0},{"$f":"IF(RA5thComm3=\"\",0,(IF(AK77<(RA5thComm3-DSTD5thComm3),0,IF(AK77<(RA5thComm3+DSTD5thComm3),LSComm35th,0))))","v":0},{"$f":"IF(RAPupaeComm3=\"\",0,(IF(AK77<(RAPupaeComm3-DSTDPupaeComm3),0,IF(AK77<(RAPupaeComm3+DSTDPupaeComm3),LSComm3Pupae,0))))","v":0},{"$f":"AK77/24","v":2.7083333333333335},{"$f":"SUM(AL77:AR77)","v":0},0,0,0,0,0,0,0,null,65,{"$f":"IF(RAEggsComm4=\"\",0,(IF(BC77<(RAEggsComm4-DSTDEggsComm4),0,IF(BC77<(RAEggsComm4+DSTDEggsComm4),LSComm4Eggs,0))))","v":0},{"$f":"IF(RA1stComm4=\"\",0,(IF(BC77<(RA1stComm4-DSTD1stComm4),0,IF(BC77<(RA1stComm4+DSTD1stComm4),LSComm41st,0))))","v":0},{"$f":"IF(RA2ndComm4=\"\",0,(IF(BC77<(RA2ndComm4-DSTD2ndComm4),0,IF(BC77<(RA2ndComm4+DSTD2ndComm4),LSComm42nd,0))))","v":0},{"$f":"IF(RA3rdComm4=\"\",0,(IF(BC77<(RA3rdComm4-DSTD3rdComm4),0,IF(BC77<(RA3rdComm4+DSTD3rdComm4),LSComm43rd,0))))","v":0},{"$f":"IF(RA4thComm4=\"\",0,(IF(BC77<(RA4thComm4-DSTD4thComm4),0,IF(BC77<(RA4thComm4+DSTD4thComm4),LSComm44th,0))))","v":0},{"$f":"IF(RA5thComm4=\"\",0,(IF(BC77<(RA5thComm4-DSTD5thComm4),0,IF(BC77<(RA5thComm4+DSTD5thComm4),LSComm45th,0))))","v":0},{"$f":"IF(RAPupaeComm4=\"\",0,(IF(BC77<(RAPupaeComm4-DSTDPupaeComm4),0,IF(BC77<(RAPupaeComm4+DSTDPupaeComm4),LSComm4Pupae,0))))","v":0},{"$f":"BC77/24","v":2.7083333333333335},{"$f":"SUM(BD77:BJ77)","v":0},0,0,0,0,0,0,0,null,65,{"$f":"IF(RAEggsComm5=\"\",0,(IF(BU77<(RAEggsComm5-DSTDEggsComm5),0,IF(BU77<(RAEggsComm5+DSTDEggsComm5),LSComm5Eggs,0))))","v":0},{"$f":"IF(RA1stComm5=\"\",0,(IF(BU77<(RA1stComm5-DSTD1stComm5),0,IF(BU77<(RA1stComm5+DSTD1stComm5),LSComm51st,0))))","v":0},{"$f":"IF(RA2ndComm5=\"\",0,(IF(BU77<(RA2ndComm5-DSTD2ndComm5),0,IF(BU77<(RA2ndComm5+DSTD2ndComm5),LSComm52nd,0))))","v":0},{"$f":"IF(RA3rdComm5=\"\",0,(IF(BU77<(RA3rdComm5-DSTD3rdComm5),0,IF(BU77<(RA3rdComm5+DSTD3rdComm5),LSComm53rd,0))))","v":0},{"$f":"IF(RA4thComm5=\"\",0,(IF(BU77<(RA4thComm5-DSTD4thComm5),0,IF(BU77<(RA4thComm5+DSTD4thComm5),LSComm54th,0))))","v":0},{"$f":"IF(RA5thComm5=\"\",0,(IF(BU77<(RA5thComm5-DSTD5thComm5),0,IF(BU77<(RA5thComm5+DSTD5thComm5),LSComm55th,0))))","v":0},{"$f":"IF(RAPupaeComm5=\"\",0,(IF(BU77<(RAPupaeComm5-DSTDPupaeComm5),0,IF(BU77<(RAPupaeComm5+DSTDPupaeComm5),LSComm5Pupae,0))))","v":0},{"$f":"BU77/24","v":2.7083333333333335},{"$f":"SUM(BV77:CB77)","v":0},0,0,0,0,0,0,0,null,65,{"$f":"IF(RAEggsComm6=\"\",0,(IF(CM77<(RAEggsComm6-DSTDEggsComm6),0,IF(CM77<(RAEggsComm6+DSTDEggsComm6),LSComm6Eggs,0))))","v":0},{"$f":"IF(RA1stComm6=\"\",0,(IF(CM77<(RA1stComm6-DSTD1stComm6),0,IF(CM77<(RA1stComm6+DSTD1stComm6),LSComm61st,0))))","v":0},{"$f":"IF(RA2ndComm6=\"\",0,(IF(CM77<(RA2ndComm6-DSTD2ndComm6),0,IF(CM77<(RA2ndComm6+DSTD2ndComm6),LSComm62nd,0))))","v":0},{"$f":"IF(RA3rdComm6=\"\",0,(IF(CM77<(RA3rdComm6-DSTD3rdComm6),0,IF(CM77<(RA3rdComm6+DSTD3rdComm6),LSComm63rd,0))))","v":0},{"$f":"IF(RA4thComm6=\"\",0,(IF(CM77<(RA4thComm6-DSTD4thComm6),0,IF(CM77<(RA4thComm6+DSTD4thComm6),LSComm64th,0))))","v":0},{"$f":"IF(RA5thComm6=\"\",0,(IF(CM77<(RA5thComm6-DSTD5thComm6),0,IF(CM77<(RA5thComm6+DSTD5thComm6),LSComm65th,0))))","v":0},{"$f":"IF(RAPupaeComm6=\"\",0,(IF(CM77<(RAPupaeComm6-DSTDPupaeComm6),0,IF(CM77<(RAPupaeComm6+DSTDPupaeComm6),LSComm6Pupae,0))))","v":0},{"$f":"CM77/24","v":2.7083333333333335},{"$f":"SUM(CN77:CT77)","v":0},0,0,0,0,0,0,0,null,65,{"$f":"IF(RAEggsComm7=\"\",0,(IF(DE77<(RAEggsComm7-DSTDEggsComm7),0,IF(DE77<(RAEggsComm7+DSTDEggsComm7),LSComm7Eggs,0))))","v":0},{"$f":"IF(RA1stComm7=\"\",0,(IF(DE77<(RA1stComm7-DSTD1stComm7),0,IF(DE77<(RA1stComm7+DSTD1stComm7),LSComm71st,0))))","v":0},{"$f":"IF(RA2ndComm7=\"\",0,(IF(DE77<(RA2ndComm7-DSTD2ndComm7),0,IF(DE77<(RA2ndComm7+DSTD2ndComm7),LSComm72nd,0))))","v":0},{"$f":"IF(RA3rdComm7=\"\",0,(IF(DE77<(RA3rdComm7-DSTD3rdComm7),0,IF(DE77<(RA3rdComm7+DSTD3rdComm7),LSComm73rd,0))))","v":0},{"$f":"IF(RA4thComm7=\"\",0,(IF(DE77<(RA4thComm7-DSTD4thComm7),0,IF(DE77<(RA4thComm7+DSTD4thComm7),LSComm74th,0))))","v":0},{"$f":"IF(RA5thComm7=\"\",0,(IF(DE77<(RA5thComm7-DSTD5thComm7),0,IF(DE77<(RA5thComm7+DSTD5thComm7),LSComm75th,0))))","v":0},{"$f":"IF(RAPupaeComm7=\"\",0,(IF(DE77<(RAPupaeComm7-DSTDPupaeComm7),0,IF(DE77<(RAPupaeComm7+DSTDPupaeComm7),LSComm7Pupae,0))))","v":0},{"$f":"DE77/24","v":2.7083333333333335},{"$f":"SUM(DF77:DL77)","v":0},0,0,0,0,0,0,0,null,65,{"$f":"IF(RAEggsComm8=\"\",0,(IF(DW77<(RAEggsComm8-DSTDEggsComm8),0,IF(DW77<(RAEggsComm8+DSTDEggsComm8),LSComm8Eggs,0))))","v":0},{"$f":"IF(RA1stComm8=\"\",0,(IF(DW77<(RA1stComm8-DSTD1stComm8),0,IF(DW77<(RA1stComm8+DSTD1stComm8),LSComm81st,0))))","v":0},{"$f":"IF(RA2ndComm8=\"\",0,(IF(DW77<(RA2ndComm8-DSTD2ndComm8),0,IF(DW77<(RA2ndComm8+DSTD2ndComm8),LSComm82nd,0))))","v":0},{"$f":"IF(RA3rdComm8=\"\",0,(IF(DW77<(RA3rdComm8-DSTD3rdComm8),0,IF(DW77<(RA3rdComm8+DSTD3rdComm8),LSComm83rd,0))))","v":0},{"$f":"IF(RA4thComm8=\"\",0,(IF(DW77<(RA4thComm8-DSTD4thComm8),0,IF(DW77<(RA4thComm8+DSTD4thComm8),LSComm84th,0))))","v":0},{"$f":"IF(RA5thComm8=\"\",0,(IF(DW77<(RA5thComm8-DSTD5thComm8),0,IF(DW77<(RA5thComm8+DSTD5thComm8),LSComm85th,0))))","v":0},{"$f":"IF(RAPupaeComm8=\"\",0,(IF(DW77<(RAPupaeComm8-DSTDPupaeComm8),0,IF(DW77<(RAPupaeComm8+DSTDPupaeComm8),LSComm8Pupae,0))))","v":0},{"$f":"DW77/24","v":2.7083333333333335},{"$f":"SUM(DX77:ED77)","v":0},0,0,0,0,0,0,0,null,65,{"$f":"IF(RAEggsComm9=\"\",0,(IF(EO77<(RAEggsComm9-DSTDEggsComm9),0,IF(EO77<(RAEggsComm9+DSTDEggsComm9),LSComm9Eggs,0))))","v":0},{"$f":"IF(RA1stComm9=\"\",0,(IF(EO77<(RA1stComm9-DSTD1stComm9),0,IF(EO77<(RA1stComm9+DSTD1stComm9),LSComm91st,0))))","v":0},{"$f":"IF(RA2ndComm9=\"\",0,(IF(EO77<(RA2ndComm9-DSTD2ndComm9),0,IF(EO77<(RA2ndComm9+DSTD2ndComm9),LSComm92nd,0))))","v":0},{"$f":"IF(RA3rdComm9=\"\",0,(IF(EO77<(RA3rdComm9-DSTD3rdComm9),0,IF(EO77<(RA3rdComm9+DSTD3rdComm9),LSComm93rd,0))))","v":0},{"$f":"IF(RA4thComm9=\"\",0,(IF(EO77<(RA4thComm9-DSTD4thComm9),0,IF(EO77<(RA4thComm9+DSTD4thComm9),LSComm94th,0))))","v":0},{"$f":"IF(RA5thComm9=\"\",0,(IF(EO77<(RA5thComm9-DSTD5thComm9),0,IF(EO77<(RA5thComm9+DSTD5thComm9),LSComm95th,0))))","v":0},{"$f":"IF(RAPupaeComm9=\"\",0,(IF(EO77<(RAPupaeComm9-DSTDPupaeComm9),0,IF(EO77<(RAPupaeComm9+DSTDPupaeComm9),LSComm9Pupae,0))))","v":0},{"$f":"EO77/24","v":2.7083333333333335},{"$f":"SUM(EP77:EV77)","v":0},0,0,0,0,0,0,0,null,65,{"$f":"IF(RAEggsComm10=\"\",0,(IF(FG77<(RAEggsComm10-DSTDEggsComm10),0,IF(FG77<(RAEggsComm10+DSTDEggsComm10),LSComm10Eggs,0))))","v":0},{"$f":"IF(RA1stComm10=\"\",0,(IF(FG77<(RA1stComm10-DSTD1stComm10),0,IF(FG77<(RA1stComm10+DSTD1stComm10),LSComm101st,0))))","v":0},{"$f":"IF(RA2ndComm10=\"\",0,(IF(FG77<(RA2ndComm10-DSTD2ndComm10),0,IF(FG77<(RA2ndComm10+DSTD2ndComm10),LSComm102nd,0))))","v":0},{"$f":"IF(RA3rdComm10=\"\",0,(IF(FG77<(RA3rdComm10-DSTD3rdComm10),0,IF(FG77<(RA3rdComm10+DSTD3rdComm10),LSComm103rd,0))))","v":0},{"$f":"IF(RA4thComm10=\"\",0,(IF(FG77<(RA4thComm10-DSTD4thComm10),0,IF(FG77<(RA4thComm10+DSTD4thComm10),LSComm104th,0))))","v":0},{"$f":"IF(RA5thComm10=\"\",0,(IF(FG77<(RA5thComm10-DSTD5thComm10),0,IF(FG77<(RA5thComm10+DSTD5thComm10),LSComm105th,0))))","v":0},{"$f":"IF(RAPupaeComm10=\"\",0,(IF(FG77<(RAPupaeComm10-DSTDPupaeComm10),0,IF(FG77<(RAPupaeComm10+DSTDPupaeComm10),LSComm10Pupae,0))))","v":0},{"$f":"FG77/24","v":2.7083333333333335},{"$f":"SUM(FH77:FN77)","v":0},0,0,0,0,0,0,0]
[66,0,0,0,0,0,0,0,2.75,0,{"$f":"IF(J78=0,0,B78/J78)","v":0},{"$f":"IF(J78=0,0,C78/J78)","v":0},{"$f":"IF(J78=0,0,D78/J78)","v":0},{"$f":"IF(J78=0,0,E78/J78)","v":0},{"$f":"IF(J78=0,0,F78/J78)","v":0},{"$f":"IF(J78=0,0,G78/J78)","v":0},{"$f":"IF(J78=0,0,H78/J78)","v":0},null,66,0,0,0,0,0,0,0,2.75,0,{"$f":"IF(AB78=0,0,T78/AB78)","v":0},{"$f":"IF(AB78=0,0,U78/AB78)","v":0},{"$f":"IF(AB78=0,0,V78/AB78)","v":0},{"$f":"IF(AB78=0,0,W78/AB78)","v":0},{"$f":"IF(AB78=0,0,X78/AB78)","v":0},{"$f":"IF(AB78=0,0,Y78/AB78)","v":0},{"$f":"IF(AB78=0,0,Z78/AB78)","v":0},null,66,0,0,0,0,0,0,0,2.75,0,{"$f":"IF(AT78=0,0,AL78/AT78)","v":0},{"$f":"IF(AT78=0,0,AM78/AT78)","v":0},{"$f":"IF(AT78=0,0,AN78/AT78)","v":0},{"$f":"IF(AT78=0,0,AO78/AT78)","v":0},{"$f":"IF(AT78=0,0,AP78/AT78)","v":0},{"$f":"IF(AT78=0,0,AQ78/AT78)","v":0},{"$f":"IF(AT78=0,0,AR78/AT78)","v":0},null,66,0,0,0,0,0,0,0,2.75,0,{"$f":"IF(BL78=0,0,BD78/BL78)","v":0},{"$f":"IF(BL78=0,0,BE78/BL78)","v":0},{"$f":"IF(BL78=0,0,BF78/BL78)","v":0},{"$f":"IF(BL78=0,0,BG78/BL78)","v":0},{"$f":"IF(BL78=0,0,BH78/BL78)","v":0},{"$f":"IF(BL78=0,0,BI78/BL78)","v":0},{"$f":"IF(BL78=0,0,BJ78/BL78)","v":0},null,66,0,0,0,0,0,0,0,2.75,0,{"$f":"IF(CD78=0,0,BV78/CD78)","v":0},{"$f":"IF(CD78=0,0,BW78/CD78)","v":0},{"$f":"IF(CD78=0,0,BX78/CD78)","v":0},{"$f":"IF(CD78=0,0,BY78/CD78)","v":0},{"$f":"IF(CD78=0,0,BZ78/CD78)","v":0},{"$f":"IF(CD78=0,0,CA78/CD78)","v":0},{"$f":"IF(CD78=0,0,CB78/CD78)","v":0},null,66,0,0,0,0,0,0,0,2.75,0,{"$f":"IF(CV78=0,0,CN78/CV78)","v":0},{"$f":"IF(CV78=0,0,CO78/CV78)","v":0},{"$f":"IF(CV78=0,0,CP78/CV78)","v":0},{"$f":"IF(CV78=0,0,CQ78/CV78)","v":0},{"$f":"IF(CV78=0,0,CR78/CV78)","v":0},{"$f":"IF(CV78=0,0,CS78/CV78)","v":0},{"$f":"IF(CV78=0,0,CT78/CV78)","v":0},null,66,0,0,0,0,0,0,0,2.75,0,{"$f":"IF(DN78=0,0,DF78/DN78)","v":0},{"$f":"IF(DN78=0,0,DG78/DN78)","v":0},{"$f":"IF(DN78=0,0,DH78/DN78)","v":0},{"$f":"IF(DN78=0,0,DI78/DN78)","v":0},{"$f":"IF(DN78=0,0,DJ78/DN78)","v":0},{"$f":"IF(DN78=0,0,DK78/DN78)","v":0},{"$f":"IF(DN78=0,0,DL78/DN78)","v":0},null,66,0,0,0,0,0,0,0,2.75,0,{"$f":"IF(EF78=0,0,DX78/EF78)","v":0},{"$f":"IF(EF78=0,0,DY78/EF78)","v":0},{"$f":"IF(EF78=0,0,DZ78/EF78)","v":0},{"$f":"IF(EF78=0,0,EA78/EF78)","v":0},{"$f":"IF(EF78=0,0,EB78/EF78)","v":0},{"$f":"IF(EF78=0,0,EC78/EF78)","v":0},{"$f":"IF(EF78=0,0,ED78/EF78)","v":0},null,66,0,0,0,0,0,0,0,2.75,0,{"$f":"IF(EX78=0,0,EP78/EX78)","v":0},{"$f":"IF(EX78=0,0,EQ78/EX78)","v":0},{"$f":"IF(EX78=0,0,ER78/EX78)","v":0},{"$f":"IF(EX78=0,0,ES78/EX78)","v":0},{"$f":"IF(EX78=0,0,ET78/EX78)","v":0},{"$f":"IF(EX78=0,0,EU78/EX78)","v":0},{"$f":"IF(EX78=0,0,EV78/EX78)","v":0},null,66,0,0,0,0,0,0,0,2.75,0,{"$f":"IF(FP78=0,0,FH78/FP78)","v":0},{"$f":"IF(FP78=0,0,FI78/FP78)","v":0},{"$f":"IF(FP78=0,0,FJ78/FP78)","v":0},{"$f":"IF(FP78=0,0,FK78/FP78)","v":0},{"$f":"IF(FP78=0,0,FL78/FP78)","v":0},{"$f":"IF(FP78=0,0,FM78/FP78)","v":0},{"$f":"IF(FP78=0,0,FN78/FP78)","v":0}]
[67,0,0,0,0,0,0,0,2.7916666666666665,0,0,0,0,0,0,0,0,null,67,0,0,0,0,0,0,0,2.7916666666666665,0,0,0,0,0,0,0,0,null,67,0,0,0,0,0,0,0,2.7916666666666665,0,0,0,0,0,0,0,0,null,67,0,0,0,0,0,0,0,2.7916666666666665,0,0,0,0,0,0,0,0,null,67,0,0,0,0,0,0,0,2.7916666666666665,0,0,0,0,0,0,0,0,null,67,0,0,0,0,0,0,0,2.7916666666666665,0,0,0,0,0,0,0,0,null,67,0,0,0,0,0,0,0,2.7916666666666665,0,0,0,0,0,0,0,0,null,67,0,0,0,0,0,0,0,2.7916666666666665,0,0,0,0,0,0,0,0,null,67,0,0,0,0,0,0,0,2.7916666666666665,0,0,0,0,0,0,0,0,null,67,0,0,0,0,0,0,0,2.7916666666666665,0,0,0,0,0,0,0,0]
[68,0,0,0,0,0,0,0,2.8333333333333335,0,0,0,0,0,0,0,0,null,68,0,0,0,0,0,0,0,2.8333333333333335,0,0,0,0,0,0,0,0,null,68,0,0,0,0,0,0,0,2.8333333333333335,0,0,0,0,0,0,0,0,null,68,0,0,0,0,0,0,0,2.8333333333333335,0,0,0,0,0,0,0,0,null,68,0,0,0,0,0,0,0,2.8333333333333335,0,0,0,0,0,0,0,0,null,68,0,0,0,0,0,0,0,2.8333333333333335,0,0,0,0,0,0,0,0,null,68,0,0,0,0,0,0,0,2.8333333333333335,0,0,0,0,0,0,0,0,null,68,0,0,0,0,0,0,0,2.8333333333333335,0,0,0,0,0,0,0,0,null,68,0,0,0,0,0,0,0,2.8333333333333335,0,0,0,0,0,0,0,0,null,68,0,0,0,0,0,0,0,2.8333333333333335,0,0,0,0,0,0,0,0]
[69,0,0,0,0,0,0,0,2.875,0,0,0,0,0,0,0,0,null,69,0,0,0,0,0,0,0,2.875,0,0,0,0,0,0,0,0,null,69,0,0,0,0,0,0,0,2.875,0,0,0,0,0,0,0,0,null,69,0,0,0,0,0,0,0,2.875,0,0,0,0,0,0,0,0,null,69,0,0,0,0,0,0,0,2.875,0,0,0,0,0,0,0,0,null,69,0,0,0,0,0,0,0,2.875,0,0,0,0,0,0,0,0,null,69,0,0,0,0,0,0,0,2.875,0,0,0,0,0,0,0,0,null,69,0,0,0,0,0,0,0,2.875,0,0,0,0,0,0,0,0,null,69,0,0,0,0,0,0,0,2.875,0,0,0,0,0,0,0,0,null,69,0,0,0,0,0,0,0,2.875,0,0,0,0,0,0,0,0]
[70,0,0,0,0,0,0,0,2.9166666666666665,0,0,0,0,0,0,0,0,null,70,0,0,0,0,0,0,0,2.9166666666666665,0,0,0,0,0,0,0,0,null,70,0,0,0,0,0,0,0,2.9166666666666665,0,0,0,0,0,0,0,0,null,70,0,0,0,0,0,0,0,2.9166666666666665,0,0,0,0,0,0,0,0,null,70,0,0,0,0,0,0,0,2.9166666666666665,0,0,0,0,0,0,0,0,null,70,0,0,0,0,0,0,0,2.9166666666666665,0,0,0,0,0,0,0,0,null,70,0,0,0,0,0,0,0,2.9166666666666665,0,0,0,0,0,0,0,0,null,70,0,0,0,0,0,0,0,2.9166666666666665,0,0,0,0,0,0,0,0,null,70,0,0,0,0,0,0,0,2.9166666666666665,0,0,0,0,0,0,0,0,null,70,0,0,0,0,0,0,0,2.9166666666666665,0,0,0,0,0,0,0,0]
[71,0,0,0,0,0,0,0,2.9583333333333335,0,0,0,0,0,0,0,0,null,71,0,0,0,0,0,0,0,2.9583333333333335,0,0,0,0,0,0,0,0,null,71,0,0,0,0,0,0,0,2.9583333333333335,0,0,0,0,0,0,0,0,null,71,0,0,0,0,0,0,0,2.9583333333333335,0,0,0,0,0,0,0,0,null,71,0,0,0,0,0,0,0,2.9583333333333335,0,0,0,0,0,0,0,0,null,71,0,0,0,0,0,0,0,2.9583333333333335,0,0,0,0,0,0,0,0,null,71,0,0,0,0,0,0,0,2.9583333333333335,0,0,0,0,0,0,0,0,null,71,0,0,0,0,0,0,0,2.9583333333333335,0,0,0,0,0,0,0,0,null,71,0,0,0,0,0,0,0,2.9583333333333335,0,0,0,0,0,0,0,0,null,71,0,0,0,0,0,0,0,2.9583333333333335,0,0,0,0,0,0,0,0]
[72,0,0,0,0,0,0,0,3,0,0,0,0,0,0,0,0,null,72,0,0,0,0,0,0,0,3,0,0,0,0,0,0,0,0,null,72,0,0,0,0,0,0,0,3,0,0,0,0,0,0,0,0,null,72,0,0,0,0,0,0,0,3,0,0,0,0,0,0,0,0,null,72,0,0,0,0,0,0,0,3,0,0,0,0,0,0,0,0,null,72,0,0,0,0,0,0,0,3,0,0,0,0,0,0,0,0,null,72,0,0,0,0,0,0,0,3,0,0,0,0,0,0,0,0,null,72,0,0,0,0,0,0,0,3,0,0,0,0,0,0,0,0,null,72,0,0,0,0,0,0,0,3,0,0,0,0,0,0,0,0,null,72,0,0,0,0,0,0,0,3,0,0,0,0,0,0,0,0]
[73,0,0,0,0,0,0,0,3.0416666666666665,0,0,0,0,0,0,0,0,null,73,0,0,0,0,0,0,0,3.0416666666666665,0,0,0,0,0,0,0,0,null,73,0,0,0,0,0,0,0,3.0416666666666665,0,0,0,0,0,0,0,0,null,73,0,0,0,0,0,0,0,3.0416666666666665,0,0,0,0,0,0,0,0,null,73,0,0,0,0,0,0,0,3.0416666666666665,0,0,0,0,0,0,0,0,null,73,0,0,0,0,0,0,0,3.0416666666666665,0,0,0,0,0,0,0,0,null,73,0,0,0,0,0,0,0,3.0416666666666665,0,0,0,0,0,0,0,0,null,73,0,0,0,0,0,0,0,3.0416666666666665,0,0,0,0,0,0,0,0,null,73,0,0,0,0,0,0,0,3.0416666666666665,0,0,0,0,0,0,0,0,null,73,0,0,0,0,0,0,0,3.0416666666666665,0,0,0,0,0,0,0,0]
[74,0,0,0,0,0,0,0,3.0833333333333335,0,0,0,0,0,0,0,0,null,74,0,0,0,0,0,0,0,3.0833333333333335,0,0,0,0,0,0,0,0,null,74,0,0,0,0,0,0,0,3.0833333333333335,0,0,0,0,0,0,0,0,null,74,0,0,0,0,0,0,0,3.0833333333333335,0,0,0,0,0,0,0,0,null,74,0,0,0,0,0,0,0,3.0833333333333335,0,0,0,0,0,0,0,0,null,74,0,0,0,0,0,0,0,3.0833333333333335,0,0,0,0,0,0,0,0,null,74,0,0,0,0,0,0,0,3.0833333333333335,0,0,0,0,0,0,0,0,null,74,0,0,0,0,0,0,0,3.0833333333333335,0,0,0,0,0,0,0,0,null,74,0,0,0,0,0,0,0,3.0833333333333335,0,0,0,0,0,0,0,0,null,74,0,0,0,0,0,0,0,3.0833333333333335,0,0,0,0,0,0,0,0]
[75,0,0,0,0,0,0,0,3.125,0,0,0,0,0,0,0,0,null,75,0,0,0,0,0,0,0,3.125,0,0,0,0,0,0,0,0,null,75,0,0,0,0,0,0,0,3.125,0,0,0,0,0,0,0,0,null,75,0,0,0,0,0,0,0,3.125,0,0,0,0,0,0,0,0,null,75,0,0,0,0,0,0,0,3.125,0,0,0,0,0,0,0,0,null,75,0,0,0,0,0,0,0,3.125,0,0,0,0,0,0,0,0,null,75,0,0,0,0,0,0,0,3.125,0,0,0,0,0,0,0,0,null,75,0,0,0,0,0,0,0,3.125,0,0,0,0,0,0,0,0,null,75,0,0,0,0,0,0,0,3.125,0,0,0,0,0,0,0,0,null,75,0,0,0,0,0,0,0,3.125,0,0,0,0,0,0,0,0]
[76,0,0,0,0,0,0,0,3.1666666666666665,0,0,0,0,0,0,0,0,null,76,0,0,0,0,0,0,0,3.1666666666666665,0,0,0,0,0,0,0,0,null,76,0,0,0,0,0,0,0,3.1666666666666665,0,0,0,0,0,0,0,0,null,76,0,0,0,0,0,0,0,3.1666666666666665,0,0,0,0,0,0,0,0,null,76,0,0,0,0,0,0,0,3.1666666666666665,0,0,0,0,0,0,0,0,null,76,0,0,0,0,0,0,0,3.1666666666666665,0,0,0,0,0,0,0,0,null,76,0,0,0,0,0,0,0,3.1666666666666665,0,0,0,0,0,0,0,0,null,76,0,0,0,0,0,0,0,3.1666666666666665,0,0,0,0,0,0,0,0,null,76,0,0,0,0,0,0,0,3.1666666666666665,0,0,0,0,0,0,0,0,null,76,0,0,0,0,0,0,0,3.1666666666666665,0,0,0,0,0,0,0,0]
[77,0,0,0,0,0,0,0,3.2083333333333335,0,0,0,0,0,0,0,0,null,77,0,0,0,0,0,0,0,3.2083333333333335,0,0,0,0,0,0,0,0,null,77,0,0,0,0,0,0,0,3.2083333333333335,0,0,0,0,0,0,0,0,null,77,0,0,0,0,0,0,0,3.2083333333333335,0,0,0,0,0,0,0,0,null,77,0,0,0,0,0,0,0,3.2083333333333335,0,0,0,0,0,0,0,0,null,77,0,0,0,0,0,0,0,3.2083333333333335,0,0,0,0,0,0,0,0,null,77,0,0,0,0,0,0,0,3.2083333333333335,0,0,0,0,0,0,0,0,null,77,0,0,0,0,0,0,0,3.2083333333333335,0,0,0,0,0,0,0,0,null,77,0,0,0,0,0,0,0,3.2083333333333335,0,0,0,0,0,0,0,0,null,77,0,0,0,0,0,0,0,3.2083333333333335,0,0,0,0,0,0,0,0]
[78,0,0,0,0,0,0,0,3.25,0,0,0,0,0,0,0,0,null,78,0,0,0,0,0,0,0,3.25,0,0,0,0,0,0,0,0,null,78,0,0,0,0,0,0,0,3.25,0,0,0,0,0,0,0,0,null,78,0,0,0,0,0,0,0,3.25,0,0,0,0,0,0,0,0,null,78,0,0,0,0,0,0,0,3.25,0,0,0,0,0,0,0,0,null,78,0,0,0,0,0,0,0,3.25,0,0,0,0,0,0,0,0,null,78,0,0,0,0,0,0,0,3.25,0,0,0,0,0,0,0,0,null,78,0,0,0,0,0,0,0,3.25,0,0,0,0,0,0,0,0,null,78,0,0,0,0,0,0,0,3.25,0,0,0,0,0,0,0,0,null,78,0,0,0,0,0,0,0,3.25,0,0,0,0,0,0,0,0]
[79,0,0,0,0,0,0,0,3.2916666666666665,0,0,0,0,0,0,0,0,null,79,0,0,0,0,0,0,0,3.2916666666666665,0,0,0,0,0,0,0,0,null,79,0,0,0,0,0,0,0,3.2916666666666665,0,0,0,0,0,0,0,0,null,79,0,0,0,0,0,0,0,3.2916666666666665,0,0,0,0,0,0,0,0,null,79,0,0,0,0,0,0,0,3.2916666666666665,0,0,0,0,0,0,0,0,null,79,0,0,0,0,0,0,0,3.2916666666666665,0,0,0,0,0,0,0,0,null,79,0,0,0,0,0,0,0,3.2916666666666665,0,0,0,0,0,0,0,0,null,79,0,0,0,0,0,0,0,3.2916666666666665,0,0,0,0,0,0,0,0,null,79,0,0,0,0,0,0,0,3.2916666666666665,0,0,0,0,0,0,0,0,null,79,0,0,0,0,0,0,0,3.2916666666666665,0,0,0,0,0,0,0,0]
[80,0,0,0,0,0,0,0,3.3333333333333335,0,0,0,0,0,0,0,0,null,80,0,0,0,0,0,0,0,3.3333333333333335,0,0,0,0,0,0,0,0,null,80,0,0,0,0,0,0,0,3.3333333333333335,0,0,0,0,0,0,0,0,null,80,0,0,0,0,0,0,0,3.3333333333333335,0,0,0,0,0,0,0,0,null,80,0,0,0,0,0,0,0,3.3333333333333335,0,0,0,0,0,0,0,0,null,80,0,0,0,0,0,0,0,3.3333333333333335,0,0,0,0,0,0,0,0,null,80,0,0,0,0,0,0,0,3.3333333333333335,0,0,0,0,0,0,0,0,null,80,0,0,0,0,0,0,0,3.3333333333333335,0,0,0,0,0,0,0,0,null,80,0,0,0,0,0,0,0,3.3333333333333335,0,0,0,0,0,0,0,0,null,80,0,0,0,0,0,0,0,3.3333333333333335,0,0,0,0,0,0,0,0]
[81,0,0,0,0,0,0,0,3.375,0,0,0,0,0,0,0,0,null,81,0,0,0,0,0,0,0,3.375,0,0,0,0,0,0,0,0,null,81,0,0,0,0,0,0,0,3.375,0,0,0,0,0,0,0,0,null,81,0,0,0,0,0,0,0,3.375,0,0,0,0,0,0,0,0,null,81,0,0,0,0,0,0,0,3.375,0,0,0,0,0,0,0,0,null,81,0,0,0,0,0,0,0,3.375,0,0,0,0,0,0,0,0,null,81,0,0,0,0,0,0,0,3.375,0,0,0,0,0,0,0,0,null,81,0,0,0,0,0,0,0,3.375,0,0,0,0,0,0,0,0,null,81,0,0,0,0,0,0,0,3.375,0,0,0,0,0,0,0,0,null,81,0,0,0,0,0,0,0,3.375,0,0,0,0,0,0,0,0]
[82,0,0,0,0,0,0,0,3.4166666666666665,0,0,0,0,0,0,0,0,null,82,0,0,0,0,0,0,0,3.4166666666666665,0,0,0,0,0,0,0,0,null,82,0,0,0,0,0,0,0,3.4166666666666665,0,0,0,0,0,0,0,0,null,82,0,0,0,0,0,0,0,3.4166666666666665,0,0,0,0,0,0,0,0,null,82,0,0,0,0,0,0,0,3.4166666666666665,0,0,0,0,0,0,0,0,null,82,0,0,0,0,0,0,0,3.4166666666666665,0,0,0,0,0,0,0,0,null,82,0,0,0,0,0,0,0,3.4166666666666665,0,0,0,0,0,0,0,0,null,82,0,0,0,0,0,0,0,3.4166666666666665,0,0,0,0,0,0,0,0,null,82,0,0,0,0,0,0,0,3.4166666666666665,0,0,0,0,0,0,0,0,null,82,0,0,0,0,0,0,0,3.4166666666666665,0,0,0,0,0,0,0,0]
[83,0,0,0,0,0,0,0,3.4583333333333335,0,0,0,0,0,0,0,0,null,83,0,0,0,0,0,0,0,3.4583333333333335,0,0,0,0,0,0,0,0,null,83,0,0,0,0,0,0,0,3.4583333333333335,0,0,0,0,0,0,0,0,null,83,0,0,0,0,0,0,0,3.4583333333333335,0,0,0,0,0,0,0,0,null,83,0,0,0,0,0,0,0,3.4583333333333335,0,0,0,0,0,0,0,0,null,83,0,0,0,0,0,0,0,3.4583333333333335,0,0,0,0,0,0,0,0,null,83,0,0,0,0,0,0,0,3.4583333333333335,0,0,0,0,0,0,0,0,null,83,0,0,0,0,0,0,0,3.4583333333333335,0,0,0,0,0,0,0,0,null,83,0,0,0,0,0,0,0,3.4583333333333335,0,0,0,0,0,0,0,0,null,83,0,0,0,0,0,0,0,3.4583333333333335,0,0,0,0,0,0,0,0]
[84,0,0,0,0,0,0,0,3.5,0,0,0,0,0,0,0,0,null,84,0,0,0,0,0,0,0,3.5,0,0,0,0,0,0,0,0,null,84,0,0,0,0,0,0,0,3.5,0,0,0,0,0,0,0,0,null,84,0,0,0,0,0,0,0,3.5,0,0,0,0,0,0,0,0,null,84,0,0,0,0,0,0,0,3.5,0,0,0,0,0,0,0,0,null,84,0,0,0,0,0,0,0,3.5,0,0,0,0,0,0,0,0,null,84,0,0,0,0,0,0,0,3.5,0,0,0,0,0,0,0,0,null,84,0,0,0,0,0,0,0,3.5,0,0,0,0,0,0,0,0,null,84,0,0,0,0,0,0,0,3.5,0,0,0,0,0,0,0,0,null,84,0,0,0,0,0,0,0,3.5,0,0,0,0,0,0,0,0]
[85,0,0,0,0,0,0,0,3.5416666666666665,0,0,0,0,0,0,0,0,null,85,0,0,0,0,0,0,0,3.5416666666666665,0,0,0,0,0,0,0,0,null,85,0,0,0,0,0,0,0,3.5416666666666665,0,0,0,0,0,0,0,0,null,85,0,0,0,0,0,0,0,3.5416666666666665,0,0,0,0,0,0,0,0,null,85,0,0,0,0,0,0,0,3.5416666666666665,0,0,0,0,0,0,0,0,null,85,0,0,0,0,0,0,0,3.5416666666666665,0,0,0,0,0,0,0,0,null,85,0,0,0,0,0,0,0,3.5416666666666665,0,0,0,0,0,0,0,0,null,85,0,0,0,0,0,0,0,3.5416666666666665,0,0,0,0,0,0,0,0,null,85,0,0,0,0,0,0,0,3.5416666666666665,0,0,0,0,0,0,0,0,null,85,0,0,0,0,0,0,0,3.5416666666666665,0,0,0,0,0,0,0,0]
[86,0,0,0,0,0,0,0,3.5833333333333335,0,0,0,0,0,0,0,0,null,86,0,0,0,0,0,0,0,3.5833333333333335,0,0,0,0,0,0,0,0,null,86,0,0,0,0,0,0,0,3.5833333333333335,0,0,0,0,0,0,0,0,null,86,0,0,0,0,0,0,0,3.5833333333333335,0,0,0,0,0,0,0,0,null,86,0,0,0,0,0,0,0,3.5833333333333335,0,0,0,0,0,0,0,0,null,86,0,0,0,0,0,0,0,3.5833333333333335,0,0,0,0,0,0,0,0,null,86,0,0,0,0,0,0,0,3.5833333333333335,0,0,0,0,0,0,0,0,null,86,0,0,0,0,0,0,0,3.5833333333333335,0,0,0,0,0,0,0,0,null,86,0,0,0,0,0,0,0,3.5833333333333335,0,0,0,0,0,0,0,0,null,86,0,0,0,0,0,0,0,3.5833333333333335,0,0,0,0,0,0,0,0]
[87,0,0,0,0,0,0,0,3.625,0,0,0,0,0,0,0,0,null,87,0,0,0,0,0,0,0,3.625,0,0,0,0,0,0,0,0,null,87,0,0,0,0,0,0,0,3.625,0,0,0,0,0,0,0,0,null,87,0,0,0,0,0,0,0,3.625,0,0,0,0,0,0,0,0,null,87,0,0,0,0,0,0,0,3.625,0,0,0,0,0,0,0,0,null,87,0,0,0,0,0,0,0,3.625,0,0,0,0,0,0,0,0,null,87,0,0,0,0,0,0,0,3.625,0,0,0,0,0,0,0,0,null,87,0,0,0,0,0,0,0,3.625,0,0,0,0,0,0,0,0,null,87,0,0,0,0,0,0,0,3.625,0,0,0,0,0,0,0,0,null,87,0,0,0,0,0,0,0,3.625,0,0,0,0,0,0,0,0]
[88,0,0,0,0,0,0,0,3.6666666666666665,0,0,0,0,0,0,0,0,null,88,0,0,0,0,0,0,0,3.6666666666666665,0,0,0,0,0,0,0,0,null,88,0,0,0,0,0,0,0,3.6666666666666665,0,0,0,0,0,0,0,0,null,88,0,0,0,0,0,0,0,3.6666666666666665,0,0,0,0,0,0,0,0,null,88,0,0,0,0,0,0,0,3.6666666666666665,0,0,0,0,0,0,0,0,null,88,0,0,0,0,0,0,0,3.6666666666666665,0,0,0,0,0,0,0,0,null,88,0,0,0,0,0,0,0,3.6666666666666665,0,0,0,0,0,0,0,0,null,88,0,0,0,0,0,0,0,3.6666666666666665,0,0,0,0,0,0,0,0,null,88,0,0,0,0,0,0,0,3.6666666666666665,0,0,0,0,0,0,0,0,null,88,0,0,0,0,0,0,0,3.6666666666666665,0,0,0,0,0,0,0,0]
[89,0,0,0,0,0,0,0,3.7083333333333335,0,0,0,0,0,0,0,0,null,89,0,0,0,0,0,0,0,3.7083333333333335,0,0,0,0,0,0,0,0,null,89,0,0,0,0,0,0,0,3.7083333333333335,0,0,0,0,0,0,0,0,null,89,0,0,0,0,0,0,0,3.7083333333333335,0,0,0,0,0,0,0,0,null,89,0,0,0,0,0,0,0,3.7083333333333335,0,0,0,0,0,0,0,0,null,89,0,0,0,0,0,0,0,3.7083333333333335,0,0,0,0,0,0,0,0,null,89,0,0,0,0,0,0,0,3.7083333333333335,0,0,0,0,0,0,0,0,null,89,0,0,0,0,0,0,0,3.7083333333333335,0,0,0,0,0,0,0,0,null,89,0,0,0,0,0,0,0,3.7083333333333335,0,0,0,0,0,0,0,0,null,89,0,0,0,0,0,0,0,3.7083333333333335,0,0,0,0,0,0,0,0]
[90,0,0,0,0,0,0,0,3.75,0,0,0,0,0,0,0,0,null,90,0,0,0,0,0,0,0,3.75,0,0,0,0,0,0,0,0,null,90,0,0,0,0,0,0,0,3.75,0,0,0,0,0,0,0,0,null,90,0,0,0,0,0,0,0,3.75,0,0,0,0,0,0,0,0,null,90,0,0,0,0,0,0,0,3.75,0,0,0,0,0,0,0,0,null,90,0,0,0,0,0,0,0,3.75,0,0,0,0,0,0,0,0,null,90,0,0,0,0,0,0,0,3.75,0,0,0,0,0,0,0,0,null,90,0,0,0,0,0,0,0,3.75,0,0,0,0,0,0,0,0,null,90,0,0,0,0,0,0,0,3.75,0,0,0,0,0,0,0,0,null,90,0,0,0,0,0,0,0,3.75,0,0,0,0,0,0,0,0]
[91,0,0,0,0,0,0,0,3.7916666666666665,0,0,0,0,0,0,0,0,null,91,0,0,0,0,0,0,0,3.7916666666666665,0,0,0,0,0,0,0,0,null,91,0,0,0,0,0,0,0,3.7916666666666665,0,0,0,0,0,0,0,0,null,91,0,0,0,0,0,0,0,3.7916666666666665,0,0,0,0,0,0,0,0,null,91,0,0,0,0,0,0,0,3.7916666666666665,0,0,0,0,0,0,0,0,null,91,0,0,0,0,0,0,0,3.7916666666666665,0,0,0,0,0,0,0,0,null,91,0,0,0,0,0,0,0,3.7916666666666665,0,0,0,0,0,0,0,0,null,91,0,0,0,0,0,0,0,3.7916666666666665,0,0,0,0,0,0,0,0,null,91,0,0,0,0,0,0,0,3.7916666666666665,0,0,0,0,0,0,0,0,null,91,0,0,0,0,0,0,0,3.7916666666666665,0,0,0,0,0,0,0,0]
[92,0,0,0,0,0,0,0,3.8333333333333335,0,0,0,0,0,0,0,0,null,92,0,0,0,0,0,0,0,3.8333333333333335,0,0,0,0,0,0,0,0,null,92,0,0,0,0,0,0,0,3.8333333333333335,0,0,0,0,0,0,0,0,null,92,0,0,0,0,0,0,0,3.8333333333333335,0,0,0,0,0,0,0,0,null,92,0,0,0,0,0,0,0,3.8333333333333335,0,0,0,0,0,0,0,0,null,92,0,0,0,0,0,0,0,3.8333333333333335,0,0,0,0,0,0,0,0,null,92,0,0,0,0,0,0,0,3.8333333333333335,0,0,0,0,0,0,0,0,null,92,0,0,0,0,0,0,0,3.8333333333333335,0,0,0,0,0,0,0,0,null,92,0,0,0,0,0,0,0,3.8333333333333335,0,0,0,0,0,0,0,0,null,92,0,0,0,0,0,0,0,3.8333333333333335,0,0,0,0,0,0,0,0]
[93,0,0,0,0,0,0,0,3.875,0,0,0,0,0,0,0,0,null,93,0,0,0,0,0,0,0,3.875,0,0,0,0,0,0,0,0,null,93,0,0,0,0,0,0,0,3.875,0,0,0,0,0,0,0,0,null,93,0,0,0,0,0,0,0,3.875,0,0,0,0,0,0,0,0,null,93,0,0,0,0,0,0,0,3.875,0,0,0,0,0,0,0,0,null,93,0,0,0,0,0,0,0,3.875,0,0,0,0,0,0,0,0,null,93,0,0,0,0,0,0,0,3.875,0,0,0,0,0,0,0,0,null,93,0,0,0,0,0,0,0,3.875,0,0,0,0,0,0,0,0,null,93,0,0,0,0,0,0,0,3.875,0,0,0,0,0,0,0,0,null,93,0,0,0,0,0,0,0,3.875,0,0,0,0,0,0,0,0]
[94,0,0,0,0,0,0,0,3.9166666666666665,0,0,0,0,0,0,0,0,null,94,0,0,0,0,0,0,0,3.9166666666666665,0,0,0,0,0,0,0,0,null,94,0,0,0,0,0,0,0,3.9166666666666665,0,0,0,0,0,0,0,0,null,94,0,0,0,0,0,0,0,3.9166666666666665,0,0,0,0,0,0,0,0,null,94,0,0,0,0,0,0,0,3.9166666666666665,0,0,0,0,0,0,0,0,null,94,0,0,0,0,0,0,0,3.9166666666666665,0,0,0,0,0,0,0,0,null,94,0,0,0,0,0,0,0,3.9166666666666665,0,0,0,0,0,0,0,0,null,94,0,0,0,0,0,0,0,3.9166666666666665,0,0,0,0,0,0,0,0,null,94,0,0,0,0,0,0,0,3.9166666666666665,0,0,0,0,0,0,0,0,null,94,0,0,0,0,0,0,0,3.9166666666666665,0,0,0,0,0,0,0,0]
[95,0,0,0,0,0,0,0,3.9583333333333335,0,0,0,0,0,0,0,0,null,95,0,0,0,0,0,0,0,3.9583333333333335,0,0,0,0,0,0,0,0,null,95,0,0,0,0,0,0,0,3.9583333333333335,0,0,0,0,0,0,0,0,null,95,0,0,0,0,0,0,0,3.9583333333333335,0,0,0,0,0,0,0,0,null,95,0,0,0,0,0,0,0,3.9583333333333335,0,0,0,0,0,0,0,0,null,95,0,0,0,0,0,0,0,3.9583333333333335,0,0,0,0,0,0,0,0,null,95,0,0,0,0,0,0,0,3.9583333333333335,0,0,0,0,0,0,0,0,null,95,0,0,0,0,0,0,0,3.9583333333333335,0,0,0,0,0,0,0,0,null,95,0,0,0,0,0,0,0,3.9583333333333335,0,0,0,0,0,0,0,0,null,95,0,0,0,0,0,0,0,3.9583333333333335,0,0,0,0,0,0,0,0]
[96,0,0,0,0,0,0,0,4,0,0,0,0,0,0,0,0,null,96,0,0,0,0,0,0,0,4,0,0,0,0,0,0,0,0,null,96,0,0,0,0,0,0,0,4,0,0,0,0,0,0,0,0,null,96,0,0,0,0,0,0,0,4,0,0,0,0,0,0,0,0,null,96,0,0,0,0,0,0,0,4,0,0,0,0,0,0,0,0,null,96,0,0,0,0,0,0,0,4,0,0,0,0,0,0,0,0,null,96,0,0,0,0,0,0,0,4,0,0,0,0,0,0,0,0,null,96,0,0,0,0,0,0,0,4,0,0,0,0,0,0,0,0,null,96,0,0,0,0,0,0,0,4,0,0,0,0,0,0,0,0,null,96,0,0,0,0,0,0,0,4,0,0,0,0,0,0,0,0]
[97,0,0,0,0,0,0,0,4.041666666666667,0,0,0,0,0,0,0,0,null,97,0,0,0,0,0,0,0,4.041666666666667,0,0,0,0,0,0,0,0,null,97,0,0,0,0,0,0,0,4.041666666666667,0,0,0,0,0,0,0,0,null,97,0,0,0,0,0,0,0,4.041666666666667,0,0,0,0,0,0,0,0,null,97,0,0,0,0,0,0,0,4.041666666666667,0,0,0,0,0,0,0,0,null,97,0,0,0,0,0,0,0,4.041666666666667,0,0,0,0,0,0,0,0,null,97,0,0,0,0,0,0,0,4.041666666666667,0,0,0,0,0,0,0,0,null,97,0,0,0,0,0,0,0,4.041666666666667,0,0,0,0,0,0,0,0,null,97,0,0,0,0,0,0,0,4.041666666666667,0,0,0,0,0,0,0,0,null,97,0,0,0,0,0,0,0,4.041666666666667,0,0,0,0,0,0,0,0]
[98,0,0,0,0,0,0,0,4.083333333333333,0,0,0,0,0,0,0,0,null,98,0,0,0,0,0,0,0,4.083333333333333,0,0,0,0,0,0,0,0,null,98,0,0,0,0,0,0,0,4.083333333333333,0,0,0,0,0,0,0,0,null,98,0,0,0,0,0,0,0,4.083333333333333,0,0,0,0,0,0,0,0,null,98,0,0,0,0,0,0,0,4.083333333333333,0,0,0,0,0,0,0,0,null,98,0,0,0,0,0,0,0,4.083333333333333,0,0,0,0,0,0,0,0,null,98,0,0,0,0,0,0,0,4.083333333333333,0,0,0,0,0,0,0,0,null,98,0,0,0,0,0,0,0,4.083333333333333,0,0,0,0,0,0,0,0,null,98,0,0,0,0,0,0,0,4.083333333333333,0,0,0,0,0,0,0,0,null,98,0,0,0,0,0,0,0,4.083333333333333,0,0,0,0,0,0,0,0]
[99,0,0,0,0,0,0,0,4.125,0,0,0,0,0,0,0,0,null,99,0,0,0,0,0,0,0,4.125,0,0,0,0,0,0,0,0,null,99,0,0,0,0,0,0,0,4.125,0,0,0,0,0,0,0,0,null,99,0,0,0,0,0,0,0,4.125,0,0,0,0,0,0,0,0,null,99,0,0,0,0,0,0,0,4.125,0,0,0,0,0,0,0,0,null,99,0,0,0,0,0,0,0,4.125,0,0,0,0,0,0,0,0,null,99,0,0,0,0,0,0,0,4.125,0,0,0,0,0,0,0,0,null,99,0,0,0,0,0,0,0,4.125,0,0,0,0,0,0,0,0,null,99,0,0,0,0,0,0,0,4.125,0,0,0,0,0,0,0,0,null,99,0,0,0,0,0,0,0,4.125,0,0,0,0,0,0,0,0]
[100,0,0,0,0,0,0,0,4.166666666666667,0,0,0,0,0,0,0,0,null,100,0,0,0,0,0,0,0,4.166666666666667,0,0,0,0,0,0,0,0,null,100,0,0,0,0,0,0,0,4.166666666666667,0,0,0,0,0,0,0,0,null,100,0,0,0,0,0,0,0,4.166666666666667,0,0,0,0,0,0,0,0,null,100,0,0,0,0,0,0,0,4.166666666666667,0,0,0,0,0,0,0,0,null,100,0,0,0,0,0,0,0,4.166666666666667,0,0,0,0,0,0,0,0,null,100,0,0,0,0,0,0,0,4.166666666666667,0,0,0,0,0,0,0,0,null,100,0,0,0,0,0,0,0,4.166666666666667,0,0,0,0,0,0,0,0,null,100,0,0,0,0,0,0,0,4.166666666666667,0,0,0,0,0,0,0,0,null,100,0,0,0,0,0,0,0,4.166666666666667,0,0,0,0,0,0,0,0]
[101,0,0,0,0,0,0,0,4.208333333333333,0,0,0,0,0,0,0,0,null,101,0,0,0,0,0,0,0,4.208333333333333,0,0,0,0,0,0,0,0,null,101,0,0,0,0,0,0,0,4.208333333333333,0,0,0,0,0,0,0,0,null,101,0,0,0,0,0,0,0,4.208333333333333,0,0,0,0,0,0,0,0,null,101,0,0,0,0,0,0,0,4.208333333333333,0,0,0,0,0,0,0,0,null,101,0,0,0,0,0,0,0,4.208333333333333,0,0,0,0,0,0,0,0,null,101,0,0,0,0,0,0,0,4.208333333333333,0,0,0,0,0,0,0,0,null,101,0,0,0,0,0,0,0,4.208333333333333,0,0,0,0,0,0,0,0,null,101,0,0,0,0,0,0,0,4.208333333333333,0,0,0,0,0,0,0,0,null,101,0,0,0,0,0,0,0,4.208333333333333,0,0,0,0,0,0,0,0]
[102,0,0,0,0,0,0,0,4.25,0,0,0,0,0,0,0,0,null,102,0,0,0,0,0,0,0,4.25,0,0,0,0,0,0,0,0,null,102,0,0,0,0,0,0,0,4.25,0,0,0,0,0,0,0,0,null,102,0,0,0,0,0,0,0,4.25,0,0,0,0,0,0,0,0,null,102,0,0,0,0,0,0,0,4.25,0,0,0,0,0,0,0,0,null,102,0,0,0,0,0,0,0,4.25,0,0,0,0,0,0,0,0,null,102,0,0,0,0,0,0,0,4.25,0,0,0,0,0,0,0,0,null,102,0,0,0,0,0,0,0,4.25,0,0,0,0,0,0,0,0,null,102,0,0,0,0,0,0,0,4.25,0,0,0,0,0,0,0,0,null,102,0,0,0,0,0,0,0,4.25,0,0,0,0,0,0,0,0]
[103,0,0,0,0,0,0,0,4.291666666666667,0,0,0,0,0,0,0,0,null,103,0,0,0,0,0,0,0,4.291666666666667,0,0,0,0,0,0,0,0,null,103,0,0,0,0,0,0,0,4.291666666666667,0,0,0,0,0,0,0,0,null,103,0,0,0,0,0,0,0,4.291666666666667,0,0,0,0,0,0,0,0,null,103,0,0,0,0,0,0,0,4.291666666666667,0,0,0,0,0,0,0,0,null,103,0,0,0,0,0,0,0,4.291666666666667,0,0,0,0,0,0,0,0,null,103,0,0,0,0,0,0,0,4.291666666666667,0,0,0,0,0,0,0,0,null,103,0,0,0,0,0,0,0,4.291666666666667,0,0,0,0,0,0,0,0,null,103,0,0,0,0,0,0,0,4.291666666666667,0,0,0,0,0,0,0,0,null,103,0,0,0,0,0,0,0,4.291666666666667,0,0,0,0,0,0,0,0]
[104,0,0,0,0,0,0,0,4.333333333333333,0,0,0,0,0,0,0,0,null,104,0,0,0,0,0,0,0,4.333333333333333,0,0,0,0,0,0,0,0,null,104,0,0,0,0,0,0,0,4.333333333333333,0,0,0,0,0,0,0,0,null,104,0,0,0,0,0,0,0,4.333333333333333,0,0,0,0,0,0,0,0,null,104,0,0,0,0,0,0,0,4.333333333333333,0,0,0,0,0,0,0,0,null,104,0,0,0,0,0,0,0,4.333333333333333,0,0,0,0,0,0,0,0,null,104,0,0,0,0,0,0,0,4.333333333333333,0,0,0,0,0,0,0,0,null,104,0,0,0,0,0,0,0,4.333333333333333,0,0,0,0,0,0,0,0,null,104,0,0,0,0,0,0,0,4.333333333333333,0,0,0,0,0,0,0,0,null,104,0,0,0,0,0,0,0,4.333333333333333,0,0,0,0,0,0,0,0]
[105,0,0,0,0,0,0,0,4.375,0,0,0,0,0,0,0,0,null,105,0,0,0,0,0,0,0,4.375,0,0,0,0,0,0,0,0,null,105,0,0,0,0,0,0,0,4.375,0,0,0,0,0,0,0,0,null,105,0,0,0,0,0,0,0,4.375,0,0,0,0,0,0,0,0,null,105,0,0,0,0,0,0,0,4.375,0,0,0,0,0,0,0,0,null,105,0,0,0,0,0,0,0,4.375,0,0,0,0,0,0,0,0,null,105,0,0,0,0,0,0,0,4.375,0,0,0,0,0,0,0,0,null,105,0,0,0,0,0,0,0,4.375,0,0,0,0,0,0,0,0,null,105,0,0,0,0,0,0,0,4.375,0,0,0,0,0,0,0,0,null,105,0,0,0,0,0,0,0,4.375,0,0,0,0,0,0,0,0]
[106,0,0,0,0,0,0,0,4.416666666666667,0,0,0,0,0,0,0,0,null,106,0,0,0,0,0,0,0,4.416666666666667,0,0,0,0,0,0,0,0,null,106,0,0,0,0,0,0,0,4.416666666666667,0,0,0,0,0,0,0,0,null,106,0,0,0,0,0,0,0,4.416666666666667,0,0,0,0,0,0,0,0,null,106,0,0,0,0,0,0,0,4.416666666666667,0,0,0,0,0,0,0,0,null,106,0,0,0,0,0,0,0,4.416666666666667,0,0,0,0,0,0,0,0,null,106,0,0,0,0,0,0,0,4.416666666666667,0,0,0,0,0,0,0,0,null,106,0,0,0,0,0,0,0,4.416666666666667,0,0,0,0,0,0,0,0,null,106,0,0,0,0,0,0,0,4.416666666666667,0,0,0,0,0,0,0,0,null,106,0,0,0,0,0,0,0,4.416666666666667,0,0,0,0,0,0,0,0]
[107,0,0,0,0,0,0,0,4.458333333333333,0,0,0,0,0,0,0,0,null,107,0,0,0,0,0,0,0,4.458333333333333,0,0,0,0,0,0,0,0,null,107,0,0,0,0,0,0,0,4.458333333333333,0,0,0,0,0,0,0,0,null,107,0,0,0,0,0,0,0,4.458333333333333,0,0,0,0,0,0,0,0,null,107,0,0,0,0,0,0,0,4.458333333333333,0,0,0,0,0,0,0,0,null,107,0,0,0,0,0,0,0,4.458333333333333,0,0,0,0,0,0,0,0,null,107,0,0,0,0,0,0,0,4.458333333333333,0,0,0,0,0,0,0,0,null,107,0,0,0,0,0,0,0,4.458333333333333,0,0,0,0,0,0,0,0,null,107,0,0,0,0,0,0,0,4.458333333333333,0,0,0,0,0,0,0,0,null,107,0,0,0,0,0,0,0,4.458333333333333,0,0,0,0,0,0,0,0]
[108,0,0,0,0,0,0,0,4.5,0,0,0,0,0,0,0,0,null,108,0,0,0,0,0,0,0,4.5,0,0,0,0,0,0,0,0,null,108,0,0,0,0,0,0,0,4.5,0,0,0,0,0,0,0,0,null,108,0,0,0,0,0,0,0,4.5,0,0,0,0,0,0,0,0,null,108,0,0,0,0,0,0,0,4.5,0,0,0,0,0,0,0,0,null,108,0,0,0,0,0,0,0,4.5,0,0,0,0,0,0,0,0,null,108,0,0,0,0,0,0,0,4.5,0,0,0,0,0,0,0,0,null,108,0,0,0,0,0,0,0,4.5,0,0,0,0,0,0,0,0,null,108,0,0,0,0,0,0,0,4.5,0,0,0,0,0,0,0,0,null,108,0,0,0,0,0,0,0,4.5,0,0,0,0,0,0,0,0]
[109,0,0,0,0,0,0,0,4.541666666666667,0,0,0,0,0,0,0,0,null,109,0,0,0,0,0,0,0,4.541666666666667,0,0,0,0,0,0,0,0,null,109,0,0,0,0,0,0,0,4.541666666666667,0,0,0,0,0,0,0,0,null,109,0,0,0,0,0,0,0,4.541666666666667,0,0,0,0,0,0,0,0,null,109,0,0,0,0,0,0,0,4.541666666666667,0,0,0,0,0,0,0,0,null,109,0,0,0,0,0,0,0,4.541666666666667,0,0,0,0,0,0,0,0,null,109,0,0,0,0,0,0,0,4.541666666666667,0,0,0,0,0,0,0,0,null,109,0,0,0,0,0,0,0,4.541666666666667,0,0,0,0,0,0,0,0,null,109,0,0,0,0,0,0,0,4.541666666666667,0,0,0,0,0,0,0,0,null,109,0,0,0,0,0,0,0,4.541666666666667,0,0,0,0,0,0,0,0]
[110,0,0,0,0,0,0,0,4.583333333333333,0,0,0,0,0,0,0,0,null,110,0,0,0,0,0,0,0,4.583333333333333,0,0,0,0,0,0,0,0,null,110,0,0,0,0,0,0,0,4.583333333333333,0,0,0,0,0,0,0,0,null,110,0,0,0,0,0,0,0,4.583333333333333,0,0,0,0,0,0,0,0,null,110,0,0,0,0,0,0,0,4.583333333333333,0,0,0,0,0,0,0,0,null,110,0,0,0,0,0,0,0,4.583333333333333,0,0,0,0,0,0,0,0,null,110,0,0,0,0,0,0,0,4.583333333333333,0,0,0,0,0,0,0,0,null,110,0,0,0,0,0,0,0,4.583333333333333,0,0,0,0,0,0,0,0,null,110,0,0,0,0,0,0,0,4.583333333333333,0,0,0,0,0,0,0,0,null,110,0,0,0,0,0,0,0,4.583333333333333,0,0,0,0,0,0,0,0]
[111,0,0,0,0,0,0,0,4.625,0,0,0,0,0,0,0,0,null,111,0,0,0,0,0,0,0,4.625,0,0,0,0,0,0,0,0,null,111,0,0,0,0,0,0,0,4.625,0,0,0,0,0,0,0,0,null,111,0,0,0,0,0,0,0,4.625,0,0,0,0,0,0,0,0,null,111,0,0,0,0,0,0,0,4.625,0,0,0,0,0,0,0,0,null,111,0,0,0,0,0,0,0,4.625,0,0,0,0,0,0,0,0,null,111,0,0,0,0,0,0,0,4.625,0,0,0,0,0,0,0,0,null,111,0,0,0,0,0,0,0,4.625,0,0,0,0,0,0,0,0,null,111,0,0,0,0,0,0,0,4.625,0,0,0,0,0,0,0,0,null,111,0,0,0,0,0,0,0,4.625,0,0,0,0,0,0,0,0]
[112,0,0,0,0,0,0,0,4.666666666666667,0,0,0,0,0,0,0,0,null,112,0,0,0,0,0,0,0,4.666666666666667,0,0,0,0,0,0,0,0,null,112,0,0,0,0,0,0,0,4.666666666666667,0,0,0,0,0,0,0,0,null,112,0,0,0,0,0,0,0,4.666666666666667,0,0,0,0,0,0,0,0,null,112,0,0,0,0,0,0,0,4.666666666666667,0,0,0,0,0,0,0,0,null,112,0,0,0,0,0,0,0,4.666666666666667,0,0,0,0,0,0,0,0,null,112,0,0,0,0,0,0,0,4.666666666666667,0,0,0,0,0,0,0,0,null,112,0,0,0,0,0,0,0,4.666666666666667,0,0,0,0,0,0,0,0,null,112,0,0,0,0,0,0,0,4.666666666666667,0,0,0,0,0,0,0,0,null,112,0,0,0,0,0,0,0,4.666666666666667,0,0,0,0,0,0,0,0]
[113,0,0,0,0,0,0,0,4.708333333333333,0,0,0,0,0,0,0,0,null,113,0,0,0,0,0,0,0,4.708333333333333,0,0,0,0,0,0,0,0,null,113,0,0,0,0,0,0,0,4.708333333333333,0,0,0,0,0,0,0,0,null,113,0,0,0,0,0,0,0,4.708333333333333,0,0,0,0,0,0,0,0,null,113,0,0,0,0,0,0,0,4.708333333333333,0,0,0,0,0,0,0,0,null,113,0,0,0,0,0,0,0,4.708333333333333,0,0,0,0,0,0,0,0,null,113,0,0,0,0,0,0,0,4.708333333333333,0,0,0,0,0,0,0,0,null,113,0,0,0,0,0,0,0,4.708333333333333,0,0,0,0,0,0,0,0,null,113,0,0,0,0,0,0,0,4.708333333333333,0,0,0,0,0,0,0,0,null,113,0,0,0,0,0,0,0,4.708333333333333,0,0,0,0,0,0,0,0]
[114,0,0,0,0,0,0,0,4.75,0,0,0,0,0,0,0,0,null,114,0,0,0,0,0,0,0,4.75,0,0,0,0,0,0,0,0,null,114,0,0,0,0,0,0,0,4.75,0,0,0,0,0,0,0,0,null,114,0,0,0,0,0,0,0,4.75,0,0,0,0,0,0,0,0,null,114,0,0,0,0,0,0,0,4.75,0,0,0,0,0,0,0,0,null,114,0,0,0,0,0,0,0,4.75,0,0,0,0,0,0,0,0,null,114,0,0,0,0,0,0,0,4.75,0,0,0,0,0,0,0,0,null,114,0,0,0,0,0,0,0,4.75,0,0,0,0,0,0,0,0,null,114,0,0,0,0,0,0,0,4.75,0,0,0,0,0,0,0,0,null,114,0,0,0,0,0,0,0,4.75,0,0,0,0,0,0,0,0]
[115,0,0,0,0,0,0,0,4.791666666666667,0,0,0,0,0,0,0,0,null,115,0,0,0,0,0,0,0,4.791666666666667,0,0,0,0,0,0,0,0,null,115,0,0,0,0,0,0,0,4.791666666666667,0,0,0,0,0,0,0,0,null,115,0,0,0,0,0,0,0,4.791666666666667,0,0,0,0,0,0,0,0,null,115,0,0,0,0,0,0,0,4.791666666666667,0,0,0,0,0,0,0,0,null,115,0,0,0,0,0,0,0,4.791666666666667,0,0,0,0,0,0,0,0,null,115,0,0,0,0,0,0,0,4.791666666666667,0,0,0,0,0,0,0,0,null,115,0,0,0,0,0,0,0,4.791666666666667,0,0,0,0,0,0,0,0,null,115,0,0,0,0,0,0,0,4.791666666666667,0,0,0,0,0,0,0,0,null,115,0,0,0,0,0,0,0,4.791666666666667,0,0,0,0,0,0,0,0]
[116,0,0,0,0,0,0,0,4.833333333333333,0,0,0,0,0,0,0,0,null,116,0,0,0,0,0,0,0,4.833333333333333,0,0,0,0,0,0,0,0,null,116,0,0,0,0,0,0,0,4.833333333333333,0,0,0,0,0,0,0,0,null,116,0,0,0,0,0,0,0,4.833333333333333,0,0,0,0,0,0,0,0,null,116,0,0,0,0,0,0,0,4.833333333333333,0,0,0,0,0,0,0,0,null,116,0,0,0,0,0,0,0,4.833333333333333,0,0,0,0,0,0,0,0,null,116,0,0,0,0,0,0,0,4.833333333333333,0,0,0,0,0,0,0,0,null,116,0,0,0,0,0,0,0,4.833333333333333,0,0,0,0,0,0,0,0,null,116,0,0,0,0,0,0,0,4.833333333333333,0,0,0,0,0,0,0,0,null,116,0,0,0,0,0,0,0,4.833333333333333,0,0,0,0,0,0,0,0]
[117,0,0,0,0,0,0,0,4.875,0,0,0,0,0,0,0,0,null,117,0,0,0,0,0,0,0,4.875,0,0,0,0,0,0,0,0,null,117,0,0,0,0,0,0,0,4.875,0,0,0,0,0,0,0,0,null,117,0,0,0,0,0,0,0,4.875,0,0,0,0,0,0,0,0,null,117,0,0,0,0,0,0,0,4.875,0,0,0,0,0,0,0,0,null,117,0,0,0,0,0,0,0,4.875,0,0,0,0,0,0,0,0,null,117,0,0,0,0,0,0,0,4.875,0,0,0,0,0,0,0,0,null,117,0,0,0,0,0,0,0,4.875,0,0,0,0,0,0,0,0,null,117,0,0,0,0,0,0,0,4.875,0,0,0,0,0,0,0,0,null,117,0,0,0,0,0,0,0,4.875,0,0,0,0,0,0,0,0]
[118,0,0,0,0,0,0,0,4.916666666666667,0,0,0,0,0,0,0,0,null,118,0,0,0,0,0,0,0,4.916666666666667,0,0,0,0,0,0,0,0,null,118,0,0,0,0,0,0,0,4.916666666666667,0,0,0,0,0,0,0,0,null,118,0,0,0,0,0,0,0,4.916666666666667,0,0,0,0,0,0,0,0,null,118,0,0,0,0,0,0,0,4.916666666666667,0,0,0,0,0,0,0,0,null,118,0,0,0,0,0,0,0,4.916666666666667,0,0,0,0,0,0,0,0,null,118,0,0,0,0,0,0,0,4.916666666666667,0,0,0,0,0,0,0,0,null,118,0,0,0,0,0,0,0,4.916666666666667,0,0,0,0,0,0,0,0,null,118,0,0,0,0,0,0,0,4.916666666666667,0,0,0,0,0,0,0,0,null,118,0,0,0,0,0,0,0,4.916666666666667,0,0,0,0,0,0,0,0]
[119,0,0,0,0,0,0,0,4.958333333333333,0,0,0,0,0,0,0,0,null,119,0,0,0,0,0,0,0,4.958333333333333,0,0,0,0,0,0,0,0,null,119,0,0,0,0,0,0,0,4.958333333333333,0,0,0,0,0,0,0,0,null,119,0,0,0,0,0,0,0,4.958333333333333,0,0,0,0,0,0,0,0,null,119,0,0,0,0,0,0,0,4.958333333333333,0,0,0,0,0,0,0,0,null,119,0,0,0,0,0,0,0,4.958333333333333,0,0,0,0,0,0,0,0,null,119,0,0,0,0,0,0,0,4.958333333333333,0,0,0,0,0,0,0,0,null,119,0,0,0,0,0,0,0,4.958333333333333,0,0,0,0,0,0,0,0,null,119,0,0,0,0,0,0,0,4.958333333333333,0,0,0,0,0,0,0,0,null,119,0,0,0,0,0,0,0,4.958333333333333,0,0,0,0,0,0,0,0]
[120,0,0,0,0,0,0,0,5,0,0,0,0,0,0,0,0,null,120,0,0,0,0,0,0,0,5,0,0,0,0,0,0,0,0,null,120,0,0,0,0,0,0,0,5,0,0,0,0,0,0,0,0,null,120,0,0,0,0,0,0,0,5,0,0,0,0,0,0,0,0,null,120,0,0,0,0,0,0,0,5,0,0,0,0,0,0,0,0,null,120,0,0,0,0,0,0,0,5,0,0,0,0,0,0,0,0,null,120,0,0,0,0,0,0,0,5,0,0,0,0,0,0,0,0,null,120,0,0,0,0,0,0,0,5,0,0,0,0,0,0,0,0,null,120,0,0,0,0,0,0,0,5,0,0,0,0,0,0,0,0,null,120,0,0,0,0,0,0,0,5,0,0,0,0,0,0,0,0]
[121,0,0,0,0,0,0,0,5.041666666666667,0,0,0,0,0,0,0,0,null,121,0,0,0,0,0,0,0,5.041666666666667,0,0,0,0,0,0,0,0,null,121,0,0,0,0,0,0,0,5.041666666666667,0,0,0,0,0,0,0,0,null,121,0,0,0,0,0,0,0,5.041666666666667,0,0,0,0,0,0,0,0,null,121,0,0,0,0,0,0,0,5.041666666666667,0,0,0,0,0,0,0,0,null,121,0,0,0,0,0,0,0,5.041666666666667,0,0,0,0,0,0,0,0,null,121,0,0,0,0,0,0,0,5.041666666666667,0,0,0,0,0,0,0,0,null,121,0,0,0,0,0,0,0,5.041666666666667,0,0,0,0,0,0,0,0,null,121,0,0,0,0,0,0,0,5.041666666666667,0,0,0,0,0,0,0,0,null,121,0,0,0,0,0,0,0,5.041666666666667,0,0,0,0,0,0,0,0]
[122,0,0,0,0,0,0,0,5.083333333333333,0,0,0,0,0,0,0,0,null,122,0,0,0,0,0,0,0,5.083333333333333,0,0,0,0,0,0,0,0,null,122,0,0,0,0,0,0,0,5.083333333333333,0,0,0,0,0,0,0,0,null,122,0,0,0,0,0,0,0,5.083333333333333,0,0,0,0,0,0,0,0,null,122,0,0,0,0,0,0,0,5.083333333333333,0,0,0,0,0,0,0,0,null,122,0,0,0,0,0,0,0,5.083333333333333,0,0,0,0,0,0,0,0,null,122,0,0,0,0,0,0,0,5.083333333333333,0,0,0,0,0,0,0,0,null,122,0,0,0,0,0,0,0,5.083333333333333,0,0,0,0,0,0,0,0,null,122,0,0,0,0,0,0,0,5.083333333333333,0,0,0,0,0,0,0,0,null,122,0,0,0,0,0,0,0,5.083333333333333,0,0,0,0,0,0,0,0]
[123,0,0,0,0,0,0,0,5.125,0,0,0,0,0,0,0,0,null,123,0,0,0,0,0,0,0,5.125,0,0,0,0,0,0,0,0,null,123,0,0,0,0,0,0,0,5.125,0,0,0,0,0,0,0,0,null,123,0,0,0,0,0,0,0,5.125,0,0,0,0,0,0,0,0,null,123,0,0,0,0,0,0,0,5.125,0,0,0,0,0,0,0,0,null,123,0,0,0,0,0,0,0,5.125,0,0,0,0,0,0,0,0,null,123,0,0,0,0,0,0,0,5.125,0,0,0,0,0,0,0,0,null,123,0,0,0,0,0,0,0,5.125,0,0,0,0,0,0,0,0,null,123,0,0,0,0,0,0,0,5.125,0,0,0,0,0,0,0,0,null,123,0,0,0,0,0,0,0,5.125,0,0,0,0,0,0,0,0]
[124,0,0,0,0,0,0,0,5.166666666666667,0,0,0,0,0,0,0,0,null,124,0,0,0,0,0,0,0,5.166666666666667,0,0,0,0,0,0,0,0,null,124,0,0,0,0,0,0,0,5.166666666666667,0,0,0,0,0,0,0,0,null,124,0,0,0,0,0,0,0,5.166666666666667,0,0,0,0,0,0,0,0,null,124,0,0,0,0,0,0,0,5.166666666666667,0,0,0,0,0,0,0,0,null,124,0,0,0,0,0,0,0,5.166666666666667,0,0,0,0,0,0,0,0,null,124,0,0,0,0,0,0,0,5.166666666666667,0,0,0,0,0,0,0,0,null,124,0,0,0,0,0,0,0,5.166666666666667,0,0,0,0,0,0,0,0,null,124,0,0,0,0,0,0,0,5.166666666666667,0,0,0,0,0,0,0,0,null,124,0,0,0,0,0,0,0,5.166666666666667,0,0,0,0,0,0,0,0]
[125,0,0,0,0,0,0,0,5.208333333333333,0,0,0,0,0,0,0,0,null,125,0,0,0,0,0,0,0,5.208333333333333,0,0,0,0,0,0,0,0,null,125,0,0,0,0,0,0,0,5.208333333333333,0,0,0,0,0,0,0,0,null,125,0,0,0,0,0,0,0,5.208333333333333,0,0,0,0,0,0,0,0,null,125,0,0,0,0,0,0,0,5.208333333333333,0,0,0,0,0,0,0,0,null,125,0,0,0,0,0,0,0,5.208333333333333,0,0,0,0,0,0,0,0,null,125,0,0,0,0,0,0,0,5.208333333333333,0,0,0,0,0,0,0,0,null,125,0,0,0,0,0,0,0,5.208333333333333,0,0,0,0,0,0,0,0,null,125,0,0,0,0,0,0,0,5.208333333333333,0,0,0,0,0,0,0,0,null,125,0,0,0,0,0,0,0,5.208333333333333,0,0,0,0,0,0,0,0]
[126,0,0,0,0,0,0,0,5.25,0,0,0,0,0,0,0,0,null,126,0,0,0,0,0,0,0,5.25,0,0,0,0,0,0,0,0,null,126,0,0,0,0,0,0,0,5.25,0,0,0,0,0,0,0,0,null,126,0,0,0,0,0,0,0,5.25,0,0,0,0,0,0,0,0,null,126,0,0,0,0,0,0,0,5.25,0,0,0,0,0,0,0,0,null,126,0,0,0,0,0,0,0,5.25,0,0,0,0,0,0,0,0,null,126,0,0,0,0,0,0,0,5.25,0,0,0,0,0,0,0,0,null,126,0,0,0,0,0,0,0,5.25,0,0,0,0,0,0,0,0,null,126,0,0,0,0,0,0,0,5.25,0,0,0,0,0,0,0,0,null,126,0,0,0,0,0,0,0,5.25,0,0,0,0,0,0,0,0]
[127,0,0,0,0,0,0,0,5.291666666666667,0,0,0,0,0,0,0,0,null,127,0,0,0,0,0,0,0,5.291666666666667,0,0,0,0,0,0,0,0,null,127,0,0,0,0,0,0,0,5.291666666666667,0,0,0,0,0,0,0,0,null,127,0,0,0,0,0,0,0,5.291666666666667,0,0,0,0,0,0,0,0,null,127,0,0,0,0,0,0,0,5.291666666666667,0,0,0,0,0,0,0,0,null,127,0,0,0,0,0,0,0,5.291666666666667,0,0,0,0,0,0,0,0,null,127,0,0,0,0,0,0,0,5.291666666666667,0,0,0,0,0,0,0,0,null,127,0,0,0,0,0,0,0,5.291666666666667,0,0,0,0,0,0,0,0,null,127,0,0,0,0,0,0,0,5.291666666666667,0,0,0,0,0,0,0,0,null,127,0,0,0,0,0,0,0,5.291666666666667,0,0,0,0,0,0,0,0]
[128,0,0,0,0,0,0,0,5.333333333333333,0,0,0,0,0,0,0,0,null,128,0,0,0,0,0,0,0,5.333333333333333,0,0,0,0,0,0,0,0,null,128,0,0,0,0,0,0,0,5.333333333333333,0,0,0,0,0,0,0,0,null,128,0,0,0,0,0,0,0,5.333333333333333,0,0,0,0,0,0,0,0,null,128,0,0,0,0,0,0,0,5.333333333333333,0,0,0,0,0,0,0,0,null,128,0,0,0,0,0,0,0,5.333333333333333,0,0,0,0,0,0,0,0,null,128,0,0,0,0,0,0,0,5.333333333333333,0,0,0,0,0,0,0,0,null,128,0,0,0,0,0,0,0,5.333333333333333,0,0,0,0,0,0,0,0,null,128,0,0,0,0,0,0,0,5.333333333333333,0,0,0,0,0,0,0,0,null,128,0,0,0,0,0,0,0,5.333333333333333,0,0,0,0,0,0,0,0]
[129,{"$f":"IF(RAEggsComm1=\"\",0,(IF(A141<(RAEggsComm1-DSTDEggsComm1),0,IF(A141<(RAEggsComm1+DSTDEggsComm1),LSComm1Eggs,0))))","v":0},{"$f":"IF(RA1stComm1=\"\",0,(IF(A141<(RA1stComm1-DSTD1stComm1),0,IF(A141<(RA1stComm1+DSTD1stComm1),LSComm11st,0))))","v":0},{"$f":"IF(RA2ndComm1=\"\",0,(IF(A141<(RA2ndComm1-DSTD2ndComm1),0,IF(A141<(RA2ndComm1+DSTD2ndComm1),LSComm12nd,0))))","v":0},{"$f":"IF(RA3rdComm1=\"\",0,(IF(A141<(RA3rdComm1-DSTD3rdComm1),0,IF(A141<(RA3rdComm1+DSTD3rdComm1),LSComm13rd,0))))","v":0},{"$f":"IF(RA4thComm1=\"\",0,(IF(A141<(RA4thComm1-DSTD4thComm1),0,IF(A141<(RA4thComm1+DSTD4thComm1),LSComm14th,0))))","v":0},{"$f":"IF(RA5thComm1=\"\",0,(IF(A141<(RA5thComm1-DSTD5thComm1),0,IF(A141<(RA5thComm1+DSTD5thComm1),LSComm15th,0))))","v":0},{"$f":"IF(RAPupaeComm1=\"\",0,(IF(A141<(RAPupaeComm1-DSTDPupaeComm1),0,IF(A141<(RAPupaeComm1+DSTDPupaeComm1),LSComm1Pupae,0))))","v":0},{"$f":"A141/24","v":5.375},{"$f":"SUM(B141:H141)","v":0},0,0,0,0,0,0,0,null,129,{"$f":"IF(RAEggsComm2=\"\",0,(IF(S141<(RAEggsComm2-DSTDEggsComm2),0,IF(S141<(RAEggsComm2+DSTDEggsComm2),LSComm2Eggs,0))))","v":0},{"$f":"IF(RA1stComm2=\"\",0,(IF(S141<(RA1stComm2-DSTD1stComm2),0,IF(S141<(RA1stComm2+DSTD1stComm2),LSComm21st,0))))","v":0},{"$f":"IF(RA2ndComm2=\"\",0,(IF(S141<(RA2ndComm2-DSTD2ndComm2),0,IF(S141<(RA2ndComm2+DSTD2ndComm2),LSComm22nd,0))))","v":0},{"$f":"IF(RA3rdComm2=\"\",0,(IF(S141<(RA3rdComm2-DSTD3rdComm2),0,IF(S141<(RA3rdComm2+DSTD3rdComm2),LSComm23rd,0))))","v":0},{"$f":"IF(RA4thComm2=\"\",0,(IF(S141<(RA4thComm2-DSTD4thComm2),0,IF(S141<(RA4thComm2+DSTD4thComm2),LSComm24th,0))))","v":0},{"$f":"IF(RA5thComm2=\"\",0,(IF(S141<(RA5thComm2-DSTD5thComm2),0,IF(S141<(RA5thComm2+DSTD5thComm2),LSComm25th,0))))","v":0},{"$f":"IF(RAPupaeComm2=\"\",0,(IF(S141<(RAPupaeComm2-DSTDPupaeComm2),0,IF(S141<(RAPupaeComm2+DSTDPupaeComm2),LSComm2Pupae,0))))","v":0},{"$f":"S141/24","v":5.375},{"$f":"SUM(T141:Z141)","v":0},0,0,0,0,0,0,0,null,129,{"$f":"IF(RAEggsComm3=\"\",0,(IF(AK141<(RAEggsComm3-DSTDEggsComm3),0,IF(AK141<(RAEggsComm3+DSTDEggsComm3),LSComm3Eggs,0))))","v":0},{"$f":"IF(RA1stComm3=\"\",0,(IF(AK141<(RA1stComm3-DSTD1stComm3),0,IF(AK141<(RA1stComm3+DSTD1stComm3),LSComm31st,0))))","v":0},{"$f":"IF(RA2ndComm3=\"\",0,(IF(AK141<(RA2ndComm3-DSTD2ndComm3),0,IF(AK141<(RA2ndComm3+DSTD2ndComm3),LSComm32nd,0))))","v":0},{"$f":"IF(RA3rdComm3=\"\",0,(IF(AK141<(RA3rdComm3-DSTD3rdComm3),0,IF(AK141<(RA3rdComm3+DSTD3rdComm3),LSComm33rd,0))))","v":0},{"$f":"IF(RA4thComm3=\"\",0,(IF(AK141<(RA4thComm3-DSTD4thComm3),0,IF(AK141<(RA4thComm3+DSTD4thComm3),LSComm34th,0))))","v":0},{"$f":"IF(RA5thComm3=\"\",0,(IF(AK141<(RA5thComm3-DSTD5thComm3),0,IF(AK141<(RA5thComm3+DSTD5thComm3),LSComm35th,0))))","v":0},{"$f":"IF(RAPupaeComm3=\"\",0,(IF(AK141<(RAPupaeComm3-DSTDPupaeComm3),0,IF(AK141<(RAPupaeComm3+DSTDPupaeComm3),LSComm3Pupae,0))))","v":0},{"$f":"AK141/24","v":5.375},{"$f":"SUM(AL141:AR141)","v":0},0,0,0,0,0,0,0,null,129,{"$f":"IF(RAEggsComm4=\"\",0,(IF(BC141<(RAEggsComm4-DSTDEggsComm4),0,IF(BC141<(RAEggsComm4+DSTDEggsComm4),LSComm4Eggs,0))))","v":0},{"$f":"IF(RA1stComm4=\"\",0,(IF(BC141<(RA1stComm4-DSTD1stComm4),0,IF(BC141<(RA1stComm4+DSTD1stComm4),LSComm41st,0))))","v":0},{"$f":"IF(RA2ndComm4=\"\",0,(IF(BC141<(RA2ndComm4-DSTD2ndComm4),0,IF(BC141<(RA2ndComm4+DSTD2ndComm4),LSComm42nd,0))))","v":0},{"$f":"IF(RA3rdComm4=\"\",0,(IF(BC141<(RA3rdComm4-DSTD3rdComm4),0,IF(BC141<(RA3rdComm4+DSTD3rdComm4),LSComm43rd,0))))","v":0},{"$f":"IF(RA4thComm4=\"\",0,(IF(BC141<(RA4thComm4-DSTD4thComm4),0,IF(BC141<(RA4thComm4+DSTD4thComm4),LSComm44th,0))))","v":0},{"$f":"IF(RA5thComm4=\"\",0,(IF(BC141<(RA5thComm4-DSTD5thComm4),0,IF(BC141<(RA5thComm4+DSTD5thComm4),LSComm45th,0))))","v":0},{"$f":"IF(RAPupaeComm4=\"\",0,(IF(BC141<(RAPupaeComm4-DSTDPupaeComm4),0,IF(BC141<(RAPupaeComm4+DSTDPupaeComm4),LSComm4Pupae,0))))","v":0},{"$f":"BC141/24","v":5.375},{"$f":"SUM(BD141:BJ141)","v":0},0,0,0,0,0,0,0,null,129,{"$f":"IF(RAEggsComm5=\"\",0,(IF(BU141<(RAEggsComm5-DSTDEggsComm5),0,IF(BU141<(RAEggsComm5+DSTDEggsComm5),LSComm5Eggs,0))))","v":0},{"$f":"IF(RA1stComm5=\"\",0,(IF(BU141<(RA1stComm5-DSTD1stComm5),0,IF(BU141<(RA1stComm5+DSTD1stComm5),LSComm51st,0))))","v":0},{"$f":"IF(RA2ndComm5=\"\",0,(IF(BU141<(RA2ndComm5-DSTD2ndComm5),0,IF(BU141<(RA2ndComm5+DSTD2ndComm5),LSComm52nd,0))))","v":0},{"$f":"IF(RA3rdComm5=\"\",0,(IF(BU141<(RA3rdComm5-DSTD3rdComm5),0,IF(BU141<(RA3rdComm5+DSTD3rdComm5),LSComm53rd,0))))","v":0},{"$f":"IF(RA4thComm5=\"\",0,(IF(BU141<(RA4thComm5-DSTD4thComm5),0,IF(BU141<(RA4thComm5+DSTD4thComm5),LSComm54th,0))))","v":0},{"$f":"IF(RA5thComm5=\"\",0,(IF(BU141<(RA5thComm5-DSTD5thComm5),0,IF(BU141<(RA5thComm5+DSTD5thComm5),LSComm55th,0))))","v":0},{"$f":"IF(RAPupaeComm5=\"\",0,(IF(BU141<(RAPupaeComm5-DSTDPupaeComm5),0,IF(BU141<(RAPupaeComm5+DSTDPupaeComm5),LSComm5Pupae,0))))","v":0},{"$f":"BU141/24","v":5.375},{"$f":"SUM(BV141:CB141)","v":0},0,0,0,0,0,0,0,null,129,{"$f":"IF(RAEggsComm6=\"\",0,(IF(CM141<(RAEggsComm6-DSTDEggsComm6),0,IF(CM141<(RAEggsComm6+DSTDEggsComm6),LSComm6Eggs,0))))","v":0},{"$f":"IF(RA1stComm6=\"\",0,(IF(CM141<(RA1stComm6-DSTD1stComm6),0,IF(CM141<(RA1stComm6+DSTD1stComm6),LSComm61st,0))))","v":0},{"$f":"IF(RA2ndComm6=\"\",0,(IF(CM141<(RA2ndComm6-DSTD2ndComm6),0,IF(CM141<(RA2ndComm6+DSTD2ndComm6),LSComm62nd,0))))","v":0},{"$f":"IF(RA3rdComm6=\"\",0,(IF(CM141<(RA3rdComm6-DSTD3rdComm6),0,IF(CM141<(RA3rdComm6+DSTD3rdComm6),LSComm63rd,0))))","v":0},{"$f":"IF(RA4thComm6=\"\",0,(IF(CM141<(RA4thComm6-DSTD4thComm6),0,IF(CM141<(RA4thComm6+DSTD4thComm6),LSComm64th,0))))","v":0},{"$f":"IF(RA5thComm6=\"\",0,(IF(CM141<(RA5thComm6-DSTD5thComm6),0,IF(CM141<(RA5thComm6+DSTD5thComm6),LSComm65th,0))))","v":0},{"$f":"IF(RAPupaeComm6=\"\",0,(IF(CM141<(RAPupaeComm6-DSTDPupaeComm6),0,IF(CM141<(RAPupaeComm6+DSTDPupaeComm6),LSComm6Pupae,0))))","v":0},{"$f":"CM141/24","v":5.375},{"$f":"SUM(CN141:CT141)","v":0},0,0,0,0,0,0,0,null,129,{"$f":"IF(RAEggsComm7=\"\",0,(IF(DE141<(RAEggsComm7-DSTDEggsComm7),0,IF(DE141<(RAEggsComm7+DSTDEggsComm7),LSComm7Eggs,0))))","v":0},{"$f":"IF(RA1stComm7=\"\",0,(IF(DE141<(RA1stComm7-DSTD1stComm7),0,IF(DE141<(RA1stComm7+DSTD1stComm7),LSComm71st,0))))","v":0},{"$f":"IF(RA2ndComm7=\"\",0,(IF(DE141<(RA2ndComm7-DSTD2ndComm7),0,IF(DE141<(RA2ndComm7+DSTD2ndComm7),LSComm72nd,0))))","v":0},{"$f":"IF(RA3rdComm7=\"\",0,(IF(DE141<(RA3rdComm7-DSTD3rdComm7),0,IF(DE141<(RA3rdComm7+DSTD3rdComm7),LSComm73rd,0))))","v":0},{"$f":"IF(RA4thComm7=\"\",0,(IF(DE141<(RA4thComm7-DSTD4thComm7),0,IF(DE141<(RA4thComm7+DSTD4thComm7),LSComm74th,0))))","v":0},{"$f":"IF(RA5thComm7=\"\",0,(IF(DE141<(RA5thComm7-DSTD5thComm7),0,IF(DE141<(RA5thComm7+DSTD5thComm7),LSComm75th,0))))","v":0},{"$f":"IF(RAPupaeComm7=\"\",0,(IF(DE141<(RAPupaeComm7-DSTDPupaeComm7),0,IF(DE141<(RAPupaeComm7+DSTDPupaeComm7),LSComm7Pupae,0))))","v":0},{"$f":"DE141/24","v":5.375},{"$f":"SUM(DF141:DL141)","v":0},0,0,0,0,0,0,0,null,129,{"$f":"IF(RAEggsComm8=\"\",0,(IF(DW141<(RAEggsComm8-DSTDEggsComm8),0,IF(DW141<(RAEggsComm8+DSTDEggsComm8),LSComm8Eggs,0))))","v":0},{"$f":"IF(RA1stComm8=\"\",0,(IF(DW141<(RA1stComm8-DSTD1stComm8),0,IF(DW141<(RA1stComm8+DSTD1stComm8),LSComm81st,0))))","v":0},{"$f":"IF(RA2ndComm8=\"\",0,(IF(DW141<(RA2ndComm8-DSTD2ndComm8),0,IF(DW141<(RA2ndComm8+DSTD2ndComm8),LSComm82nd,0))))","v":0},{"$f":"IF(RA3rdComm8=\"\",0,(IF(DW141<(RA3rdComm8-DSTD3rdComm8),0,IF(DW141<(RA3rdComm8+DSTD3rdComm8),LSComm83rd,0))))","v":0},{"$f":"IF(RA4thComm8=\"\",0,(IF(DW141<(RA4thComm8-DSTD4thComm8),0,IF(DW141<(RA4thComm8+DSTD4thComm8),LSComm84th,0))))","v":0},{"$f":"IF(RA5thComm8=\"\",0,(IF(DW141<(RA5thComm8-DSTD5thComm8),0,IF(DW141<(RA5thComm8+DSTD5thComm8),LSComm85th,0))))","v":0},{"$f":"IF(RAPupaeComm8=\"\",0,(IF(DW141<(RAPupaeComm8-DSTDPupaeComm8),0,IF(DW141<(RAPupaeComm8+DSTDPupaeComm8),LSComm8Pupae,0))))","v":0},{"$f":"DW141/24","v":5.375},{"$f":"SUM(DX141:ED141)","v":0},0,0,0,0,0,0,0,null,129,{"$f":"IF(RAEggsComm9=\"\",0,(IF(EO141<(RAEggsComm9-DSTDEggsComm9),0,IF(EO141<(RAEggsComm9+DSTDEggsComm9),LSComm9Eggs,0))))","v":0},{"$f":"IF(RA1stComm9=\"\",0,(IF(EO141<(RA1stComm9-DSTD1stComm9),0,IF(EO141<(RA1stComm9+DSTD1stComm9),LSComm91st,0))))","v":0},{"$f":"IF(RA2ndComm9=\"\",0,(IF(EO141<(RA2ndComm9-DSTD2ndComm9),0,IF(EO141<(RA2ndComm9+DSTD2ndComm9),LSComm92nd,0))))","v":0},{"$f":"IF(RA3rdComm9=\"\",0,(IF(EO141<(RA3rdComm9-DSTD3rdComm9),0,IF(EO141<(RA3rdComm9+DSTD3rdComm9),LSComm93rd,0))))","v":0},{"$f":"IF(RA4thComm9=\"\",0,(IF(EO141<(RA4thComm9-DSTD4thComm9),0,IF(EO141<(RA4thComm9+DSTD4thComm9),LSComm94th,0))))","v":0},{"$f":"IF(RA5thComm9=\"\",0,(IF(EO141<(RA5thComm9-DSTD5thComm9),0,IF(EO141<(RA5thComm9+DSTD5thComm9),LSComm95th,0))))","v":0},{"$f":"IF(RAPupaeComm9=\"\",0,(IF(EO141<(RAPupaeComm9-DSTDPupaeComm9),0,IF(EO141<(RAPupaeComm9+DSTDPupaeComm9),LSComm9Pupae,0))))","v":0},{"$f":"EO141/24","v":5.375},{"$f":"SUM(EP141:EV141)","v":0},0,0,0,0,0,0,0,null,129,{"$f":"IF(RAEggsComm10=\"\",0,(IF(FG141<(RAEggsComm10-DSTDEggsComm10),0,IF(FG141<(RAEggsComm10+DSTDEggsComm10),LSComm10Eggs,0))))","v":0},{"$f":"IF(RA1stComm10=\"\",0,(IF(FG141<(RA1stComm10-DSTD1stComm10),0,IF(FG141<(RA1stComm10+DSTD1stComm10),LSComm101st,0))))","v":0},{"$f":"IF(RA2ndComm10=\"\",0,(IF(FG141<(RA2ndComm10-DSTD2ndComm10),0,IF(FG141<(RA2ndComm10+DSTD2ndComm10),LSComm102nd,0))))","v":0},{"$f":"IF(RA3rdComm10=\"\",0,(IF(FG141<(RA3rdComm10-DSTD3rdComm10),0,IF(FG141<(RA3rdComm10+DSTD3rdComm10),LSComm103rd,0))))","v":0},{"$f":"IF(RA4thComm10=\"\",0,(IF(FG141<(RA4thComm10-DSTD4thComm10),0,IF(FG141<(RA4thComm10+DSTD4thComm10),LSComm104th,0))))","v":0},{"$f":"IF(RA5thComm10=\"\",0,(IF(FG141<(RA5thComm10-DSTD5thComm10),0,IF(FG141<(RA5thComm10+DSTD5thComm10),LSComm105th,0))))","v":0},{"$f":"IF(RAPupaeComm10=\"\",0,(IF(FG141<(RAPupaeComm10-DSTDPupaeComm10),0,IF(FG141<(RAPupaeComm10+DSTDPupaeComm10),LSComm10Pupae,0))))","v":0},{"$f":"FG141/24","v":5.375},{"$f":"SUM(FH141:FN141)","v":0},0,0,0,0,0,0,0]
[130,0,0,0,0,0,0,0,5.416666666666667,0,{"$f":"IF(J142=0,0,B142/J142)","v":0},{"$f":"IF(J142=0,0,C142/J142)","v":0},{"$f":"IF(J142=0,0,D142/J142)","v":0},{"$f":"IF(J142=0,0,E142/J142)","v":0},{"$f":"IF(J142=0,0,F142/J142)","v":0},{"$f":"IF(J142=0,0,G142/J142)","v":0},{"$f":"IF(J142=0,0,H142/J142)","v":0},null,130,0,0,0,0,0,0,0,5.416666666666667,0,{"$f":"IF(AB142=0,0,T142/AB142)","v":0},{"$f":"IF(AB142=0,0,U142/AB142)","v":0},{"$f":"IF(AB142=0,0,V142/AB142)","v":0},{"$f":"IF(AB142=0,0,W142/AB142)","v":0},{"$f":"IF(AB142=0,0,X142/AB142)","v":0},{"$f":"IF(AB142=0,0,Y142/AB142)","v":0},{"$f":"IF(AB142=0,0,Z142/AB142)","v":0},null,130,0,0,0,0,0,0,0,5.416666666666667,0,{"$f":"IF(AT142=0,0,AL142/AT142)","v":0},{"$f":"IF(AT142=0,0,AM142/AT142)","v":0},{"$f":"IF(AT142=0,0,AN142/AT142)","v":0},{"$f":"IF(AT142=0,0,AO142/AT142)","v":0},{"$f":"IF(AT142=0,0,AP142/AT142)","v":0},{"$f":"IF(AT142=0,0,AQ142/AT142)","v":0},{"$f":"IF(AT142=0,0,AR142/AT142)","v":0},null,130,0,0,0,0,0,0,0,5.416666666666667,0,{"$f":"IF(BL142=0,0,BD142/BL142)","v":0},{"$f":"IF(BL142=0,0,BE142/BL142)","v":0},{"$f":"IF(BL142=0,0,BF142/BL142)","v":0},{"$f":"IF(BL142=0,0,BG142/BL142)","v":0},{"$f":"IF(BL142=0,0,BH142/BL142)","v":0},{"$f":"IF(BL142=0,0,BI142/BL142)","v":0},{"$f":"IF(BL142=0,0,BJ142/BL142)","v":0},null,130,0,0,0,0,0,0,0,5.416666666666667,0,{"$f":"IF(CD142=0,0,BV142/CD142)","v":0},{"$f":"IF(CD142=0,0,BW142/CD142)","v":0},{"$f":"IF(CD142=0,0,BX142/CD142)","v":0},{"$f":"IF(CD142=0,0,BY142/CD142)","v":0},{"$f":"IF(CD142=0,0,BZ142/CD142)","v":0},{"$f":"IF(CD142=0,0,CA142/CD142)","v":0},{"$f":"IF(CD142=0,0,CB142/CD142)","v":0},null,130,0,0,0,0,0,0,0,5.416666666666667,0,{"$f":"IF(CV142=0,0,CN142/CV142)","v":0},{"$f":"IF(CV142=0,0,CO142/CV142)","v":0},{"$f":"IF(CV142=0,0,CP142/CV142)","v":0},{"$f":"IF(CV142=0,0,CQ142/CV142)","v":0},{"$f":"IF(CV142=0,0,CR142/CV142)","v":0},{"$f":"IF(CV142=0,0,CS142/CV142)","v":0},{"$f":"IF(CV142=0,0,CT142/CV142)","v":0},null,130,0,0,0,0,0,0,0,5.416666666666667,0,{"$f":"IF(DN142=0,0,DF142/DN142)","v":0},{"$f":"IF(DN142=0,0,DG142/DN142)","v":0},{"$f":"IF(DN142=0,0,DH142/DN142)","v":0},{"$f":"IF(DN142=0,0,DI142/DN142)","v":0},{"$f":"IF(DN142=0,0,DJ142/DN142)","v":0},{"$f":"IF(DN142=0,0,DK142/DN142)","v":0},{"$f":"IF(DN142=0,0,DL142/DN142)","v":0},null,130,0,0,0,0,0,0,0,5.416666666666667,0,{"$f":"IF(EF142=0,0,DX142/EF142)","v":0},{"$f":"IF(EF142=0,0,DY142/EF142)","v":0},{"$f":"IF(EF142=0,0,DZ142/EF142)","v":0},{"$f":"IF(EF142=0,0,EA142/EF142)","v":0},{"$f":"IF(EF142=0,0,EB142/EF142)","v":0},{"$f":"IF(EF142=0,0,EC142/EF142)","v":0},{"$f":"IF(EF142=0,0,ED142/EF142)","v":0},null,130,0,0,0,0,0,0,0,5.416666666666667,0,{"$f":"IF(EX142=0,0,EP142/EX142)","v":0},{"$f":"IF(EX142=0,0,EQ142/EX142)","v":0},{"$f":"IF(EX142=0,0,ER142/EX142)","v":0},{"$f":"IF(EX142=0,0,ES142/EX142)","v":0},{"$f":"IF(EX142=0,0,ET142/EX142)","v":0},{"$f":"IF(EX142=0,0,EU142/EX142)","v":0},{"$f":"IF(EX142=0,0,EV142/EX142)","v":0},null,130,0,0,0,0,0,0,0,5.416666666666667,0,{"$f":"IF(FP142=0,0,FH142/FP142)","v":0},{"$f":"IF(FP142=0,0,FI142/FP142)","v":0},{"$f":"IF(FP142=0,0,FJ142/FP142)","v":0},{"$f":"IF(FP142=0,0,FK142/FP142)","v":0},{"$f":"IF(FP142=0,0,FL142/FP142)","v":0},{"$f":"IF(FP142=0,0,FM142/FP142)","v":0},{"$f":"IF(FP142=0,0,FN142/FP142)","v":0}]
[131,0,0,0,0,0,0,0,5.458333333333333,0,0,0,0,0,0,0,0,null,131,0,0,0,0,0,0,0,5.458333333333333,0,0,0,0,0,0,0,0,null,131,0,0,0,0,0,0,0,5.458333333333333,0,0,0,0,0,0,0,0,null,131,0,0,0,0,0,0,0,5.458333333333333,0,0,0,0,0,0,0,0,null,131,0,0,0,0,0,0,0,5.458333333333333,0,0,0,0,0,0,0,0,null,131,0,0,0,0,0,0,0,5.458333333333333,0,0,0,0,0,0,0,0,null,131,0,0,0,0,0,0,0,5.458333333333333,0,0,0,0,0,0,0,0,null,131,0,0,0,0,0,0,0,5.458333333333333,0,0,0,0,0,0,0,0,null,131,0,0,0,0,0,0,0,5.458333333333333,0,0,0,0,0,0,0,0,null,131,0,0,0,0,0,0,0,5.458333333333333,0,0,0,0,0,0,0,0]
[132,0,0,0,0,0,0,0,5.5,0,0,0,0,0,0,0,0,null,132,0,0,0,0,0,0,0,5.5,0,0,0,0,0,0,0,0,null,132,0,0,0,0,0,0,0,5.5,0,0,0,0,0,0,0,0,null,132,0,0,0,0,0,0,0,5.5,0,0,0,0,0,0,0,0,null,132,0,0,0,0,0,0,0,5.5,0,0,0,0,0,0,0,0,null,132,0,0,0,0,0,0,0,5.5,0,0,0,0,0,0,0,0,null,132,0,0,0,0,0,0,0,5.5,0,0,0,0,0,0,0,0,null,132,0,0,0,0,0,0,0,5.5,0,0,0,0,0,0,0,0,null,132,0,0,0,0,0,0,0,5.5,0,0,0,0,0,0,0,0,null,132,0,0,0,0,0,0,0,5.5,0,0,0,0,0,0,0,0]
[133,0,0,0,0,0,0,0,5.541666666666667,0,0,0,0,0,0,0,0,null,133,0,0,0,0,0,0,0,5.541666666666667,0,0,0,0,0,0,0,0,null,133,0,0,0,0,0,0,0,5.541666666666667,0,0,0,0,0,0,0,0,null,133,0,0,0,0,0,0,0,5.541666666666667,0,0,0,0,0,0,0,0,null,133,0,0,0,0,0,0,0,5.541666666666667,0,0,0,0,0,0,0,0,null,133,0,0,0,0,0,0,0,5.541666666666667,0,0,0,0,0,0,0,0,null,133,0,0,0,0,0,0,0,5.541666666666667,0,0,0,0,0,0,0,0,null,133,0,0,0,0,0,0,0,5.541666666666667,0,0,0,0,0,0,0,0,null,133,0,0,0,0,0,0,0,5.541666666666667,0,0,0,0,0,0,0,0,null,133,0,0,0,0,0,0,0,5.541666666666667,0,0,0,0,0,0,0,0]
[134,0,0,0,0,0,0,0,5.583333333333333,0,0,0,0,0,0,0,0,null,134,0,0,0,0,0,0,0,5.583333333333333,0,0,0,0,0,0,0,0,null,134,0,0,0,0,0,0,0,5.583333333333333,0,0,0,0,0,0,0,0,null,134,0,0,0,0,0,0,0,5.583333333333333,0,0,0,0,0,0,0,0,null,134,0,0,0,0,0,0,0,5.583333333333333,0,0,0,0,0,0,0,0,null,134,0,0,0,0,0,0,0,5.583333333333333,0,0,0,0,0,0,0,0,null,134,0,0,0,0,0,0,0,5.583333333333333,0,0,0,0,0,0,0,0,null,134,0,0,0,0,0,0,0,5.583333333333333,0,0,0,0,0,0,0,0,null,134,0,0,0,0,0,0,0,5.583333333333333,0,0,0,0,0,0,0,0,null,134,0,0,0,0,0,0,0,5.583333333333333,0,0,0,0,0,0,0,0]
[135,0,0,0,0,0,0,0,5.625,0,0,0,0,0,0,0,0,null,135,0,0,0,0,0,0,0,5.625,0,0,0,0,0,0,0,0,null,135,0,0,0,0,0,0,0,5.625,0,0,0,0,0,0,0,0,null,135,0,0,0,0,0,0,0,5.625,0,0,0,0,0,0,0,0,null,135,0,0,0,0,0,0,0,5.625,0,0,0,0,0,0,0,0,null,135,0,0,0,0,0,0,0,5.625,0,0,0,0,0,0,0,0,null,135,0,0,0,0,0,0,0,5.625,0,0,0,0,0,0,0,0,null,135,0,0,0,0,0,0,0,5.625,0,0,0,0,0,0,0,0,null,135,0,0,0,0,0,0,0,5.625,0,0,0,0,0,0,0,0,null,135,0,0,0,0,0,0,0,5.625,0,0,0,0,0,0,0,0]
[136,0,0,0,0,0,0,0,5.666666666666667,0,0,0,0,0,{"$f":"IF(J148=0,0,F148/J148)","v":0},0,0,null,136,0,0,0,0,0,0,0,5.666666666666667,0,0,0,0,0,{"$f":"IF(AB148=0,0,X148/AB148)","v":0},0,0,null,136,0,0,0,0,0,0,0,5.666666666666667,0,0,0,0,0,{"$f":"IF(AT148=0,0,AP148/AT148)","v":0},0,0,null,136,0,0,0,0,0,0,0,5.666666666666667,0,0,0,0,0,{"$f":"IF(BL148=0,0,BH148/BL148)","v":0},0,0,null,136,0,0,0,0,0,0,0,5.666666666666667,0,0,0,0,0,{"$f":"IF(CD148=0,0,BZ148/CD148)","v":0},0,0,null,136,0,0,0,0,0,0,0,5.666666666666667,0,0,0,0,0,{"$f":"IF(CV148=0,0,CR148/CV148)","v":0},0,0,null,136,0,0,0,0,0,0,0,5.666666666666667,0,0,0,0,0,{"$f":"IF(DN148=0,0,DJ148/DN148)","v":0},0,0,null,136,0,0,0,0,0,0,0,5.666666666666667,0,0,0,0,0,{"$f":"IF(EF148=0,0,EB148/EF148)","v":0},0,0,null,136,0,0,0,0,0,0,0,5.666666666666667,0,0,0,0,0,{"$f":"IF(EX148=0,0,ET148/EX148)","v":0},0,0,null,136,0,0,0,0,0,0,0,5.666666666666667,0,0,0,0,0,{"$f":"IF(FP148=0,0,FL148/FP148)","v":0},0,0]
[137,0,0,0,0,0,0,0,5.708333333333333,0,0,0,0,0,0,0,0,null,137,0,0,0,0,0,0,0,5.708333333333333,0,0,0,0,0,{"$f":"IF(AB149=0,0,X149/AB149)","v":0},0,0,null,137,0,0,0,0,0,0,0,5.708333333333333,0,0,0,0,0,{"$f":"IF(AT149=0,0,AP149/AT149)","v":0},0,0,null,137,0,0,0,0,0,0,0,5.708333333333333,0,0,0,0,0,{"$f":"IF(BL149=0,0,BH149/BL149)","v":0},0,0,null,137,0,0,0,0,0,0,0,5.708333333333333,0,0,0,0,0,{"$f":"IF(CD149=0,0,BZ149/CD149)","v":0},0,0,null,137,0,0,0,0,0,0,0,5.708333333333333,0,0,0,0,0,{"$f":"IF(CV149=0,0,CR149/CV149)","v":0},0,0,null,137,0,0,0,0,0,0,0,5.708333333333333,0,0,0,0,0,{"$f":"IF(DN149=0,0,DJ149/DN149)","v":0},0,0,null,137,0,0,0,0,0,0,0,5.708333333333333,0,0,0,0,0,{"$f":"IF(EF149=0,0,EB149/EF149)","v":0},0,0,null,137,0,0,0,0,0,0,0,5.708333333333333,0,0,0,0,0,{"$f":"IF(EX149=0,0,ET149/EX149)","v":0},0,0,null,137,0,0,0,0,0,0,0,5.708333333333333,0,0,0,0,0,{"$f":"IF(FP149=0,0,FL149/FP149)","v":0},0,0]
[138,0,0,0,0,0,0,0,5.75,0,0,0,0,0,0,0,0,null,138,0,0,0,0,0,0,0,5.75,0,0,0,0,0,0,0,0,null,138,0,0,0,0,0,0,0,5.75,0,0,0,0,0,0,0,0,null,138,0,0,0,0,0,0,0,5.75,0,0,0,0,0,0,0,0,null,138,0,0,0,0,0,0,0,5.75,0,0,0,0,0,0,0,0,null,138,0,0,0,0,0,0,0,5.75,0,0,0,0,0,0,0,0,null,138,0,0,0,0,0,0,0,5.75,0,0,0,0,0,0,0,0,null,138,0,0,0,0,0,0,0,5.75,0,0,0,0,0,0,0,0,null,138,0,0,0,0,0,0,0,5.75,0,0,0,0,0,0,0,0,null,138,0,0,0,0,0,0,0,5.75,0,0,0,0,0,0,0,0]
[139,0,0,0,0,0,0,0,5.791666666666667,0,0,0,0,0,0,0,0,null,139,0,0,0,0,0,0,0,5.791666666666667,0,0,0,0,0,0,0,0,null,139,0,0,0,0,0,0,0,5.791666666666667,0,0,0,0,0,0,0,0,null,139,0,0,0,0,0,0,0,5.791666666666667,0,0,0,0,0,0,0,0,null,139,0,0,0,0,0,0,0,5.791666666666667,0,0,0,0,0,0,0,0,null,139,0,0,0,0,0,0,0,5.791666666666667,0,0,0,0,0,0,0,0,null,139,0,0,0,0,0,0,0,5.791666666666667,0,0,0,0,0,0,0,0,null,139,0,0,0,0,0,0,0,5.791666666666667,0,0,0,0,0,0,0,0,null,139,0,0,0,0,0,0,0,5.791666666666667,0,0,0,0,0,0,0,0,null,139,0,0,0,0,0,0,0,5.791666666666667,0,0,0,0,0,0,0,0]
[140,0,0,0,0,0,0,0,5.833333333333333,0,0,0,0,0,0,0,0,null,140,0,0,0,0,0,0,0,5.833333333333333,0,0,0,0,0,0,0,0,null,140,0,0,0,0,0,0,0,5.833333333333333,0,0,0,0,0,0,0,0,null,140,0,0,0,0,0,0,0,5.833333333333333,0,0,0,0,0,0,0,0,null,140,0,0,0,0,0,0,0,5.833333333333333,0,0,0,0,0,0,0,0,null,140,0,0,0,0,0,0,0,5.833333333333333,0,0,0,0,0,0,0,0,null,140,0,0,0,0,0,0,0,5.833333333333333,0,0,0,0,0,0,0,0,null,140,0,0,0,0,0,0,0,5.833333333333333,0,0,0,0,0,0,0,0,null,140,0,0,0,0,0,0,0,5.833333333333333,0,0,0,0,0,0,0,0,null,140,0,0,0,0,0,0,0,5.833333333333333,0,0,0,0,0,0,0,0]
[141,0,0,0,0,0,0,0,5.875,0,0,0,0,0,0,0,0,null,141,0,0,0,0,0,0,0,5.875,0,0,0,0,0,0,0,0,null,141,0,0,0,0,0,0,0,5.875,0,0,0,0,0,0,0,0,null,141,0,0,0,0,0,0,0,5.875,0,0,0,0,0,0,0,0,null,141,0,0,0,0,0,0,0,5.875,0,0,0,0,0,0,0,0,null,141,0,0,0,0,0,0,0,5.875,0,0,0,0,0,0,0,0,null,141,0,0,0,0,0,0,0,5.875,0,0,0,0,0,0,0,0,null,141,0,0,0,0,0,0,0,5.875,0,0,0,0,0,0,0,0,null,141,0,0,0,0,0,0,0,5.875,0,0,0,0,0,0,0,0,null,141,0,0,0,0,0,0,0,5.875,0,0,0,0,0,0,0,0]
[142,0,0,0,0,0,0,0,5.916666666666667,0,0,0,0,0,0,0,0,null,142,0,0,0,0,0,0,0,5.916666666666667,0,0,0,0,0,0,0,0,null,142,0,0,0,0,0,0,0,5.916666666666667,0,0,0,0,0,0,0,0,null,142,0,0,0,0,0,0,0,5.916666666666667,0,0,0,0,0,0,0,0,null,142,0,0,0,0,0,0,0,5.916666666666667,0,0,0,0,0,0,0,0,null,142,0,0,0,0,0,0,0,5.916666666666667,0,0,0,0,0,0,0,0,null,142,0,0,0,0,0,0,0,5.916666666666667,0,0,0,0,0,0,0,0,null,142,0,0,0,0,0,0,0,5.916666666666667,0,0,0,0,0,0,0,0,null,142,0,0,0,0,0,0,0,5.916666666666667,0,0,0,0,0,0,0,0,null,142,0,0,0,0,0,0,0,5.916666666666667,0,0,0,0,0,0,0,0]
[143,0,0,0,0,0,0,0,5.958333333333333,0,0,0,0,0,0,0,0,null,143,0,0,0,0,0,0,0,5.958333333333333,0,0,0,0,0,0,0,0,null,143,0,0,0,0,0,0,0,5.958333333333333,0,0,0,0,0,0,0,0,null,143,0,0,0,0,0,0,0,5.958333333333333,0,0,0,0,0,0,0,0,null,143,0,0,0,0,0,0,0,5.958333333333333,0,0,0,0,0,0,0,0,null,143,0,0,0,0,0,0,0,5.958333333333333,0,0,0,0,0,0,0,0,null,143,0,0,0,0,0,0,0,5.958333333333333,0,0,0,0,0,0,0,0,null,143,0,0,0,0,0,0,0,5.958333333333333,0,0,0,0,0,0,0,0,null,143,0,0,0,0,0,0,0,5.958333333333333,0,0,0,0,0,0,0,0,null,143,0,0,0,0,0,0,0,5.958333333333333,0,0,0,0,0,0,0,0]
[144,0,0,0,0,0,0,0,6,0,0,0,0,0,0,0,0,null,144,0,0,0,0,0,0,0,6,0,0,0,0,0,0,0,0,null,144,0,0,0,0,0,0,0,6,0,0,0,0,0,0,0,0,null,144,0,0,0,0,0,0,0,6,0,0,0,0,0,0,0,0,null,144,0,0,0,0,0,0,0,6,0,0,0,0,0,0,0,0,null,144,0,0,0,0,0,0,0,6,0,0,0,0,0,0,0,0,null,144,0,0,0,0,0,0,0,6,0,0,0,0,0,0,0,0,null,144,0,0,0,0,0,0,0,6,0,0,0,0,0,0,0,0,null,144,0,0,0,0,0,0,0,6,0,0,0,0,0,0,0,0,null,144,0,0,0,0,0,0,0,6,0,0,0,0,0,0,0,0]
[145,0,0,0,0,0,0,0,6.041666666666667,0,0,0,0,0,0,0,0,null,145,0,0,0,0,0,0,0,6.041666666666667,0,0,0,0,0,0,0,0,null,145,0,0,0,0,0,0,0,6.041666666666667,0,0,0,0,0,0,0,0,null,145,0,0,0,0,0,0,0,6.041666666666667,0,0,0,0,0,0,0,0,null,145,0,0,0,0,0,0,0,6.041666666666667,0,0,0,0,0,0,0,0,null,145,0,0,0,0,0,0,0,6.041666666666667,0,0,0,0,0,0,0,0,null,145,0,0,0,0,0,0,0,6.041666666666667,0,0,0,0,0,0,0,0,null,145,0,0,0,0,0,0,0,6.041666666666667,0,0,0,0,0,0,0,0,null,145,0,0,0,0,0,0,0,6.041666666666667,0,0,0,0,0,0,0,0,null,145,0,0,0,0,0,0,0,6.041666666666667,0,0,0,0,0,0,0,0]
[146,0,0,0,0,0,0,0,6.083333333333333,0,0,0,0,0,0,0,0,null,146,0,0,0,0,0,0,0,6.083333333333333,0,0,0,0,0,0,0,0,null,146,0,0,0,0,0,0,0,6.083333333333333,0,0,0,0,0,0,0,0,null,146,0,0,0,0,0,0,0,6.083333333333333,0,0,0,0,0,0,0,0,null,146,0,0,0,0,0,0,2.0202020202020204E-2,6.083333333333333,2.0202020202020204E-2,0,0,0,0,0,0,1,null,146,0,0,0,0,0,0,0,6.083333333333333,0,0,0,0,0,0,0,0,null,146,0,0,0,0,0,0,0,6.083333333333333,0,0,0,0,0,0,0,0,null,146,0,0,0,0,0,0,0,6.083333333333333,0,0,0,0,0,0,0,0,null,146,0,0,0,0,0,0,0,6.083333333333333,0,0,0,0,0,0,0,0,null,146,0,0,0,0,0,0,0,6.083333333333333,0,0,0,0,0,0,0,0]
[147,0,0,0,0,0,0,0,6.125,0,0,0,0,0,0,0,0,null,147,0,0,0,0,0,0,0,6.125,0,0,0,0,0,0,0,0,null,147,0,0,0,0,0,0,0,6.125,0,0,0,0,0,0,0,0,null,147,0,0,0,0,0,0,0,6.125,0,0,0,0,0,0,0,0,null,147,0,0,0,0,0,0,2.0202020202020204E-2,6.125,2.0202020202020204E-2,0,0,0,0,0,0,1,null,147,0,0,0,0,0,0,0,6.125,0,0,0,0,0,0,0,0,null,147,0,0,0,0,0,0,0,6.125,0,0,0,0,0,0,0,0,null,147,0,0,0,0,0,0,0,6.125,0,0,0,0,0,0,0,0,null,147,0,0,0,0,0,0,0,6.125,0,0,0,0,0,0,0,0,null,147,0,0,0,0,0,0,0,6.125,0,0,0,0,0,0,0,0]
[148,0,0,0,0,0,0,0,6.166666666666667,0,0,0,0,0,0,0,0,null,148,0,0,0,0,0,0,0,6.166666666666667,0,0,0,0,0,0,0,0,null,148,0,0,0,0,0,0,0,6.166666666666667,0,0,0,0,0,0,0,0,null,148,0,0,0,0,0,0,0,6.166666666666667,0,0,0,0,0,0,0,0,null,148,0,0,0,0,0,0,2.0202020202020204E-2,6.166666666666667,2.0202020202020204E-2,0,0,0,0,0,0,1,null,148,0,0,0,0,0,0,0,6.166666666666667,0,0,0,0,0,0,0,0,null,148,0,0,0,0,0,0,0,6.166666666666667,0,0,0,0,0,0,0,0,null,148,0,0,0,0,0,0,0,6.166666666666667,0,0,0,0,0,0,0,0,null,148,0,0,0,0,0,0,0,6.166666666666667,0,0,0,0,0,0,0,0,null,148,0,0,0,0,0,0,0,6.166666666666667,0,0,0,0,0,0,0,0]
[149,0,0,0,0,0,0,0,6.208333333333333,0,0,0,0,0,0,0,0,null,149,0,0,0,0,0,0,0,6.208333333333333,0,0,0,0,0,0,0,0,null,149,0,0,0,0,0,0,0,6.208333333333333,0,0,0,0,0,0,0,0,null,149,0,0,0,0.72448979591836737,0,0,0,6.208333333333333,0.72448979591836737,0,0,0,1,0,0,0,null,149,0,0,0,0,0,0,2.0202020202020204E-2,6.208333333333333,2.0202020202020204E-2,0,0,0,0,0,0,1,null,149,0,0,0,0,0,0,0,6.208333333333333,0,0,0,0,0,0,0,0,null,149,0,0,0,0,0,0,0,6.208333333333333,0,0,0,0,0,0,0,0,null,149,0,0,0,0,0,0,0,6.208333333333333,0,0,0,0,0,0,0,0,null,149,0,0,0,0,0,0,0,6.208333333333333,0,0,0,0,0,0,0,0,null,149,0,0,0,0,0,0,0,6.208333333333333,0,0,0,0,0,0,0,0]
[150,0,0,0,0,0,0,0,6.25,0,0,0,0,0,0,0,0,null,150,0,0,0,0,0,0,0,6.25,0,0,0,0,0,0,0,0,null,150,0,0,0,0,0,0,0,6.25,0,0,0,0,0,0,0,0,null,150,0,0,0,0.72448979591836737,0,0,0,6.25,0.72448979591836737,0,0,0,1,0,0,0,null,150,0,0,0,0,0,0,2.0202020202020204E-2,6.25,2.0202020202020204E-2,0,0,0,0,0,0,1,null,150,0,0,0,0,0,0,0,6.25,0,0,0,0,0,0,0,0,null,150,0,0,0,0,0,0,0,6.25,0,0,0,0,0,0,0,0,null,150,0,0,0,0,0,0,0,6.25,0,0,0,0,0,0,0,0,null,150,0,0,0,0,0,0,0,6.25,0,0,0,0,0,0,0,0,null,150,0,0,0,0,0,0,0,6.25,0,0,0,0,0,0,0,0]
[151,0,0,0,0,0,0,0,6.291666666666667,0,0,0,0,0,0,0,0,null,151,0,0,0,0,0,0,0,6.291666666666667,0,0,0,0,0,0,0,0,null,151,0,0,0,0,0,0,0,6.291666666666667,0,0,0,0,0,0,0,0,null,151,0,0,0,0.72448979591836737,0,0,0,6.291666666666667,0.72448979591836737,0,0,0,1,0,0,0,null,151,0,0,0,0,0,0,2.0202020202020204E-2,6.291666666666667,2.0202020202020204E-2,0,0,0,0,0,0,1,null,151,0,0,0,0,0,0,0,6.291666666666667,0,0,0,0,0,0,0,0,null,151,0,0,0,0,0,0,0,6.291666666666667,0,0,0,0,0,0,0,0,null,151,0,0,0,0,0,0,0,6.291666666666667,0,0,0,0,0,0,0,0,null,151,0,0,0,0,0,0,0,6.291666666666667,0,0,0,0,0,0,0,0,null,151,0,0,0,0,0,0,0,6.291666666666667,0,0,0,0,0,0,0,0]
[152,0,0,0,0,0,0,0,6.333333333333333,0,0,0,0,0,0,0,0,null,152,0,0,0,0,0,0,0,6.333333333333333,0,0,0,0,0,0,0,0,null,152,0,0,0,0,0,0,0,6.333333333333333,0,0,0,0,0,0,0,0,null,152,0,0,0,0.72448979591836737,0,0,0,6.333333333333333,0.72448979591836737,0,0,0,1,0,0,0,null,152,0,0,0,0,0,0,2.0202020202020204E-2,6.333333333333333,2.0202020202020204E-2,0,0,0,0,0,0,1,null,152,0,0,0,0,0,0,0,6.333333333333333,0,0,0,0,0,0,0,0,null,152,0,0,0,0,0,0,0,6.333333333333333,0,0,0,0,0,0,0,0,null,152,0,0,0,0,0,0,0,6.333333333333333,0,0,0,0,0,0,0,0,null,152,0,0,0,0,0,0,0,6.333333333333333,0,0,0,0,0,0,0,0,null,152,0,0,0,0,0,0,0,6.333333333333333,0,0,0,0,0,0,0,0]
[153,0,0,0,0,0,0,0,6.375,0,0,0,0,0,0,0,0,null,153,0,0,0,0,0,0,0,6.375,0,0,0,0,0,0,0,0,null,153,0,0,0,0,0,0,0,6.375,0,0,0,0,0,0,0,0,null,153,0,0,0,0.72448979591836737,0,0,0,6.375,0.72448979591836737,0,0,0,1,0,0,0,null,153,0,0,0,0,0,0,2.0202020202020204E-2,6.375,2.0202020202020204E-2,0,0,0,0,0,0,1,null,153,0,0,0,0,0,0,0,6.375,0,0,0,0,0,0,0,0,null,153,0,0,0,0,0,0,0,6.375,0,0,0,0,0,0,0,0,null,153,0,0,0,0,0,0,0,6.375,0,0,0,0,0,0,0,0,null,153,0,0,0,0,0,0,0,6.375,0,0,0,0,0,0,0,0,null,153,0,0,0,0,0,0,0,6.375,0,0,0,0,0,0,0,0]
[154,0,0,0,0,0,0,0,6.416666666666667,0,0,0,0,0,0,0,0,null,154,0,0,0,0,0,0,0,6.416666666666667,0,0,0,0,0,0,0,0,null,154,0,0,0,0,0,0,0,6.416666666666667,0,0,0,0,0,0,0,0,null,154,0,0,0,0.72448979591836737,0,0,0,6.416666666666667,0.72448979591836737,0,0,0,1,0,0,0,null,154,0,0,0,0,0,0,2.0202020202020204E-2,6.416666666666667,2.0202020202020204E-2,0,0,0,0,0,0,1,null,154,0,0,0,0,0,0,0,6.416666666666667,0,0,0,0,0,0,0,0,null,154,0,0,0,0,0,0,0,6.416666666666667,0,0,0,0,0,0,0,0,null,154,0,0,0,0,0,0,0,6.416666666666667,0,0,0,0,0,0,0,0,null,154,0,0,0,0,0,0,0,6.416666666666667,0,0,0,0,0,0,0,0,null,154,0,0,0,0,0,0,0,6.416666666666667,0,0,0,0,0,0,0,0]
[155,0,0,0,0,0,0,0,6.458333333333333,0,0,0,0,0,0,0,0,null,155,0,0,0,0,0,0,0,6.458333333333333,0,0,0,0,0,0,0,0,null,155,0,0,0,0,0,0,0,6.458333333333333,0,0,0,0,0,0,0,0,null,155,0,0,0,0.72448979591836737,0,0,0,6.458333333333333,0.72448979591836737,0,0,0,1,0,0,0,null,155,0,0,0,0,0,0,2.0202020202020204E-2,6.458333333333333,2.0202020202020204E-2,0,0,0,0,0,0,1,null,155,0,0,0,0,0,0,0,6.458333333333333,0,0,0,0,0,0,0,0,null,155,0,0,0,0,0,0,0,6.458333333333333,0,0,0,0,0,0,0,0,null,155,0,0,0,0,0,0,0,6.458333333333333,0,0,0,0,0,0,0,0,null,155,0,0,0,0,0,0,0,6.458333333333333,0,0,0,0,0,0,0,0,null,155,0,0,0,0,0,0,0,6.458333333333333,0,0,0,0,0,0,0,0]
[156,0,0,0,0,0,0,0,6.5,0,0,0,0,0,0,0,0,null,156,0,0,0,0,0,0,0,6.5,0,0,0,0,0,0,0,0,null,156,0,0,0,0,0,0,0,6.5,0,0,0,0,0,0,0,0,null,156,0,0,0,0.72448979591836737,0,0,0,6.5,0.72448979591836737,0,0,0,1,0,0,0,null,156,0,0,0,0,0,0,2.0202020202020204E-2,6.5,2.0202020202020204E-2,0,0,0,0,0,0,1,null,156,0,0,0,0,0,0,0,6.5,0,0,0,0,0,0,0,0,null,156,0,0,0,0,0,0,0,6.5,0,0,0,0,0,0,0,0,null,156,0,0,0,0,0,0,0,6.5,0,0,0,0,0,0,0,0,null,156,0,0,0,0,0,0,0,6.5,0,0,0,0,0,0,0,0,null,156,0,0,0,0,0,0,0,6.5,0,0,0,0,0,0,0,0]
[157,0,0,0,0,0,0,0,6.541666666666667,0,0,0,0,0,0,0,0,null,157,0,0,0,0.1785714285714286,0,0,0,6.541666666666667,0.1785714285714286,0,0,0,1,0,0,0,null,157,0,0,0,0,0,0,0,6.541666666666667,0,0,0,0,0,0,0,0,null,157,0,0,0,0.72448979591836737,0,0,0,6.541666666666667,0.72448979591836737,0,0,0,1,0,0,0,null,157,0,0,0,0,0,0,2.0202020202020204E-2,6.541666666666667,2.0202020202020204E-2,0,0,0,0,0,0,1,null,157,0,0,0,0,0,0,0,6.541666666666667,0,0,0,0,0,0,0,0,null,157,0,0,0,0,0,0,0,6.541666666666667,0,0,0,0,0,0,0,0,null,157,0,0,0,0,0,0,0,6.541666666666667,0,0,0,0,0,0,0,0,null,157,0,0,0,0,0,0,0,6.541666666666667,0,0,0,0,0,0,0,0,null,157,0,0,0,0,0,0,0,6.541666666666667,0,0,0,0,0,0,0,0]
[158,0,0,0,0,0,0,0,6.583333333333333,0,0,0,0,0,0,0,0,null,158,0,0,0,0.1785714285714286,0,0,0,6.583333333333333,0.1785714285714286,0,0,0,1,0,0,0,null,158,0,0,0,0,0,0,0,6.583333333333333,0,0,0,0,0,0,0,0,null,158,0,0,0,0.72448979591836737,0,0,0,6.583333333333333,0.72448979591836737,0,0,0,1,0,0,0,null,158,0,0,0,0,0,0,2.0202020202020204E-2,6.583333333333333,2.0202020202020204E-2,0,0,0,0,0,0,1,null,158,0,0,0,0,0,0,0,6.583333333333333,0,0,0,0,0,0,0,0,null,158,0,0,0,0,0,0,0,6.583333333333333,0,0,0,0,0,0,0,0,null,158,0,0,0,0,0,0,0,6.583333333333333,0,0,0,0,0,0,0,0,null,158,0,0,0,0,0,0,0,6.583333333333333,0,0,0,0,0,0,0,0,null,158,0,0,0,0,0,0,0,6.583333333333333,0,0,0,0,0,0,0,0]
[159,0,0,0,0,0,0,0,6.625,0,0,0,0,0,0,0,0,null,159,0,0,0,0.1785714285714286,0,0,0,6.625,0.1785714285714286,0,0,0,1,0,0,0,null,159,0,0,0,0,0,0,0,6.625,0,0,0,0,0,0,0,0,null,159,0,0,0,0.72448979591836737,0,0,0,6.625,0.72448979591836737,0,0,0,1,0,0,0,null,159,0,0,0,0,0,0,2.0202020202020204E-2,6.625,2.0202020202020204E-2,0,0,0,0,0,0,1,null,159,0,0,0,0,0,0,0,6.625,0,0,0,0,0,0,0,0,null,159,0,0,0,0,0,0,0,6.625,0,0,0,0,0,0,0,0,null,159,0,0,0,0,0,0,0,6.625,0,0,0,0,0,0,0,0,null,159,0,0,0,0,0,0,0,6.625,0,0,0,0,0,0,0,0,null,159,0,0,0,0,0,0,0,6.625,0,0,0,0,0,0,0,0]
[160,0,0,0,0,0,0,0,6.666666666666667,0,0,0,0,0,0,0,0,null,160,0,0,0,0.1785714285714286,0,0,0,6.666666666666667,0.1785714285714286,0,0,0,1,0,0,0,null,160,0,0,0,0,0,0,0,6.666666666666667,0,0,0,0,0,0,0,0,null,160,0,0,0,0.72448979591836737,0,0,0,6.666666666666667,0.72448979591836737,0,0,0,1,0,0,0,null,160,0,0,0,0,0,0,2.0202020202020204E-2,6.666666666666667,2.0202020202020204E-2,0,0,0,0,0,0,1,null,160,0,0,0,0,0,0,0,6.666666666666667,0,0,0,0,0,0,0,0,null,160,0,0,0,0,0,0,0,6.666666666666667,0,0,0,0,0,0,0,0,null,160,0,0,0,0,0,0,0,6.666666666666667,0,0,0,0,0,0,0,0,null,160,0,0,0,0,0,0,0,6.666666666666667,0,0,0,0,0,0,0,0,null,160,0,0,0,0,0,0,0,6.666666666666667,0,0,0,0,0,0,0,0]
[161,0,0,0,0,0,0,0,6.708333333333333,0,0,0,0,0,0,0,0,null,161,0,0,0,0.1785714285714286,0,0,0,6.708333333333333,0.1785714285714286,0,0,0,1,0,0,0,null,161,0,0,0,0,0,0,0,6.708333333333333,0,0,0,0,0,0,0,0,null,161,0,0,0,0.72448979591836737,0,0,0,6.708333333333333,0.72448979591836737,0,0,0,1,0,0,0,null,161,0,0,0,0,0,0,2.0202020202020204E-2,6.708333333333333,2.0202020202020204E-2,0,0,0,0,0,0,1,null,161,0,0,0,0,0,0,0,6.708333333333333,0,0,0,0,0,0,0,0,null,161,0,0,0,0,0,0,0,6.708333333333333,0,0,0,0,0,0,0,0,null,161,0,0,0,0,0,0,0,6.708333333333333,0,0,0,0,0,0,0,0,null,161,0,0,0,0,0,0,0,6.708333333333333,0,0,0,0,0,0,0,0,null,161,0,0,0,0,0,0,0,6.708333333333333,0,0,0,0,0,0,0,0]
[162,0,0,0,0,0,0,0,6.75,0,0,0,0,0,0,0,0,null,162,0,0,0,0.1785714285714286,0,0,0,6.75,0.1785714285714286,0,0,0,1,0,0,0,null,162,0,0,0,0,0,0,0,6.75,0,0,0,0,0,0,0,0,null,162,0,0,0,0.72448979591836737,0,0,0,6.75,0.72448979591836737,0,0,0,1,0,0,0,null,162,0,0,0,0,0,0,2.0202020202020204E-2,6.75,2.0202020202020204E-2,0,0,0,0,0,0,1,null,162,0,0,0,0,0,0,0,6.75,0,0,0,0,0,0,0,0,null,162,0,0,0,0,0,0,0,6.75,0,0,0,0,0,0,0,0,null,162,0,0,0,0,0,0,0,6.75,0,0,0,0,0,0,0,0,null,162,0,0,0,0,0,0,0,6.75,0,0,0,0,0,0,0,0,null,162,0,0,0,0,0,0,0,6.75,0,0,0,0,0,0,0,0]
[163,0,0,0,0,0,0,0,6.791666666666667,0,0,0,0,0,0,0,0,null,163,0,0,0,0.1785714285714286,0,0,0,6.791666666666667,0.1785714285714286,0,0,0,1,0,0,0,null,163,0,0,0,0,0,0,0,6.791666666666667,0,0,0,0,0,0,0,0,null,163,0,0,0,0.72448979591836737,0,0,0,6.791666666666667,0.72448979591836737,0,0,0,1,0,0,0,null,163,0,0,0,0,0,0,2.0202020202020204E-2,6.791666666666667,2.0202020202020204E-2,0,0,0,0,0,0,1,null,163,0,0,0,0,0,0,0,6.791666666666667,0,0,0,0,0,0,0,0,null,163,0,0,0,0,0,0,0,6.791666666666667,0,0,0,0,0,0,0,0,null,163,0,0,0,0,0,0,0,6.791666666666667,0,0,0,0,0,0,0,0,null,163,0,0,0,0,0,0,0,6.791666666666667,0,0,0,0,0,0,0,0,null,163,0,0,0,0,0,0,0,6.791666666666667,0,0,0,0,0,0,0,0]
[164,0,0,0,0,0,0,0,6.833333333333333,0,0,0,0,0,0,0,0,null,164,0,0,0,0.1785714285714286,0,0,0,6.833333333333333,0.1785714285714286,0,0,0,1,0,0,0,null,164,0,0,0,0,0,0,0,6.833333333333333,0,0,0,0,0,0,0,0,null,164,0,0,0,0.72448979591836737,0,0,0,6.833333333333333,0.72448979591836737,0,0,0,1,0,0,0,null,164,0,0,0,0,0,0,2.0202020202020204E-2,6.833333333333333,2.0202020202020204E-2,0,0,0,0,0,0,1,null,164,0,0,0,0,0,0,0,6.833333333333333,0,0,0,0,0,0,0,0,null,164,0,0,0,0,0,0,0,6.833333333333333,0,0,0,0,0,0,0,0,null,164,0,0,0,0,0,0,0,6.833333333333333,0,0,0,0,0,0,0,0,null,164,0,0,0,0,0,0,0,6.833333333333333,0,0,0,0,0,0,0,0,null,164,0,0,0,0,0,0,0,6.833333333333333,0,0,0,0,0,0,0,0]
[165,0,0,0,0,0,0,0,6.875,0,0,0,0,0,0,0,0,null,165,0,0,0,0.1785714285714286,0,0,0,6.875,0.1785714285714286,0,0,0,1,0,0,0,null,165,0,0,0,0,0,0,0,6.875,0,0,0,0,0,0,0,0,null,165,0,0,0,0.72448979591836737,0,0,0,6.875,0.72448979591836737,0,0,0,1,0,0,0,null,165,0,0,0,0,0,0,2.0202020202020204E-2,6.875,2.0202020202020204E-2,0,0,0,0,0,0,1,null,165,0,0,0,0,0,0,0,6.875,0,0,0,0,0,0,0,0,null,165,0,0,0,0,0,0,0,6.875,0,0,0,0,0,0,0,0,null,165,0,0,0,0,0,0,0,6.875,0,0,0,0,0,0,0,0,null,165,0,0,0,0,0,0,0,6.875,0,0,0,0,0,0,0,0,null,165,0,0,0,0,0,0,0,6.875,0,0,0,0,0,0,0,0]
[166,0,0,0,0.91078066914498135,0,0,0,6.916666666666667,0.91078066914498135,0,0,0,1,0,0,0,null,166,0,0,0,0.1785714285714286,0,0,0,6.916666666666667,0.1785714285714286,0,0,0,1,0,0,0,null,166,0,0,0,0,0,0,0,6.916666666666667,0,0,0,0,0,0,0,0,null,166,0,0,0,0.72448979591836737,0,0,0,6.916666666666667,0.72448979591836737,0,0,0,1,0,0,0,null,166,0,0,0,0,0,0,2.0202020202020204E-2,6.916666666666667,2.0202020202020204E-2,0,0,0,0,0,0,1,null,166,0,0,0,0,0,0,0,6.916666666666667,0,0,0,0,0,0,0,0,null,166,0,0,0,0,0,0,0,6.916666666666667,0,0,0,0,0,0,0,0,null,166,0,0,0,0,0,0,0,6.916666666666667,0,0,0,0,0,0,0,0,null,166,0,0,0,0,0,0,0,6.916666666666667,0,0,0,0,0,0,0,0,null,166,0,0,0,0,0,0,0,6.916666666666667,0,0,0,0,0,0,0,0]
[167,0,0,0,0.91078066914498135,0,0,0,6.958333333333333,0.91078066914498135,0,0,0,1,0,0,0,null,167,0,0,0,0.1785714285714286,0,0,0,6.958333333333333,0.1785714285714286,0,0,0,1,0,0,0,null,167,0,0,0,0,0,0,0,6.958333333333333,0,0,0,0,0,0,0,0,null,167,0,0,0,0.72448979591836737,0,0,0,6.958333333333333,0.72448979591836737,0,0,0,1,0,0,0,null,167,0,0,0,0,0,0,2.0202020202020204E-2,6.958333333333333,2.0202020202020204E-2,0,0,0,0,0,0,1,null,167,0,0,0,0,0,0,0,6.958333333333333,0,0,0,0,0,0,0,0,null,167,0,0,0,0,0,0,0,6.958333333333333,0,0,0,0,0,0,0,0,null,167,0,0,0,0,0,0,0,6.958333333333333,0,0,0,0,0,0,0,0,null,167,0,0,0,0,0,0,0,6.958333333333333,0,0,0,0,0,0,0,0,null,167,0,0,0,0,0,0,0,6.958333333333333,0,0,0,0,0,0,0,0]
[168,0,0,0,0.91078066914498135,0,0,0,7,0.91078066914498135,0,0,0,1,0,0,0,null,168,0,0,0,0.1785714285714286,0,0,0,7,0.1785714285714286,0,0,0,1,0,0,0,null,168,0,0,0,0,0,0,0,7,0,0,0,0,0,0,0,0,null,168,0,0,0,0.72448979591836737,0,0,0,7,0.72448979591836737,0,0,0,1,0,0,0,null,168,0,0,0,0,0,0,2.0202020202020204E-2,7,2.0202020202020204E-2,0,0,0,0,0,0,1,null,168,0,0,0,0,0,0,0,7,0,0,0,0,0,0,0,0,null,168,0,0,0,0,0,0,0,7,0,0,0,0,0,0,0,0,null,168,0,0,0,0,0,0,0,7,0,0,0,0,0,0,0,0,null,168,0,0,0,0,0,0,0,7,0,0,0,0,0,0,0,0,null,168,0,0,0,0,0,0,0,7,0,0,0,0,0,0,0,0]
[169,0,0,0,0.91078066914498135,0,0,0,7.041666666666667,0.91078066914498135,0,0,0,1,0,0,0,null,169,0,0,0,0.1785714285714286,0,0,0,7.041666666666667,0.1785714285714286,0,0,0,1,0,0,0,null,169,0,0,0,0,0,0,0,7.041666666666667,0,0,0,0,0,0,0,0,null,169,0,0,0,0.72448979591836737,0,0,0,7.041666666666667,0.72448979591836737,0,0,0,1,0,0,0,null,169,0,0,0,0,0,0,2.0202020202020204E-2,7.041666666666667,2.0202020202020204E-2,0,0,0,0,0,0,1,null,169,0,0,0,0,0,0,0,7.041666666666667,0,0,0,0,0,0,0,0,null,169,0,0,0,0,0,0,0,7.041666666666667,0,0,0,0,0,0,0,0,null,169,0,0,0,0,0,0,0,7.041666666666667,0,0,0,0,0,0,0,0,null,169,0,0,0,0,0,0,0,7.041666666666667,0,0,0,0,0,0,0,0,null,169,0,0,0,0,0,0,0,7.041666666666667,0,0,0,0,0,0,0,0]
[170,0,0,0,0.91078066914498135,0,0,0,7.083333333333333,0.91078066914498135,0,0,0,1,0,0,0,null,170,0,0,0,0.1785714285714286,0,0,0,7.083333333333333,0.1785714285714286,0,0,0,1,0,0,0,null,170,0,0,0,0,0,0,0,7.083333333333333,0,0,0,0,0,0,0,0,null,170,0,0,0,0.72448979591836737,0,0,0,7.083333333333333,0.72448979591836737,0,0,0,1,0,0,0,null,170,0,0,0,0,0,0,2.0202020202020204E-2,7.083333333333333,2.0202020202020204E-2,0,0,0,0,0,0,1,null,170,0,0,0,0,0,0,0,7.083333333333333,0,0,0,0,0,0,0,0,null,170,0,0,0,0,0,0,0,7.083333333333333,0,0,0,0,0,0,0,0,null,170,0,0,0,0,0,0,0,7.083333333333333,0,0,0,0,0,0,0,0,null,170,0,0,0,0,0,0,0,7.083333333333333,0,0,0,0,0,0,0,0,null,170,0,0,0,0,0,0,0,7.083333333333333,0,0,0,0,0,0,0,0]
[171,0,0,0,0.91078066914498135,0,0,0,7.125,0.91078066914498135,0,0,0,1,0,0,0,null,171,0,0,0,0.1785714285714286,0,0,0,7.125,0.1785714285714286,0,0,0,1,0,0,0,null,171,0,0,0,0,0,0,0,7.125,0,0,0,0,0,0,0,0,null,171,0,0,0,0.72448979591836737,0,0,0,7.125,0.72448979591836737,0,0,0,1,0,0,0,null,171,0,0,0,0,0,0,2.0202020202020204E-2,7.125,2.0202020202020204E-2,0,0,0,0,0,0,1,null,171,0,0,0,0,0,0,0,7.125,0,0,0,0,0,0,0,0,null,171,0,0,0,0,0,0,0,7.125,0,0,0,0,0,0,0,0,null,171,0,0,0,0,0,0,0,7.125,0,0,0,0,0,0,0,0,null,171,0,0,0,0,0,0,0,7.125,0,0,0,0,0,0,0,0,null,171,0,0,0,0,0,0,0,7.125,0,0,0,0,0,0,0,0]
[172,0,0,0,0.91078066914498135,0,0,0,7.166666666666667,0.91078066914498135,0,0,0,1,0,0,0,null,172,0,0,0,0.1785714285714286,0,0,0,7.166666666666667,0.1785714285714286,0,0,0,1,0,0,0,null,172,0,0,0,0,0,0,0,7.166666666666667,0,0,0,0,0,0,0,0,null,172,0,0,0,0.72448979591836737,0,0,0,7.166666666666667,0.72448979591836737,0,0,0,1,0,0,0,null,172,0,0,0,0,0,0,2.0202020202020204E-2,7.166666666666667,2.0202020202020204E-2,0,0,0,0,0,0,1,null,172,0,0,0,0,0,0,0,7.166666666666667,0,0,0,0,0,0,0,0,null,172,0,0,0,0,0,0,0,7.166666666666667,0,0,0,0,0,0,0,0,null,172,0,0,0,0,0,0,0,7.166666666666667,0,0,0,0,0,0,0,0,null,172,0,0,0,0,0,0,0,7.166666666666667,0,0,0,0,0,0,0,0,null,172,0,0,0,0,0,0,0,7.166666666666667,0,0,0,0,0,0,0,0]
[173,0,0,0,0.91078066914498135,0,0,0,7.208333333333333,0.91078066914498135,0,0,0,1,0,0,0,null,173,0,0,0,0.1785714285714286,0,0,0,7.208333333333333,0.1785714285714286,0,0,0,1,0,0,0,null,173,0,0,0,0,0,0,0,7.208333333333333,0,0,0,0,0,0,0,0,null,173,0,0,0,0.72448979591836737,0,0,0,7.208333333333333,0.72448979591836737,0,0,0,1,0,0,0,null,173,0,0,0,0,0,0,2.0202020202020204E-2,7.208333333333333,2.0202020202020204E-2,0,0,0,0,0,0,1,null,173,0,0,0,0,0,0,0,7.208333333333333,0,0,0,0,0,0,0,0,null,173,0,0,0,0,0,0,0,7.208333333333333,0,0,0,0,0,0,0,0,null,173,0,0,0,0,0,0,0,7.208333333333333,0,0,0,0,0,0,0,0,null,173,0,0,0,0,0,0,0,7.208333333333333,0,0,0,0,0,0,0,0,null,173,0,0,0,0,0,0,0,7.208333333333333,0,0,0,0,0,0,0,0]
[174,0,0,0,0.91078066914498135,0,0,0,7.25,0.91078066914498135,0,0,0,1,0,0,0,null,174,0,0,0,0.1785714285714286,0,0,0,7.25,0.1785714285714286,0,0,0,1,0,0,0,null,174,0,0,0,0,0,0,0,7.25,0,0,0,0,0,0,0,0,null,174,0,0,0,0.72448979591836737,0,0,0,7.25,0.72448979591836737,0,0,0,1,0,0,0,null,174,0,0,0,0,0,0,2.0202020202020204E-2,7.25,2.0202020202020204E-2,0,0,0,0,0,0,1,null,174,0,0,0,0,0,0,0,7.25,0,0,0,0,0,0,0,0,null,174,0,0,0,0,0,0,0,7.25,0,0,0,0,0,0,0,0,null,174,0,0,0,0,0,0,0,7.25,0,0,0,0,0,0,0,0,null,174,0,0,0,0,0,0,0,7.25,0,0,0,0,0,0,0,0,null,174,0,0,0,0,0,0,0,7.25,0,0,0,0,0,0,0,0]
[175,0,0,0,0.91078066914498135,0,0,0,7.291666666666667,0.91078066914498135,0,0,0,1,0,0,0,null,175,0,0,0,0.1785714285714286,0,0,0,7.291666666666667,0.1785714285714286,0,0,0,1,0,0,0,null,175,0,0,0,0,0,0,0,7.291666666666667,0,0,0,0,0,0,0,0,null,175,0,0,0,0.72448979591836737,0,0,0,7.291666666666667,0.72448979591836737,0,0,0,1,0,0,0,null,175,0,0,0,0,0,0,2.0202020202020204E-2,7.291666666666667,2.0202020202020204E-2,0,0,0,0,0,0,1,null,175,0,0,0,0,0,0,0,7.291666666666667,0,0,0,0,0,0,0,0,null,175,0,0,0,0,0,0,0,7.291666666666667,0,0,0,0,0,0,0,0,null,175,0,0,0,0,0,0,0,7.291666666666667,0,0,0,0,0,0,0,0,null,175,0,0,0,0,0,0,0,7.291666666666667,0,0,0,0,0,0,0,0,null,175,0,0,0,0,0,0,0,7.291666666666667,0,0,0,0,0,0,0,0]
[176,0,0,0,0.91078066914498135,0,0,0,7.333333333333333,0.91078066914498135,0,0,0,1,0,0,0,null,176,0,0,0,0.1785714285714286,0,0,0,7.333333333333333,0.1785714285714286,0,0,0,1,0,0,0,null,176,0,0,0,0,0,0,0,7.333333333333333,0,0,0,0,0,0,0,0,null,176,0,0,0,0.72448979591836737,0,0,0,7.333333333333333,0.72448979591836737,0,0,0,1,0,0,0,null,176,0,0,0,0,0,0,2.0202020202020204E-2,7.333333333333333,2.0202020202020204E-2,0,0,0,0,0,0,1,null,176,0,0,0,0,0,0,0,7.333333333333333,0,0,0,0,0,0,0,0,null,176,0,0,0,0,0,0,0,7.333333333333333,0,0,0,0,0,0,0,0,null,176,0,0,0,0,0,0,0,7.333333333333333,0,0,0,0,0,0,0,0,null,176,0,0,0,0,0,0,0,7.333333333333333,0,0,0,0,0,0,0,0,null,176,0,0,0,0,0,0,0,7.333333333333333,0,0,0,0,0,0,0,0]
[177,0,0,0,0.91078066914498135,0,0,0,7.375,0.91078066914498135,0,0,0,1,0,0,0,null,177,0,0,0,0.1785714285714286,0,0,0,7.375,0.1785714285714286,0,0,0,1,0,0,0,null,177,0,0,0,0,0,0,0,7.375,0,0,0,0,0,0,0,0,null,177,0,0,0,0.72448979591836737,0,0,0,7.375,0.72448979591836737,0,0,0,1,0,0,0,null,177,0,0,0,0.90909090909090895,0,0,2.0202020202020204E-2,7.375,0.92929292929292917,0,0,0,0.97826086956521741,0,0,2.1739130434782615E-2,null,177,0,0,0,0,0,0,0,7.375,0,0,0,0,0,0,0,0,null,177,0,0,0,0,0,0,0,7.375,0,0,0,0,0,0,0,0,null,177,0,0,0,0,0,0,0,7.375,0,0,0,0,0,0,0,0,null,177,0,0,0,0,0,0,0,7.375,0,0,0,0,0,0,0,0,null,177,0,0,0,0,0,0,0,7.375,0,0,0,0,0,0,0,0]
[178,0,0,0,0.91078066914498135,0,0,0,7.416666666666667,0.91078066914498135,0,0,0,1,0,0,0,null,178,0,0,0,0.1785714285714286,0,0,0,7.416666666666667,0.1785714285714286,0,0,0,1,0,0,0,null,178,0,0,0,0,0,0,0,7.416666666666667,0,0,0,0,0,0,0,0,null,178,0,0,0,0.72448979591836737,0,0,0,7.416666666666667,0.72448979591836737,0,0,0,1,0,0,0,null,178,0,0,0,0.90909090909090895,0,0,2.0202020202020204E-2,7.416666666666667,0.92929292929292917,0,0,0,0.97826086956521741,0,0,2.1739130434782615E-2,null,178,0,0,0,0,0,0,0,7.416666666666667,0,0,0,0,0,0,0,0,null,178,0,0,0,0,0,0,0,7.416666666666667,0,0,0,0,0,0,0,0,null,178,0,0,0,0,0,0,0,7.416666666666667,0,0,0,0,0,0,0,0,null,178,0,0,0,0,0,0,0,7.416666666666667,0,0,0,0,0,0,0,0,null,178,0,0,0,0,0,0,0,7.416666666666667,0,0,0,0,0,0,0,0]
[179,0,0,0,0.91078066914498135,0,0,0,7.458333333333333,0.91078066914498135,0,0,0,1,0,0,0,null,179,0,0,0,0.1785714285714286,0,0,0,7.458333333333333,0.1785714285714286,0,0,0,1,0,0,0,null,179,0,0,0,0,0,0,0,7.458333333333333,0,0,0,0,0,0,0,0,null,179,0,0,0,0.72448979591836737,0,0,0,7.458333333333333,0.72448979591836737,0,0,0,1,0,0,0,null,179,0,0,0,0.90909090909090895,0,0,2.0202020202020204E-2,7.458333333333333,0.92929292929292917,0,0,0,0.97826086956521741,0,0,2.1739130434782615E-2,null,179,0,0,0,0,0,0,0,7.458333333333333,0,0,0,0,0,0,0,0,null,179,0,0,0,0,0,0,0,7.458333333333333,0,0,0,0,0,0,0,0,null,179,0,0,0,0,0,0,0,7.458333333333333,0,0,0,0,0,0,0,0,null,179,0,0,0,0,0,0,0,7.458333333333333,0,0,0,0,0,0,0,0,null,179,0,0,0,0,0,0,0,7.458333333333333,0,0,0,0,0,0,0,0]
[180,0,0,0,0.91078066914498135,0,0,0,7.5,0.91078066914498135,0,0,0,1,0,0,0,null,180,0,0,0,0.1785714285714286,0,0,0,7.5,0.1785714285714286,0,0,0,1,0,0,0,null,180,0,0,0,0,0,0,0,7.5,0,0,0,0,0,0,0,0,null,180,0,0,0,0.72448979591836737,0,0,0,7.5,0.72448979591836737,0,0,0,1,0,0,0,null,180,0,0,0,0.90909090909090895,0,0,2.0202020202020204E-2,7.5,0.92929292929292917,0,0,0,0.97826086956521741,0,0,2.1739130434782615E-2,null,180,0,0,0,0,0,0,0,7.5,0,0,0,0,0,0,0,0,null,180,0,0,0,0,0,0,0,7.5,0,0,0,0,0,0,0,0,null,180,0,0,0,0,0,0,0,7.5,0,0,0,0,0,0,0,0,null,180,0,0,0,0,0,0,0,7.5,0,0,0,0,0,0,0,0,null,180,0,0,0,0,0,0,0,7.5,0,0,0,0,0,0,0,0]
[181,0,0,0,0.91078066914498135,0,0,0,7.541666666666667,0.91078066914498135,0,0,0,1,0,0,0,null,181,0,0,0,0.1785714285714286,0,0,0,7.541666666666667,0.1785714285714286,0,0,0,1,0,0,0,null,181,0,0,0,0,0,0,0,7.541666666666667,0,0,0,0,0,0,0,0,null,181,0,0,0,0.72448979591836737,0,0,0,7.541666666666667,0.72448979591836737,0,0,0,1,0,0,0,null,181,0,0,0,0.90909090909090895,0,0,2.0202020202020204E-2,7.541666666666667,0.92929292929292917,0,0,0,0.97826086956521741,0,0,2.1739130434782615E-2,null,181,0,0,0,0,0,0,0,7.541666666666667,0,0,0,0,0,0,0,0,null,181,0,0,0,0,0,0,0,7.541666666666667,0,0,0,0,0,0,0,0,null,181,0,0,0,0,0,0,0,7.541666666666667,0,0,0,0,0,0,0,0,null,181,0,0,0,0,0,0,0,7.541666666666667,0,0,0,0,0,0,0,0,null,181,0,0,0,0,0,0,0,7.541666666666667,0,0,0,0,0,0,0,0]
[182,0,0,0,0.91078066914498135,0,0,0,7.583333333333333,0.91078066914498135,0,0,0,1,0,0,0,null,182,0,0,0,0.1785714285714286,0,0,0,7.583333333333333,0.1785714285714286,0,0,0,1,0,0,0,null,182,0,0,0,0,0,0,0,7.583333333333333,0,0,0,0,0,0,0,0,null,182,0,0,0,0.72448979591836737,0,0,0,7.583333333333333,0.72448979591836737,0,0,0,1,0,0,0,null,182,0,0,0,0.90909090909090895,0,0,2.0202020202020204E-2,7.583333333333333,0.92929292929292917,0,0,0,0.97826086956521741,0,0,2.1739130434782615E-2,null,182,0,0,0,0,0,0,0,7.583333333333333,0,0,0,0,0,0,0,0,null,182,0,0,0,0,0,0,0,7.583333333333333,0,0,0,0,0,0,0,0,null,182,0,0,0,0,0,0,0,7.583333333333333,0,0,0,0,0,0,0,0,null,182,0,0,0,0,0,0,0,7.583333333333333,0,0,0,0,0,0,0,0,null,182,0,0,0,0,0,0,0,7.583333333333333,0,0,0,0,0,0,0,0]
[183,0,0,0,0.91078066914498135,0,0,0,7.625,0.91078066914498135,0,0,0,1,0,0,0,null,183,0,0,0,0.1785714285714286,0,0,0,7.625,0.1785714285714286,0,0,0,1,0,0,0,null,183,0,0,0,0,0,0,0,7.625,0,0,0,0,0,0,0,0,null,183,0,0,0,0.72448979591836737,0,0,0,7.625,0.72448979591836737,0,0,0,1,0,0,0,null,183,0,0,0,0.90909090909090895,0,0,2.0202020202020204E-2,7.625,0.92929292929292917,0,0,0,0.97826086956521741,0,0,2.1739130434782615E-2,null,183,0,0,0,0,0,0,0,7.625,0,0,0,0,0,0,0,0,null,183,0,0,0,0,0,0,0,7.625,0,0,0,0,0,0,0,0,null,183,0,0,0,0,0,0,0,7.625,0,0,0,0,0,0,0,0,null,183,0,0,0,0,0,0,0,7.625,0,0,0,0,0,0,0,0,null,183,0,0,0,0,0,0,0,7.625,0,0,0,0,0,0,0,0]
[184,0,0,0,0.91078066914498135,0,0,0,7.666666666666667,0.91078066914498135,0,0,0,1,0,0,0,null,184,0,0,0,0.1785714285714286,0,0,0,7.666666666666667,0.1785714285714286,0,0,0,1,0,0,0,null,184,0,0,0,0,0,0,0,7.666666666666667,0,0,0,0,0,0,0,0,null,184,0,0,0,0.72448979591836737,0,0,0,7.666666666666667,0.72448979591836737,0,0,0,1,0,0,0,null,184,0,0,0,0.90909090909090895,0,0,2.0202020202020204E-2,7.666666666666667,0.92929292929292917,0,0,0,0.97826086956521741,0,0,2.1739130434782615E-2,null,184,0,0,0,0,0,0,0,7.666666666666667,0,0,0,0,0,0,0,0,null,184,0,0,0,0,0,0,0,7.666666666666667,0,0,0,0,0,0,0,0,null,184,0,0,0,0,0,0,0,7.666666666666667,0,0,0,0,0,0,0,0,null,184,0,0,0,0,0,0,0,7.666666666666667,0,0,0,0,0,0,0,0,null,184,0,0,0,0,0,0,0,7.666666666666667,0,0,0,0,0,0,0,0]
[185,0,0,0,0.91078066914498135,0,0,0,7.708333333333333,0.91078066914498135,0,0,0,1,0,0,0,null,185,0,0,0,0.1785714285714286,0,0,0,7.708333333333333,0.1785714285714286,0,0,0,1,0,0,0,null,185,0,0,0,0,0,0,0,7.708333333333333,0,0,0,0,0,0,0,0,null,185,0,0,0,0.72448979591836737,0,0,0,7.708333333333333,0.72448979591836737,0,0,0,1,0,0,0,null,185,0,0,0,0.90909090909090895,0,0,2.0202020202020204E-2,7.708333333333333,0.92929292929292917,0,0,0,0.97826086956521741,0,0,2.1739130434782615E-2,null,185,0,0,0,0,0,0,0,7.708333333333333,0,0,0,0,0,0,0,0,null,185,0,0,0,0,0,0,0,7.708333333333333,0,0,0,0,0,0,0,0,null,185,0,0,0,0,0,0,0,7.708333333333333,0,0,0,0,0,0,0,0,null,185,0,0,0,0,0,0,0,7.708333333333333,0,0,0,0,0,0,0,0,null,185,0,0,0,0,0,0,0,7.708333333333333,0,0,0,0,0,0,0,0]
[186,0,0,0,0.91078066914498135,0,0,0,7.75,0.91078066914498135,0,0,0,1,0,0,0,null,186,0,0,0,0.1785714285714286,0,0,0,7.75,0.1785714285714286,0,0,0,1,0,0,0,null,186,0,0,0,0.74468085106382964,0,0,0,7.75,0.74468085106382964,0,0,0,1,0,0,0,null,186,0,0,0,0.72448979591836737,0,0,0,7.75,0.72448979591836737,0,0,0,1,0,0,0,null,186,0,0,0,0.90909090909090895,0,0,2.0202020202020204E-2,7.75,0.92929292929292917,0,0,0,0.97826086956521741,0,0,2.1739130434782615E-2,null,186,0,0,0,0,0,0,0,7.75,0,0,0,0,0,0,0,0,null,186,0,0,0,0,0,0,0,7.75,0,0,0,0,0,0,0,0,null,186,0,0,0,0,0,0,0,7.75,0,0,0,0,0,0,0,0,null,186,0,0,0,0,0,0,0,7.75,0,0,0,0,0,0,0,0,null,186,0,0,0,0,0,0,0,7.75,0,0,0,0,0,0,0,0]
[187,0,0,0,0.91078066914498135,0,0,0,7.791666666666667,0.91078066914498135,0,0,0,1,0,0,0,null,187,0,0,0,0.1785714285714286,0,0,0,7.791666666666667,0.1785714285714286,0,0,0,1,0,0,0,null,187,0,0,0,0.74468085106382964,0,0,0,7.791666666666667,0.74468085106382964,0,0,0,1,0,0,0,null,187,0,0,0,0.72448979591836737,0,0,0,7.791666666666667,0.72448979591836737,0,0,0,1,0,0,0,null,187,0,0,0,0.90909090909090895,0,0,2.0202020202020204E-2,7.791666666666667,0.92929292929292917,0,0,0,0.97826086956521741,0,0,2.1739130434782615E-2,null,187,0,0,0,0,0,0,0,7.791666666666667,0,0,0,0,0,0,0,0,null,187,0,0,0,0,0,0,0,7.791666666666667,0,0,0,0,0,0,0,0,null,187,0,0,0,0,0,0,0,7.791666666666667,0,0,0,0,0,0,0,0,null,187,0,0,0,0,0,0,0,7.791666666666667,0,0,0,0,0,0,0,0,null,187,0,0,0,0,0,0,0,7.791666666666667,0,0,0,0,0,0,0,0]
[188,0,0,0,0.91078066914498135,0,0,0,7.833333333333333,0.91078066914498135,0,0,0,1,0,0,0,null,188,0,0,0,0.1785714285714286,0,0,0,7.833333333333333,0.1785714285714286,0,0,0,1,0,0,0,null,188,0,0,0,0.74468085106382964,0,0,0,7.833333333333333,0.74468085106382964,0,0,0,1,0,0,0,null,188,0,0,0,0.72448979591836737,0,0,0,7.833333333333333,0.72448979591836737,0,0,0,1,0,0,0,null,188,0,0,0,0.90909090909090895,0,0,2.0202020202020204E-2,7.833333333333333,0.92929292929292917,0,0,0,0.97826086956521741,0,0,2.1739130434782615E-2,null,188,0,0,0,0,0,0,0,7.833333333333333,0,0,0,0,0,0,0,0,null,188,0,0,0,0,0,0,0,7.833333333333333,0,0,0,0,0,0,0,0,null,188,0,0,0,0,0,0,0,7.833333333333333,0,0,0,0,0,0,0,0,null,188,0,0,0,0,0,0,0,7.833333333333333,0,0,0,0,0,0,0,0,null,188,0,0,0,0,0,0,0,7.833333333333333,0,0,0,0,0,0,0,0]
[189,0,0,0,0.91078066914498135,0,0,0,7.875,0.91078066914498135,0,0,0,1,0,0,0,null,189,0,0,0,0.1785714285714286,0,0,0,7.875,0.1785714285714286,0,0,0,1,0,0,0,null,189,0,0,0,0.74468085106382964,0,0,0,7.875,0.74468085106382964,0,0,0,1,0,0,0,null,189,0,0,0,0.72448979591836737,0,0,0,7.875,0.72448979591836737,0,0,0,1,0,0,0,null,189,0,0,0,0.90909090909090895,0,0,2.0202020202020204E-2,7.875,0.92929292929292917,0,0,0,0.97826086956521741,0,0,2.1739130434782615E-2,null,189,0,0,0,0,0,0,0,7.875,0,0,0,0,0,0,0,0,null,189,0,0,0,0,0,0,0,7.875,0,0,0,0,0,0,0,0,null,189,0,0,0,0,0,0,0,7.875,0,0,0,0,0,0,0,0,null,189,0,0,0,0,0,0,0,7.875,0,0,0,0,0,0,0,0,null,189,0,0,0,0,0,0,0,7.875,0,0,0,0,0,0,0,0]
[190,0,0,0,0.91078066914498135,0,0,0,7.916666666666667,0.91078066914498135,0,0,0,1,0,0,0,null,190,0,0,0,0.1785714285714286,0,0,0,7.916666666666667,0.1785714285714286,0,0,0,1,0,0,0,null,190,0,0,0,0.74468085106382964,0,0,0,7.916666666666667,0.74468085106382964,0,0,0,1,0,0,0,null,190,0,0,0,0.72448979591836737,0,0,0,7.916666666666667,0.72448979591836737,0,0,0,1,0,0,0,null,190,0,0,0,0.90909090909090895,0,0,2.0202020202020204E-2,7.916666666666667,0.92929292929292917,0,0,0,0.97826086956521741,0,0,2.1739130434782615E-2,null,190,0,0,0,0,0,0,0,7.916666666666667,0,0,0,0,0,0,0,0,null,190,0,0,0,0,0,0,0,7.916666666666667,0,0,0,0,0,0,0,0,null,190,0,0,0,0,0,0,0,7.916666666666667,0,0,0,0,0,0,0,0,null,190,0,0,0,0,0,0,0,7.916666666666667,0,0,0,0,0,0,0,0,null,190,0,0,0,0,0,0,0,7.916666666666667,0,0,0,0,0,0,0,0]
[191,0,0,0,0.91078066914498135,0,0,0,7.958333333333333,0.91078066914498135,0,0,0,1,0,0,0,null,191,0,0,0,0.1785714285714286,0,0,0,7.958333333333333,0.1785714285714286,0,0,0,1,0,0,0,null,191,0,0,0,0.74468085106382964,0,0,0,7.958333333333333,0.74468085106382964,0,0,0,1,0,0,0,null,191,0,0,0,0.72448979591836737,0,0,0,7.958333333333333,0.72448979591836737,0,0,0,1,0,0,0,null,191,0,0,0,0.90909090909090895,0,0,2.0202020202020204E-2,7.958333333333333,0.92929292929292917,0,0,0,0.97826086956521741,0,0,2.1739130434782615E-2,null,191,0,0,0,0,0,0,0,7.958333333333333,0,0,0,0,0,0,0,0,null,191,0,0,0,0,0,0,0,7.958333333333333,0,0,0,0,0,0,0,0,null,191,0,0,0,0,0,0,0,7.958333333333333,0,0,0,0,0,0,0,0,null,191,0,0,0,0,0,0,0,7.958333333333333,0,0,0,0,0,0,0,0,null,191,0,0,0,0,0,0,0,7.958333333333333,0,0,0,0,0,0,0,0]
[192,0,0,0,0.91078066914498135,0,0,0,8,0.91078066914498135,0,0,0,1,0,0,0,null,192,0,0,0,0.1785714285714286,0,0,0,8,0.1785714285714286,0,0,0,1,0,0,0,null,192,0,0,0,0.74468085106382964,0,0,0,8,0.74468085106382964,0,0,0,1,0,0,0,null,192,0,0,0.25510204081632648,0.72448979591836737,0,0,0,8,0.97959183673469385,0,0,0.26041666666666663,0.73958333333333337,0,0,0,null,192,0,0,0,0.90909090909090895,0,0,2.0202020202020204E-2,8,0.92929292929292917,0,0,0,0.97826086956521741,0,0,2.1739130434782615E-2,null,192,0,0,0,0,0,0,0,8,0,0,0,0,0,0,0,0,null,192,0,0,0,0,0,0,0,8,0,0,0,0,0,0,0,0,null,192,0,0,0,0,0,0,0,8,0,0,0,0,0,0,0,0,null,192,0,0,0,0,0,0,0,8,0,0,0,0,0,0,0,0,null,192,0,0,0,0,0,0,0,8,0,0,0,0,0,0,0,0]
[193,{"$f":"IF(RAEggsComm1=\"\",0,(IF(A205<(RAEggsComm1-DSTDEggsComm1),0,IF(A205<(RAEggsComm1+DSTDEggsComm1),LSComm1Eggs,0))))","v":0},{"$f":"IF(RA1stComm1=\"\",0,(IF(A205<(RA1stComm1-DSTD1stComm1),0,IF(A205<(RA1stComm1+DSTD1stComm1),LSComm11st,0))))","v":0},{"$f":"IF(RA2ndComm1=\"\",0,(IF(A205<(RA2ndComm1-DSTD2ndComm1),0,IF(A205<(RA2ndComm1+DSTD2ndComm1),LSComm12nd,0))))","v":0},{"$f":"IF(RA3rdComm1=\"\",0,(IF(A205<(RA3rdComm1-DSTD3rdComm1),0,IF(A205<(RA3rdComm1+DSTD3rdComm1),LSComm13rd,0))))","v":0.91078066914498135},{"$f":"IF(RA4thComm1=\"\",0,(IF(A205<(RA4thComm1-DSTD4thComm1),0,IF(A205<(RA4thComm1+DSTD4thComm1),LSComm14th,0))))","v":0},{"$f":"IF(RA5thComm1=\"\",0,(IF(A205<(RA5thComm1-DSTD5thComm1),0,IF(A205<(RA5thComm1+DSTD5thComm1),LSComm15th,0))))","v":0},{"$f":"IF(RAPupaeComm1=\"\",0,(IF(A205<(RAPupaeComm1-DSTDPupaeComm1),0,IF(A205<(RAPupaeComm1+DSTDPupaeComm1),LSComm1Pupae,0))))","v":0},{"$f":"A205/24","v":8.0416666666666661},{"$f":"SUM(B205:H205)","v":0.91078066914498135},0,0,0,1,0,0,0,null,193,{"$f":"IF(RAEggsComm2=\"\",0,(IF(S205<(RAEggsComm2-DSTDEggsComm2),0,IF(S205<(RAEggsComm2+DSTDEggsComm2),LSComm2Eggs,0))))","v":0},{"$f":"IF(RA1stComm2=\"\",0,(IF(S205<(RA1stComm2-DSTD1stComm2),0,IF(S205<(RA1stComm2+DSTD1stComm2),LSComm21st,0))))","v":0},{"$f":"IF(RA2ndComm2=\"\",0,(IF(S205<(RA2ndComm2-DSTD2ndComm2),0,IF(S205<(RA2ndComm2+DSTD2ndComm2),LSComm22nd,0))))","v":0},{"$f":"IF(RA3rdComm2=\"\",0,(IF(S205<(RA3rdComm2-DSTD3rdComm2),0,IF(S205<(RA3rdComm2+DSTD3rdComm2),LSComm23rd,0))))","v":0.1785714285714286},{"$f":"IF(RA4thComm2=\"\",0,(IF(S205<(RA4thComm2-DSTD4thComm2),0,IF(S205<(RA4thComm2+DSTD4thComm2),LSComm24th,0))))","v":0},{"$f":"IF(RA5thComm2=\"\",0,(IF(S205<(RA5thComm2-DSTD5thComm2),0,IF(S205<(RA5thComm2+DSTD5thComm2),LSComm25th,0))))","v":0},{"$f":"IF(RAPupaeComm2=\"\",0,(IF(S205<(RAPupaeComm2-DSTDPupaeComm2),0,IF(S205<(RAPupaeComm2+DSTDPupaeComm2),LSComm2Pupae,0))))","v":0},{"$f":"S205/24","v":8.0416666666666661},{"$f":"SUM(T205:Z205)","v":0.1785714285714286},0,0,0,1,0,0,0,null,193,{"$f":"IF(RAEggsComm3=\"\",0,(IF(AK205<(RAEggsComm3-DSTDEggsComm3),0,IF(AK205<(RAEggsComm3+DSTDEggsComm3),LSComm3Eggs,0))))","v":0},{"$f":"IF(RA1stComm3=\"\",0,(IF(AK205<(RA1stComm3-DSTD1stComm3),0,IF(AK205<(RA1stComm3+DSTD1stComm3),LSComm31st,0))))","v":0},{"$f":"IF(RA2ndComm3=\"\",0,(IF(AK205<(RA2ndComm3-DSTD2ndComm3),0,IF(AK205<(RA2ndComm3+DSTD2ndComm3),LSComm32nd,0))))","v":0},{"$f":"IF(RA3rdComm3=\"\",0,(IF(AK205<(RA3rdComm3-DSTD3rdComm3),0,IF(AK205<(RA3rdComm3+DSTD3rdComm3),LSComm33rd,0))))","v":0.74468085106382964},{"$f":"IF(RA4thComm3=\"\",0,(IF(AK205<(RA4thComm3-DSTD4thComm3),0,IF(AK205<(RA4thComm3+DSTD4thComm3),LSComm34th,0))))","v":0},{"$f":"IF(RA5thComm3=\"\",0,(IF(AK205<(RA5thComm3-DSTD5thComm3),0,IF(AK205<(RA5thComm3+DSTD5thComm3),LSComm35th,0))))","v":0},{"$f":"IF(RAPupaeComm3=\"\",0,(IF(AK205<(RAPupaeComm3-DSTDPupaeComm3),0,IF(AK205<(RAPupaeComm3+DSTDPupaeComm3),LSComm3Pupae,0))))","v":0},{"$f":"AK205/24","v":8.0416666666666661},{"$f":"SUM(AL205:AR205)","v":0.74468085106382964},0,0,0,1,0,0,0,null,193,{"$f":"IF(RAEggsComm4=\"\",0,(IF(BC205<(RAEggsComm4-DSTDEggsComm4),0,IF(BC205<(RAEggsComm4+DSTDEggsComm4),LSComm4Eggs,0))))","v":0},{"$f":"IF(RA1stComm4=\"\",0,(IF(BC205<(RA1stComm4-DSTD1stComm4),0,IF(BC205<(RA1stComm4+DSTD1stComm4),LSComm41st,0))))","v":0},{"$f":"IF(RA2ndComm4=\"\",0,(IF(BC205<(RA2ndComm4-DSTD2ndComm4),0,IF(BC205<(RA2ndComm4+DSTD2ndComm4),LSComm42nd,0))))","v":0.25510204081632648},{"$f":"IF(RA3rdComm4=\"\",0,(IF(BC205<(RA3rdComm4-DSTD3rdComm4),0,IF(BC205<(RA3rdComm4+DSTD3rdComm4),LSComm43rd,0))))","v":0.72448979591836737},{"$f":"IF(RA4thComm4=\"\",0,(IF(BC205<(RA4thComm4-DSTD4thComm4),0,IF(BC205<(RA4thComm4+DSTD4thComm4),LSComm44th,0))))","v":0},{"$f":"IF(RA5thComm4=\"\",0,(IF(BC205<(RA5thComm4-DSTD5thComm4),0,IF(BC205<(RA5thComm4+DSTD5thComm4),LSComm45th,0))))","v":0},{"$f":"IF(RAPupaeComm4=\"\",0,(IF(BC205<(RAPupaeComm4-DSTDPupaeComm4),0,IF(BC205<(RAPupaeComm4+DSTDPupaeComm4),LSComm4Pupae,0))))","v":0},{"$f":"BC205/24","v":8.0416666666666661},{"$f":"SUM(BD205:BJ205)","v":0.97959183673469385},0,0,0.26041666666666663,0.73958333333333337,0,0,0,null,193,{"$f":"IF(RAEggsComm5=\"\",0,(IF(BU205<(RAEggsComm5-DSTDEggsComm5),0,IF(BU205<(RAEggsComm5+DSTDEggsComm5),LSComm5Eggs,0))))","v":0},{"$f":"IF(RA1stComm5=\"\",0,(IF(BU205<(RA1stComm5-DSTD1stComm5),0,IF(BU205<(RA1stComm5+DSTD1stComm5),LSComm51st,0))))","v":0},{"$f":"IF(RA2ndComm5=\"\",0,(IF(BU205<(RA2ndComm5-DSTD2ndComm5),0,IF(BU205<(RA2ndComm5+DSTD2ndComm5),LSComm52nd,0))))","v":0},{"$f":"IF(RA3rdComm5=\"\",0,(IF(BU205<(RA3rdComm5-DSTD3rdComm5),0,IF(BU205<(RA3rdComm5+DSTD3rdComm5),LSComm53rd,0))))","v":0.90909090909090895},{"$f":"IF(RA4thComm5=\"\",0,(IF(BU205<(RA4thComm5-DSTD4thComm5),0,IF(BU205<(RA4thComm5+DSTD4thComm5),LSComm54th,0))))","v":0},{"$f":"IF(RA5thComm5=\"\",0,(IF(BU205<(RA5thComm5-DSTD5thComm5),0,IF(BU205<(RA5thComm5+DSTD5thComm5),LSComm55th,0))))","v":0},{"$f":"IF(RAPupaeComm5=\"\",0,(IF(BU205<(RAPupaeComm5-DSTDPupaeComm5),0,IF(BU205<(RAPupaeComm5+DSTDPupaeComm5),LSComm5Pupae,0))))","v":2.0202020202020204E-2},{"$f":"BU205/24","v":8.0416666666666661},{"$f":"SUM(BV205:CB205)","v":0.92929292929292917},0,0,0,0.97826086956521741,0,0,2.1739130434782615E-2,null,193,{"$f":"IF(RAEggsComm6=\"\",0,(IF(CM205<(RAEggsComm6-DSTDEggsComm6),0,IF(CM205<(RAEggsComm6+DSTDEggsComm6),LSComm6Eggs,0))))","v":0},{"$f":"IF(RA1stComm6=\"\",0,(IF(CM205<(RA1stComm6-DSTD1stComm6),0,IF(CM205<(RA1stComm6+DSTD1stComm6),LSComm61st,0))))","v":0},{"$f":"IF(RA2ndComm6=\"\",0,(IF(CM205<(RA2ndComm6-DSTD2ndComm6),0,IF(CM205<(RA2ndComm6+DSTD2ndComm6),LSComm62nd,0))))","v":0},{"$f":"IF(RA3rdComm6=\"\",0,(IF(CM205<(RA3rdComm6-DSTD3rdComm6),0,IF(CM205<(RA3rdComm6+DSTD3rdComm6),LSComm63rd,0))))","v":0},{"$f":"IF(RA4thComm6=\"\",0,(IF(CM205<(RA4thComm6-DSTD4thComm6),0,IF(CM205<(RA4thComm6+DSTD4thComm6),LSComm64th,0))))","v":0},{"$f":"IF(RA5thComm6=\"\",0,(IF(CM205<(RA5thComm6-DSTD5thComm6),0,IF(CM205<(RA5thComm6+DSTD5thComm6),LSComm65th,0))))","v":0},{"$f":"IF(RAPupaeComm6=\"\",0,(IF(CM205<(RAPupaeComm6-DSTDPupaeComm6),0,IF(CM205<(RAPupaeComm6+DSTDPupaeComm6),LSComm6Pupae,0))))","v":0},{"$f":"CM205/24","v":8.0416666666666661},{"$f":"SUM(CN205:CT205)","v":0},0,0,0,0,0,0,0,null,193,{"$f":"IF(RAEggsComm7=\"\",0,(IF(DE205<(RAEggsComm7-DSTDEggsComm7),0,IF(DE205<(RAEggsComm7+DSTDEggsComm7),LSComm7Eggs,0))))","v":0},{"$f":"IF(RA1stComm7=\"\",0,(IF(DE205<(RA1stComm7-DSTD1stComm7),0,IF(DE205<(RA1stComm7+DSTD1stComm7),LSComm71st,0))))","v":0},{"$f":"IF(RA2ndComm7=\"\",0,(IF(DE205<(RA2ndComm7-DSTD2ndComm7),0,IF(DE205<(RA2ndComm7+DSTD2ndComm7),LSComm72nd,0))))","v":0},{"$f":"IF(RA3rdComm7=\"\",0,(IF(DE205<(RA3rdComm7-DSTD3rdComm7),0,IF(DE205<(RA3rdComm7+DSTD3rdComm7),LSComm73rd,0))))","v":0},{"$f":"IF(RA4thComm7=\"\",0,(IF(DE205<(RA4thComm7-DSTD4thComm7),0,IF(DE205<(RA4thComm7+DSTD4thComm7),LSComm74th,0))))","v":0},{"$f":"IF(RA5thComm7=\"\",0,(IF(DE205<(RA5thComm7-DSTD5thComm7),0,IF(DE205<(RA5thComm7+DSTD5thComm7),LSComm75th,0))))","v":0},{"$f":"IF(RAPupaeComm7=\"\",0,(IF(DE205<(RAPupaeComm7-DSTDPupaeComm7),0,IF(DE205<(RAPupaeComm7+DSTDPupaeComm7),LSComm7Pupae,0))))","v":0},{"$f":"DE205/24","v":8.0416666666666661},{"$f":"SUM(DF205:DL205)","v":0},0,0,0,0,0,0,0,null,193,{"$f":"IF(RAEggsComm8=\"\",0,(IF(DW205<(RAEggsComm8-DSTDEggsComm8),0,IF(DW205<(RAEggsComm8+DSTDEggsComm8),LSComm8Eggs,0))))","v":0},{"$f":"IF(RA1stComm8=\"\",0,(IF(DW205<(RA1stComm8-DSTD1stComm8),0,IF(DW205<(RA1stComm8+DSTD1stComm8),LSComm81st,0))))","v":0},{"$f":"IF(RA2ndComm8=\"\",0,(IF(DW205<(RA2ndComm8-DSTD2ndComm8),0,IF(DW205<(RA2ndComm8+DSTD2ndComm8),LSComm82nd,0))))","v":0},{"$f":"IF(RA3rdComm8=\"\",0,(IF(DW205<(RA3rdComm8-DSTD3rdComm8),0,IF(DW205<(RA3rdComm8+DSTD3rdComm8),LSComm83rd,0))))","v":0},{"$f":"IF(RA4thComm8=\"\",0,(IF(DW205<(RA4thComm8-DSTD4thComm8),0,IF(DW205<(RA4thComm8+DSTD4thComm8),LSComm84th,0))))","v":0},{"$f":"IF(RA5thComm8=\"\",0,(IF(DW205<(RA5thComm8-DSTD5thComm8),0,IF(DW205<(RA5thComm8+DSTD5thComm8),LSComm85th,0))))","v":0},{"$f":"IF(RAPupaeComm8=\"\",0,(IF(DW205<(RAPupaeComm8-DSTDPupaeComm8),0,IF(DW205<(RAPupaeComm8+DSTDPupaeComm8),LSComm8Pupae,0))))","v":0},{"$f":"DW205/24","v":8.0416666666666661},{"$f":"SUM(DX205:ED205)","v":0},0,0,0,0,0,0,0,null,193,{"$f":"IF(RAEggsComm9=\"\",0,(IF(EO205<(RAEggsComm9-DSTDEggsComm9),0,IF(EO205<(RAEggsComm9+DSTDEggsComm9),LSComm9Eggs,0))))","v":0},{"$f":"IF(RA1stComm9=\"\",0,(IF(EO205<(RA1stComm9-DSTD1stComm9),0,IF(EO205<(RA1stComm9+DSTD1stComm9),LSComm91st,0))))","v":0},{"$f":"IF(RA2ndComm9=\"\",0,(IF(EO205<(RA2ndComm9-DSTD2ndComm9),0,IF(EO205<(RA2ndComm9+DSTD2ndComm9),LSComm92nd,0))))","v":0},{"$f":"IF(RA3rdComm9=\"\",0,(IF(EO205<(RA3rdComm9-DSTD3rdComm9),0,IF(EO205<(RA3rdComm9+DSTD3rdComm9),LSComm93rd,0))))","v":0},{"$f":"IF(RA4thComm9=\"\",0,(IF(EO205<(RA4thComm9-DSTD4thComm9),0,IF(EO205<(RA4thComm9+DSTD4thComm9),LSComm94th,0))))","v":0},{"$f":"IF(RA5thComm9=\"\",0,(IF(EO205<(RA5thComm9-DSTD5thComm9),0,IF(EO205<(RA5thComm9+DSTD5thComm9),LSComm95th,0))))","v":0},{"$f":"IF(RAPupaeComm9=\"\",0,(IF(EO205<(RAPupaeComm9-DSTDPupaeComm9),0,IF(EO205<(RAPupaeComm9+DSTDPupaeComm9),LSComm9Pupae,0))))","v":0},{"$f":"EO205/24","v":8.0416666666666661},{"$f":"SUM(EP205:EV205)","v":0},0,0,0,0,0,0,0,null,193,{"$f":"IF(RAEggsComm10=\"\",0,(IF(FG205<(RAEggsComm10-DSTDEggsComm10),0,IF(FG205<(RAEggsComm10+DSTDEggsComm10),LSComm10Eggs,0))))","v":0},{"$f":"IF(RA1stComm10=\"\",0,(IF(FG205<(RA1stComm10-DSTD1stComm10),0,IF(FG205<(RA1stComm10+DSTD1stComm10),LSComm101st,0))))","v":0},{"$f":"IF(RA2ndComm10=\"\",0,(IF(FG205<(RA2ndComm10-DSTD2ndComm10),0,IF(FG205<(RA2ndComm10+DSTD2ndComm10),LSComm102nd,0))))","v":0},{"$f":"IF(RA3rdComm10=\"\",0,(IF(FG205<(RA3rdComm10-DSTD3rdComm10),0,IF(FG205<(RA3rdComm10+DSTD3rdComm10),LSComm103rd,0))))","v":0},{"$f":"IF(RA4thComm10=\"\",0,(IF(FG205<(RA4thComm10-DSTD4thComm10),0,IF(FG205<(RA4thComm10+DSTD4thComm10),LSComm104th,0))))","v":0},{"$f":"IF(RA5thComm10=\"\",0,(IF(FG205<(RA5thComm10-DSTD5thComm10),0,IF(FG205<(RA5thComm10+DSTD5thComm10),LSComm105th,0))))","v":0},{"$f":"IF(RAPupaeComm10=\"\",0,(IF(FG205<(RAPupaeComm10-DSTDPupaeComm10),0,IF(FG205<(RAPupaeComm10+DSTDPupaeComm10),LSComm10Pupae,0))))","v":0},{"$f":"FG205/24","v":8.0416666666666661},{"$f":"SUM(FH205:FN205)","v":0},0,0,0,0,0,0,0]
[194,0,0,0,0.91078066914498135,0,0,0,8.0833333333333339,0.91078066914498135,{"$f":"IF(J206=0,0,B206/J206)","v":0},{"$f":"IF(J206=0,0,C206/J206)","v":0},{"$f":"IF(J206=0,0,D206/J206)","v":0},{"$f":"IF(J206=0,0,E206/J206)","v":1},{"$f":"IF(J206=0,0,F206/J206)","v":0},{"$f":"IF(J206=0,0,G206/J206)","v":0},{"$f":"IF(J206=0,0,H206/J206)","v":0},null,194,0,0,0,0.1785714285714286,0,0,0,8.0833333333333339,0.1785714285714286,{"$f":"IF(AB206=0,0,T206/AB206)","v":0},{"$f":"IF(AB206=0,0,U206/AB206)","v":0},{"$f":"IF(AB206=0,0,V206/AB206)","v":0},{"$f":"IF(AB206=0,0,W206/AB206)","v":1},0,{"$f":"IF(AB206=0,0,Y206/AB206)","v":0},{"$f":"IF(AB206=0,0,Z206/AB206)","v":0},null,194,0,0,0,0.74468085106382964,0,0,0,8.0833333333333339,0.74468085106382964,{"$f":"IF(AT206=0,0,AL206/AT206)","v":0},{"$f":"IF(AT206=0,0,AM206/AT206)","v":0},{"$f":"IF(AT206=0,0,AN206/AT206)","v":0},{"$f":"IF(AT206=0,0,AO206/AT206)","v":1},0,{"$f":"IF(AT206=0,0,AQ206/AT206)","v":0},{"$f":"IF(AT206=0,0,AR206/AT206)","v":0},null,194,0,0,0.25510204081632648,0.72448979591836737,0,0,0,8.0833333333333339,0.97959183673469385,{"$f":"IF(BL206=0,0,BD206/BL206)","v":0},{"$f":"IF(BL206=0,0,BE206/BL206)","v":0},{"$f":"IF(BL206=0,0,BF206/BL206)","v":0.26041666666666663},{"$f":"IF(BL206=0,0,BG206/BL206)","v":0.73958333333333337},0,{"$f":"IF(BL206=0,0,BI206/BL206)","v":0},{"$f":"IF(BL206=0,0,BJ206/BL206)","v":0},null,194,0,0,0,0.90909090909090895,0,0,2.0202020202020204E-2,8.0833333333333339,0.92929292929292917,{"$f":"IF(CD206=0,0,BV206/CD206)","v":0},{"$f":"IF(CD206=0,0,BW206/CD206)","v":0},{"$f":"IF(CD206=0,0,BX206/CD206)","v":0},{"$f":"IF(CD206=0,0,BY206/CD206)","v":0.97826086956521741},0,{"$f":"IF(CD206=0,0,CA206/CD206)","v":0},{"$f":"IF(CD206=0,0,CB206/CD206)","v":2.1739130434782615E-2},null,194,0,0,0,0,0,0,0,8.0833333333333339,0,{"$f":"IF(CV206=0,0,CN206/CV206)","v":0},{"$f":"IF(CV206=0,0,CO206/CV206)","v":0},{"$f":"IF(CV206=0,0,CP206/CV206)","v":0},{"$f":"IF(CV206=0,0,CQ206/CV206)","v":0},0,{"$f":"IF(CV206=0,0,CS206/CV206)","v":0},{"$f":"IF(CV206=0,0,CT206/CV206)","v":0},null,194,0,0,0,0,0,0,0,8.0833333333333339,0,{"$f":"IF(DN206=0,0,DF206/DN206)","v":0},{"$f":"IF(DN206=0,0,DG206/DN206)","v":0},{"$f":"IF(DN206=0,0,DH206/DN206)","v":0},{"$f":"IF(DN206=0,0,DI206/DN206)","v":0},0,{"$f":"IF(DN206=0,0,DK206/DN206)","v":0},{"$f":"IF(DN206=0,0,DL206/DN206)","v":0},null,194,0,0,0,0,0,0,0,8.0833333333333339,0,{"$f":"IF(EF206=0,0,DX206/EF206)","v":0},{"$f":"IF(EF206=0,0,DY206/EF206)","v":0},{"$f":"IF(EF206=0,0,DZ206/EF206)","v":0},{"$f":"IF(EF206=0,0,EA206/EF206)","v":0},0,{"$f":"IF(EF206=0,0,EC206/EF206)","v":0},{"$f":"IF(EF206=0,0,ED206/EF206)","v":0},null,194,0,0,0,0,0,0,0,8.0833333333333339,0,{"$f":"IF(EX206=0,0,EP206/EX206)","v":0},{"$f":"IF(EX206=0,0,EQ206/EX206)","v":0},{"$f":"IF(EX206=0,0,ER206/EX206)","v":0},{"$f":"IF(EX206=0,0,ES206/EX206)","v":0},0,{"$f":"IF(EX206=0,0,EU206/EX206)","v":0},{"$f":"IF(EX206=0,0,EV206/EX206)","v":0},null,194,0,0,0,0,0,0,0,8.0833333333333339,0,{"$f":"IF(FP206=0,0,FH206/FP206)","v":0},{"$f":"IF(FP206=0,0,FI206/FP206)","v":0},{"$f":"IF(FP206=0,0,FJ206/FP206)","v":0},{"$f":"IF(FP206=0,0,FK206/FP206)","v":0},0,{"$f":"IF(FP206=0,0,FM206/FP206)","v":0},{"$f":"IF(FP206=0,0,FN206/FP206)","v":0}]
[195,0,0,0,0.91078066914498135,0,0,0,8.125,0.91078066914498135,0,0,0,1,0,0,0,null,195,0,0,0,0.1785714285714286,0,0,0,8.125,0.1785714285714286,0,0,0,1,0,0,0,null,195,0,0,0,0.74468085106382964,0,0,0,8.125,0.74468085106382964,0,0,0,1,0,0,0,null,195,0,0,0.25510204081632648,0.72448979591836737,0,0,0,8.125,0.97959183673469385,0,0,0.26041666666666663,0.73958333333333337,0,0,0,null,195,0,0,0,0.90909090909090895,0,0,2.0202020202020204E-2,8.125,0.92929292929292917,0,0,0,0.97826086956521741,0,0,2.1739130434782615E-2,null,195,0,0,0,0.70394736842105265,0,0,0,8.125,0.70394736842105265,0,0,0,1,0,0,0,null,195,0,0,0,0,0,0,0,8.125,0,0,0,0,0,0,0,0,null,195,0,0,0,0,0,0,0,8.125,0,0,0,0,0,0,0,0,null,195,0,0,0,0,0,0,0,8.125,0,0,0,0,0,0,0,0,null,195,0,0,0,0,0,0,0,8.125,0,0,0,0,0,0,0,0]
[196,0,0,0,0.91078066914498135,0,0,0,8.1666666666666661,0.91078066914498135,0,0,0,1,0,0,0,null,196,0,0,0,0.1785714285714286,0,0,0,8.1666666666666661,0.1785714285714286,0,0,0,1,0,0,0,null,196,0,0,0,0.74468085106382964,0,0,0,8.1666666666666661,0.74468085106382964,0,0,0,1,0,0,0,null,196,0,0,0.25510204081632648,0.72448979591836737,0,0,0,8.1666666666666661,0.97959183673469385,0,0,0.26041666666666663,0.73958333333333337,0,0,0,null,196,0,0,0,0.90909090909090895,0,0,2.0202020202020204E-2,8.1666666666666661,0.92929292929292917,0,0,0,0.97826086956521741,0,0,2.1739130434782615E-2,null,196,0,0,0,0.70394736842105265,0,0,0,8.1666666666666661,0.70394736842105265,0,0,0,1,0,0,0,null,196,0,0,0,0,0,0,0,8.1666666666666661,0,0,0,0,0,0,0,0,null,196,0,0,0,0,0,0,0,8.1666666666666661,0,0,0,0,0,0,0,0,null,196,0,0,0,0,0,0,0,8.1666666666666661,0,0,0,0,0,0,0,0,null,196,0,0,0,0,0,0,0,8.1666666666666661,0,0,0,0,0,0,0,0]
[197,0,0,0,0.91078066914498135,0,0,0,8.2083333333333339,0.91078066914498135,0,0,0,1,0,0,0,null,197,0,0,0,0.1785714285714286,0,0,0,8.2083333333333339,0.1785714285714286,0,0,0,1,0,0,0,null,197,0,0,0,0.74468085106382964,0,0,0,8.2083333333333339,0.74468085106382964,0,0,0,1,0,0,0,null,197,0,0,0.25510204081632648,0.72448979591836737,0,0,0,8.2083333333333339,0.97959183673469385,0,0,0.26041666666666663,0.73958333333333337,0,0,0,null,197,0,0,0,0.90909090909090895,0,0,2.0202020202020204E-2,8.2083333333333339,0.92929292929292917,0,0,0,0.97826086956521741,0,0,2.1739130434782615E-2,null,197,0,0,0,0.70394736842105265,0,0,0,8.2083333333333339,0.70394736842105265,0,0,0,1,0,0,0,null,197,0,0,0,0,0,0,0,8.2083333333333339,0,0,0,0,0,0,0,0,null,197,0,0,0,0,0,0,0,8.2083333333333339,0,0,0,0,0,0,0,0,null,197,0,0,0,0,0,0,0,8.2083333333333339,0,0,0,0,0,0,0,0,null,197,0,0,0,0,0,0,0,8.2083333333333339,0,0,0,0,0,0,0,0]
[198,0,0,0,0.91078066914498135,0,0,0,8.25,0.91078066914498135,0,0,0,1,0,0,0,null,198,0,0,0,0.1785714285714286,0,0,0,8.25,0.1785714285714286,0,0,0,1,0,0,0,null,198,0,0,0,0.74468085106382964,0,0,0,8.25,0.74468085106382964,0,0,0,1,0,0,0,null,198,0,0,0.25510204081632648,0.72448979591836737,0,0,0,8.25,0.97959183673469385,0,0,0.26041666666666663,0.73958333333333337,0,0,0,null,198,0,0,0,0.90909090909090895,0,0,0,8.25,0.90909090909090895,0,0,0,1,0,0,0,null,198,0,0,0,0.70394736842105265,0,0,0,8.25,0.70394736842105265,0,0,0,1,0,0,0,null,198,0,0,0,0,0,0,0,8.25,0,0,0,0,0,0,0,0,null,198,0,0,0,0,0,0,0,8.25,0,0,0,0,0,0,0,0,null,198,0,0,0,0,0,0,0,8.25,0,0,0,0,0,0,0,0,null,198,0,0,0,0,0,0,0,8.25,0,0,0,0,0,0,0,0]
[199,0,0,0,0.91078066914498135,0,0,0,8.2916666666666661,0.91078066914498135,0,0,0,1,0,0,0,null,199,0,0,0,0.1785714285714286,0,0,0,8.2916666666666661,0.1785714285714286,0,0,0,1,0,0,0,null,199,0,0,0,0.74468085106382964,0,0,0,8.2916666666666661,0.74468085106382964,0,0,0,1,0,0,0,null,199,0,0,0.25510204081632648,0.72448979591836737,0,0,0,8.2916666666666661,0.97959183673469385,0,0,0.26041666666666663,0.73958333333333337,0,0,0,null,199,0,0,0,0.90909090909090895,0,0,0,8.2916666666666661,0.90909090909090895,0,0,0,1,0,0,0,null,199,0,0,0,0.70394736842105265,0,0,0,8.2916666666666661,0.70394736842105265,0,0,0,1,0,0,0,null,199,0,0,0,0,0,0,0,8.2916666666666661,0,0,0,0,0,0,0,0,null,199,0,0,0,0,0,0,0,8.2916666666666661,0,0,0,0,0,0,0,0,null,199,0,0,0,0,0,0,0,8.2916666666666661,0,0,0,0,0,0,0,0,null,199,0,0,0,0,0,0,0,8.2916666666666661,0,0,0,0,0,0,0,0]
[200,0,0,0,0.91078066914498135,0,0,0,8.3333333333333339,0.91078066914498135,0,0,0,1,0,0,0,null,200,0,0,0,0.1785714285714286,0,0,0,8.3333333333333339,0.1785714285714286,0,0,0,1,0,0,0,null,200,0,0,0,0.74468085106382964,0,0,0,8.3333333333333339,0.74468085106382964,0,0,0,1,0,0,0,null,200,0,0,0.25510204081632648,0.72448979591836737,0,0,0,8.3333333333333339,0.97959183673469385,0,0,0.26041666666666663,0.73958333333333337,0,0,0,null,200,0,0,0,0.90909090909090895,0,0,0,8.3333333333333339,0.90909090909090895,0,0,0,1,0,0,0,null,200,0,0,0,0.70394736842105265,0,0,0,8.3333333333333339,0.70394736842105265,0,0,0,1,0,0,0,null,200,0,0,0,0,0,0,0,8.3333333333333339,0,0,0,0,0,0,0,0,null,200,0,0,0,0,0,0,0,8.3333333333333339,0,0,0,0,0,0,0,0,null,200,0,0,0,0,0,0,0,8.3333333333333339,0,0,0,0,0,0,0,0,null,200,0,0,0,0,0,0,0,8.3333333333333339,0,0,0,0,0,0,0,0]
[201,0,0,0,0.91078066914498135,0,0,0,8.375,0.91078066914498135,0,0,0,1,0,0,0,null,201,0,0,0,0.1785714285714286,0,0,0,8.375,0.1785714285714286,0,0,0,1,{"$f":"IF(AB213=0,0,X213/AB213)","v":0},0,0,null,201,0,0,0,0.74468085106382964,0,0,0,8.375,0.74468085106382964,0,0,0,1,{"$f":"IF(AT213=0,0,AP213/AT213)","v":0},0,0,null,201,0,0,0.25510204081632648,0.72448979591836737,0,0,0,8.375,0.97959183673469385,0,0,0.26041666666666663,0.73958333333333337,{"$f":"IF(BL213=0,0,BH213/BL213)","v":0},0,0,null,201,0,0,0,0.90909090909090895,0,0,0,8.375,0.90909090909090895,0,0,0,1,{"$f":"IF(CD213=0,0,BZ213/CD213)","v":0},0,0,null,201,0,0,0,0.70394736842105265,0,0,0,8.375,0.70394736842105265,0,0,0,1,{"$f":"IF(CV213=0,0,CR213/CV213)","v":0},0,0,null,201,0,0,0,0,0,0,0,8.375,0,0,0,0,0,{"$f":"IF(DN213=0,0,DJ213/DN213)","v":0},0,0,null,201,0,0,0,0,0,0,0,8.375,0,0,0,0,0,{"$f":"IF(EF213=0,0,EB213/EF213)","v":0},0,0,null,201,0,0,0,0,0,0,0,8.375,0,0,0,0,0,{"$f":"IF(EX213=0,0,ET213/EX213)","v":0},0,0,null,201,0,0,0,0,0,0,0,8.375,0,0,0,0,0,{"$f":"IF(FP213=0,0,FL213/FP213)","v":0},0,0]
[202,0,0,0,0.91078066914498135,0,0,0,8.4166666666666661,0.91078066914498135,0,0,0,1,0,0,0,null,202,0,0,0,0.1785714285714286,0,0,0,8.4166666666666661,0.1785714285714286,0,0,0,1,0,0,0,null,202,0,0,0,0.74468085106382964,0,0,0,8.4166666666666661,0.74468085106382964,0,0,0,1,0,0,0,null,202,0,0,0.25510204081632648,0.72448979591836737,0,0,0,8.4166666666666661,0.97959183673469385,0,0,0.26041666666666663,0.73958333333333337,0,0,0,null,202,0,0,0,0.90909090909090895,0,0,0,8.4166666666666661,0.90909090909090895,0,0,0,1,0,0,0,null,202,0,0,0,0.70394736842105265,0,0,0,8.4166666666666661,0.70394736842105265,0,0,0,1,0,0,0,null,202,0,0,0,0,0,0,0,8.4166666666666661,0,0,0,0,0,0,0,0,null,202,0,0,0,0,0,0,0,8.4166666666666661,0,0,0,0,0,0,0,0,null,202,0,0,0,0,0,0,0,8.4166666666666661,0,0,0,0,0,0,0,0,null,202,0,0,0,0,0,0,0,8.4166666666666661,0,0,0,0,0,0,0,0]
[203,0,0,0,0.91078066914498135,0,0,0,8.4583333333333339,0.91078066914498135,0,0,0,1,0,0,0,null,203,0,0,0,0.1785714285714286,0,0,0,8.4583333333333339,0.1785714285714286,0,0,0,1,0,0,0,null,203,0,0,0,0.74468085106382964,0,0,0,8.4583333333333339,0.74468085106382964,0,0,0,1,0,0,0,null,203,0,0,0.25510204081632648,0.72448979591836737,0,0,0,8.4583333333333339,0.97959183673469385,0,0,0.26041666666666663,0.73958333333333337,0,0,0,null,203,0,0,0,0.90909090909090895,0,0,0,8.4583333333333339,0.90909090909090895,0,0,0,1,0,0,0,null,203,0,0,0,0.70394736842105265,0,0,0,8.4583333333333339,0.70394736842105265,0,0,0,1,0,0,0,null,203,0,0,0,0,0,0,0,8.4583333333333339,0,0,0,0,0,0,0,0,null,203,0,0,0,0,0,0,0,8.4583333333333339,0,0,0,0,0,0,0,0,null,203,0,0,0,0,0,0,0,8.4583333333333339,0,0,0,0,0,0,0,0,null,203,0,0,0,0,0,0,0,8.4583333333333339,0,0,0,0,0,0,0,0]
[204,0,0,0,0.91078066914498135,0,0,0,8.5,0.91078066914498135,0,0,0,1,0,0,0,null,204,0,0,0,0.1785714285714286,0,0,0,8.5,0.1785714285714286,0,0,0,1,0,0,0,null,204,0,0,0,0.74468085106382964,0,0,0,8.5,0.74468085106382964,0,0,0,1,0,0,0,null,204,0,0,0.25510204081632648,0.72448979591836737,0,0,0,8.5,0.97959183673469385,0,0,0.26041666666666663,0.73958333333333337,0,0,0,null,204,0,0,0,0.90909090909090895,0,0,0,8.5,0.90909090909090895,0,0,0,1,0,0,0,null,204,0,0,0,0.70394736842105265,0,0,0,8.5,0.70394736842105265,0,0,0,1,0,0,0,null,204,0,0,0,0,0,0,0,8.5,0,0,0,0,0,0,0,0,null,204,0,0,0,0,0,0,0,8.5,0,0,0,0,0,0,0,0,null,204,0,0,0,0,0,0,0,8.5,0,0,0,0,0,0,0,0,null,204,0,0,0,0,0,0,0,8.5,0,0,0,0,0,0,0,0]
[205,0,0,0,0.91078066914498135,0,0,0,8.5416666666666661,0.91078066914498135,0,0,0,1,0,0,0,null,205,0,0,0,0.1785714285714286,0,0,0,8.5416666666666661,0.1785714285714286,0,0,0,1,0,0,0,null,205,0,0,0,0.74468085106382964,0,0,0,8.5416666666666661,0.74468085106382964,0,0,0,1,0,0,0,null,205,0,0,0.25510204081632648,0.72448979591836737,0,0,0,8.5416666666666661,0.97959183673469385,0,0,0.26041666666666663,0.73958333333333337,0,0,0,null,205,0,0,0,0.90909090909090895,0,0,0,8.5416666666666661,0.90909090909090895,0,0,0,1,0,0,0,null,205,0,0,0,0.70394736842105265,0,0,0,8.5416666666666661,0.70394736842105265,0,0,0,1,0,0,0,null,205,0,0,0,0,0,0,0,8.5416666666666661,0,0,0,0,0,0,0,0,null,205,0,0,0,0,0,0,0,8.5416666666666661,0,0,0,0,0,0,0,0,null,205,0,0,0,0,0,0,0,8.5416666666666661,0,0,0,0,0,0,0,0,null,205,0,0,0,0,0,0,0,8.5416666666666661,0,0,0,0,0,0,0,0]
[206,0,0,0,0.91078066914498135,0,0,0,8.5833333333333339,0.91078066914498135,0,0,0,1,0,0,0,null,206,0,0,0,0.1785714285714286,0,0,0,8.5833333333333339,0.1785714285714286,0,0,0,1,0,0,0,null,206,0,0,0,0.74468085106382964,0,0,0,8.5833333333333339,0.74468085106382964,0,0,0,1,0,0,0,null,206,0,0,0.25510204081632648,0.72448979591836737,0,0,0,8.5833333333333339,0.97959183673469385,0,0,0.26041666666666663,0.73958333333333337,0,0,0,null,206,0,0,0,0.90909090909090895,0,0,0,8.5833333333333339,0.90909090909090895,0,0,0,1,0,0,0,null,206,0,0,0,0.70394736842105265,0,0,0,8.5833333333333339,0.70394736842105265,0,0,0,1,0,0,0,null,206,0,0,0,0,0,0,0,8.5833333333333339,0,0,0,0,0,0,0,0,null,206,0,0,0,0,0,0,0,8.5833333333333339,0,0,0,0,0,0,0,0,null,206,0,0,0,0,0,0,0,8.5833333333333339,0,0,0,0,0,0,0,0,null,206,0,0,0,0,0,0,0,8.5833333333333339,0,0,0,0,0,0,0,0]
[207,0,0,0,0.91078066914498135,0,0,0,8.625,0.91078066914498135,0,0,0,1,0,0,0,null,207,0,0,0,0.1785714285714286,0,0,0,8.625,0.1785714285714286,0,0,0,1,0,0,0,null,207,0,0,0,0.74468085106382964,0,0,0,8.625,0.74468085106382964,0,0,0,1,0,0,0,null,207,0,0,0.25510204081632648,0.72448979591836737,0,0,0,8.625,0.97959183673469385,0,0,0.26041666666666663,0.73958333333333337,0,0,0,null,207,0,0,0,0.90909090909090895,0,0,0,8.625,0.90909090909090895,0,0,0,1,0,0,0,null,207,0,0,0,0.70394736842105265,0,0,0,8.625,0.70394736842105265,0,0,0,1,0,0,0,null,207,0,0,0,0,0,0,0,8.625,0,0,0,0,0,0,0,0,null,207,0,0,0,0,0,0,0,8.625,0,0,0,0,0,0,0,0,null,207,0,0,0,0,0,0,0,8.625,0,0,0,0,0,0,0,0,null,207,0,0,0,0,0,0,0,8.625,0,0,0,0,0,0,0,0]
[208,0,0,0,0.91078066914498135,0,0,0,8.6666666666666661,0.91078066914498135,0,0,0,1,0,0,0,null,208,0,0,0,0.1785714285714286,0,0,0,8.6666666666666661,0.1785714285714286,0,0,0,1,0,0,0,null,208,0,0,0,0.74468085106382964,0,0,0,8.6666666666666661,0.74468085106382964,0,0,0,1,0,0,0,null,208,0,0,0.25510204081632648,0.72448979591836737,0,0,0,8.6666666666666661,0.97959183673469385,0,0,0.26041666666666663,0.73958333333333337,0,0,0,null,208,0,0,0,0.90909090909090895,0,0,0,8.6666666666666661,0.90909090909090895,0,0,0,1,0,0,0,null,208,0,0,0,0.70394736842105265,0,0,0,8.6666666666666661,0.70394736842105265,0,0,0,1,0,0,0,null,208,0,0,0,0,0,0,0,8.6666666666666661,0,0,0,0,0,0,0,0,null,208,0,0,0,0,0,0,0,8.6666666666666661,0,0,0,0,0,0,0,0,null,208,0,0,0,0,0,0,0,8.6666666666666661,0,0,0,0,0,0,0,0,null,208,0,0,0,0,0,0,0,8.6666666666666661,0,0,0,0,0,0,0,0]
[209,0,0,0,0.91078066914498135,0,0,0,8.7083333333333339,0.91078066914498135,0,0,0,1,0,0,0,null,209,0,0,0,0.1785714285714286,0,0,0,8.7083333333333339,0.1785714285714286,0,0,0,1,0,0,0,null,209,0,0,0,0.74468085106382964,0,0,0,8.7083333333333339,0.74468085106382964,0,0,0,1,0,0,0,null,209,0,0,0.25510204081632648,0.72448979591836737,0,0,0,8.7083333333333339,0.97959183673469385,0,0,0.26041666666666663,0.73958333333333337,0,0,0,null,209,0,0,0,0.90909090909090895,0,0,0,8.7083333333333339,0.90909090909090895,0,0,0,1,0,0,0,null,209,0,0,0,0.70394736842105265,0,0,0,8.7083333333333339,0.70394736842105265,0,0,0,1,0,0,0,null,209,0,0,0,0,0,0,0,8.7083333333333339,0,0,0,0,0,0,0,0,null,209,0,0,0,0,0,0,0,8.7083333333333339,0,0,0,0,0,0,0,0,null,209,0,0,0,0,0,0,0,8.7083333333333339,0,0,0,0,0,0,0,0,null,209,0,0,0,0,0,0,0,8.7083333333333339,0,0,0,0,0,0,0,0]
[210,0,0,0,0.91078066914498135,0,0,0,8.75,0.91078066914498135,0,0,0,1,0,0,0,null,210,0,0,0.77678571428571441,0.1785714285714286,0,0,0,8.75,0.95535714285714302,0,0,0.81308411214953269,0.18691588785046728,0,0,0,null,210,0,0,0,0.74468085106382964,0,0,0,8.75,0.74468085106382964,0,0,0,1,0,0,0,null,210,0,0,0.25510204081632648,0.72448979591836737,0,0,0,8.75,0.97959183673469385,0,0,0.26041666666666663,0.73958333333333337,0,0,0,null,210,0,0,0,0.90909090909090895,0,0,0,8.75,0.90909090909090895,0,0,0,1,0,0,0,null,210,0,0,0,0.70394736842105265,0,0,0,8.75,0.70394736842105265,0,0,0,1,0,0,0,null,210,0,0,0,0,0,0,0,8.75,0,0,0,0,0,0,0,0,null,210,0,0,0,0,0,0,0,8.75,0,0,0,0,0,0,0,0,null,210,0,0,0,0,0,0,0,8.75,0,0,0,0,0,0,0,0,null,210,0,0,0,0,0,0,0,8.75,0,0,0,0,0,0,0,0]
[211,0,0,0,0.91078066914498135,0,0,0,8.7916666666666661,0.91078066914498135,0,0,0,1,0,0,0,null,211,0,0,0.77678571428571441,0.1785714285714286,0,0,0,8.7916666666666661,0.95535714285714302,0,0,0.81308411214953269,0.18691588785046728,0,0,0,null,211,0,0,0,0.74468085106382964,0,0,0,8.7916666666666661,0.74468085106382964,0,0,0,1,0,0,0,null,211,0,0,0.25510204081632648,0.72448979591836737,0,0,0,8.7916666666666661,0.97959183673469385,0,0,0.26041666666666663,0.73958333333333337,0,0,0,null,211,0,0,0,0.90909090909090895,0,0,0,8.7916666666666661,0.90909090909090895,0,0,0,1,0,0,0,null,211,0,0,0,0.70394736842105265,0,0,0,8.7916666666666661,0.70394736842105265,0,0,0,1,0,0,0,null,211,0,0,0,0,0,0,0,8.7916666666666661,0,0,0,0,0,0,0,0,null,211,0,0,0,0,0,0,0,8.7916666666666661,0,0,0,0,0,0,0,0,null,211,0,0,0,0,0,0,0,8.7916666666666661,0,0,0,0,0,0,0,0,null,211,0,0,0,0,0,0,0,8.7916666666666661,0,0,0,0,0,0,0,0]
[212,0,0,0,0.91078066914498135,0,0,0,8.8333333333333339,0.91078066914498135,0,0,0,1,0,0,0,null,212,0,0,0.77678571428571441,0.1785714285714286,0,0,0,8.8333333333333339,0.95535714285714302,0,0,0.81308411214953269,0.18691588785046728,0,0,0,null,212,0,0,0,0.74468085106382964,0,0,0,8.8333333333333339,0.74468085106382964,0,0,0,1,0,0,0,null,212,0,0,0.25510204081632648,0.72448979591836737,0,0,0,8.8333333333333339,0.97959183673469385,0,0,0.26041666666666663,0.73958333333333337,0,0,0,null,212,0,0,0,0.90909090909090895,0,0,0,8.8333333333333339,0.90909090909090895,0,0,0,1,0,0,0,null,212,0,0,0,0.70394736842105265,0,0,0,8.8333333333333339,0.70394736842105265,0,0,0,1,0,0,0,null,212,0,0,0,0,0,0,0,8.8333333333333339,0,0,0,0,0,0,0,0,null,212,0,0,0,0,0,0,0,8.8333333333333339,0,0,0,0,0,0,0,0,null,212,0,0,0,0,0,0,0,8.8333333333333339,0,0,0,0,0,0,0,0,null,212,0,0,0,0,0,0,0,8.8333333333333339,0,0,0,0,0,0,0,0]
[213,0,0,0,0.91078066914498135,0,0,0,8.875,0.91078066914498135,0,0,0,1,0,0,0,null,213,0,0,0.77678571428571441,0.1785714285714286,0,0,0,8.875,0.95535714285714302,0,0,0.81308411214953269,0.18691588785046728,0,0,0,null,213,0,0,0,0.74468085106382964,0,0,0,8.875,0.74468085106382964,0,0,0,1,0,0,0,null,213,0,0,0.25510204081632648,0.72448979591836737,0,0,0,8.875,0.97959183673469385,0,0,0.26041666666666663,0.73958333333333337,0,0,0,null,213,0,0,0,0.90909090909090895,0,0,0,8.875,0.90909090909090895,0,0,0,1,0,0,0,null,213,0,0,0,0.70394736842105265,0,0,0,8.875,0.70394736842105265,0,0,0,1,0,0,0,null,213,0,0,0,0,0,0,0,8.875,0,0,0,0,0,0,0,0,null,213,0,0,0,0,0,0,0,8.875,0,0,0,0,0,0,0,0,null,213,0,0,0,0,0,0,0,8.875,0,0,0,0,0,0,0,0,null,213,0,0,0,0,0,0,0,8.875,0,0,0,0,0,0,0,0]
[214,0,0,0,0.91078066914498135,0,0,0,8.9166666666666661,0.91078066914498135,0,0,0,1,0,0,0,null,214,0,0,0.77678571428571441,0.1785714285714286,0,0,0,8.9166666666666661,0.95535714285714302,0,0,0.81308411214953269,0.18691588785046728,0,0,0,null,214,0,0,0,0.74468085106382964,0,0,0,8.9166666666666661,0.74468085106382964,0,0,0,1,0,0,0,null,214,0,0,0.25510204081632648,0.72448979591836737,0,0,0,8.9166666666666661,0.97959183673469385,0,0,0.26041666666666663,0.73958333333333337,0,0,0,null,214,0,0,0,0.90909090909090895,0,0,0,8.9166666666666661,0.90909090909090895,0,0,0,1,0,0,0,null,214,0,0,0,0.70394736842105265,0,0,0,8.9166666666666661,0.70394736842105265,0,0,0,1,0,0,0,null,214,0,0,0,0,0,0,0,8.9166666666666661,0,0,0,0,0,0,0,0,null,214,0,0,0,0,0,0,0,8.9166666666666661,0,0,0,0,0,0,0,0,null,214,0,0,0,0,0,0,0,8.9166666666666661,0,0,0,0,0,0,0,0,null,214,0,0,0,0,0,0,0,8.9166666666666661,0,0,0,0,0,0,0,0]
[215,0,0,0,0.91078066914498135,0,0,0,8.9583333333333339,0.91078066914498135,0,0,0,1,0,0,0,null,215,0,0,0.77678571428571441,0.1785714285714286,0,0,0,8.9583333333333339,0.95535714285714302,0,0,0.81308411214953269,0.18691588785046728,0,0,0,null,215,0,0,0,0.74468085106382964,0,0,0,8.9583333333333339,0.74468085106382964,0,0,0,1,0,0,0,null,215,0,0,0.25510204081632648,0.72448979591836737,0,0,0,8.9583333333333339,0.97959183673469385,0,0,0.26041666666666663,0.73958333333333337,0,0,0,null,215,0,0,0,0.90909090909090895,0,0,0,8.9583333333333339,0.90909090909090895,0,0,0,1,0,0,0,null,215,0,0,0,0.70394736842105265,0,0,0,8.9583333333333339,0.70394736842105265,0,0,0,1,0,0,0,null,215,0,0,0,0,0,0,0,8.9583333333333339,0,0,0,0,0,0,0,0,null,215,0,0,0,0,0,0,0,8.9583333333333339,0,0,0,0,0,0,0,0,null,215,0,0,0,0,0,0,0,8.9583333333333339,0,0,0,0,0,0,0,0,null,215,0,0,0,0,0,0,0,8.9583333333333339,0,0,0,0,0,0,0,0]
[216,0,0,0,0.91078066914498135,0,0,0,9,0.91078066914498135,0,0,0,1,0,0,0,null,216,0,0,0.77678571428571441,0.1785714285714286,0,0,0,9,0.95535714285714302,0,0,0.81308411214953269,0.18691588785046728,0,0,0,null,216,0,0,0,0.74468085106382964,0,0,0,9,0.74468085106382964,0,0,0,1,0,0,0,null,216,0,0,0.25510204081632648,0.72448979591836737,0,0,0,9,0.97959183673469385,0,0,0.26041666666666663,0.73958333333333337,0,0,0,null,216,0,0,0,0.90909090909090895,0,0,0,9,0.90909090909090895,0,0,0,1,0,0,0,null,216,0,0,0,0.70394736842105265,0,0,0,9,0.70394736842105265,0,0,0,1,0,0,0,null,216,0,0,0,0,0,0,0,9,0,0,0,0,0,0,0,0,null,216,0,0,0,0,0,0,0,9,0,0,0,0,0,0,0,0,null,216,0,0,0,0,0,0,0,9,0,0,0,0,0,0,0,0,null,216,0,0,0,0,0,0,0,9,0,0,0,0,0,0,0,0]
[217,0,0,0,0.91078066914498135,0,0,0,9.0416666666666661,0.91078066914498135,0,0,0,1,0,0,0,null,217,0,0,0.77678571428571441,0.1785714285714286,0,0,0,9.0416666666666661,0.95535714285714302,0,0,0.81308411214953269,0.18691588785046728,0,0,0,null,217,0,0,0,0.74468085106382964,0,0,0,9.0416666666666661,0.74468085106382964,0,0,0,1,0,0,0,null,217,0,0,0.25510204081632648,0.72448979591836737,0,0,0,9.0416666666666661,0.97959183673469385,0,0,0.26041666666666663,0.73958333333333337,0,0,0,null,217,0,0,0,0.90909090909090895,0,0,0,9.0416666666666661,0.90909090909090895,0,0,0,1,0,0,0,null,217,0,0,0,0.70394736842105265,0,0,0,9.0416666666666661,0.70394736842105265,0,0,0,1,0,0,0,null,217,0,0,0,0,0,0,0,9.0416666666666661,0,0,0,0,0,0,0,0,null,217,0,0,0,0,0,0,0,9.0416666666666661,0,0,0,0,0,0,0,0,null,217,0,0,0,0,0,0,0,9.0416666666666661,0,0,0,0,0,0,0,0,null,217,0,0,0,0,0,0,0,9.0416666666666661,0,0,0,0,0,0,0,0]
[218,0,0,0,0.91078066914498135,0,0,0,9.0833333333333339,0.91078066914498135,0,0,0,1,0,0,0,null,218,0,0,0.77678571428571441,0.1785714285714286,0,0,0,9.0833333333333339,0.95535714285714302,0,0,0.81308411214953269,0.18691588785046728,0,0,0,null,218,0,0,0,0.74468085106382964,0,0,0,9.0833333333333339,0.74468085106382964,0,0,0,1,0,0,0,null,218,0,0,0.25510204081632648,0.72448979591836737,0,0,0,9.0833333333333339,0.97959183673469385,0,0,0.26041666666666663,0.73958333333333337,0,0,0,null,218,0,0,0,0.90909090909090895,0,0,0,9.0833333333333339,0.90909090909090895,0,0,0,1,0,0,0,null,218,0,0,0,0.70394736842105265,0,0,0,9.0833333333333339,0.70394736842105265,0,0,0,1,0,0,0,null,218,0,0,0,0,0,0,0,9.0833333333333339,0,0,0,0,0,0,0,0,null,218,0,0,0,0,0,0,0,9.0833333333333339,0,0,0,0,0,0,0,0,null,218,0,0,0,0,0,0,0,9.0833333333333339,0,0,0,0,0,0,0,0,null,218,0,0,0,0,0,0,0,9.0833333333333339,0,0,0,0,0,0,0,0]
[219,0,0,0,0.91078066914498135,0,0,0,9.125,0.91078066914498135,0,0,0,1,0,0,0,null,219,0,0,0.77678571428571441,0.1785714285714286,0,0,0,9.125,0.95535714285714302,0,0,0.81308411214953269,0.18691588785046728,0,0,0,null,219,0,0,0,0.74468085106382964,0,0,0,9.125,0.74468085106382964,0,0,0,1,0,0,0,null,219,0,0,0.25510204081632648,0.72448979591836737,0,0,0,9.125,0.97959183673469385,0,0,0.26041666666666663,0.73958333333333337,0,0,0,null,219,0,0,0,0.90909090909090895,0,0,0,9.125,0.90909090909090895,0,0,0,1,0,0,0,null,219,0,0,0,0.70394736842105265,0,0,0,9.125,0.70394736842105265,0,0,0,1,0,0,0,null,219,0,0,0,0,0,0,0,9.125,0,0,0,0,0,0,0,0,null,219,0,0,0,0,0,0,0,9.125,0,0,0,0,0,0,0,0,null,219,0,0,0,0,0,0,0,9.125,0,0,0,0,0,0,0,0,null,219,0,0,0,0,0,0,0,9.125,0,0,0,0,0,0,0,0]
[220,0,0,0,0.91078066914498135,0,0,0,9.1666666666666661,0.91078066914498135,0,0,0,1,0,0,0,null,220,0,0,0.77678571428571441,0.1785714285714286,0,0,0,9.1666666666666661,0.95535714285714302,0,0,0.81308411214953269,0.18691588785046728,0,0,0,null,220,0,0,0,0.74468085106382964,0,0,0,9.1666666666666661,0.74468085106382964,0,0,0,1,0,0,0,null,220,0,0,0.25510204081632648,0.72448979591836737,0,0,0,9.1666666666666661,0.97959183673469385,0,0,0.26041666666666663,0.73958333333333337,0,0,0,null,220,0,0,0,0.90909090909090895,0,0,0,9.1666666666666661,0.90909090909090895,0,0,0,1,0,0,0,null,220,0,0,0,0.70394736842105265,0,0,0,9.1666666666666661,0.70394736842105265,0,0,0,1,0,0,0,null,220,0,0,0,0,0,0,0,9.1666666666666661,0,0,0,0,0,0,0,0,null,220,0,0,0,0,0,0,0,9.1666666666666661,0,0,0,0,0,0,0,0,null,220,0,0,0,0,0,0,0,9.1666666666666661,0,0,0,0,0,0,0,0,null,220,0,0,0,0,0,0,0,9.1666666666666661,0,0,0,0,0,0,0,0]
[221,0,0,0,0.91078066914498135,0,0,0,9.2083333333333339,0.91078066914498135,0,0,0,1,0,0,0,null,221,0,0,0.77678571428571441,0.1785714285714286,0,0,0,9.2083333333333339,0.95535714285714302,0,0,0.81308411214953269,0.18691588785046728,0,0,0,null,221,0,0,0,0.74468085106382964,0,0,0,9.2083333333333339,0.74468085106382964,0,0,0,1,0,0,0,null,221,0,0,0.25510204081632648,0.72448979591836737,0,0,0,9.2083333333333339,0.97959183673469385,0,0,0.26041666666666663,0.73958333333333337,0,0,0,null,221,0,0,0,0.90909090909090895,0,0,0,9.2083333333333339,0.90909090909090895,0,0,0,1,0,0,0,null,221,0,0,0,0.70394736842105265,0,0,0,9.2083333333333339,0.70394736842105265,0,0,0,1,0,0,0,null,221,0,0,0,0,0,0,0,9.2083333333333339,0,0,0,0,0,0,0,0,null,221,0,0,0,0,0,0,0,9.2083333333333339,0,0,0,0,0,0,0,0,null,221,0,0,0,0,0,0,0,9.2083333333333339,0,0,0,0,0,0,0,0,null,221,0,0,0,0,0,0,0,9.2083333333333339,0,0,0,0,0,0,0,0]
[222,0,0,0,0.91078066914498135,0,0,0,9.25,0.91078066914498135,0,0,0,1,0,0,0,null,222,0,0,0.77678571428571441,0.1785714285714286,0,0,0,9.25,0.95535714285714302,0,0,0.81308411214953269,0.18691588785046728,0,0,0,null,222,0,0,0,0.74468085106382964,0,0,0,9.25,0.74468085106382964,0,0,0,1,0,0,0,null,222,0,0,0.25510204081632648,0.72448979591836737,0,0,0,9.25,0.97959183673469385,0,0,0.26041666666666663,0.73958333333333337,0,0,0,null,222,0,0,0,0.90909090909090895,0,0,0,9.25,0.90909090909090895,0,0,0,1,0,0,0,null,222,0,0,0,0.70394736842105265,0,0,0,9.25,0.70394736842105265,0,0,0,1,0,0,0,null,222,0,0,0,0,0,0,0,9.25,0,0,0,0,0,0,0,0,null,222,0,0,0,0,0,0,0,9.25,0,0,0,0,0,0,0,0,null,222,0,0,0,0,0,0,0,9.25,0,0,0,0,0,0,0,0,null,222,0,0,0,0,0,0,0,9.25,0,0,0,0,0,0,0,0]
[223,0,0,0,0.91078066914498135,0,0,0,9.2916666666666661,0.91078066914498135,0,0,0,1,0,0,0,null,223,0,0,0.77678571428571441,0.1785714285714286,0,0,0,9.2916666666666661,0.95535714285714302,0,0,0.81308411214953269,0.18691588785046728,0,0,0,null,223,0,0,0,0.74468085106382964,0,0,0,9.2916666666666661,0.74468085106382964,0,0,0,1,0,0,0,null,223,0,0,0.25510204081632648,0.72448979591836737,0,0,0,9.2916666666666661,0.97959183673469385,0,0,0.26041666666666663,0.73958333333333337,0,0,0,null,223,0,0,0,0.90909090909090895,0,0,0,9.2916666666666661,0.90909090909090895,0,0,0,1,0,0,0,null,223,0,0,0,0.70394736842105265,0,0,0,9.2916666666666661,0.70394736842105265,0,0,0,1,0,0,0,null,223,0,0,0,0,0,0,0,9.2916666666666661,0,0,0,0,0,0,0,0,null,223,0,0,0,0,0,0,0,9.2916666666666661,0,0,0,0,0,0,0,0,null,223,0,0,0,0,0,0,0,9.2916666666666661,0,0,0,0,0,0,0,0,null,223,0,0,0,0,0,0,0,9.2916666666666661,0,0,0,0,0,0,0,0]
[224,0,0,0,0.91078066914498135,0,0,0,9.3333333333333339,0.91078066914498135,0,0,0,1,0,0,0,null,224,0,0,0.77678571428571441,0.1785714285714286,0,0,0,9.3333333333333339,0.95535714285714302,0,0,0.81308411214953269,0.18691588785046728,0,0,0,null,224,0,0,0,0.74468085106382964,0,0,0,9.3333333333333339,0.74468085106382964,0,0,0,1,0,0,0,null,224,0,0,0.25510204081632648,0.72448979591836737,0,0,0,9.3333333333333339,0.97959183673469385,0,0,0.26041666666666663,0.73958333333333337,0,0,0,null,224,0,0,0,0.90909090909090895,0,0,0,9.3333333333333339,0.90909090909090895,0,0,0,1,0,0,0,null,224,0,0,0,0.70394736842105265,0,0,0,9.3333333333333339,0.70394736842105265,0,0,0,1,0,0,0,null,224,0,0,0,0,0,0,0,9.3333333333333339,0,0,0,0,0,0,0,0,null,224,0,0,0,0,0,0,0,9.3333333333333339,0,0,0,0,0,0,0,0,null,224,0,0,0,0,0,0,0,9.3333333333333339,0,0,0,0,0,0,0,0,null,224,0,0,0,0,0,0,0,9.3333333333333339,0,0,0,0,0,0,0,0]
[225,0,0,0,0.91078066914498135,0,0,0,9.375,0.91078066914498135,0,0,0,1,0,0,0,null,225,0,0,0.77678571428571441,0.1785714285714286,0,0,0,9.375,0.95535714285714302,0,0,0.81308411214953269,0.18691588785046728,0,0,0,null,225,0,0,0,0.74468085106382964,0,0,0,9.375,0.74468085106382964,0,0,0,1,0,0,0,null,225,0,0,0.25510204081632648,0.72448979591836737,0,0,0,9.375,0.97959183673469385,0,0,0.26041666666666663,0.73958333333333337,0,0,0,null,225,0,0,0,0.90909090909090895,0,0,0,9.375,0.90909090909090895,0,0,0,1,0,0,0,null,225,0,0,0,0.70394736842105265,0,0,0,9.375,0.70394736842105265,0,0,0,1,0,0,0,null,225,0,0,0,0,0,0,0,9.375,0,0,0,0,0,0,0,0,null,225,0,0,0,0,0,0,0,9.375,0,0,0,0,0,0,0,0,null,225,0,0,0,0,0,0,0,9.375,0,0,0,0,0,0,0,0,null,225,0,0,0,0,0,0,0,9.375,0,0,0,0,0,0,0,0]
[226,0,0,0,0.91078066914498135,0,0,0,9.4166666666666661,0.91078066914498135,0,0,0,1,0,0,0,null,226,0,0,0.77678571428571441,0.1785714285714286,0,0,0,9.4166666666666661,0.95535714285714302,0,0,0.81308411214953269,0.18691588785046728,0,0,0,null,226,0,0,0,0.74468085106382964,0,0,0,9.4166666666666661,0.74468085106382964,0,0,0,1,0,0,0,null,226,0,0,0.25510204081632648,0.72448979591836737,0,0,0,9.4166666666666661,0.97959183673469385,0,0,0.26041666666666663,0.73958333333333337,0,0,0,null,226,0,0,0,0.90909090909090895,0,0,0,9.4166666666666661,0.90909090909090895,0,0,0,1,0,0,0,null,226,0,0,0,0.70394736842105265,0,0,0,9.4166666666666661,0.70394736842105265,0,0,0,1,0,0,0,null,226,0,0,0,0,0,0,0,9.4166666666666661,0,0,0,0,0,0,0,0,null,226,0,0,0,0,0,0,0,9.4166666666666661,0,0,0,0,0,0,0,0,null,226,0,0,0,0,0,0,0,9.4166666666666661,0,0,0,0,0,0,0,0,null,226,0,0,0,0,0,0,0,9.4166666666666661,0,0,0,0,0,0,0,0]
[227,0,0,0,0.91078066914498135,0,0,0,9.4583333333333339,0.91078066914498135,0,0,0,1,0,0,0,null,227,0,0,0.77678571428571441,0.1785714285714286,0,0,0,9.4583333333333339,0.95535714285714302,0,0,0.81308411214953269,0.18691588785046728,0,0,0,null,227,0,0,0,0.74468085106382964,0,0,0,9.4583333333333339,0.74468085106382964,0,0,0,1,0,0,0,null,227,0,0,0.25510204081632648,0.72448979591836737,0,0,0,9.4583333333333339,0.97959183673469385,0,0,0.26041666666666663,0.73958333333333337,0,0,0,null,227,0,0,0,0.90909090909090895,0,0,0,9.4583333333333339,0.90909090909090895,0,0,0,1,0,0,0,null,227,0,0,0,0.70394736842105265,0,0,0,9.4583333333333339,0.70394736842105265,0,0,0,1,0,0,0,null,227,0,0,0,0,0,0,0,9.4583333333333339,0,0,0,0,0,0,0,0,null,227,0,0,0,0,0,0,0,9.4583333333333339,0,0,0,0,0,0,0,0,null,227,0,0,0,0,0,0,0,9.4583333333333339,0,0,0,0,0,0,0,0,null,227,0,0,0,0,0,0,0,9.4583333333333339,0,0,0,0,0,0,0,0]
[228,0,0,0,0.91078066914498135,0,0,0,9.5,0.91078066914498135,0,0,0,1,0,0,0,null,228,0,0,0.77678571428571441,0.1785714285714286,0,0,0,9.5,0.95535714285714302,0,0,0.81308411214953269,0.18691588785046728,0,0,0,null,228,0,0,0,0.74468085106382964,0,0,0,9.5,0.74468085106382964,0,0,0,1,0,0,0,null,228,0,0,0.25510204081632648,0.72448979591836737,0,0,0,9.5,0.97959183673469385,0,0,0.26041666666666663,0.73958333333333337,0,0,0,null,228,0,0,0,0.90909090909090895,0,0,0,9.5,0.90909090909090895,0,0,0,1,0,0,0,null,228,0,0,0,0.70394736842105265,0,0,0,9.5,0.70394736842105265,0,0,0,1,0,0,0,null,228,0,0,0,0,0,0,0,9.5,0,0,0,0,0,0,0,0,null,228,0,0,0,0,0,0,0,9.5,0,0,0,0,0,0,0,0,null,228,0,0,0,0,0,0,0,9.5,0,0,0,0,0,0,0,0,null,228,0,0,0,0,0,0,0,9.5,0,0,0,0,0,0,0,0]
[229,0,0,0,0.91078066914498135,0,0,0,9.5416666666666661,0.91078066914498135,0,0,0,1,0,0,0,null,229,0,0,0.77678571428571441,0.1785714285714286,0,0,0,9.5416666666666661,0.95535714285714302,0,0,0.81308411214953269,0.18691588785046728,0,0,0,null,229,0,0,0,0.74468085106382964,0,0,0,9.5416666666666661,0.74468085106382964,0,0,0,1,0,0,0,null,229,0,0,0.25510204081632648,0.72448979591836737,0,0,0,9.5416666666666661,0.97959183673469385,0,0,0.26041666666666663,0.73958333333333337,0,0,0,null,229,0,0,0,0.90909090909090895,0,0,0,9.5416666666666661,0.90909090909090895,0,0,0,1,0,0,0,null,229,0,0,0,0.70394736842105265,0,0,0,9.5416666666666661,0.70394736842105265,0,0,0,1,0,0,0,null,229,0,0,0,0,0,0,0,9.5416666666666661,0,0,0,0,0,0,0,0,null,229,0,0,0,0,0,0,0,9.5416666666666661,0,0,0,0,0,0,0,0,null,229,0,0,0,0,0,0,0,9.5416666666666661,0,0,0,0,0,0,0,0,null,229,0,0,0,0,0,0,0,9.5416666666666661,0,0,0,0,0,0,0,0]
[230,0,0,0,0.91078066914498135,0,0,0,9.5833333333333339,0.91078066914498135,0,0,0,1,0,0,0,null,230,0,0,0.77678571428571441,0.1785714285714286,0,0,0,9.5833333333333339,0.95535714285714302,0,0,0.81308411214953269,0.18691588785046728,0,0,0,null,230,0,0,0,0.74468085106382964,0,0,0,9.5833333333333339,0.74468085106382964,0,0,0,1,0,0,0,null,230,0,0,0.25510204081632648,0.72448979591836737,0,0,0,9.5833333333333339,0.97959183673469385,0,0,0.26041666666666663,0.73958333333333337,0,0,0,null,230,0,0,0,0.90909090909090895,0,0,0,9.5833333333333339,0.90909090909090895,0,0,0,1,0,0,0,null,230,0,0,0,0.70394736842105265,0,0,0,9.5833333333333339,0.70394736842105265,0,0,0,1,0,0,0,null,230,0,0,0,0,0,0,0,9.5833333333333339,0,0,0,0,0,0,0,0,null,230,0,0,0,0,0,0,0,9.5833333333333339,0,0,0,0,0,0,0,0,null,230,0,0,0,0,0,0,0,9.5833333333333339,0,0,0,0,0,0,0,0,null,230,0,0,0,0,0,0,0,9.5833333333333339,0,0,0,0,0,0,0,0]
[231,0,0,8.9219330855018542E-2,0.91078066914498135,0,0,0,9.625,0.99999999999999989,0,0,8.9219330855018555E-2,0.91078066914498146,0,0,0,null,231,0,0,0.77678571428571441,0.1785714285714286,0,0,0,9.625,0.95535714285714302,0,0,0.81308411214953269,0.18691588785046728,0,0,0,null,231,0,0,0,0.74468085106382964,0,0,0,9.625,0.74468085106382964,0,0,0,1,0,0,0,null,231,0,0,0.25510204081632648,0.72448979591836737,0,0,0,9.625,0.97959183673469385,0,0,0.26041666666666663,0.73958333333333337,0,0,0,null,231,0,0,0,0.90909090909090895,0,0,0,9.625,0.90909090909090895,0,0,0,1,0,0,0,null,231,0,0,0,0.70394736842105265,0,0,0,9.625,0.70394736842105265,0,0,0,1,0,0,0,null,231,0,0,0,0,0,0,0,9.625,0,0,0,0,0,0,0,0,null,231,0,0,0,0,0,0,0,9.625,0,0,0,0,0,0,0,0,null,231,0,0,0,0,0,0,0,9.625,0,0,0,0,0,0,0,0,null,231,0,0,0,0,0,0,0,9.625,0,0,0,0,0,0,0,0]
[232,0,0,8.9219330855018542E-2,0.91078066914498135,0,0,0,9.6666666666666661,0.99999999999999989,0,0,8.9219330855018555E-2,0.91078066914498146,0,0,0,null,232,0,0,0.77678571428571441,0.1785714285714286,0,0,0,9.6666666666666661,0.95535714285714302,0,0,0.81308411214953269,0.18691588785046728,0,0,0,null,232,0,0,0,0.74468085106382964,0,0,0,9.6666666666666661,0.74468085106382964,0,0,0,1,0,0,0,null,232,0,0,0.25510204081632648,0.72448979591836737,0,0,0,9.6666666666666661,0.97959183673469385,0,0,0.26041666666666663,0.73958333333333337,0,0,0,null,232,0,0,7.0707070707070718E-2,0.90909090909090895,0,0,0,9.6666666666666661,0.97979797979797967,0,0,7.2164948453608269E-2,0.92783505154639179,0,0,0,null,232,0,0,0,0.70394736842105265,0,0,0,9.6666666666666661,0.70394736842105265,0,0,0,1,0,0,0,null,232,0,0,0,0,0,0,0,9.6666666666666661,0,0,0,0,0,0,0,0,null,232,0,0,0,0,0,0,0,9.6666666666666661,0,0,0,0,0,0,0,0,null,232,0,0,0,0,0,0,0,9.6666666666666661,0,0,0,0,0,0,0,0,null,232,0,0,0,0,0,0,0,9.6666666666666661,0,0,0,0,0,0,0,0]
[233,0,0,8.9219330855018542E-2,0.91078066914498135,0,0,0,9.7083333333333339,0.99999999999999989,0,0,8.9219330855018555E-2,0.91078066914498146,0,0,0,null,233,0,0,0.77678571428571441,0.1785714285714286,0,0,0,9.7083333333333339,0.95535714285714302,0,0,0.81308411214953269,0.18691588785046728,0,0,0,null,233,0,0,0,0.74468085106382964,0,0,0,9.7083333333333339,0.74468085106382964,0,0,0,1,0,0,0,null,233,0,0,0.25510204081632648,0.72448979591836737,0,0,0,9.7083333333333339,0.97959183673469385,0,0,0.26041666666666663,0.73958333333333337,0,0,0,null,233,0,0,7.0707070707070718E-2,0.90909090909090895,0,0,0,9.7083333333333339,0.97979797979797967,0,0,7.2164948453608269E-2,0.92783505154639179,0,0,0,null,233,0,0,0,0.70394736842105265,0,0,0,9.7083333333333339,0.70394736842105265,0,0,0,1,0,0,0,null,233,0,0,0,0,0,0,0,9.7083333333333339,0,0,0,0,0,0,0,0,null,233,0,0,0,0,0,0,0,9.7083333333333339,0,0,0,0,0,0,0,0,null,233,0,0,0,0,0,0,0,9.7083333333333339,0,0,0,0,0,0,0,0,null,233,0,0,0,0,0,0,0,9.7083333333333339,0,0,0,0,0,0,0,0]
[234,0,0,8.9219330855018542E-2,0.91078066914498135,0,0,0,9.75,0.99999999999999989,0,0,8.9219330855018555E-2,0.91078066914498146,0,0,0,null,234,0,0,0.77678571428571441,0.1785714285714286,0,0,0,9.75,0.95535714285714302,0,0,0.81308411214953269,0.18691588785046728,0,0,0,null,234,0,0,0,0.74468085106382964,0,0,0,9.75,0.74468085106382964,0,0,0,1,0,0,0,null,234,0,0,0.25510204081632648,0.72448979591836737,0,0,0,9.75,0.97959183673469385,0,0,0.26041666666666663,0.73958333333333337,0,0,0,null,234,0,0,7.0707070707070718E-2,0.90909090909090895,0,0,0,9.75,0.97979797979797967,0,0,7.2164948453608269E-2,0.92783505154639179,0,0,0,null,234,0,0,0,0.70394736842105265,0,0,0,9.75,0.70394736842105265,0,0,0,1,0,0,0,null,234,0,0,0,0,0,0,0,9.75,0,0,0,0,0,0,0,0,null,234,0,0,0,0,0,0,0,9.75,0,0,0,0,0,0,0,0,null,234,0,0,0,0,0,0,0,9.75,0,0,0,0,0,0,0,0,null,234,0,0,0,0,0,0,0,9.75,0,0,0,0,0,0,0,0]
[235,0,0,8.9219330855018542E-2,0.91078066914498135,0,0,0,9.7916666666666661,0.99999999999999989,0,0,8.9219330855018555E-2,0.91078066914498146,0,0,0,null,235,0,0,0.77678571428571441,0.1785714285714286,0,0,0,9.7916666666666661,0.95535714285714302,0,0,0.81308411214953269,0.18691588785046728,0,0,0,null,235,0,0,0,0.74468085106382964,0,0,0,9.7916666666666661,0.74468085106382964,0,0,0,1,0,0,0,null,235,0,0,0.25510204081632648,0.72448979591836737,0,0,0,9.7916666666666661,0.97959183673469385,0,0,0.26041666666666663,0.73958333333333337,0,0,0,null,235,0,0,7.0707070707070718E-2,0.90909090909090895,0,0,0,9.7916666666666661,0.97979797979797967,0,0,7.2164948453608269E-2,0.92783505154639179,0,0,0,null,235,0,0,0,0.70394736842105265,0,0,0,9.7916666666666661,0.70394736842105265,0,0,0,1,0,0,0,null,235,0,0,0,0,0,0,0,9.7916666666666661,0,0,0,0,0,0,0,0,null,235,0,0,0,0,0,0,0,9.7916666666666661,0,0,0,0,0,0,0,0,null,235,0,0,0,0,0,0,0,9.7916666666666661,0,0,0,0,0,0,0,0,null,235,0,0,0,0,0,0,0,9.7916666666666661,0,0,0,0,0,0,0,0]
[236,0,0,8.9219330855018542E-2,0,0,0,0,9.8333333333333339,8.9219330855018542E-2,0,0,1,0,0,0,0,null,236,0,0,0.77678571428571441,0.1785714285714286,0,0,0,9.8333333333333339,0.95535714285714302,0,0,0.81308411214953269,0.18691588785046728,0,0,0,null,236,0,0,0,0.74468085106382964,0,0,0,9.8333333333333339,0.74468085106382964,0,0,0,1,0,0,0,null,236,0,0,0.25510204081632648,0.72448979591836737,0,0,0,9.8333333333333339,0.97959183673469385,0,0,0.26041666666666663,0.73958333333333337,0,0,0,null,236,0,0,7.0707070707070718E-2,0.90909090909090895,0,0,0,9.8333333333333339,0.97979797979797967,0,0,7.2164948453608269E-2,0.92783505154639179,0,0,0,null,236,0,0,0,0.70394736842105265,0,0,0,9.8333333333333339,0.70394736842105265,0,0,0,1,0,0,0,null,236,0,0,0,0,0,0,0,9.8333333333333339,0,0,0,0,0,0,0,0,null,236,0,0,0,0,0,0,0,9.8333333333333339,0,0,0,0,0,0,0,0,null,236,0,0,0,0,0,0,0,9.8333333333333339,0,0,0,0,0,0,0,0,null,236,0,0,0,0,0,0,0,9.8333333333333339,0,0,0,0,0,0,0,0]
[237,0,0,8.9219330855018542E-2,0,0,0,0,9.875,8.9219330855018542E-2,0,0,1,0,0,0,0,null,237,0,0,0.77678571428571441,0.1785714285714286,0,0,0,9.875,0.95535714285714302,0,0,0.81308411214953269,0.18691588785046728,0,0,0,null,237,0,0,0,0.74468085106382964,0,0,0,9.875,0.74468085106382964,0,0,0,1,0,0,0,null,237,0,0,0.25510204081632648,0.72448979591836737,0,0,0,9.875,0.97959183673469385,0,0,0.26041666666666663,0.73958333333333337,0,0,0,null,237,0,0,7.0707070707070718E-2,0.90909090909090895,0,0,0,9.875,0.97979797979797967,0,0,7.2164948453608269E-2,0.92783505154639179,0,0,0,null,237,0,0,0,0.70394736842105265,0,0,0,9.875,0.70394736842105265,0,0,0,1,0,0,0,null,237,0,0,0,0,0,0,0,9.875,0,0,0,0,0,0,0,0,null,237,0,0,0,0,0,0,0,9.875,0,0,0,0,0,0,0,0,null,237,0,0,0,0,0,0,0,9.875,0,0,0,0,0,0,0,0,null,237,0,0,0,0,0,0,0,9.875,0,0,0,0,0,0,0,0]
[238,0,0,8.9219330855018542E-2,0,0,0,0,9.9166666666666661,8.9219330855018542E-2,0,0,1,0,0,0,0,null,238,0,0,0.77678571428571441,0.1785714285714286,0,0,0,9.9166666666666661,0.95535714285714302,0,0,0.81308411214953269,0.18691588785046728,0,0,0,null,238,0,0,0,0.74468085106382964,0,0,0,9.9166666666666661,0.74468085106382964,0,0,0,1,0,0,0,null,238,0,0,0.25510204081632648,0.72448979591836737,0,0,0,9.9166666666666661,0.97959183673469385,0,0,0.26041666666666663,0.73958333333333337,0,0,0,null,238,0,0,7.0707070707070718E-2,0.90909090909090895,0,0,0,9.9166666666666661,0.97979797979797967,0,0,7.2164948453608269E-2,0.92783505154639179,0,0,0,null,238,0,0,0,0.70394736842105265,0,0,0,9.9166666666666661,0.70394736842105265,0,0,0,1,0,0,0,null,238,0,0,0,0,0,0,0,9.9166666666666661,0,0,0,0,0,0,0,0,null,238,0,0,0,0,0,0,0,9.9166666666666661,0,0,0,0,0,0,0,0,null,238,0,0,0,0,0,0,0,9.9166666666666661,0,0,0,0,0,0,0,0,null,238,0,0,0,0,0,0,0,9.9166666666666661,0,0,0,0,0,0,0,0]
[240,0,0,8.9219330855018542E-2,0,0,0,0,10,8.9219330855018542E-2,0,0,1,0,0,0,0,null,240,0,0,0.77678571428571441,0.1785714285714286,0,0,0,10,0.95535714285714302,0,0,0.81308411214953269,0.18691588785046728,0,0,0,null,240,0,0,0,0.74468085106382964,0,0,0,10,0.74468085106382964,0,0,0,1,0,0,0,null,240,0,0,0.25510204081632648,0.72448979591836737,0,0,0,10,0.97959183673469385,0,0,0.26041666666666663,0.73958333333333337,0,0,0,null,240,0,0,7.0707070707070718E-2,0,0,0,0,10,7.0707070707070718E-2,0,0,1,0,0,0,0,null,240,0,0,0.21710526315789469,0.70394736842105265,0,0,0,10,0.92105263157894735,0,0,0.23571428571428568,0.76428571428571435,0,0,0,null,240,0,0,0,0,0,0,0,10,0,0,0,0,0,0,0,0,null,240,0,0,0,0,0,0,0,10,0,0,0,0,0,0,0,0,null,240,0,0,0,0,0,0,0,10,0,0,0,0,0,0,0,0,null,240,0,0,0,0,0,0,0,10,0,0,0,0,0,0,0,0]
[244,0,0,8.9219330855018542E-2,0,0,0,0,10.166666666666666,8.9219330855018542E-2,0,0,1,0,0,0,0,null,244,0,0,0.77678571428571441,0.1785714285714286,0,0,0,10.166666666666666,0.95535714285714302,0,0,0.81308411214953269,0.18691588785046728,0,0,0,null,244,0,0,0,0.74468085106382964,0,0,0,10.166666666666666,0.74468085106382964,0,0,0,1,0,0,0,null,244,0,0,0.25510204081632648,0.72448979591836737,0,0,0,10.166666666666666,0.97959183673469385,0,0,0.26041666666666663,0.73958333333333337,0,0,0,null,244,0,0,7.0707070707070718E-2,0,0,0,0,10.166666666666666,7.0707070707070718E-2,0,0,1,0,0,0,0,null,244,0,0,0.21710526315789469,0.70394736842105265,0,0,0,10.166666666666666,0.92105263157894735,0,0,0.23571428571428568,0.76428571428571435,0,0,0,null,244,0,0,0,0,0,0,0,10.166666666666666,0,0,0,0,0,0,0,0,null,244,0,0,0,0,0,0,0,10.166666666666666,0,0,0,0,0,0,0,0,null,244,0,0,0,0,0,0,0,10.166666666666666,0,0,0,0,0,0,0,0,null,244,0,0,0,0,0,0,0,10.166666666666666,0,0,0,0,0,0,0,0]
[249,0,0,8.9219330855018542E-2,0,0,0,0,10.375,8.9219330855018542E-2,0,0,1,0,0,0,0,null,249,0,0,0.77678571428571441,0,0,0,0,10.375,0.77678571428571441,0,0,1,0,0,0,0,null,249,0,0,0.25531914893617014,0.74468085106382964,0,0,0,10.375,0.99999999999999978,0,0,0.25531914893617019,0.74468085106382975,0,0,0,null,249,0,0,0.25510204081632648,0.72448979591836737,0,0,0,10.375,0.97959183673469385,0,0,0.26041666666666663,0.73958333333333337,0,0,0,null,249,0,0,7.0707070707070718E-2,0,0,0,0,10.375,7.0707070707070718E-2,0,0,1,0,0,0,0,null,249,0,0,0.21710526315789469,0.70394736842105265,0,0,0,10.375,0.92105263157894735,0,0,0.23571428571428568,0.76428571428571435,0,0,0,null,249,0,0,0,0,0,0,0,10.375,0,0,0,0,0,0,0,0,null,249,0,0,0,0,0,0,0,10.375,0,0,0,0,0,0,0,0,null,249,0,0,0,0,0,0,0,10.375,0,0,0,0,0,0,0,0,null,249,0,0,0,0,0,0,0,10.375,0,0,0,0,0,0,0,0]
[255,0,0,8.9219330855018542E-2,0,0,0,0,10.625,8.9219330855018542E-2,0,0,1,0,0,0,0,null,255,0,4.4642857142857206E-2,0.77678571428571441,0,0,0,0,10.625,0.82142857142857162,0,5.434782608695659E-2,0.94565217391304346,0,0,0,0,null,255,0,0,0.25531914893617014,0.74468085106382964,0,0,0,10.625,0.99999999999999978,0,0,0.25531914893617019,0.74468085106382975,0,0,0,null,255,0,0,0.25510204081632648,0.72448979591836737,0,0,0,10.625,0.97959183673469385,0,0,0.26041666666666663,0.73958333333333337,0,0,0,null,255,0,0,7.0707070707070718E-2,0,0,0,0,10.625,7.0707070707070718E-2,0,0,1,0,0,0,0,null,255,0,0,0.21710526315789469,0.70394736842105265,0,0,0,10.625,0.92105263157894735,0,0,0.23571428571428568,0.76428571428571435,0,0,0,null,255,0,0,0,0,0,0,0,10.625,0,0,0,0,0,0,0,0,null,255,0,0,0,0,0,0,0,10.625,0,0,0,0,0,0,0,0,null,255,0,0,0,0,0,0,0,10.625,0,0,0,0,0,0,0,0,null,255,0,0,0,0,0,0,0,10.625,0,0,0,0,0,0,0,0]
[260,0,0,8.9219330855018542E-2,0,0,0,0,10.833333333333334,8.9219330855018542E-2,0,0,1,0,0,0,0,null,260,0,4.4642857142857206E-2,0.77678571428571441,0,0,0,0,10.833333333333334,0.82142857142857162,0,5.434782608695659E-2,0.94565217391304346,0,0,0,0,null,260,0,0,0.25531914893617014,0,0,0,0,10.833333333333334,0.25531914893617014,0,0,1,0,0,0,0,null,260,0,0,0.25510204081632648,0.72448979591836737,0,0,0,10.833333333333334,0.97959183673469385,0,0,0.26041666666666663,0.73958333333333337,0,0,0,null,260,0,0,7.0707070707070718E-2,0,0,0,0,10.833333333333334,7.0707070707070718E-2,0,0,1,0,0,0,0,null,260,0,7.8947368421052655E-2,0.21710526315789469,0,0,0,0,10.833333333333334,0.29605263157894735,0,0.26666666666666677,0.73333333333333328,0,0,0,0,null,260,0,0,0,0,0,0,0,10.833333333333334,0,0,0,0,0,0,0,0,null,260,0,0,0,0,0,0,0,10.833333333333334,0,0,0,0,0,0,0,0,null,260,0,0,0,0,0,0,0,10.833333333333334,0,0,0,0,0,0,0,0,null,260,0,0,0,0,0,0,0,10.833333333333334,0,0,0,0,0,0,0,0]
[265,0,0,8.9219330855018542E-2,0,0,0,0,11.041666666666666,8.9219330855018542E-2,0,0,1,0,0,0,0,null,265,0,4.4642857142857206E-2,0.77678571428571441,0,0,0,0,11.041666666666666,0.82142857142857162,0,5.434782608695659E-2,0.94565217391304346,0,{"$f":"IF(AB277=0,0,X277/AB277)","v":0},0,0,null,265,0,0,0.25531914893617014,0,0,0,0,11.041666666666666,0.25531914893617014,0,0,1,0,{"$f":"IF(AT277=0,0,AP277/AT277)","v":0},0,0,null,265,0,0,0.25510204081632648,0,0,0,0,11.041666666666666,0.25510204081632648,0,0,1,0,{"$f":"IF(BL277=0,0,BH277/BL277)","v":0},0,0,null,265,0,0,7.0707070707070718E-2,0,0,0,0,11.041666666666666,7.0707070707070718E-2,0,0,1,0,{"$f":"IF(CD277=0,0,BZ277/CD277)","v":0},0,0,null,265,0,7.8947368421052655E-2,0.21710526315789469,0,0,0,0,11.041666666666666,0.29605263157894735,0,0.26666666666666677,0.73333333333333328,0,{"$f":"IF(CV277=0,0,CR277/CV277)","v":0},0,0,null,265,0,0,0,0,0,0,0,11.041666666666666,0,0,0,0,0,{"$f":"IF(DN277=0,0,DJ277/DN277)","v":0},0,0,null,265,0,0,0,0,0,0,0,11.041666666666666,0,0,0,0,0,{"$f":"IF(EF277=0,0,EB277/EF277)","v":0},0,0,null,265,0,0,0,0,0,0,0,11.041666666666666,0,0,0,0,0,{"$f":"IF(EX277=0,0,ET277/EX277)","v":0},0,0,null,265,0,0,0,0,0,0,0,11.041666666666666,0,0,0,0,0,{"$f":"IF(FP277=0,0,FL277/FP277)","v":0},0,0]
[270,0,0,8.9219330855018542E-2,0,0,0,0,11.25,8.9219330855018542E-2,0,0,1,0,0,0,0,null,270,0,4.4642857142857206E-2,0.77678571428571441,0,0,0,0,11.25,0.82142857142857162,0,5.434782608695659E-2,0.94565217391304346,0,0,0,0,null,270,0,0,0.25531914893617014,0,0,0,0,11.25,0.25531914893617014,0,0,1,0,0,0,0,null,270,0,0,0.25510204081632648,0,0,0,0,11.25,0.25510204081632648,0,0,1,0,0,0,0,null,270,0,0,7.0707070707070718E-2,0,0,0,0,11.25,7.0707070707070718E-2,0,0,1,0,0,0,0,null,270,0,7.8947368421052655E-2,0.21710526315789469,0,0,0,0,11.25,0.29605263157894735,0,0.26666666666666677,0.73333333333333328,0,0,0,0,null,270,0,0,0,0,0,0,0,11.25,0,0,0,0,0,0,0,0,null,270,0,0,0,0,0,0,0,11.25,0,0,0,0,0,0,0,0,null,270,0,0,0,0,0,0,0,11.25,0,0,0,0,0,0,0,0,null,270,0,0,0,0,0,0,0,11.25,0,0,0,0,0,0,0,0]
[275,0,0,8.9219330855018542E-2,0,0,0,0,11.458333333333334,8.9219330855018542E-2,0,0,1,0,0,0,0,null,275,0,4.4642857142857206E-2,0.77678571428571441,0,0,0,0,11.458333333333334,0.82142857142857162,0,5.434782608695659E-2,0.94565217391304346,0,0,0,0,null,275,0,0,0.25531914893617014,0,0,0,0,11.458333333333334,0.25531914893617014,0,0,1,0,0,0,0,null,275,0,2.0408163265306145E-2,0.25510204081632648,0,0,0,0,11.458333333333334,0.27551020408163263,0,7.4074074074074167E-2,0.92592592592592582,0,0,0,0,null,275,0,0,7.0707070707070718E-2,0,0,0,0,11.458333333333334,7.0707070707070718E-2,0,0,1,0,0,0,0,null,275,0,7.8947368421052655E-2,0.21710526315789469,0,0,0,0,11.458333333333334,0.29605263157894735,0,0.26666666666666677,0.73333333333333328,0,0,0,0,null,275,0,0,0,0,0,0,0,11.458333333333334,0,0,0,0,0,0,0,0,null,275,0,0,0,0,0,0,0,11.458333333333334,0,0,0,0,0,0,0,0,null,275,0,0,0,0,0,0,0,11.458333333333334,0,0,0,0,0,0,0,0,null,275,0,0,0,0,0,0,0,11.458333333333334,0,0,0,0,0,0,0,0]
[281,0,0,0,0,0,0,0,11.708333333333334,0,0,0,0,0,0,0,0,null,281,0,4.4642857142857206E-2,0.77678571428571441,0,0,0,0,11.708333333333334,0.82142857142857162,0,5.434782608695659E-2,0.94565217391304346,0,0,0,0,null,281,0,0,0.25531914893617014,0,0,0,0,11.708333333333334,0.25531914893617014,0,0,1,0,0,0,0,null,281,0,2.0408163265306145E-2,0.25510204081632648,0,0,0,0,11.708333333333334,0.27551020408163263,0,7.4074074074074167E-2,0.92592592592592582,0,0,0,0,null,281,0,0,7.0707070707070718E-2,0,0,0,0,11.708333333333334,7.0707070707070718E-2,0,0,1,0,0,0,0,null,281,0,7.8947368421052655E-2,0.21710526315789469,0,0,0,0,11.708333333333334,0.29605263157894735,0,0.26666666666666677,0.73333333333333328,0,0,0,0,null,281,0,0,0,0,0,0,0,11.708333333333334,0,0,0,0,0,0,0,0,null,281,0,0,0,0,0,0,0,11.708333333333334,0,0,0,0,0,0,0,0,null,281,0,0,0,0,0,0,0,11.708333333333334,0,0,0,0,0,0,0,0,null,281,0,0,0,0,0,0,0,11.708333333333334,0,0,0,0,0,0,0,0]
[286,0,0,0,0,0,0,0,11.916666666666666,0,0,0,0,0,0,0,0,null,286,0,4.4642857142857206E-2,0,0,0,0,0,11.916666666666666,4.4642857142857206E-2,0,1,0,0,0,0,0,null,286,0,0,0.25531914893617014,0,0,0,0,11.916666666666666,0.25531914893617014,0,0,1,0,0,0,0,null,286,0,2.0408163265306145E-2,0.25510204081632648,0,0,0,0,11.916666666666666,0.27551020408163263,0,7.4074074074074167E-2,0.92592592592592582,0,0,0,0,null,286,0,0,0,0,0,0,0,11.916666666666666,0,0,0,0,0,0,0,0,null,286,0,7.8947368421052655E-2,0.21710526315789469,0,0,0,0,11.916666666666666,0.29605263157894735,0,0.26666666666666677,0.73333333333333328,0,0,0,0,null,286,0,0,0,0,0,0,0,11.916666666666666,0,0,0,0,0,0,0,0,null,286,0,0,0,0,0,0,0,11.916666666666666,0,0,0,0,0,0,0,0,null,286,0,0,0,0,0,0,0,11.916666666666666,0,0,0,0,0,0,0,0,null,286,0,0,0,0,0,0,0,11.916666666666666,0,0,0,0,0,0,0,0]
[291,0,0,0,0,0,0,0,12.125,0,0,0,0,0,0,0,0,null,291,0,4.4642857142857206E-2,0,0,0,0,0,12.125,4.4642857142857206E-2,0,1,0,0,0,0,0,null,291,0,0,0.25531914893617014,0,0,0,0,12.125,0.25531914893617014,0,0,1,0,0,0,0,null,291,0,2.0408163265306145E-2,0.25510204081632648,0,0,0,0,12.125,0.27551020408163263,0,7.4074074074074167E-2,0.92592592592592582,0,0,0,0,null,291,0,0,0,0,0,0,0,12.125,0,0,0,0,0,0,0,0,null,291,0,7.8947368421052655E-2,0.21710526315789469,0,0,0,0,12.125,0.29605263157894735,0,0.26666666666666677,0.73333333333333328,0,0,0,0,null,291,0,0,0,0,0,0,0,12.125,0,0,0,0,0,0,0,0,null,291,0,0,0,0,0,0,0,12.125,0,0,0,0,0,0,0,0,null,291,0,0,0,0,0,0,0,12.125,0,0,0,0,0,0,0,0,null,291,0,0,0,0,0,0,0,12.125,0,0,0,0,0,0,0,0]
[292,0,0,0,0,0,0,0,12.166666666666666,0,0,0,0,0,0,0,0,null,292,0,4.4642857142857206E-2,0,0,0,0,0,12.166666666666666,4.4642857142857206E-2,0,1,0,0,0,0,0,null,292,0,0,0.25531914893617014,0,0,0,0,12.166666666666666,0.25531914893617014,0,0,1,0,0,0,0,null,292,0,2.0408163265306145E-2,0.25510204081632648,0,0,0,0,12.166666666666666,0.27551020408163263,0,7.4074074074074167E-2,0.92592592592592582,0,0,0,0,null,292,0,0,0,0,0,0,0,12.166666666666666,0,0,0,0,0,0,0,0,null,292,0,7.8947368421052655E-2,0.21710526315789469,0,0,0,0,12.166666666666666,0.29605263157894735,0,0.26666666666666677,0.73333333333333328,0,0,0,0,null,292,0,0,0,0,0,0,0,12.166666666666666,0,0,0,0,0,0,0,0,null,292,0,0,0,0,0,0,0,12.166666666666666,0,0,0,0,0,0,0,0,null,292,0,0,0,0,0,0,0,12.166666666666666,0,0,0,0,0,0,0,0,null,292,0,0,0,0,0,0,0,12.166666666666666,0,0,0,0,0,0,0,0]
[296,0,0,0,0,0,0,0,{"$f":"A308/24","v":12.333333333333334},{"$f":"SUM(B308:H308)","v":0},0,0,0,0,0,0,0,null,296,0,4.4642857142857206E-2,0,0,0,0,0,{"$f":"S308/24","v":12.333333333333334},{"$f":"SUM(T308:Z308)","v":4.4642857142857206E-2},0,1,0,0,0,0,0,null,296,0,0,0.25531914893617014,0,0,0,0,{"$f":"AK308/24","v":12.333333333333334},{"$f":"SUM(AL308:AR308)","v":0.25531914893617014},0,0,1,0,0,0,0,null,296,0,2.0408163265306145E-2,0.25510204081632648,0,0,0,0,{"$f":"BC308/24","v":12.333333333333334},{"$f":"SUM(BD308:BJ308)","v":0.27551020408163263},0,7.4074074074074167E-2,0.92592592592592582,0,0,0,0,null,296,0,0,0,0,0,0,0,{"$f":"BU308/24","v":12.333333333333334},{"$f":"SUM(BV308:CB308)","v":0},0,0,0,0,0,0,0,null,296,0,7.8947368421052655E-2,0.21710526315789469,0,0,0,0,{"$f":"CM308/24","v":12.333333333333334},{"$f":"SUM(CN308:CT308)","v":0.29605263157894735},0,0.26666666666666677,0.73333333333333328,0,0,0,0,null,296,0,0,0,0,0,0,0,{"$f":"DE308/24","v":12.333333333333334},{"$f":"SUM(DF308:DL308)","v":0},0,0,0,0,0,0,0,null,296,0,0,0,0,0,0,0,{"$f":"DW308/24","v":12.333333333333334},{"$f":"SUM(DX308:ED308)","v":0},0,0,0,0,0,0,0,null,296,0,0,0,0,0,0,0,{"$f":"EO308/24","v":12.333333333333334},{"$f":"SUM(EP308:EV308)","v":0},0,0,0,0,0,0,0,null,296,0,0,0,0,0,0,0,{"$f":"FG308/24","v":12.333333333333334},{"$f":"SUM(FH308:FN308)","v":0},0,0,0,0,0,0,0]
[301,0,0,0,0,0,0,0,12.541666666666666,0,0,0,0,0,0,0,0,null,301,0,4.4642857142857206E-2,0,0,0,0,0,12.541666666666666,4.4642857142857206E-2,0,1,0,0,0,0,0,null,301,0,0,0.25531914893617014,0,0,0,0,12.541666666666666,0.25531914893617014,0,0,1,0,0,0,0,null,301,0,2.0408163265306145E-2,0.25510204081632648,0,0,0,0,12.541666666666666,0.27551020408163263,0,7.4074074074074167E-2,0.92592592592592582,0,0,0,0,null,301,0,0,0,0,0,0,0,12.541666666666666,0,0,0,0,0,0,0,0,null,301,0,7.8947368421052655E-2,0,0,0,0,0,12.541666666666666,7.8947368421052655E-2,0,1,0,0,0,0,0,null,301,0,0,0,0,0,0,0,12.541666666666666,0,0,0,0,0,0,0,0,null,301,0,0,0,0,0,0,0,12.541666666666666,0,0,0,0,0,0,0,0,null,301,0,0,0,0,0,0,0,12.541666666666666,0,0,0,0,0,0,0,0,null,301,0,0,0,0,0,0,0,12.541666666666666,0,0,0,0,0,0,0,0]
[307,0,0,0,0,0,0,0,12.791666666666666,0,0,0,0,0,0,0,0,null,307,0,4.4642857142857206E-2,0,0,0,0,0,12.791666666666666,4.4642857142857206E-2,0,1,0,0,0,0,0,null,307,0,0,0,0,0,0,0,12.791666666666666,0,0,0,0,0,0,0,0,null,307,0,2.0408163265306145E-2,0.25510204081632648,0,0,0,0,12.791666666666666,0.27551020408163263,0,7.4074074074074167E-2,0.92592592592592582,0,0,0,0,null,307,0,0,0,0,0,0,0,12.791666666666666,0,0,0,0,0,0,0,0,null,307,0,7.8947368421052655E-2,0,0,0,0,0,12.791666666666666,7.8947368421052655E-2,0,1,0,0,0,0,0,null,307,0,0,0,0,0,0,0,12.791666666666666,0,0,0,0,0,0,0,0,null,307,0,0,0,0,0,0,0,12.791666666666666,0,0,0,0,0,0,0,0,null,307,0,0,0,0,0,0,0,12.791666666666666,0,0,0,0,0,0,0,0,null,307,0,0,0,0,0,0,0,12.791666666666666,0,0,0,0,0,0,0,0]
[312,0,0,0,0,0,0,0,13,0,0,0,0,0,0,0,0,null,312,0,4.4642857142857206E-2,0,0,0,0,0,13,4.4642857142857206E-2,0,1,0,0,0,0,0,null,312,0,0,0,0,0,0,0,13,0,0,0,0,0,0,0,0,null,312,0,2.0408163265306145E-2,0.25510204081632648,0,0,0,0,13,0.27551020408163263,0,7.4074074074074167E-2,0.92592592592592582,0,0,0,0,null,312,0,0,0,0,0,0,0,13,0,0,0,0,0,0,0,0,null,312,0,7.8947368421052655E-2,0,0,0,0,0,13,7.8947368421052655E-2,0,1,0,0,0,0,0,null,312,0,0,0,0,0,0,0,13,0,0,0,0,0,0,0,0,null,312,0,0,0,0,0,0,0,13,0,0,0,0,0,0,0,0,null,312,0,0,0,0,0,0,0,13,0,0,0,0,0,0,0,0,null,312,0,0,0,0,0,0,0,13,0,0,0,0,0,0,0,0]
[317,0,0,0,0,0,0,0,13.208333333333334,0,0,0,0,0,0,0,0,null,317,0,4.4642857142857206E-2,0,0,0,0,0,13.208333333333334,4.4642857142857206E-2,0,1,0,0,0,0,0,null,317,0,0,0,0,0,0,0,13.208333333333334,0,0,0,0,0,0,0,0,null,317,0,2.0408163265306145E-2,0,0,0,0,0,13.208333333333334,2.0408163265306145E-2,0,1,0,0,0,0,0,null,317,0,0,0,0,0,0,0,13.208333333333334,0,0,0,0,0,0,0,0,null,317,0,7.8947368421052655E-2,0,0,0,0,0,13.208333333333334,7.8947368421052655E-2,0,1,0,0,0,0,0,null,317,0,0,0,0,0,0,0,13.208333333333334,0,0,0,0,0,0,0,0,null,317,0,0,0,0,0,0,0,13.208333333333334,0,0,0,0,0,0,0,0,null,317,0,0,0,0,0,0,0,13.208333333333334,0,0,0,0,0,0,0,0,null,317,0,0,0,0,0,0,0,13.208333333333334,0,0,0,0,0,0,0,0]
[322,0,0,0,0,0,0,0,13.416666666666666,0,{"$f":"IF(J334=0,0,B334/J334)","v":0},{"$f":"IF(J334=0,0,C334/J334)","v":0},{"$f":"IF(J334=0,0,D334/J334)","v":0},{"$f":"IF(J334=0,0,E334/J334)","v":0},{"$f":"IF(J334=0,0,F334/J334)","v":0},{"$f":"IF(J334=0,0,G334/J334)","v":0},{"$f":"IF(J334=0,0,H334/J334)","v":0},null,322,0,4.4642857142857206E-2,0,0,0,0,0,13.416666666666666,4.4642857142857206E-2,{"$f":"IF(AB334=0,0,T334/AB334)","v":0},{"$f":"IF(AB334=0,0,U334/AB334)","v":1},{"$f":"IF(AB334=0,0,V334/AB334)","v":0},{"$f":"IF(AB334=0,0,W334/AB334)","v":0},0,{"$f":"IF(AB334=0,0,Y334/AB334)","v":0},{"$f":"IF(AB334=0,0,Z334/AB334)","v":0},null,322,0,0,0,0,0,0,0,13.416666666666666,0,{"$f":"IF(AT334=0,0,AL334/AT334)","v":0},{"$f":"IF(AT334=0,0,AM334/AT334)","v":0},{"$f":"IF(AT334=0,0,AN334/AT334)","v":0},{"$f":"IF(AT334=0,0,AO334/AT334)","v":0},0,{"$f":"IF(AT334=0,0,AQ334/AT334)","v":0},{"$f":"IF(AT334=0,0,AR334/AT334)","v":0},null,322,0,2.0408163265306145E-2,0,0,0,0,0,13.416666666666666,2.0408163265306145E-2,{"$f":"IF(BL334=0,0,BD334/BL334)","v":0},{"$f":"IF(BL334=0,0,BE334/BL334)","v":1},{"$f":"IF(BL334=0,0,BF334/BL334)","v":0},{"$f":"IF(BL334=0,0,BG334/BL334)","v":0},0,{"$f":"IF(BL334=0,0,BI334/BL334)","v":0},{"$f":"IF(BL334=0,0,BJ334/BL334)","v":0},null,322,0,0,0,0,0,0,0,13.416666666666666,0,{"$f":"IF(CD334=0,0,BV334/CD334)","v":0},{"$f":"IF(CD334=0,0,BW334/CD334)","v":0},{"$f":"IF(CD334=0,0,BX334/CD334)","v":0},{"$f":"IF(CD334=0,0,BY334/CD334)","v":0},0,{"$f":"IF(CD334=0,0,CA334/CD334)","v":0},{"$f":"IF(CD334=0,0,CB334/CD334)","v":0},null,322,0,0,0,0,0,0,0,13.416666666666666,0,{"$f":"IF(CV334=0,0,CN334/CV334)","v":0},{"$f":"IF(CV334=0,0,CO334/CV334)","v":0},{"$f":"IF(CV334=0,0,CP334/CV334)","v":0},{"$f":"IF(CV334=0,0,CQ334/CV334)","v":0},0,{"$f":"IF(CV334=0,0,CS334/CV334)","v":0},{"$f":"IF(CV334=0,0,CT334/CV334)","v":0},null,322,0,0,0,0,0,0,0,13.416666666666666,0,{"$f":"IF(DN334=0,0,DF334/DN334)","v":0},{"$f":"IF(DN334=0,0,DG334/DN334)","v":0},{"$f":"IF(DN334=0,0,DH334/DN334)","v":0},{"$f":"IF(DN334=0,0,DI334/DN334)","v":0},0,{"$f":"IF(DN334=0,0,DK334/DN334)","v":0},{"$f":"IF(DN334=0,0,DL334/DN334)","v":0},null,322,0,0,0,0,0,0,0,13.416666666666666,0,{"$f":"IF(EF334=0,0,DX334/EF334)","v":0},{"$f":"IF(EF334=0,0,DY334/EF334)","v":0},{"$f":"IF(EF334=0,0,DZ334/EF334)","v":0},{"$f":"IF(EF334=0,0,EA334/EF334)","v":0},0,{"$f":"IF(EF334=0,0,EC334/EF334)","v":0},{"$f":"IF(EF334=0,0,ED334/EF334)","v":0},null,322,0,0,0,0,0,0,0,13.416666666666666,0,{"$f":"IF(EX334=0,0,EP334/EX334)","v":0},{"$f":"IF(EX334=0,0,EQ334/EX334)","v":0},{"$f":"IF(EX334=0,0,ER334/EX334)","v":0},{"$f":"IF(EX334=0,0,ES334/EX334)","v":0},0,{"$f":"IF(EX334=0,0,EU334/EX334)","v":0},{"$f":"IF(EX334=0,0,EV334/EX334)","v":0},null,322,0,0,0,0,0,0,0,13.416666666666666,0,{"$f":"IF(FP334=0,0,FH334/FP334)","v":0},{"$f":"IF(FP334=0,0,FI334/FP334)","v":0},{"$f":"IF(FP334=0,0,FJ334/FP334)","v":0},{"$f":"IF(FP334=0,0,FK334/FP334)","v":0},0,{"$f":"IF(FP334=0,0,FM334/FP334)","v":0},{"$f":"IF(FP334=0,0,FN334/FP334)","v":0}]
[327,0,0,0,0,0,0,0,13.625,0,0,0,0,0,0,0,0,null,327,0,0,0,0,0,0,0,13.625,0,0,0,0,0,0,0,0,null,327,0,0,0,0,0,0,0,13.625,0,0,0,0,0,0,0,0,null,327,0,2.0408163265306145E-2,0,0,0,0,0,13.625,2.0408163265306145E-2,0,1,0,0,0,0,0,null,327,0,0,0,0,0,0,0,13.625,0,0,0,0,0,0,0,0,null,327,0,0,0,0,0,0,0,13.625,0,0,0,0,0,0,0,0,null,327,0,0,0,0,0,0,0,13.625,0,0,0,0,0,0,0,0,null,327,0,0,0,0,0,0,0,13.625,0,0,0,0,0,0,0,0,null,327,0,0,0,0,0,0,0,13.625,0,0,0,0,0,0,0,0,null,327,0,0,0,0,0,0,0,13.625,0,0,0,0,0,0,0,0]
[333,0,0,0,0,0,0,0,13.875,0,0,0,0,0,0,0,0,null,333,0,0,0,0,0,0,0,13.875,0,0,0,0,0,0,0,0,null,333,0,0,0,0,0,0,0,13.875,0,0,0,0,0,0,0,0,null,333,0,2.0408163265306145E-2,0,0,0,0,0,13.875,2.0408163265306145E-2,0,1,0,0,0,0,0,null,333,0,0,0,0,0,0,0,13.875,0,0,0,0,0,0,0,0,null,333,0,0,0,0,0,0,0,13.875,0,0,0,0,0,0,0,0,null,333,0,0,0,0,0,0,0,13.875,0,0,0,0,0,0,0,0,null,333,0,0,0,0,0,0,0,13.875,0,0,0,0,0,0,0,0,null,333,0,0,0,0,0,0,0,13.875,0,0,0,0,0,0,0,0,null,333,0,0,0,0,0,0,0,13.875,0,0,0,0,0,0,0,0]
[338,0,0,0,0,0,0,0,14.083333333333334,0,0,0,0,0,0,0,0,null,338,0,0,0,0,0,0,0,14.083333333333334,0,0,0,0,0,0,0,0,null,338,0,0,0,0,0,0,0,14.083333333333334,0,0,0,0,0,0,0,0,null,338,0,2.0408163265306145E-2,0,0,0,0,0,14.083333333333334,2.0408163265306145E-2,0,1,0,0,0,0,0,null,338,0,0,0,0,0,0,0,14.083333333333334,0,0,0,0,0,0,0,0,null,338,0,0,0,0,0,0,0,14.083333333333334,0,0,0,0,0,0,0,0,null,338,0,0,0,0,0,0,0,14.083333333333334,0,0,0,0,0,0,0,0,null,338,0,0,0,0,0,0,0,14.083333333333334,0,0,0,0,0,0,0,0,null,338,0,0,0,0,0,0,0,14.083333333333334,0,0,0,0,0,0,0,0,null,338,0,0,0,0,0,0,0,14.083333333333334,0,0,0,0,0,0,0,0]
[344,0,0,0,0,0,0,0,14.333333333333334,0,0,0,0,0,0,0,0,null,344,0,0,0,0,0,0,0,14.333333333333334,0,0,0,0,0,0,0,0,null,344,0,0,0,0,0,0,0,14.333333333333334,0,0,0,0,0,0,0,0,null,344,0,2.0408163265306145E-2,0,0,0,0,0,14.333333333333334,2.0408163265306145E-2,0,1,0,0,0,0,0,null,344,0,0,0,0,0,0,0,14.333333333333334,0,0,0,0,0,0,0,0,null,344,0,0,0,0,0,0,0,14.333333333333334,0,0,0,0,0,0,0,0,null,344,0,0,0,0,0,0,0,14.333333333333334,0,0,0,0,0,0,0,0,null,344,0,0,0,0,0,0,0,14.333333333333334,0,0,0,0,0,0,0,0,null,344,0,0,0,0,0,0,0,14.333333333333334,0,0,0,0,0,0,0,0,null,344,0,0,0,0,0,0,0,14.333333333333334,0,0,0,0,0,0,0,0]
[348,0,0,0,0,0,0,0,14.5,0,0,0,0,0,0,0,0,null,348,0,0,0,0,0,0,0,14.5,0,0,0,0,0,0,0,0,null,348,0,0,0,0,0,0,0,14.5,0,0,0,0,0,0,0,0,null,348,0,2.0408163265306145E-2,0,0,0,0,0,14.5,2.0408163265306145E-2,0,1,0,0,0,0,0,null,348,0,0,0,0,0,0,0,14.5,0,0,0,0,0,0,0,0,null,348,0,0,0,0,0,0,0,14.5,0,0,0,0,0,0,0,0,null,348,0,0,0,0,0,0,0,14.5,0,0,0,0,0,0,0,0,null,348,0,0,0,0,0,0,0,14.5,0,0,0,0,0,0,0,0,null,348,0,0,0,0,0,0,0,14.5,0,0,0,0,0,0,0,0,null,348,0,0,0,0,0,0,0,14.5,0,0,0,0,0,0,0,0]
[353,0,0,0,0,0,0,0,14.708333333333334,0,0,0,0,0,0,0,0,null,353,0,0,0,0,0,0,0,14.708333333333334,0,0,0,0,0,0,0,0,null,353,0,0,0,0,0,0,0,14.708333333333334,0,0,0,0,0,0,0,0,null,353,0,2.0408163265306145E-2,0,0,0,0,0,14.708333333333334,2.0408163265306145E-2,0,1,0,0,0,0,0,null,353,0,0,0,0,0,0,0,14.708333333333334,0,0,0,0,0,0,0,0,null,353,0,0,0,0,0,0,0,14.708333333333334,0,0,0,0,0,0,0,0,null,353,0,0,0,0,0,0,0,14.708333333333334,0,0,0,0,0,0,0,0,null,353,0,0,0,0,0,0,0,14.708333333333334,0,0,0,0,0,0,0,0,null,353,0,0,0,0,0,0,0,14.708333333333334,0,0,0,0,0,0,0,0,null,353,0,0,0,0,0,0,0,14.708333333333334,0,0,0,0,0,0,0,0]
[354,0,0,0,0,0,0,0,14.75,0,0,0,0,0,0,0,0,null,354,0,0,0,0,0,0,0,14.75,0,0,0,0,0,0,0,0,null,354,0,0,0,0,0,0,0,14.75,0,0,0,0,0,0,0,0,null,354,0,2.0408163265306145E-2,0,0,0,0,0,14.75,2.0408163265306145E-2,0,1,0,0,0,0,0,null,354,0,0,0,0,0,0,0,14.75,0,0,0,0,0,0,0,0,null,354,0,0,0,0,0,0,0,14.75,0,0,0,0,0,0,0,0,null,354,0,0,0,0,0,0,0,14.75,0,0,0,0,0,0,0,0,null,354,0,0,0,0,0,0,0,14.75,0,0,0,0,0,0,0,0,null,354,0,0,0,0,0,0,0,14.75,0,0,0,0,0,0,0,0,null,354,0,0,0,0,0,0,0,14.75,0,0,0,0,0,0,0,0]
[359,0,0,0,0,0,0,0,14.958333333333334,0,0,0,0,0,0,0,0,null,359,0,0,0,0,0,0,0,14.958333333333334,0,0,0,0,0,0,0,0,null,359,0,0,0,0,0,0,0,14.958333333333334,0,0,0,0,0,0,0,0,null,359,0,0,0,0,0,0,0,14.958333333333334,0,0,0,0,0,0,0,0,null,359,0,0,0,0,0,0,0,14.958333333333334,0,0,0,0,0,0,0,0,null,359,0,0,0,0,0,0,0,14.958333333333334,0,0,0,0,0,0,0,0,null,359,0,0,0,0,0,0,0,14.958333333333334,0,0,0,0,0,0,0,0,null,359,0,0,0,0,0,0,0,14.958333333333334,0,0,0,0,0,0,0,0,null,359,0,0,0,0,0,0,0,14.958333333333334,0,0,0,0,0,0,0,0,null,359,0,0,0,0,0,0,0,14.958333333333334,0,0,0,0,0,0,0,0]
[364,0,0,0,0,0,0,0,15.166666666666666,0,0,0,0,0,0,0,0,null,364,0,0,0,0,0,0,0,15.166666666666666,0,0,0,0,0,0,0,0,null,364,0,0,0,0,0,0,0,15.166666666666666,0,0,0,0,0,0,0,0,null,364,0,0,0,0,0,0,0,15.166666666666666,0,0,0,0,0,0,0,0,null,364,0,0,0,0,0,0,0,15.166666666666666,0,0,0,0,0,0,0,0,null,364,0,0,0,0,0,0,0,15.166666666666666,0,0,0,0,0,0,0,0,null,364,0,0,0,0,0,0,0,15.166666666666666,0,0,0,0,0,0,0,0,null,364,0,0,0,0,0,0,0,15.166666666666666,0,0,0,0,0,0,0,0,null,364,0,0,0,0,0,0,0,15.166666666666666,0,0,0,0,0,0,0,0,null,364,0,0,0,0,0,0,0,15.166666666666666,0,0,0,0,0,0,0,0]
[369,0,0,0,0,0,0,0,15.375,0,0,0,0,0,0,0,0,null,369,0,0,0,0,0,0,0,15.375,0,0,0,0,0,0,0,0,null,369,0,0,0,0,0,0,0,15.375,0,0,0,0,0,0,0,0,null,369,0,0,0,0,0,0,0,15.375,0,0,0,0,0,0,0,0,null,369,0,0,0,0,0,0,0,15.375,0,0,0,0,0,0,0,0,null,369,0,0,0,0,0,0,0,15.375,0,0,0,0,0,0,0,0,null,369,0,0,0,0,0,0,0,15.375,0,0,0,0,0,0,0,0,null,369,0,0,0,0,0,0,0,15.375,0,0,0,0,0,0,0,0,null,369,0,0,0,0,0,0,0,15.375,0,0,0,0,0,0,0,0,null,369,0,0,0,0,0,0,0,15.375,0,0,0,0,0,0,0,0]
[374,0,0,0,0,0,0,0,15.583333333333334,0,0,0,0,0,0,0,0,null,374,0,0,0,0,0,0,0,15.583333333333334,0,0,0,0,0,0,0,0,null,374,0,0,0,0,0,0,0,15.583333333333334,0,0,0,0,0,0,0,0,null,374,0,0,0,0,0,0,0,15.583333333333334,0,0,0,0,0,0,0,0,null,374,0,0,0,0,0,0,0,15.583333333333334,0,0,0,0,0,0,0,0,null,374,0,0,0,0,0,0,0,15.583333333333334,0,0,0,0,0,0,0,0,null,374,0,0,0,0,0,0,0,15.583333333333334,0,0,0,0,0,0,0,0,null,374,0,0,0,0,0,0,0,15.583333333333334,0,0,0,0,0,0,0,0,null,374,0,0,0,0,0,0,0,15.583333333333334,0,0,0,0,0,0,0,0,null,374,0,0,0,0,0,0,0,15.583333333333334,0,0,0,0,0,0,0,0]
[380,0,0,0,0,0,0,0,15.833333333333334,0,0,0,0,0,0,0,0,null,380,0,0,0,0,0,0,0,15.833333333333334,0,0,0,0,0,0,0,0,null,380,0,0,0,0,0,0,0,15.833333333333334,0,0,0,0,0,0,0,0,null,380,0,0,0,0,0,0,0,15.833333333333334,0,0,0,0,0,0,0,0,null,380,0,0,0,0,0,0,0,15.833333333333334,0,0,0,0,0,0,0,0,null,380,0,0,0,0,0,0,0,15.833333333333334,0,0,0,0,0,0,0,0,null,380,0,0,0,0,0,0,0,15.833333333333334,0,0,0,0,0,0,0,0,null,380,0,0,0,0,0,0,0,15.833333333333334,0,0,0,0,0,0,0,0,null,380,0,0,0,0,0,0,0,15.833333333333334,0,0,0,0,0,0,0,0,null,380,0,0,0,0,0,0,0,15.833333333333334,0,0,0,0,0,0,0,0]
[385,{"$f":"IF(RAEggsComm1=\"\",0,(IF(A397<(RAEggsComm1-DSTDEggsComm1),0,IF(A397<(RAEggsComm1+DSTDEggsComm1),LSComm1Eggs,0))))","v":0},{"$f":"IF(RA1stComm1=\"\",0,(IF(A397<(RA1stComm1-DSTD1stComm1),0,IF(A397<(RA1stComm1+DSTD1stComm1),LSComm11st,0))))","v":0},{"$f":"IF(RA2ndComm1=\"\",0,(IF(A397<(RA2ndComm1-DSTD2ndComm1),0,IF(A397<(RA2ndComm1+DSTD2ndComm1),LSComm12nd,0))))","v":0},{"$f":"IF(RA3rdComm1=\"\",0,(IF(A397<(RA3rdComm1-DSTD3rdComm1),0,IF(A397<(RA3rdComm1+DSTD3rdComm1),LSComm13rd,0))))","v":0},{"$f":"IF(RA4thComm1=\"\",0,(IF(A397<(RA4thComm1-DSTD4thComm1),0,IF(A397<(RA4thComm1+DSTD4thComm1),LSComm14th,0))))","v":0},{"$f":"IF(RA5thComm1=\"\",0,(IF(A397<(RA5thComm1-DSTD5thComm1),0,IF(A397<(RA5thComm1+DSTD5thComm1),LSComm15th,0))))","v":0},{"$f":"IF(RAPupaeComm1=\"\",0,(IF(A397<(RAPupaeComm1-DSTDPupaeComm1),0,IF(A397<(RAPupaeComm1+DSTDPupaeComm1),LSComm1Pupae,0))))","v":0},16.041666666666668,0,0,0,0,0,0,0,0,null,385,{"$f":"IF(RAEggsComm2=\"\",0,(IF(S397<(RAEggsComm2-DSTDEggsComm2),0,IF(S397<(RAEggsComm2+DSTDEggsComm2),LSComm2Eggs,0))))","v":0},{"$f":"IF(RA1stComm2=\"\",0,(IF(S397<(RA1stComm2-DSTD1stComm2),0,IF(S397<(RA1stComm2+DSTD1stComm2),LSComm21st,0))))","v":0},{"$f":"IF(RA2ndComm2=\"\",0,(IF(S397<(RA2ndComm2-DSTD2ndComm2),0,IF(S397<(RA2ndComm2+DSTD2ndComm2),LSComm22nd,0))))","v":0},{"$f":"IF(RA3rdComm2=\"\",0,(IF(S397<(RA3rdComm2-DSTD3rdComm2),0,IF(S397<(RA3rdComm2+DSTD3rdComm2),LSComm23rd,0))))","v":0},{"$f":"IF(RA4thComm2=\"\",0,(IF(S397<(RA4thComm2-DSTD4thComm2),0,IF(S397<(RA4thComm2+DSTD4thComm2),LSComm24th,0))))","v":0},{"$f":"IF(RA5thComm2=\"\",0,(IF(S397<(RA5thComm2-DSTD5thComm2),0,IF(S397<(RA5thComm2+DSTD5thComm2),LSComm25th,0))))","v":0},{"$f":"IF(RAPupaeComm2=\"\",0,(IF(S397<(RAPupaeComm2-DSTDPupaeComm2),0,IF(S397<(RAPupaeComm2+DSTDPupaeComm2),LSComm2Pupae,0))))","v":0},16.041666666666668,0,0,0,0,0,0,0,0,null,385,{"$f":"IF(RAEggsComm3=\"\",0,(IF(AK397<(RAEggsComm3-DSTDEggsComm3),0,IF(AK397<(RAEggsComm3+DSTDEggsComm3),LSComm3Eggs,0))))","v":0},{"$f":"IF(RA1stComm3=\"\",0,(IF(AK397<(RA1stComm3-DSTD1stComm3),0,IF(AK397<(RA1stComm3+DSTD1stComm3),LSComm31st,0))))","v":0},{"$f":"IF(RA2ndComm3=\"\",0,(IF(AK397<(RA2ndComm3-DSTD2ndComm3),0,IF(AK397<(RA2ndComm3+DSTD2ndComm3),LSComm32nd,0))))","v":0},{"$f":"IF(RA3rdComm3=\"\",0,(IF(AK397<(RA3rdComm3-DSTD3rdComm3),0,IF(AK397<(RA3rdComm3+DSTD3rdComm3),LSComm33rd,0))))","v":0},{"$f":"IF(RA4thComm3=\"\",0,(IF(AK397<(RA4thComm3-DSTD4thComm3),0,IF(AK397<(RA4thComm3+DSTD4thComm3),LSComm34th,0))))","v":0},{"$f":"IF(RA5thComm3=\"\",0,(IF(AK397<(RA5thComm3-DSTD5thComm3),0,IF(AK397<(RA5thComm3+DSTD5thComm3),LSComm35th,0))))","v":0},{"$f":"IF(RAPupaeComm3=\"\",0,(IF(AK397<(RAPupaeComm3-DSTDPupaeComm3),0,IF(AK397<(RAPupaeComm3+DSTDPupaeComm3),LSComm3Pupae,0))))","v":0},16.041666666666668,0,0,0,0,0,0,0,0,null,385,{"$f":"IF(RAEggsComm4=\"\",0,(IF(BC397<(RAEggsComm4-DSTDEggsComm4),0,IF(BC397<(RAEggsComm4+DSTDEggsComm4),LSComm4Eggs,0))))","v":0},{"$f":"IF(RA1stComm4=\"\",0,(IF(BC397<(RA1stComm4-DSTD1stComm4),0,IF(BC397<(RA1stComm4+DSTD1stComm4),LSComm41st,0))))","v":0},{"$f":"IF(RA2ndComm4=\"\",0,(IF(BC397<(RA2ndComm4-DSTD2ndComm4),0,IF(BC397<(RA2ndComm4+DSTD2ndComm4),LSComm42nd,0))))","v":0},{"$f":"IF(RA3rdComm4=\"\",0,(IF(BC397<(RA3rdComm4-DSTD3rdComm4),0,IF(BC397<(RA3rdComm4+DSTD3rdComm4),LSComm43rd,0))))","v":0},{"$f":"IF(RA4thComm4=\"\",0,(IF(BC397<(RA4thComm4-DSTD4thComm4),0,IF(BC397<(RA4thComm4+DSTD4thComm4),LSComm44th,0))))","v":0},{"$f":"IF(RA5thComm4=\"\",0,(IF(BC397<(RA5thComm4-DSTD5thComm4),0,IF(BC397<(RA5thComm4+DSTD5thComm4),LSComm45th,0))))","v":0},{"$f":"IF(RAPupaeComm4=\"\",0,(IF(BC397<(RAPupaeComm4-DSTDPupaeComm4),0,IF(BC397<(RAPupaeComm4+DSTDPupaeComm4),LSComm4Pupae,0))))","v":0},16.041666666666668,0,0,0,0,0,0,0,0,null,385,{"$f":"IF(RAEggsComm5=\"\",0,(IF(BU397<(RAEggsComm5-DSTDEggsComm5),0,IF(BU397<(RAEggsComm5+DSTDEggsComm5),LSComm5Eggs,0))))","v":0},{"$f":"IF(RA1stComm5=\"\",0,(IF(BU397<(RA1stComm5-DSTD1stComm5),0,IF(BU397<(RA1stComm5+DSTD1stComm5),LSComm51st,0))))","v":0},{"$f":"IF(RA2ndComm5=\"\",0,(IF(BU397<(RA2ndComm5-DSTD2ndComm5),0,IF(BU397<(RA2ndComm5+DSTD2ndComm5),LSComm52nd,0))))","v":0},{"$f":"IF(RA3rdComm5=\"\",0,(IF(BU397<(RA3rdComm5-DSTD3rdComm5),0,IF(BU397<(RA3rdComm5+DSTD3rdComm5),LSComm53rd,0))))","v":0},{"$f":"IF(RA4thComm5=\"\",0,(IF(BU397<(RA4thComm5-DSTD4thComm5),0,IF(BU397<(RA4thComm5+DSTD4thComm5),LSComm54th,0))))","v":0},{"$f":"IF(RA5thComm5=\"\",0,(IF(BU397<(RA5thComm5-DSTD5thComm5),0,IF(BU397<(RA5thComm5+DSTD5thComm5),LSComm55th,0))))","v":0},{"$f":"IF(RAPupaeComm5=\"\",0,(IF(BU397<(RAPupaeComm5-DSTDPupaeComm5),0,IF(BU397<(RAPupaeComm5+DSTDPupaeComm5),LSComm5Pupae,0))))","v":0},16.041666666666668,0,0,0,0,0,0,0,0,null,385,{"$f":"IF(RAEggsComm6=\"\",0,(IF(CM397<(RAEggsComm6-DSTDEggsComm6),0,IF(CM397<(RAEggsComm6+DSTDEggsComm6),LSComm6Eggs,0))))","v":0},{"$f":"IF(RA1stComm6=\"\",0,(IF(CM397<(RA1stComm6-DSTD1stComm6),0,IF(CM397<(RA1stComm6+DSTD1stComm6),LSComm61st,0))))","v":0},{"$f":"IF(RA2ndComm6=\"\",0,(IF(CM397<(RA2ndComm6-DSTD2ndComm6),0,IF(CM397<(RA2ndComm6+DSTD2ndComm6),LSComm62nd,0))))","v":0},{"$f":"IF(RA3rdComm6=\"\",0,(IF(CM397<(RA3rdComm6-DSTD3rdComm6),0,IF(CM397<(RA3rdComm6+DSTD3rdComm6),LSComm63rd,0))))","v":0},{"$f":"IF(RA4thComm6=\"\",0,(IF(CM397<(RA4thComm6-DSTD4thComm6),0,IF(CM397<(RA4thComm6+DSTD4thComm6),LSComm64th,0))))","v":0},{"$f":"IF(RA5thComm6=\"\",0,(IF(CM397<(RA5thComm6-DSTD5thComm6),0,IF(CM397<(RA5thComm6+DSTD5thComm6),LSComm65th,0))))","v":0},{"$f":"IF(RAPupaeComm6=\"\",0,(IF(CM397<(RAPupaeComm6-DSTDPupaeComm6),0,IF(CM397<(RAPupaeComm6+DSTDPupaeComm6),LSComm6Pupae,0))))","v":0},16.041666666666668,0,0,0,0,0,0,0,0,null,385,{"$f":"IF(RAEggsComm7=\"\",0,(IF(DE397<(RAEggsComm7-DSTDEggsComm7),0,IF(DE397<(RAEggsComm7+DSTDEggsComm7),LSComm7Eggs,0))))","v":0},{"$f":"IF(RA1stComm7=\"\",0,(IF(DE397<(RA1stComm7-DSTD1stComm7),0,IF(DE397<(RA1stComm7+DSTD1stComm7),LSComm71st,0))))","v":0},{"$f":"IF(RA2ndComm7=\"\",0,(IF(DE397<(RA2ndComm7-DSTD2ndComm7),0,IF(DE397<(RA2ndComm7+DSTD2ndComm7),LSComm72nd,0))))","v":0},{"$f":"IF(RA3rdComm7=\"\",0,(IF(DE397<(RA3rdComm7-DSTD3rdComm7),0,IF(DE397<(RA3rdComm7+DSTD3rdComm7),LSComm73rd,0))))","v":0},{"$f":"IF(RA4thComm7=\"\",0,(IF(DE397<(RA4thComm7-DSTD4thComm7),0,IF(DE397<(RA4thComm7+DSTD4thComm7),LSComm74th,0))))","v":0},{"$f":"IF(RA5thComm7=\"\",0,(IF(DE397<(RA5thComm7-DSTD5thComm7),0,IF(DE397<(RA5thComm7+DSTD5thComm7),LSComm75th,0))))","v":0},{"$f":"IF(RAPupaeComm7=\"\",0,(IF(DE397<(RAPupaeComm7-DSTDPupaeComm7),0,IF(DE397<(RAPupaeComm7+DSTDPupaeComm7),LSComm7Pupae,0))))","v":0},16.041666666666668,0,0,0,0,0,0,0,0,null,385,{"$f":"IF(RAEggsComm8=\"\",0,(IF(DW397<(RAEggsComm8-DSTDEggsComm8),0,IF(DW397<(RAEggsComm8+DSTDEggsComm8),LSComm8Eggs,0))))","v":0},{"$f":"IF(RA1stComm8=\"\",0,(IF(DW397<(RA1stComm8-DSTD1stComm8),0,IF(DW397<(RA1stComm8+DSTD1stComm8),LSComm81st,0))))","v":0},{"$f":"IF(RA2ndComm8=\"\",0,(IF(DW397<(RA2ndComm8-DSTD2ndComm8),0,IF(DW397<(RA2ndComm8+DSTD2ndComm8),LSComm82nd,0))))","v":0},{"$f":"IF(RA3rdComm8=\"\",0,(IF(DW397<(RA3rdComm8-DSTD3rdComm8),0,IF(DW397<(RA3rdComm8+DSTD3rdComm8),LSComm83rd,0))))","v":0},{"$f":"IF(RA4thComm8=\"\",0,(IF(DW397<(RA4thComm8-DSTD4thComm8),0,IF(DW397<(RA4thComm8+DSTD4thComm8),LSComm84th,0))))","v":0},{"$f":"IF(RA5thComm8=\"\",0,(IF(DW397<(RA5thComm8-DSTD5thComm8),0,IF(DW397<(RA5thComm8+DSTD5thComm8),LSComm85th,0))))","v":0},{"$f":"IF(RAPupaeComm8=\"\",0,(IF(DW397<(RAPupaeComm8-DSTDPupaeComm8),0,IF(DW397<(RAPupaeComm8+DSTDPupaeComm8),LSComm8Pupae,0))))","v":0},16.041666666666668,0,0,0,0,0,0,0,0,null,385,{"$f":"IF(RAEggsComm9=\"\",0,(IF(EO397<(RAEggsComm9-DSTDEggsComm9),0,IF(EO397<(RAEggsComm9+DSTDEggsComm9),LSComm9Eggs,0))))","v":0},{"$f":"IF(RA1stComm9=\"\",0,(IF(EO397<(RA1stComm9-DSTD1stComm9),0,IF(EO397<(RA1stComm9+DSTD1stComm9),LSComm91st,0))))","v":0},{"$f":"IF(RA2ndComm9=\"\",0,(IF(EO397<(RA2ndComm9-DSTD2ndComm9),0,IF(EO397<(RA2ndComm9+DSTD2ndComm9),LSComm92nd,0))))","v":0},{"$f":"IF(RA3rdComm9=\"\",0,(IF(EO397<(RA3rdComm9-DSTD3rdComm9),0,IF(EO397<(RA3rdComm9+DSTD3rdComm9),LSComm93rd,0))))","v":0},{"$f":"IF(RA4thComm9=\"\",0,(IF(EO397<(RA4thComm9-DSTD4thComm9),0,IF(EO397<(RA4thComm9+DSTD4thComm9),LSComm94th,0))))","v":0},{"$f":"IF(RA5thComm9=\"\",0,(IF(EO397<(RA5thComm9-DSTD5thComm9),0,IF(EO397<(RA5thComm9+DSTD5thComm9),LSComm95th,0))))","v":0},{"$f":"IF(RAPupaeComm9=\"\",0,(IF(EO397<(RAPupaeComm9-DSTDPupaeComm9),0,IF(EO397<(RAPupaeComm9+DSTDPupaeComm9),LSComm9Pupae,0))))","v":0},16.041666666666668,0,0,0,0,0,0,0,0,null,385,{"$f":"IF(RAEggsComm10=\"\",0,(IF(FG397<(RAEggsComm10-DSTDEggsComm10),0,IF(FG397<(RAEggsComm10+DSTDEggsComm10),LSComm10Eggs,0))))","v":0},{"$f":"IF(RA1stComm10=\"\",0,(IF(FG397<(RA1stComm10-DSTD1stComm10),0,IF(FG397<(RA1stComm10+DSTD1stComm10),LSComm101st,0))))","v":0},{"$f":"IF(RA2ndComm10=\"\",0,(IF(FG397<(RA2ndComm10-DSTD2ndComm10),0,IF(FG397<(RA2ndComm10+DSTD2ndComm10),LSComm102nd,0))))","v":0},{"$f":"IF(RA3rdComm10=\"\",0,(IF(FG397<(RA3rdComm10-DSTD3rdComm10),0,IF(FG397<(RA3rdComm10+DSTD3rdComm10),LSComm103rd,0))))","v":0},{"$f":"IF(RA4thComm10=\"\",0,(IF(FG397<(RA4thComm10-DSTD4thComm10),0,IF(FG397<(RA4thComm10+DSTD4thComm10),LSComm104th,0))))","v":0},{"$f":"IF(RA5thComm10=\"\",0,(IF(FG397<(RA5thComm10-DSTD5thComm10),0,IF(FG397<(RA5thComm10+DSTD5thComm10),LSComm105th,0))))","v":0},{"$f":"IF(RAPupaeComm10=\"\",0,(IF(FG397<(RAPupaeComm10-DSTDPupaeComm10),0,IF(FG397<(RAPupaeComm10+DSTDPupaeComm10),LSComm10Pupae,0))))","v":0},16.041666666666668,0,0,0,0,0,0,0,0]
[390,0,0,0,0,0,0,0,16.25,0,0,0,0,0,0,0,0,null,390,0,0,0,0,0,0,0,16.25,0,0,0,0,0,0,0,0,null,390,0,0,0,0,0,0,0,16.25,0,0,0,0,0,0,0,0,null,390,0,0,0,0,0,0,0,16.25,0,0,0,0,0,0,0,0,null,390,0,0,0,0,0,0,0,16.25,0,0,0,0,0,0,0,0,null,390,0,0,0,0,0,0,0,16.25,0,0,0,0,0,0,0,0,null,390,0,0,0,0,0,0,0,16.25,0,0,0,0,0,0,0,0,null,390,0,0,0,0,0,0,0,16.25,0,0,0,0,0,0,0,0,null,390,0,0,0,0,0,0,0,16.25,0,0,0,0,0,0,0,0,null,390,0,0,0,0,0,0,0,16.25,0,0,0,0,0,0,0,0]
[396,0,0,0,0,0,0,0,16.5,0,0,0,0,0,0,0,0,null,396,0,0,0,0,0,0,0,16.5,0,0,0,0,0,0,0,0,null,396,0,0,0,0,0,0,0,16.5,0,0,0,0,0,0,0,0,null,396,0,0,0,0,0,0,0,16.5,0,0,0,0,0,0,0,0,null,396,0,0,0,0,0,0,0,16.5,0,0,0,0,0,0,0,0,null,396,0,0,0,0,0,0,0,16.5,0,0,0,0,0,0,0,0,null,396,0,0,0,0,0,0,0,16.5,0,0,0,0,0,0,0,0,null,396,0,0,0,0,0,0,0,16.5,0,0,0,0,0,0,0,0,null,396,0,0,0,0,0,0,0,16.5,0,0,0,0,0,0,0,0,null,396,0,0,0,0,0,0,0,16.5,0,0,0,0,0,0,0,0]
[400,0,0,0,0,0,0,0,16.666666666666668,0,0,0,0,0,0,0,0,null,400,0,0,0,0,0,0,0,16.666666666666668,0,0,0,0,0,0,0,0,null,400,0,0,0,0,0,0,0,16.666666666666668,0,0,0,0,0,0,0,0,null,400,0,0,0,0,0,0,0,16.666666666666668,0,0,0,0,0,0,0,0,null,400,0,0,0,0,0,0,0,16.666666666666668,0,0,0,0,0,0,0,0,null,400,0,0,0,0,0,0,0,16.666666666666668,0,0,0,0,0,0,0,0,null,400,0,0,0,0,0,0,0,16.666666666666668,0,0,0,0,0,0,0,0,null,400,0,0,0,0,0,0,0,16.666666666666668,0,0,0,0,0,0,0,0,null,400,0,0,0,0,0,0,0,16.666666666666668,0,0,0,0,0,0,0,0,null,400,0,0,0,0,0,0,0,16.666666666666668,0,0,0,0,0,0,0,0]
[405,0,0,0,0,0,0,0,16.875,0,0,0,0,0,0,0,0,null,405,0,0,0,0,0,0,0,16.875,0,0,0,0,0,0,0,0,null,405,0,0,0,0,0,0,0,16.875,0,0,0,0,0,0,0,0,null,405,0,0,0,0,0,0,0,16.875,0,0,0,0,0,0,0,0,null,405,0,0,0,0,0,0,0,16.875,0,0,0,0,0,0,0,0,null,405,0,0,0,0,0,0,0,16.875,0,0,0,0,0,0,0,0,null,405,0,0,0,0,0,0,0,16.875,0,0,0,0,0,0,0,0,null,405,0,0,0,0,0,0,0,16.875,0,0,0,0,0,0,0,0,null,405,0,0,0,0,0,0,0,16.875,0,0,0,0,0,0,0,0,null,405,0,0,0,0,0,0,0,16.875,0,0,0,0,0,0,0,0]
[411,0,0,0,0,0,0,0,17.125,0,0,0,0,0,0,0,0,null,411,0,0,0,0,0,0,0,17.125,0,0,0,0,0,0,0,0,null,411,0,0,0,0,0,0,0,17.125,0,0,0,0,0,0,0,0,null,411,0,0,0,0,0,0,0,17.125,0,0,0,0,0,0,0,0,null,411,0,0,0,0,0,0,0,17.125,0,0,0,0,0,0,0,0,null,411,0,0,0,0,0,0,0,17.125,0,0,0,0,0,0,0,0,null,411,0,0,0,0,0,0,0,17.125,0,0,0,0,0,0,0,0,null,411,0,0,0,0,0,0,0,17.125,0,0,0,0,0,0,0,0,null,411,0,0,0,0,0,0,0,17.125,0,0,0,0,0,0,0,0,null,411,0,0,0,0,0,0,0,17.125,0,0,0,0,0,0,0,0]
[416,0,0,0,0,0,0,0,17.333333333333332,0,0,0,0,0,0,0,0,null,416,0,0,0,0,0,0,0,17.333333333333332,0,0,0,0,0,0,0,0,null,416,0,0,0,0,0,0,0,17.333333333333332,0,0,0,0,0,0,0,0,null,416,0,0,0,0,0,0,0,17.333333333333332,0,0,0,0,0,0,0,0,null,416,0,0,0,0,0,0,0,17.333333333333332,0,0,0,0,0,0,0,0,null,416,0,0,0,0,0,0,0,17.333333333333332,0,0,0,0,0,0,0,0,null,416,0,0,0,0,0,0,0,17.333333333333332,0,0,0,0,0,0,0,0,null,416,0,0,0,0,0,0,0,17.333333333333332,0,0,0,0,0,0,0,0,null,416,0,0,0,0,0,0,0,17.333333333333332,0,0,0,0,0,0,0,0,null,416,0,0,0,0,0,0,0,17.333333333333332,0,0,0,0,0,0,0,0]
[417,0,0,0,0,0,0,0,17.375,0,0,0,0,0,0,0,0,null,417,0,0,0,0,0,0,0,17.375,0,0,0,0,0,0,0,0,null,417,0,0,0,0,0,0,0,17.375,0,0,0,0,0,0,0,0,null,417,0,0,0,0,0,0,0,17.375,0,0,0,0,0,0,0,0,null,417,0,0,0,0,0,0,0,17.375,0,0,0,0,0,0,0,0,null,417,0,0,0,0,0,0,0,17.375,0,0,0,0,0,0,0,0,null,417,0,0,0,0,0,0,0,17.375,0,0,0,0,0,0,0,0,null,417,0,0,0,0,0,0,0,17.375,0,0,0,0,0,0,0,0,null,417,0,0,0,0,0,0,0,17.375,0,0,0,0,0,0,0,0,null,417,0,0,0,0,0,0,0,17.375,0,0,0,0,0,0,0,0]
[425,0,0,0,0,0,0,0,17.708333333333332,0,0,0,0,0,0,0,0,null,425,0,0,0,0,0,0,0,17.708333333333332,0,0,0,0,0,0,0,0,null,425,0,0,0,0,0,0,0,17.708333333333332,0,0,0,0,0,0,0,0,null,425,0,0,0,0,0,0,0,17.708333333333332,0,0,0,0,0,0,0,0,null,425,0,0,0,0,0,0,0,17.708333333333332,0,0,0,0,0,0,0,0,null,425,0,0,0,0,0,0,0,17.708333333333332,0,0,0,0,0,0,0,0,null,425,0,0,0,0,0,0,0,17.708333333333332,0,0,0,0,0,0,0,0,null,425,0,0,0,0,0,0,0,17.708333333333332,0,0,0,0,0,0,0,0,null,425,0,0,0,0,0,0,0,17.708333333333332,0,0,0,0,0,0,0,0,null,425,0,0,0,0,0,0,0,17.708333333333332,0,0,0,0,0,0,0,0]
[426,0,0,0,0,0,0,0,17.75,0,0,0,0,0,0,0,0,null,426,0,0,0,0,0,0,0,17.75,0,0,0,0,0,0,0,0,null,426,0,0,0,0,0,0,0,17.75,0,0,0,0,0,0,0,0,null,426,0,0,0,0,0,0,0,17.75,0,0,0,0,0,0,0,0,null,426,0,0,0,0,0,0,0,17.75,0,0,0,0,0,0,0,0,null,426,0,0,0,0,0,0,0,17.75,0,0,0,0,0,0,0,0,null,426,0,0,0,0,0,0,0,17.75,0,0,0,0,0,0,0,0,null,426,0,0,0,0,0,0,0,17.75,0,0,0,0,0,0,0,0,null,426,0,0,0,0,0,0,0,17.75,0,0,0,0,0,0,0,0,null,426,0,0,0,0,0,0,0,17.75,0,0,0,0,0,0,0,0]
[432,0,0,0,0,0,0,0,18,0,0,0,0,0,0,0,0,null,432,0,0,0,0,0,0,0,18,0,0,0,0,0,0,0,0,null,432,0,0,0,0,0,0,0,18,0,0,0,0,0,0,0,0,null,432,0,0,0,0,0,0,0,18,0,0,0,0,0,0,0,0,null,432,0,0,0,0,0,0,0,18,0,0,0,0,0,0,0,0,null,432,0,0,0,0,0,0,0,18,0,0,0,0,0,0,0,0,null,432,0,0,0,0,0,0,0,18,0,0,0,0,0,0,0,0,null,432,0,0,0,0,0,0,0,18,0,0,0,0,0,0,0,0,null,432,0,0,0,0,0,0,0,18,0,0,0,0,0,0,0,0,null,432,0,0,0,0,0,0,0,18,0,0,0,0,0,0,0,0]
[437,0,0,0,0,0,0,0,18.208333333333332,0,0,0,0,0,0,0,0,null,437,0,0,0,0,0,0,0,18.208333333333332,0,0,0,0,0,0,0,0,null,437,0,0,0,0,0,0,0,18.208333333333332,0,0,0,0,0,0,0,0,null,437,0,0,0,0,0,0,0,18.208333333333332,0,0,0,0,0,0,0,0,null,437,0,0,0,0,0,0,0,18.208333333333332,0,0,0,0,0,0,0,0,null,437,0,0,0,0,0,0,0,18.208333333333332,0,0,0,0,0,0,0,0,null,437,0,0,0,0,0,0,0,18.208333333333332,0,0,0,0,0,0,0,0,null,437,0,0,0,0,0,0,0,18.208333333333332,0,0,0,0,0,0,0,0,null,437,0,0,0,0,0,0,0,18.208333333333332,0,0,0,0,0,0,0,0,null,437,0,0,0,0,0,0,0,18.208333333333332,0,0,0,0,0,0,0,0]
[443,0,0,0,0,0,0,0,18.458333333333332,0,0,0,0,0,0,0,0,null,443,0,0,0,0,0,0,0,18.458333333333332,0,0,0,0,0,0,0,0,null,443,0,0,0,0,0,0,0,18.458333333333332,0,0,0,0,0,0,0,0,null,443,0,0,0,0,0,0,0,18.458333333333332,0,0,0,0,0,0,0,0,null,443,0,0,0,0,0,0,0,18.458333333333332,0,0,0,0,0,0,0,0,null,443,0,0,0,0,0,0,0,18.458333333333332,0,0,0,0,0,0,0,0,null,443,0,0,0,0,0,0,0,18.458333333333332,0,0,0,0,0,0,0,0,null,443,0,0,0,0,0,0,0,18.458333333333332,0,0,0,0,0,0,0,0,null,443,0,0,0,0,0,0,0,18.458333333333332,0,0,0,0,0,0,0,0,null,443,0,0,0,0,0,0,0,18.458333333333332,0,0,0,0,0,0,0,0]
[448,0,0,0,0,0,0,0,18.666666666666668,0,0,0,0,0,0,0,0,null,448,0,0,0,0,0,0,0,18.666666666666668,0,0,0,0,0,0,0,0,null,448,0,0,0,0,0,0,0,18.666666666666668,0,0,0,0,0,0,0,0,null,448,0,0,0,0,0,0,0,18.666666666666668,0,0,0,0,0,0,0,0,null,448,0,0,0,0,0,0,0,18.666666666666668,0,0,0,0,0,0,0,0,null,448,0,0,0,0,0,0,0,18.666666666666668,0,0,0,0,0,0,0,0,null,448,0,0,0,0,0,0,0,18.666666666666668,0,0,0,0,0,0,0,0,null,448,0,0,0,0,0,0,0,18.666666666666668,0,0,0,0,0,0,0,0,null,448,0,0,0,0,0,0,0,18.666666666666668,0,0,0,0,0,0,0,0,null,448,0,0,0,0,0,0,0,18.666666666666668,0,0,0,0,0,0,0,0]
[452,0,0,0,0,0,0,0,18.833333333333332,0,0,0,0,0,0,0,0,null,452,0,0,0,0,0,0,0,18.833333333333332,0,0,0,0,0,0,0,0,null,452,0,0,0,0,0,0,0,18.833333333333332,0,0,0,0,0,0,0,0,null,452,0,0,0,0,0,0,0,18.833333333333332,0,0,0,0,0,0,0,0,null,452,0,0,0,0,0,0,0,18.833333333333332,0,0,0,0,0,0,0,0,null,452,0,0,0,0,0,0,0,18.833333333333332,0,0,0,0,0,0,0,0,null,452,0,0,0,0,0,0,0,18.833333333333332,0,0,0,0,0,0,0,0,null,452,0,0,0,0,0,0,0,18.833333333333332,0,0,0,0,0,0,0,0,null,452,0,0,0,0,0,0,0,18.833333333333332,0,0,0,0,0,0,0,0,null,452,0,0,0,0,0,0,0,18.833333333333332,0,0,0,0,0,0,0,0]
[458,0,0,0,0,0,0,0,19.083333333333332,0,0,0,0,0,0,0,0,null,458,0,0,0,0,0,0,0,19.083333333333332,0,0,0,0,0,0,0,0,null,458,0,0,0,0,0,0,0,19.083333333333332,0,0,0,0,0,0,0,0,null,458,0,0,0,0,0,0,0,19.083333333333332,0,0,0,0,0,0,0,0,null,458,0,0,0,0,0,0,0,19.083333333333332,0,0,0,0,0,0,0,0,null,458,0,0,0,0,0,0,0,19.083333333333332,0,0,0,0,0,0,0,0,null,458,0,0,0,0,0,0,0,19.083333333333332,0,0,0,0,0,0,0,0,null,458,0,0,0,0,0,0,0,19.083333333333332,0,0,0,0,0,0,0,0,null,458,0,0,0,0,0,0,0,19.083333333333332,0,0,0,0,0,0,0,0,null,458,0,0,0,0,0,0,0,19.083333333333332,0,0,0,0,0,0,0,0]
[463,0,0,0,0,0,0,0,19.291666666666668,0,0,0,0,0,0,0,0,null,463,0,0,0,0,0,0,0,19.291666666666668,0,0,0,0,0,0,0,0,null,463,0,0,0,0,0,0,0,19.291666666666668,0,0,0,0,0,0,0,0,null,463,0,0,0,0,0,0,0,19.291666666666668,0,0,0,0,0,0,0,0,null,463,0,0,0,0,0,0,0,19.291666666666668,0,0,0,0,0,0,0,0,null,463,0,0,0,0,0,0,0,19.291666666666668,0,0,0,0,0,0,0,0,null,463,0,0,0,0,0,0,0,19.291666666666668,0,0,0,0,0,0,0,0,null,463,0,0,0,0,0,0,0,19.291666666666668,0,0,0,0,0,0,0,0,null,463,0,0,0,0,0,0,0,19.291666666666668,0,0,0,0,0,0,0,0,null,463,0,0,0,0,0,0,0,19.291666666666668,0,0,0,0,0,0,0,0]
[468,0,0,0,0,0,0,0,19.5,0,0,0,0,0,0,0,0,null,468,0,0,0,0,0,0,0,19.5,0,0,0,0,0,0,0,0,null,468,0,0,0,0,0,0,0,19.5,0,0,0,0,0,0,0,0,null,468,0,0,0,0,0,0,0,19.5,0,0,0,0,0,0,0,0,null,468,0,0,0,0,0,0,0,19.5,0,0,0,0,0,0,0,0,null,468,0,0,0,0,0,0,0,19.5,0,0,0,0,0,0,0,0,null,468,0,0,0,0,0,0,0,19.5,0,0,0,0,0,0,0,0,null,468,0,0,0,0,0,0,0,19.5,0,0,0,0,0,0,0,0,null,468,0,0,0,0,0,0,0,19.5,0,0,0,0,0,0,0,0,null,468,0,0,0,0,0,0,0,19.5,0,0,0,0,0,0,0,0]
[474,0,0,0,0,0,0,0,19.75,0,0,0,0,0,0,0,0,null,474,0,0,0,0,0,0,0,19.75,0,0,0,0,0,0,0,0,null,474,0,0,0,0,0,0,0,19.75,0,0,0,0,0,0,0,0,null,474,0,0,0,0,0,0,0,19.75,0,0,0,0,0,0,0,0,null,474,0,0,0,0,0,0,0,19.75,0,0,0,0,0,0,0,0,null,474,0,0,0,0,0,0,0,19.75,0,0,0,0,0,0,0,0,null,474,0,0,0,0,0,0,0,19.75,0,0,0,0,0,0,0,0,null,474,0,0,0,0,0,0,0,19.75,0,0,0,0,0,0,0,0,null,474,0,0,0,0,0,0,0,19.75,0,0,0,0,0,0,0,0,null,474,0,0,0,0,0,0,0,19.75,0,0,0,0,0,0,0,0]
[479,0,0,0,0,0,0,0,19.958333333333332,0,0,0,0,0,0,0,0,null,479,0,0,0,0,0,0,0,19.958333333333332,0,0,0,0,0,0,0,0,null,479,0,0,0,0,0,0,0,19.958333333333332,0,0,0,0,0,0,0,0,null,479,0,0,0,0,0,0,0,19.958333333333332,0,0,0,0,0,0,0,0,null,479,0,0,0,0,0,0,0,19.958333333333332,0,0,0,0,0,0,0,0,null,479,0,0,0,0,0,0,0,19.958333333333332,0,0,0,0,0,0,0,0,null,479,0,0,0,0,0,0,0,19.958333333333332,0,0,0,0,0,0,0,0,null,479,0,0,0,0,0,0,0,19.958333333333332,0,0,0,0,0,0,0,0,null,479,0,0,0,0,0,0,0,19.958333333333332,0,0,0,0,0,0,0,0,null,479,0,0,0,0,0,0,0,19.958333333333332,0,0,0,0,0,0,0,0]
[483,0,0,0,0,0,0,0,20.125,0,0,0,0,0,0,0,0,null,483,0,0,0,0,0,0,0,20.125,0,0,0,0,0,0,0,0,null,483,0,0,0,0,0,0,0,20.125,0,0,0,0,0,0,0,0,null,483,0,0,0,0,0,0,0,20.125,0,0,0,0,0,0,0,0,null,483,0,0,0,0,0,0,0,20.125,0,0,0,0,0,0,0,0,null,483,0,0,0,0,0,0,0,20.125,0,0,0,0,0,0,0,0,null,483,0,0,0,0,0,0,0,20.125,0,0,0,0,0,0,0,0,null,483,0,0,0,0,0,0,0,20.125,0,0,0,0,0,0,0,0,null,483,0,0,0,0,0,0,0,20.125,0,0,0,0,0,0,0,0,null,483,0,0,0,0,0,0,0,20.125,0,0,0,0,0,0,0,0]
[484,0,0,0,0,0,0,0,20.166666666666668,0,0,0,0,0,0,0,0,null,484,0,0,0,0,0,0,0,20.166666666666668,0,0,0,0,0,0,0,0,null,484,0,0,0,0,0,0,0,20.166666666666668,0,0,0,0,0,0,0,0,null,484,0,0,0,0,0,0,0,20.166666666666668,0,0,0,0,0,0,0,0,null,484,0,0,0,0,0,0,0,20.166666666666668,0,0,0,0,0,0,0,0,null,484,0,0,0,0,0,0,0,20.166666666666668,0,0,0,0,0,0,0,0,null,484,0,0,0,0,0,0,0,20.166666666666668,0,0,0,0,0,0,0,0,null,484,0,0,0,0,0,0,0,20.166666666666668,0,0,0,0,0,0,0,0,null,484,0,0,0,0,0,0,0,20.166666666666668,0,0,0,0,0,0,0,0,null,484,0,0,0,0,0,0,0,20.166666666666668,0,0,0,0,0,0,0,0]
[489,0,0,0,0,0,0,0,20.375,0,0,0,0,0,0,0,0,null,489,0,0,0,0,0,0,0,20.375,0,0,0,0,0,0,0,0,null,489,0,0,0,0,0,0,0,20.375,0,0,0,0,0,0,0,0,null,489,0,0,0,0,0,0,0,20.375,0,0,0,0,0,0,0,0,null,489,0,0,0,0,0,0,0,20.375,0,0,0,0,0,0,0,0,null,489,0,0,0,0,0,0,0,20.375,0,0,0,0,0,0,0,0,null,489,0,0,0,0,0,0,0,20.375,0,0,0,0,0,0,0,0,null,489,0,0,0,0,0,0,0,20.375,0,0,0,0,0,0,0,0,null,489,0,0,0,0,0,0,0,20.375,0,0,0,0,0,0,0,0,null,489,0,0,0,0,0,0,0,20.375,0,0,0,0,0,0,0,0]
[495,0,0,0,0,0,0,0,20.625,0,0,0,0,0,0,0,0,null,495,0,0,0,0,0,0,0,20.625,0,0,0,0,0,0,0,0,null,495,0,0,0,0,0,0,0,20.625,0,0,0,0,0,0,0,0,null,495,0,0,0,0,0,0,0,20.625,0,0,0,0,0,0,0,0,null,495,0,0,0,0,0,0,0,20.625,0,0,0,0,0,0,0,0,null,495,0,0,0,0,0,0,0,20.625,0,0,0,0,0,0,0,0,null,495,0,0,0,0,0,0,0,20.625,0,0,0,0,0,0,0,0,null,495,0,0,0,0,0,0,0,20.625,0,0,0,0,0,0,0,0,null,495,0,0,0,0,0,0,0,20.625,0,0,0,0,0,0,0,0,null,495,0,0,0,0,0,0,0,20.625,0,0,0,0,0,0,0,0]
[500,0,0,0,0,0,0,0,20.833333333333332,0,0,0,0,0,0,0,0,null,500,0,0,0,0,0,0,0,20.833333333333332,0,0,0,0,0,0,0,0,null,500,0,0,0,0,0,0,0,20.833333333333332,0,0,0,0,0,0,0,0,null,500,0,0,0,0,0,0,0,20.833333333333332,0,0,0,0,0,0,0,0,null,500,0,0,0,0,0,0,0,20.833333333333332,0,0,0,0,0,0,0,0,null,500,0,0,0,0,0,0,0,20.833333333333332,0,0,0,0,0,0,0,0,null,500,0,0,0,0,0,0,0,20.833333333333332,0,0,0,0,0,0,0,0,null,500,0,0,0,0,0,0,0,20.833333333333332,0,0,0,0,0,0,0,0,null,500,0,0,0,0,0,0,0,20.833333333333332,0,0,0,0,0,0,0,0,null,500,0,0,0,0,0,0,0,20.833333333333332,0,0,0,0,0,0,0,0]
[504,0,0,0,0,0,0,0,21,0,0,0,0,0,0,0,0,null,504,0,0,0,0,0,0,0,21,0,0,0,0,0,0,0,0,null,504,0,0,0,0,0,0,0,21,0,0,0,0,0,0,0,0,null,504,0,0,0,0,0,0,0,21,0,0,0,0,0,0,0,0,null,504,0,0,0,0,0,0,0,21,0,0,0,0,0,0,0,0,null,504,0,0,0,0,0,0,0,21,0,0,0,0,0,0,0,0,null,504,0,0,0,0,0,0,0,21,0,0,0,0,0,0,0,0,null,504,0,0,0,0,0,0,0,21,0,0,0,0,0,0,0,0,null,504,0,0,0,0,0,0,0,21,0,0,0,0,0,0,0,0,null,504,0,0,0,0,0,0,0,21,0,0,0,0,0,0,0,0]
[510,0,0,0,0,0,0,0,21.25,0,0,0,0,0,0,0,0,null,510,0,0,0,0,0,0,0,21.25,0,0,0,0,0,0,0,0,null,510,0,0,0,0,0,0,0,21.25,0,0,0,0,0,0,0,0,null,510,0,0,0,0,0,0,0,21.25,0,0,0,0,0,0,0,0,null,510,0,0,0,0,0,0,0,21.25,0,0,0,0,0,0,0,0,null,510,0,0,0,0,0,0,0,21.25,0,0,0,0,0,0,0,0,null,510,0,0,0,0,0,0,0,21.25,0,0,0,0,0,0,0,0,null,510,0,0,0,0,0,0,0,21.25,0,0,0,0,0,0,0,0,null,510,0,0,0,0,0,0,0,21.25,0,0,0,0,0,0,0,0,null,510,0,0,0,0,0,0,0,21.25,0,0,0,0,0,0,0,0]
[515,0,0,0,0,0,0,0,21.458333333333332,0,0,0,0,0,0,0,0,null,515,0,0,0,0,0,0,0,21.458333333333332,0,0,0,0,0,0,0,0,null,515,0,0,0,0,0,0,0,21.458333333333332,0,0,0,0,0,0,0,0,null,515,0,0,0,0,0,0,0,21.458333333333332,0,0,0,0,0,0,0,0,null,515,0,0,0,0,0,0,0,21.458333333333332,0,0,0,0,0,0,0,0,null,515,0,0,0,0,0,0,0,21.458333333333332,0,0,0,0,0,0,0,0,null,515,0,0,0,0,0,0,0,21.458333333333332,0,0,0,0,0,0,0,0,null,515,0,0,0,0,0,0,0,21.458333333333332,0,0,0,0,0,0,0,0,null,515,0,0,0,0,0,0,0,21.458333333333332,0,0,0,0,0,0,0,0,null,515,0,0,0,0,0,0,0,21.458333333333332,0,0,0,0,0,0,0,0]
[521,0,0,0,0,0,0,0,21.708333333333332,0,0,0,0,0,0,0,0,null,521,0,0,0,0,0,0,0,21.708333333333332,0,0,0,0,0,{"$f":"IF(AB533=0,0,X533/AB533)","v":0},0,0,null,521,0,0,0,0,0,0,0,21.708333333333332,0,0,0,0,0,{"$f":"IF(AT533=0,0,AP533/AT533)","v":0},0,0,null,521,0,0,0,0,0,0,0,21.708333333333332,0,0,0,0,0,{"$f":"IF(BL533=0,0,BH533/BL533)","v":0},0,0,null,521,0,0,0,0,0,0,0,21.708333333333332,0,0,0,0,0,{"$f":"IF(CD533=0,0,BZ533/CD533)","v":0},0,0,null,521,0,0,0,0,0,0,0,21.708333333333332,0,0,0,0,0,{"$f":"IF(CV533=0,0,CR533/CV533)","v":0},0,0,null,521,0,0,0,0,0,0,0,21.708333333333332,0,0,0,0,0,{"$f":"IF(DN533=0,0,DJ533/DN533)","v":0},0,0,null,521,0,0,0,0,0,0,0,21.708333333333332,0,0,0,0,0,{"$f":"IF(EF533=0,0,EB533/EF533)","v":0},0,0,null,521,0,0,0,0,0,0,0,21.708333333333332,0,0,0,0,0,{"$f":"IF(EX533=0,0,ET533/EX533)","v":0},0,0,null,521,0,0,0,0,0,0,0,21.708333333333332,0,0,0,0,0,{"$f":"IF(FP533=0,0,FL533/FP533)","v":0},0,0]
[526,0,0,0,0,0,0,0,21.916666666666668,0,0,0,0,0,0,0,0,null,526,0,0,0,0,0,0,0,21.916666666666668,0,0,0,0,0,0,0,0,null,526,0,0,0,0,0,0,0,21.916666666666668,0,0,0,0,0,0,0,0,null,526,0,0,0,0,0,0,0,21.916666666666668,0,0,0,0,0,0,0,0,null,526,0,0,0,0,0,0,0,21.916666666666668,0,0,0,0,0,0,0,0,null,526,0,0,0,0,0,0,0,21.916666666666668,0,0,0,0,0,0,0,0,null,526,0,0,0,0,0,0,0,21.916666666666668,0,0,0,0,0,0,0,0,null,526,0,0,0,0,0,0,0,21.916666666666668,0,0,0,0,0,0,0,0,null,526,0,0,0,0,0,0,0,21.916666666666668,0,0,0,0,0,0,0,0,null,526,0,0,0,0,0,0,0,21.916666666666668,0,0,0,0,0,0,0,0]
[531,0,0,0,0,0,0,0,22.125,0,0,0,0,0,0,0,0,null,531,0,0,0,0,0,0,0,22.125,0,0,0,0,0,0,0,0,null,531,0,0,0,0,0,0,0,22.125,0,0,0,0,0,0,0,0,null,531,0,0,0,0,0,0,0,22.125,0,0,0,0,0,0,0,0,null,531,0,0,0,0,0,0,0,22.125,0,0,0,0,0,0,0,0,null,531,0,0,0,0,0,0,0,22.125,0,0,0,0,0,0,0,0,null,531,0,0,0,0,0,0,0,22.125,0,0,0,0,0,0,0,0,null,531,0,0,0,0,0,0,0,22.125,0,0,0,0,0,0,0,0,null,531,0,0,0,0,0,0,0,22.125,0,0,0,0,0,0,0,0,null,531,0,0,0,0,0,0,0,22.125,0,0,0,0,0,0,0,0]
[535,0,0,0,0,0,0,0,22.291666666666668,0,0,0,0,0,0,0,0,null,535,0,0,0,0,0,0,0,22.291666666666668,0,0,0,0,0,0,0,0,null,535,0,0,0,0,0,0,0,22.291666666666668,0,0,0,0,0,0,0,0,null,535,0,0,0,0,0,0,0,22.291666666666668,0,0,0,0,0,0,0,0,null,535,0,0,0,0,0,0,0,22.291666666666668,0,0,0,0,0,0,0,0,null,535,0,0,0,0,0,0,0,22.291666666666668,0,0,0,0,0,0,0,0,null,535,0,0,0,0,0,0,0,22.291666666666668,0,0,0,0,0,0,0,0,null,535,0,0,0,0,0,0,0,22.291666666666668,0,0,0,0,0,0,0,0,null,535,0,0,0,0,0,0,0,22.291666666666668,0,0,0,0,0,0,0,0,null,535,0,0,0,0,0,0,0,22.291666666666668,0,0,0,0,0,0,0,0]
[541,0,0,0,0,0,0,0,22.541666666666668,0,0,0,0,0,0,0,0,null,541,0,0,0,0,0,0,0,22.541666666666668,0,0,0,0,0,0,0,0,null,541,0,0,0,0,0,0,0,22.541666666666668,0,0,0,0,0,0,0,0,null,541,0,0,0,0,0,0,0,22.541666666666668,0,0,0,0,0,0,0,0,null,541,0,0,0,0,0,0,0,22.541666666666668,0,0,0,0,0,0,0,0,null,541,0,0,0,0,0,0,0,22.541666666666668,0,0,0,0,0,0,0,0,null,541,0,0,0,0,0,0,0,22.541666666666668,0,0,0,0,0,0,0,0,null,541,0,0,0,0,0,0,0,22.541666666666668,0,0,0,0,0,0,0,0,null,541,0,0,0,0,0,0,0,22.541666666666668,0,0,0,0,0,0,0,0,null,541,0,0,0,0,0,0,0,22.541666666666668,0,0,0,0,0,0,0,0]
[542,0,0,0,0,0,0,0,22.583333333333332,0,0,0,0,0,0,0,0,null,542,0,0,0,0,0,0,0,22.583333333333332,0,0,0,0,0,0,0,0,null,542,0,0,0,0,0,0,0,22.583333333333332,0,0,0,0,0,0,0,0,null,542,0,0,0,0,0,0,0,22.583333333333332,0,0,0,0,0,0,0,0,null,542,0,0,0,0,0,0,0,22.583333333333332,0,0,0,0,0,0,0,0,null,542,0,0,0,0,0,0,0,22.583333333333332,0,0,0,0,0,0,0,0,null,542,0,0,0,0,0,0,0,22.583333333333332,0,0,0,0,0,0,0,0,null,542,0,0,0,0,0,0,0,22.583333333333332,0,0,0,0,0,0,0,0,null,542,0,0,0,0,0,0,0,22.583333333333332,0,0,0,0,0,0,0,0,null,542,0,0,0,0,0,0,0,22.583333333333332,0,0,0,0,0,0,0,0]
[547,0,0,0,0,0,0,0,22.791666666666668,0,0,0,0,0,0,0,0,null,547,0,0,0,0,0,0,0,22.791666666666668,0,0,0,0,0,0,0,0,null,547,0,0,0,0,0,0,0,22.791666666666668,0,0,0,0,0,0,0,0,null,547,0,0,0,0,0,0,0,22.791666666666668,0,0,0,0,0,0,0,0,null,547,0,0,0,0,0,0,0,22.791666666666668,0,0,0,0,0,0,0,0,null,547,0,0,0,0,0,0,0,22.791666666666668,0,0,0,0,0,0,0,0,null,547,0,0,0,0,0,0,0,22.791666666666668,0,0,0,0,0,0,0,0,null,547,0,0,0,0,0,0,0,22.791666666666668,0,0,0,0,0,0,0,0,null,547,0,0,0,0,0,0,0,22.791666666666668,0,0,0,0,0,0,0,0,null,547,0,0,0,0,0,0,0,22.791666666666668,0,0,0,0,0,0,0,0]
[552,0,0,0,0,0,0,0,{"$f":"A564/24","v":23},{"$f":"SUM(B564:H564)","v":0},0,0,0,0,0,0,0,null,552,0,0,0,0,0,0,0,{"$f":"S564/24","v":23},{"$f":"SUM(T564:Z564)","v":0},0,0,0,0,0,0,0,null,552,0,0,0,0,0,0,0,{"$f":"AK564/24","v":23},{"$f":"SUM(AL564:AR564)","v":0},0,0,0,0,0,0,0,null,552,0,0,0,0,0,0,0,{"$f":"BC564/24","v":23},{"$f":"SUM(BD564:BJ564)","v":0},0,0,0,0,0,0,0,null,552,0,0,0,0,0,0,0,{"$f":"BU564/24","v":23},{"$f":"SUM(BV564:CB564)","v":0},0,0,0,0,0,0,0,null,552,0,0,0,0,0,0,0,{"$f":"CM564/24","v":23},{"$f":"SUM(CN564:CT564)","v":0},0,0,0,0,0,0,0,null,552,0,0,0,0,0,0,0,{"$f":"DE564/24","v":23},{"$f":"SUM(DF564:DL564)","v":0},0,0,0,0,0,0,0,null,552,0,0,0,0,0,0,0,{"$f":"DW564/24","v":23},{"$f":"SUM(DX564:ED564)","v":0},0,0,0,0,0,0,0,null,552,0,0,0,0,0,0,0,{"$f":"EO564/24","v":23},{"$f":"SUM(EP564:EV564)","v":0},0,0,0,0,0,0,0,null,552,0,0,0,0,0,0,0,{"$f":"FG564/24","v":23},{"$f":"SUM(FH564:FN564)","v":0},0,0,0,0,0,0,0]
[560,0,0,0,0,0,0,0,23.333333333333332,0,0,0,0,0,0,0,0,null,560,0,0,0,0,0,0,0,23.333333333333332,0,0,0,0,0,0,0,0,null,560,0,0,0,0,0,0,0,23.333333333333332,0,0,0,0,0,0,0,0,null,560,0,0,0,0,0,0,0,23.333333333333332,0,0,0,0,0,0,0,0,null,560,0,0,0,0,0,0,0,23.333333333333332,0,0,0,0,0,0,0,0,null,560,0,0,0,0,0,0,0,23.333333333333332,0,0,0,0,0,0,0,0,null,560,0,0,0,0,0,0,0,23.333333333333332,0,0,0,0,0,0,0,0,null,560,0,0,0,0,0,0,0,23.333333333333332,0,0,0,0,0,0,0,0,null,560,0,0,0,0,0,0,0,23.333333333333332,0,0,0,0,0,0,0,0,null,560,0,0,0,0,0,0,0,23.333333333333332,0,0,0,0,0,0,0,0]
[562,0,0,0,0,0,0,0,23.416666666666668,0,0,0,0,0,0,0,0,null,562,0,0,0,0,0,0,0,23.416666666666668,0,0,0,0,0,0,0,0,null,562,0,0,0,0,0,0,0,23.416666666666668,0,0,0,0,0,0,0,0,null,562,0,0,0,0,0,0,0,23.416666666666668,0,0,0,0,0,0,0,0,null,562,0,0,0,0,0,0,0,23.416666666666668,0,0,0,0,0,0,0,0,null,562,0,0,0,0,0,0,0,23.416666666666668,0,0,0,0,0,0,0,0,null,562,0,0,0,0,0,0,0,23.416666666666668,0,0,0,0,0,0,0,0,null,562,0,0,0,0,0,0,0,23.416666666666668,0,0,0,0,0,0,0,0,null,562,0,0,0,0,0,0,0,23.416666666666668,0,0,0,0,0,0,0,0,null,562,0,0,0,0,0,0,0,23.416666666666668,0,0,0,0,0,0,0,0]
[567,0,0,0,0,0,0,0,23.625,0,0,0,0,0,0,0,0,null,567,0,0,0,0,0,0,0,23.625,0,0,0,0,0,0,0,0,null,567,0,0,0,0,0,0,0,23.625,0,0,0,0,0,0,0,0,null,567,0,0,0,0,0,0,0,23.625,0,0,0,0,0,0,0,0,null,567,0,0,0,0,0,0,0,23.625,0,0,0,0,0,0,0,0,null,567,0,0,0,0,0,0,0,23.625,0,0,0,0,0,0,0,0,null,567,0,0,0,0,0,0,0,23.625,0,0,0,0,0,0,0,0,null,567,0,0,0,0,0,0,0,23.625,0,0,0,0,0,0,0,0,null,567,0,0,0,0,0,0,0,23.625,0,0,0,0,0,0,0,0,null,567,0,0,0,0,0,0,0,23.625,0,0,0,0,0,0,0,0]
[573,0,0,0,0,0,0,0,23.875,0,0,0,0,0,0,0,0,null,573,0,0,0,0,0,0,0,23.875,0,0,0,0,0,0,0,0,null,573,0,0,0,0,0,0,0,23.875,0,0,0,0,0,0,0,0,null,573,0,0,0,0,0,0,0,23.875,0,0,0,0,0,0,0,0,null,573,0,0,0,0,0,0,0,23.875,0,0,0,0,0,0,0,0,null,573,0,0,0,0,0,0,0,23.875,0,0,0,0,0,0,0,0,null,573,0,0,0,0,0,0,0,23.875,0,0,0,0,0,0,0,0,null,573,0,0,0,0,0,0,0,23.875,0,0,0,0,0,0,0,0,null,573,0,0,0,0,0,0,0,23.875,0,0,0,0,0,0,0,0,null,573,0,0,0,0,0,0,0,23.875,0,0,0,0,0,0,0,0]
[578,0,0,0,0,0,0,0,24.083333333333332,0,{"$f":"IF(J590=0,0,B590/J590)","v":0},{"$f":"IF(J590=0,0,C590/J590)","v":0},{"$f":"IF(J590=0,0,D590/J590)","v":0},{"$f":"IF(J590=0,0,E590/J590)","v":0},{"$f":"IF(J590=0,0,F590/J590)","v":0},{"$f":"IF(J590=0,0,G590/J590)","v":0},{"$f":"IF(J590=0,0,H590/J590)","v":0},null,578,0,0,0,0,0,0,0,24.083333333333332,0,{"$f":"IF(AB590=0,0,T590/AB590)","v":0},{"$f":"IF(AB590=0,0,U590/AB590)","v":0},{"$f":"IF(AB590=0,0,V590/AB590)","v":0},{"$f":"IF(AB590=0,0,W590/AB590)","v":0},0,{"$f":"IF(AB590=0,0,Y590/AB590)","v":0},{"$f":"IF(AB590=0,0,Z590/AB590)","v":0},null,578,0,0,0,0,0,0,0,24.083333333333332,0,{"$f":"IF(AT590=0,0,AL590/AT590)","v":0},{"$f":"IF(AT590=0,0,AM590/AT590)","v":0},{"$f":"IF(AT590=0,0,AN590/AT590)","v":0},{"$f":"IF(AT590=0,0,AO590/AT590)","v":0},0,{"$f":"IF(AT590=0,0,AQ590/AT590)","v":0},{"$f":"IF(AT590=0,0,AR590/AT590)","v":0},null,578,0,0,0,0,0,0,0,24.083333333333332,0,{"$f":"IF(BL590=0,0,BD590/BL590)","v":0},{"$f":"IF(BL590=0,0,BE590/BL590)","v":0},{"$f":"IF(BL590=0,0,BF590/BL590)","v":0},{"$f":"IF(BL590=0,0,BG590/BL590)","v":0},0,{"$f":"IF(BL590=0,0,BI590/BL590)","v":0},{"$f":"IF(BL590=0,0,BJ590/BL590)","v":0},null,578,0,0,0,0,0,0,0,24.083333333333332,0,{"$f":"IF(CD590=0,0,BV590/CD590)","v":0},{"$f":"IF(CD590=0,0,BW590/CD590)","v":0},{"$f":"IF(CD590=0,0,BX590/CD590)","v":0},{"$f":"IF(CD590=0,0,BY590/CD590)","v":0},0,{"$f":"IF(CD590=0,0,CA590/CD590)","v":0},{"$f":"IF(CD590=0,0,CB590/CD590)","v":0},null,578,0,0,0,0,0,0,0,24.083333333333332,0,{"$f":"IF(CV590=0,0,CN590/CV590)","v":0},{"$f":"IF(CV590=0,0,CO590/CV590)","v":0},{"$f":"IF(CV590=0,0,CP590/CV590)","v":0},{"$f":"IF(CV590=0,0,CQ590/CV590)","v":0},0,{"$f":"IF(CV590=0,0,CS590/CV590)","v":0},{"$f":"IF(CV590=0,0,CT590/CV590)","v":0},null,578,0,0,0,0,0,0,0,24.083333333333332,0,{"$f":"IF(DN590=0,0,DF590/DN590)","v":0},{"$f":"IF(DN590=0,0,DG590/DN590)","v":0},{"$f":"IF(DN590=0,0,DH590/DN590)","v":0},{"$f":"IF(DN590=0,0,DI590/DN590)","v":0},0,{"$f":"IF(DN590=0,0,DK590/DN590)","v":0},{"$f":"IF(DN590=0,0,DL590/DN590)","v":0},null,578,0,0,0,0,0,0,0,24.083333333333332,0,{"$f":"IF(EF590=0,0,DX590/EF590)","v":0},{"$f":"IF(EF590=0,0,DY590/EF590)","v":0},{"$f":"IF(EF590=0,0,DZ590/EF590)","v":0},{"$f":"IF(EF590=0,0,EA590/EF590)","v":0},0,{"$f":"IF(EF590=0,0,EC590/EF590)","v":0},{"$f":"IF(EF590=0,0,ED590/EF590)","v":0},null,578,0,0,0,0,0,0,0,24.083333333333332,0,{"$f":"IF(EX590=0,0,EP590/EX590)","v":0},{"$f":"IF(EX590=0,0,EQ590/EX590)","v":0},{"$f":"IF(EX590=0,0,ER590/EX590)","v":0},{"$f":"IF(EX590=0,0,ES590/EX590)","v":0},0,{"$f":"IF(EX590=0,0,EU590/EX590)","v":0},{"$f":"IF(EX590=0,0,EV590/EX590)","v":0},null,578,0,0,0,0,0,0,0,24.083333333333332,0,{"$f":"IF(FP590=0,0,FH590/FP590)","v":0},{"$f":"IF(FP590=0,0,FI590/FP590)","v":0},{"$f":"IF(FP590=0,0,FJ590/FP590)","v":0},{"$f":"IF(FP590=0,0,FK590/FP590)","v":0},0,{"$f":"IF(FP590=0,0,FM590/FP590)","v":0},{"$f":"IF(FP590=0,0,FN590/FP590)","v":0}]
[584,0,0,0,0,0,0,0,24.333333333333332,0,0,0,0,0,0,0,0,null,584,0,0,0,0,0,0,0,24.333333333333332,0,0,0,0,0,0,0,0,null,584,0,0,0,0,0,0,0,24.333333333333332,0,0,0,0,0,0,0,0,null,584,0,0,0,0,0,0,0,24.333333333333332,0,0,0,0,0,0,0,0,null,584,0,0,0,0,0,0,0,24.333333333333332,0,0,0,0,0,0,0,0,null,584,0,0,0,0,0,0,0,24.333333333333332,0,0,0,0,0,0,0,0,null,584,0,0,0,0,0,0,0,24.333333333333332,0,0,0,0,0,0,0,0,null,584,0,0,0,0,0,0,0,24.333333333333332,0,0,0,0,0,0,0,0,null,584,0,0,0,0,0,0,0,24.333333333333332,0,0,0,0,0,0,0,0,null,584,0,0,0,0,0,0,0,24.333333333333332,0,0,0,0,0,0,0,0]
[587,0,0,0,0,0,0,0,24.458333333333332,0,0,0,0,0,0,0,0,null,587,0,0,0,0,0,0,0,24.458333333333332,0,0,0,0,0,0,0,0,null,587,0,0,0,0,0,0,0,24.458333333333332,0,0,0,0,0,0,0,0,null,587,0,0,0,0,0,0,0,24.458333333333332,0,0,0,0,0,0,0,0,null,587,0,0,0,0,0,0,0,24.458333333333332,0,0,0,0,0,0,0,0,null,587,0,0,0,0,0,0,0,24.458333333333332,0,0,0,0,0,0,0,0,null,587,0,0,0,0,0,0,0,24.458333333333332,0,0,0,0,0,0,0,0,null,587,0,0,0,0,0,0,0,24.458333333333332,0,0,0,0,0,0,0,0,null,587,0,0,0,0,0,0,0,24.458333333333332,0,0,0,0,0,0,0,0,null,587,0,0,0,0,0,0,0,24.458333333333332,0,0,0,0,0,0,0,0]
[593,0,0,0,0,0,0,0,24.708333333333332,0,0,0,0,0,0,0,0,null,593,0,0,0,0,0,0,0,24.708333333333332,0,0,0,0,0,0,0,0,null,593,0,0,0,0,0,0,0,24.708333333333332,0,0,0,0,0,0,0,0,null,593,0,0,0,0,0,0,0,24.708333333333332,0,0,0,0,0,0,0,0,null,593,0,0,0,0,0,0,0,24.708333333333332,0,0,0,0,0,0,0,0,null,593,0,0,0,0,0,0,0,24.708333333333332,0,0,0,0,0,0,0,0,null,593,0,0,0,0,0,0,0,24.708333333333332,0,0,0,0,0,0,0,0,null,593,0,0,0,0,0,0,0,24.708333333333332,0,0,0,0,0,0,0,0,null,593,0,0,0,0,0,0,0,24.708333333333332,0,0,0,0,0,0,0,0,null,593,0,0,0,0,0,0,0,24.708333333333332,0,0,0,0,0,0,0,0]
[599,0,0,0,0,0,0,0,24.958333333333332,0,0,0,0,0,0,0,0,null,599,0,0,0,0,0,0,0,24.958333333333332,0,0,0,0,0,0,0,0,null,599,0,0,0,0,0,0,0,24.958333333333332,0,0,0,0,0,0,0,0,null,599,0,0,0,0,0,0,0,24.958333333333332,0,0,0,0,0,0,0,0,null,599,0,0,0,0,0,0,0,24.958333333333332,0,0,0,0,0,0,0,0,null,599,0,0,0,0,0,0,0,24.958333333333332,0,0,0,0,0,0,0,0,null,599,0,0,0,0,0,0,0,24.958333333333332,0,0,0,0,0,0,0,0,null,599,0,0,0,0,0,0,0,24.958333333333332,0,0,0,0,0,0,0,0,null,599,0,0,0,0,0,0,0,24.958333333333332,0,0,0,0,0,0,0,0,null,599,0,0,0,0,0,0,0,24.958333333333332,0,0,0,0,0,0,0,0]
[604,0,0,0,0,0,0,0,25.166666666666668,0,0,0,0,0,0,0,0,null,604,0,0,0,0,0,0,0,25.166666666666668,0,0,0,0,0,0,0,0,null,604,0,0,0,0,0,0,0,25.166666666666668,0,0,0,0,0,0,0,0,null,604,0,0,0,0,0,0,0,25.166666666666668,0,0,0,0,0,0,0,0,null,604,0,0,0,0,0,0,0,25.166666666666668,0,0,0,0,0,0,0,0,null,604,0,0,0,0,0,0,0,25.166666666666668,0,0,0,0,0,0,0,0,null,604,0,0,0,0,0,0,0,25.166666666666668,0,0,0,0,0,0,0,0,null,604,0,0,0,0,0,0,0,25.166666666666668,0,0,0,0,0,0,0,0,null,604,0,0,0,0,0,0,0,25.166666666666668,0,0,0,0,0,0,0,0,null,604,0,0,0,0,0,0,0,25.166666666666668,0,0,0,0,0,0,0,0]
[605,0,0,0,0,0,0,0,25.208333333333332,0,0,0,0,0,0,0,0,null,605,0,0,0,0,0,0,0,25.208333333333332,0,0,0,0,0,0,0,0,null,605,0,0,0,0,0,0,0,25.208333333333332,0,0,0,0,0,0,0,0,null,605,0,0,0,0,0,0,0,25.208333333333332,0,0,0,0,0,0,0,0,null,605,0,0,0,0,0,0,0,25.208333333333332,0,0,0,0,0,0,0,0,null,605,0,0,0,0,0,0,0,25.208333333333332,0,0,0,0,0,0,0,0,null,605,0,0,0,0,0,0,0,25.208333333333332,0,0,0,0,0,0,0,0,null,605,0,0,0,0,0,0,0,25.208333333333332,0,0,0,0,0,0,0,0,null,605,0,0,0,0,0,0,0,25.208333333333332,0,0,0,0,0,0,0,0,null,605,0,0,0,0,0,0,0,25.208333333333332,0,0,0,0,0,0,0,0]
[612,0,0,0,0,0,0,0,25.5,0,0,0,0,0,0,0,0,null,612,0,0,0,0,0,0,0,25.5,0,0,0,0,0,0,0,0,null,612,0,0,0,0,0,0,0,25.5,0,0,0,0,0,0,0,0,null,612,0,0,0,0,0,0,0,25.5,0,0,0,0,0,0,0,0,null,612,0,0,0,0,0,0,0,25.5,0,0,0,0,0,0,0,0,null,612,0,0,0,0,0,0,0,25.5,0,0,0,0,0,0,0,0,null,612,0,0,0,0,0,0,0,25.5,0,0,0,0,0,0,0,0,null,612,0,0,0,0,0,0,0,25.5,0,0,0,0,0,0,0,0,null,612,0,0,0,0,0,0,0,25.5,0,0,0,0,0,0,0,0,null,612,0,0,0,0,0,0,0,25.5,0,0,0,0,0,0,0,0]
[614,0,0,0,0,0,0,0,25.583333333333332,0,0,0,0,0,0,0,0,null,614,0,0,0,0,0,0,0,25.583333333333332,0,0,0,0,0,0,0,0,null,614,0,0,0,0,0,0,0,25.583333333333332,0,0,0,0,0,0,0,0,null,614,0,0,0,0,0,0,0,25.583333333333332,0,0,0,0,0,0,0,0,null,614,0,0,0,0,0,0,0,25.583333333333332,0,0,0,0,0,0,0,0,null,614,0,0,0,0,0,0,0,25.583333333333332,0,0,0,0,0,0,0,0,null,614,0,0,0,0,0,0,0,25.583333333333332,0,0,0,0,0,0,0,0,null,614,0,0,0,0,0,0,0,25.583333333333332,0,0,0,0,0,0,0,0,null,614,0,0,0,0,0,0,0,25.583333333333332,0,0,0,0,0,0,0,0,null,614,0,0,0,0,0,0,0,25.583333333333332,0,0,0,0,0,0,0,0]
[620,0,0,0,0,0,0,0,25.833333333333332,0,0,0,0,0,0,0,0,null,620,0,0,0,0,0,0,0,25.833333333333332,0,0,0,0,0,0,0,0,null,620,0,0,0,0,0,0,0,25.833333333333332,0,0,0,0,0,0,0,0,null,620,0,0,0,0,0,0,0,25.833333333333332,0,0,0,0,0,0,0,0,null,620,0,0,0,0,0,0,0,25.833333333333332,0,0,0,0,0,0,0,0,null,620,0,0,0,0,0,0,0,25.833333333333332,0,0,0,0,0,0,0,0,null,620,0,0,0,0,0,0,0,25.833333333333332,0,0,0,0,0,0,0,0,null,620,0,0,0,0,0,0,0,25.833333333333332,0,0,0,0,0,0,0,0,null,620,0,0,0,0,0,0,0,25.833333333333332,0,0,0,0,0,0,0,0,null,620,0,0,0,0,0,0,0,25.833333333333332,0,0,0,0,0,0,0,0]
[625,0,0,0,0,0,0,0,26.041666666666668,0,0,0,0,0,0,0,0,null,625,0,0,0,0,0,0,0,26.041666666666668,0,0,0,0,0,0,0,0,null,625,0,0,0,0,0,0,0,26.041666666666668,0,0,0,0,0,0,0,0,null,625,0,0,0,0,0,0,0,26.041666666666668,0,0,0,0,0,0,0,0,null,625,0,0,0,0,0,0,0,26.041666666666668,0,0,0,0,0,0,0,0,null,625,0,0,0,0,0,0,0,26.041666666666668,0,0,0,0,0,0,0,0,null,625,0,0,0,0,0,0,0,26.041666666666668,0,0,0,0,0,0,0,0,null,625,0,0,0,0,0,0,0,26.041666666666668,0,0,0,0,0,0,0,0,null,625,0,0,0,0,0,0,0,26.041666666666668,0,0,0,0,0,0,0,0,null,625,0,0,0,0,0,0,0,26.041666666666668,0,0,0,0,0,0,0,0]
[630,0,0,0,0,0,0,0,26.25,0,0,0,0,0,0,0,0,null,630,0,0,0,0,0,0,0,26.25,0,0,0,0,0,0,0,0,null,630,0,0,0,0,0,0,0,26.25,0,0,0,0,0,0,0,0,null,630,0,0,0,0,0,0,0,26.25,0,0,0,0,0,0,0,0,null,630,0,0,0,0,0,0,0,26.25,0,0,0,0,0,0,0,0,null,630,0,0,0,0,0,0,0,26.25,0,0,0,0,0,0,0,0,null,630,0,0,0,0,0,0,0,26.25,0,0,0,0,0,0,0,0,null,630,0,0,0,0,0,0,0,26.25,0,0,0,0,0,0,0,0,null,630,0,0,0,0,0,0,0,26.25,0,0,0,0,0,0,0,0,null,630,0,0,0,0,0,0,0,26.25,0,0,0,0,0,0,0,0]
[636,0,0,0,0,0,0,0,26.5,0,0,0,0,0,0,0,0,null,636,0,0,0,0,0,0,0,26.5,0,0,0,0,0,0,0,0,null,636,0,0,0,0,0,0,0,26.5,0,0,0,0,0,0,0,0,null,636,0,0,0,0,0,0,0,26.5,0,0,0,0,0,0,0,0,null,636,0,0,0,0,0,0,0,26.5,0,0,0,0,0,0,0,0,null,636,0,0,0,0,0,0,0,26.5,0,0,0,0,0,0,0,0,null,636,0,0,0,0,0,0,0,26.5,0,0,0,0,0,0,0,0,null,636,0,0,0,0,0,0,0,26.5,0,0,0,0,0,0,0,0,null,636,0,0,0,0,0,0,0,26.5,0,0,0,0,0,0,0,0,null,636,0,0,0,0,0,0,0,26.5,0,0,0,0,0,0,0,0]
[639,0,0,0,0,0,0,0,26.625,0,0,0,0,0,0,0,0,null,639,0,0,0,0,0,0,0,26.625,0,0,0,0,0,0,0,0,null,639,0,0,0,0,0,0,0,26.625,0,0,0,0,0,0,0,0,null,639,0,0,0,0,0,0,0,26.625,0,0,0,0,0,0,0,0,null,639,0,0,0,0,0,0,0,26.625,0,0,0,0,0,0,0,0,null,639,0,0,0,0,0,0,0,26.625,0,0,0,0,0,0,0,0,null,639,0,0,0,0,0,0,0,26.625,0,0,0,0,0,0,0,0,null,639,0,0,0,0,0,0,0,26.625,0,0,0,0,0,0,0,0,null,639,0,0,0,0,0,0,0,26.625,0,0,0,0,0,0,0,0,null,639,0,0,0,0,0,0,0,26.625,0,0,0,0,0,0,0,0]
[646,0,0,0,0,0,0,0,26.916666666666668,0,0,0,0,0,0,0,0,null,646,0,0,0,0,0,0,0,26.916666666666668,0,0,0,0,0,0,0,0,null,646,0,0,0,0,0,0,0,26.916666666666668,0,0,0,0,0,0,0,0,null,646,0,0,0,0,0,0,0,26.916666666666668,0,0,0,0,0,0,0,0,null,646,0,0,0,0,0,0,0,26.916666666666668,0,0,0,0,0,0,0,0,null,646,0,0,0,0,0,0,0,26.916666666666668,0,0,0,0,0,0,0,0,null,646,0,0,0,0,0,0,0,26.916666666666668,0,0,0,0,0,0,0,0,null,646,0,0,0,0,0,0,0,26.916666666666668,0,0,0,0,0,0,0,0,null,646,0,0,0,0,0,0,0,26.916666666666668,0,0,0,0,0,0,0,0,null,646,0,0,0,0,0,0,0,26.916666666666668,0,0,0,0,0,0,0,0]
[651,0,0,0,0,0,0,0,27.125,0,0,0,0,0,0,0,0,null,651,0,0,0,0,0,0,0,27.125,0,0,0,0,0,0,0,0,null,651,0,0,0,0,0,0,0,27.125,0,0,0,0,0,0,0,0,null,651,0,0,0,0,0,0,0,27.125,0,0,0,0,0,0,0,0,null,651,0,0,0,0,0,0,0,27.125,0,0,0,0,0,0,0,0,null,651,0,0,0,0,0,0,0,27.125,0,0,0,0,0,0,0,0,null,651,0,0,0,0,0,0,0,27.125,0,0,0,0,0,0,0,0,null,651,0,0,0,0,0,0,0,27.125,0,0,0,0,0,0,0,0,null,651,0,0,0,0,0,0,0,27.125,0,0,0,0,0,0,0,0,null,651,0,0,0,0,0,0,0,27.125,0,0,0,0,0,0,0,0]
[656,0,0,0,0,0,0,0,27.333333333333332,0,0,0,0,0,0,0,0,null,656,0,0,0,0,0,0,0,27.333333333333332,0,0,0,0,0,0,0,0,null,656,0,0,0,0,0,0,0,27.333333333333332,0,0,0,0,0,0,0,0,null,656,0,0,0,0,0,0,0,27.333333333333332,0,0,0,0,0,0,0,0,null,656,0,0,0,0,0,0,0,27.333333333333332,0,0,0,0,0,0,0,0,null,656,0,0,0,0,0,0,0,27.333333333333332,0,0,0,0,0,0,0,0,null,656,0,0,0,0,0,0,0,27.333333333333332,0,0,0,0,0,0,0,0,null,656,0,0,0,0,0,0,0,27.333333333333332,0,0,0,0,0,0,0,0,null,656,0,0,0,0,0,0,0,27.333333333333332,0,0,0,0,0,0,0,0,null,656,0,0,0,0,0,0,0,27.333333333333332,0,0,0,0,0,0,0,0]
[662,0,0,0,0,0,0,0,27.583333333333332,0,0,0,0,0,0,0,0,null,662,0,0,0,0,0,0,0,27.583333333333332,0,0,0,0,0,0,0,0,null,662,0,0,0,0,0,0,0,27.583333333333332,0,0,0,0,0,0,0,0,null,662,0,0,0,0,0,0,0,27.583333333333332,0,0,0,0,0,0,0,0,null,662,0,0,0,0,0,0,0,27.583333333333332,0,0,0,0,0,0,0,0,null,662,0,0,0,0,0,0,0,27.583333333333332,0,0,0,0,0,0,0,0,null,662,0,0,0,0,0,0,0,27.583333333333332,0,0,0,0,0,0,0,0,null,662,0,0,0,0,0,0,0,27.583333333333332,0,0,0,0,0,0,0,0,null,662,0,0,0,0,0,0,0,27.583333333333332,0,0,0,0,0,0,0,0,null,662,0,0,0,0,0,0,0,27.583333333333332,0,0,0,0,0,0,0,0]
[664,0,0,0,0,0,0,0,27.666666666666668,0,0,0,0,0,0,0,0,null,664,0,0,0,0,0,0,0,27.666666666666668,0,0,0,0,0,0,0,0,null,664,0,0,0,0,0,0,0,27.666666666666668,0,0,0,0,0,0,0,0,null,664,0,0,0,0,0,0,0,27.666666666666668,0,0,0,0,0,0,0,0,null,664,0,0,0,0,0,0,0,27.666666666666668,0,0,0,0,0,0,0,0,null,664,0,0,0,0,0,0,0,27.666666666666668,0,0,0,0,0,0,0,0,null,664,0,0,0,0,0,0,0,27.666666666666668,0,0,0,0,0,0,0,0,null,664,0,0,0,0,0,0,0,27.666666666666668,0,0,0,0,0,0,0,0,null,664,0,0,0,0,0,0,0,27.666666666666668,0,0,0,0,0,0,0,0,null,664,0,0,0,0,0,0,0,27.666666666666668,0,0,0,0,0,0,0,0]
[671,0,0,0,0,0,0,0,27.958333333333332,0,0,0,0,0,0,0,0,null,671,0,0,0,0,0,0,0,27.958333333333332,0,0,0,0,0,0,0,0,null,671,0,0,0,0,0,0,0,27.958333333333332,0,0,0,0,0,0,0,0,null,671,0,0,0,0,0,0,0,27.958333333333332,0,0,0,0,0,0,0,0,null,671,0,0,0,0,0,0,0,27.958333333333332,0,0,0,0,0,0,0,0,null,671,0,0,0,0,0,0,0,27.958333333333332,0,0,0,0,0,0,0,0,null,671,0,0,0,0,0,0,0,27.958333333333332,0,0,0,0,0,0,0,0,null,671,0,0,0,0,0,0,0,27.958333333333332,0,0,0,0,0,0,0,0,null,671,0,0,0,0,0,0,0,27.958333333333332,0,0,0,0,0,0,0,0,null,671,0,0,0,0,0,0,0,27.958333333333332,0,0,0,0,0,0,0,0]
[672,0,0,0,0,0,0,0,28,0,0,0,0,0,0,0,0,null,672,0,0,0,0,0,0,0,28,0,0,0,0,0,0,0,0,null,672,0,0,0,0,0,0,0,28,0,0,0,0,0,0,0,0,null,672,0,0,0,0,0,0,0,28,0,0,0,0,0,0,0,0,null,672,0,0,0,0,0,0,0,28,0,0,0,0,0,0,0,0,null,672,0,0,0,0,0,0,0,28,0,0,0,0,0,0,0,0,null,672,0,0,0,0,0,0,0,28,0,0,0,0,0,0,0,0,null,672,0,0,0,0,0,0,0,28,0,0,0,0,0,0,0,0,null,672,0,0,0,0,0,0,0,28,0,0,0,0,0,0,0,0,null,672,0,0,0,0,0,0,0,28,0,0,0,0,0,0,0,0]
[677,0,0,0,0,0,0,0,28.208333333333332,0,0,0,0,0,0,0,0,null,677,0,0,0,0,0,0,0,28.208333333333332,0,0,0,0,0,0,0,0,null,677,0,0,0,0,0,0,0,28.208333333333332,0,0,0,0,0,0,0,0,null,677,0,0,0,0,0,0,0,28.208333333333332,0,0,0,0,0,0,0,0,null,677,0,0,0,0,0,0,0,28.208333333333332,0,0,0,0,0,0,0,0,null,677,0,0,0,0,0,0,0,28.208333333333332,0,0,0,0,0,0,0,0,null,677,0,0,0,0,0,0,0,28.208333333333332,0,0,0,0,0,0,0,0,null,677,0,0,0,0,0,0,0,28.208333333333332,0,0,0,0,0,0,0,0,null,677,0,0,0,0,0,0,0,28.208333333333332,0,0,0,0,0,0,0,0,null,677,0,0,0,0,0,0,0,28.208333333333332,0,0,0,0,0,0,0,0]
[683,0,0,0,0,0,0,0,28.458333333333332,0,0,0,0,0,0,0,0,null,683,0,0,0,0,0,0,0,28.458333333333332,0,0,0,0,0,0,0,0,null,683,0,0,0,0,0,0,0,28.458333333333332,0,0,0,0,0,0,0,0,null,683,0,0,0,0,0,0,0,28.458333333333332,0,0,0,0,0,0,0,0,null,683,0,0,0,0,0,0,0,28.458333333333332,0,0,0,0,0,0,0,0,null,683,0,0,0,0,0,0,0,28.458333333333332,0,0,0,0,0,0,0,0,null,683,0,0,0,0,0,0,0,28.458333333333332,0,0,0,0,0,0,0,0,null,683,0,0,0,0,0,0,0,28.458333333333332,0,0,0,0,0,0,0,0,null,683,0,0,0,0,0,0,0,28.458333333333332,0,0,0,0,0,0,0,0,null,683,0,0,0,0,0,0,0,28.458333333333332,0,0,0,0,0,0,0,0]
[688,0,0,0,0,0,0,0,28.666666666666668,0,0,0,0,0,0,0,0,null,688,0,0,0,0,0,0,0,28.666666666666668,0,0,0,0,0,0,0,0,null,688,0,0,0,0,0,0,0,28.666666666666668,0,0,0,0,0,0,0,0,null,688,0,0,0,0,0,0,0,28.666666666666668,0,0,0,0,0,0,0,0,null,688,0,0,0,0,0,0,0,28.666666666666668,0,0,0,0,0,0,0,0,null,688,0,0,0,0,0,0,0,28.666666666666668,0,0,0,0,0,0,0,0,null,688,0,0,0,0,0,0,0,28.666666666666668,0,0,0,0,0,0,0,0,null,688,0,0,0,0,0,0,0,28.666666666666668,0,0,0,0,0,0,0,0,null,688,0,0,0,0,0,0,0,28.666666666666668,0,0,0,0,0,0,0,0,null,688,0,0,0,0,0,0,0,28.666666666666668,0,0,0,0,0,0,0,0]
[695,0,0,0,0,0,0,0,28.958333333333332,0,0,0,0,0,0,0,0,null,695,0,0,0,0,0,0,0,28.958333333333332,0,0,0,0,0,0,0,0,null,695,0,0,0,0,0,0,0,28.958333333333332,0,0,0,0,0,0,0,0,null,695,0,0,0,0,0,0,0,28.958333333333332,0,0,0,0,0,0,0,0,null,695,0,0,0,0,0,0,0,28.958333333333332,0,0,0,0,0,0,0,0,null,695,0,0,0,0,0,0,0,28.958333333333332,0,0,0,0,0,0,0,0,null,695,0,0,0,0,0,0,0,28.958333333333332,0,0,0,0,0,0,0,0,null,695,0,0,0,0,0,0,0,28.958333333333332,0,0,0,0,0,0,0,0,null,695,0,0,0,0,0,0,0,28.958333333333332,0,0,0,0,0,0,0,0,null,695,0,0,0,0,0,0,0,28.958333333333332,0,0,0,0,0,0,0,0]
[698,0,0,0,0,0,0,0,29.083333333333332,0,0,0,0,0,0,0,0,null,698,0,0,0,0,0,0,0,29.083333333333332,0,0,0,0,0,0,0,0,null,698,0,0,0,0,0,0,0,29.083333333333332,0,0,0,0,0,0,0,0,null,698,0,0,0,0,0,0,0,29.083333333333332,0,0,0,0,0,0,0,0,null,698,0,0,0,0,0,0,0,29.083333333333332,0,0,0,0,0,0,0,0,null,698,0,0,0,0,0,0,0,29.083333333333332,0,0,0,0,0,0,0,0,null,698,0,0,0,0,0,0,0,29.083333333333332,0,0,0,0,0,0,0,0,null,698,0,0,0,0,0,0,0,29.083333333333332,0,0,0,0,0,0,0,0,null,698,0,0,0,0,0,0,0,29.083333333333332,0,0,0,0,0,0,0,0,null,698,0,0,0,0,0,0,0,29.083333333333332,0,0,0,0,0,0,0,0]
[703,0,0,0,0,0,0,0,29.291666666666668,0,0,0,0,0,0,0,0,null,703,0,0,0,0,0,0,0,29.291666666666668,0,0,0,0,0,0,0,0,null,703,0,0,0,0,0,0,0,29.291666666666668,0,0,0,0,0,0,0,0,null,703,0,0,0,0,0,0,0,29.291666666666668,0,0,0,0,0,0,0,0,null,703,0,0,0,0,0,0,0,29.291666666666668,0,0,0,0,0,0,0,0,null,703,0,0,0,0,0,0,0,29.291666666666668,0,0,0,0,0,0,0,0,null,703,0,0,0,0,0,0,0,29.291666666666668,0,0,0,0,0,0,0,0,null,703,0,0,0,0,0,0,0,29.291666666666668,0,0,0,0,0,0,0,0,null,703,0,0,0,0,0,0,0,29.291666666666668,0,0,0,0,0,0,0,0,null,703,0,0,0,0,0,0,0,29.291666666666668,0,0,0,0,0,0,0,0]
[709,0,0,0,0,0,0,0,29.541666666666668,0,0,0,0,0,0,0,0,null,709,0,0,0,0,0,0,0,29.541666666666668,0,0,0,0,0,0,0,0,null,709,0,0,0,0,0,0,0,29.541666666666668,0,0,0,0,0,0,0,0,null,709,0,0,0,0,0,0,0,29.541666666666668,0,0,0,0,0,0,0,0,null,709,0,0,0,0,0,0,0,29.541666666666668,0,0,0,0,0,0,0,0,null,709,0,0,0,0,0,0,0,29.541666666666668,0,0,0,0,0,0,0,0,null,709,0,0,0,0,0,0,0,29.541666666666668,0,0,0,0,0,0,0,0,null,709,0,0,0,0,0,0,0,29.541666666666668,0,0,0,0,0,0,0,0,null,709,0,0,0,0,0,0,0,29.541666666666668,0,0,0,0,0,0,0,0,null,709,0,0,0,0,0,0,0,29.541666666666668,0,0,0,0,0,0,0,0]
[714,0,0,0,0,0,0,0,29.75,0,0,0,0,0,0,0,0,null,714,0,0,0,0,0,0,0,29.75,0,0,0,0,0,0,0,0,null,714,0,0,0,0,0,0,0,29.75,0,0,0,0,0,0,0,0,null,714,0,0,0,0,0,0,0,29.75,0,0,0,0,0,0,0,0,null,714,0,0,0,0,0,0,0,29.75,0,0,0,0,0,0,0,0,null,714,0,0,0,0,0,0,0,29.75,0,0,0,0,0,0,0,0,null,714,0,0,0,0,0,0,0,29.75,0,0,0,0,0,0,0,0,null,714,0,0,0,0,0,0,0,29.75,0,0,0,0,0,0,0,0,null,714,0,0,0,0,0,0,0,29.75,0,0,0,0,0,0,0,0,null,714,0,0,0,0,0,0,0,29.75,0,0,0,0,0,0,0,0]
[719,0,0,0,0,0,0,0,29.958333333333332,0,0,0,0,0,0,0,0,null,719,0,0,0,0,0,0,0,29.958333333333332,0,0,0,0,0,0,0,0,null,719,0,0,0,0,0,0,0,29.958333333333332,0,0,0,0,0,0,0,0,null,719,0,0,0,0,0,0,0,29.958333333333332,0,0,0,0,0,0,0,0,null,719,0,0,0,0,0,0,0,29.958333333333332,0,0,0,0,0,0,0,0,null,719,0,0,0,0,0,0,0,29.958333333333332,0,0,0,0,0,0,0,0,null,719,0,0,0,0,0,0,0,29.958333333333332,0,0,0,0,0,0,0,0,null,719,0,0,0,0,0,0,0,29.958333333333332,0,0,0,0,0,0,0,0,null,719,0,0,0,0,0,0,0,29.958333333333332,0,0,0,0,0,0,0,0,null,719,0,0,0,0,0,0,0,29.958333333333332,0,0,0,0,0,0,0,0]
[722,0,0,0,0,0,0,0,30.083333333333332,0,0,0,0,0,0,0,0,null,722,0,0,0,0,0,0,0,30.083333333333332,0,0,0,0,0,0,0,0,null,722,0,0,0,0,0,0,0,30.083333333333332,0,0,0,0,0,0,0,0,null,722,0,0,0,0,0,0,0,30.083333333333332,0,0,0,0,0,0,0,0,null,722,0,0,0,0,0,0,0,30.083333333333332,0,0,0,0,0,0,0,0,null,722,0,0,0,0,0,0,0,30.083333333333332,0,0,0,0,0,0,0,0,null,722,0,0,0,0,0,0,0,30.083333333333332,0,0,0,0,0,0,0,0,null,722,0,0,0,0,0,0,0,30.083333333333332,0,0,0,0,0,0,0,0,null,722,0,0,0,0,0,0,0,30.083333333333332,0,0,0,0,0,0,0,0,null,722,0,0,0,0,0,0,0,30.083333333333332,0,0,0,0,0,0,0,0]
[729,0,0,0,0,0,0,0,30.375,0,0,0,0,0,0,0,0,null,729,0,0,0,0,0,0,0,30.375,0,0,0,0,0,0,0,0,null,729,0,0,0,0,0,0,0,30.375,0,0,0,0,0,0,0,0,null,729,0,0,0,0,0,0,0,30.375,0,0,0,0,0,0,0,0,null,729,0,0,0,0,0,0,0,30.375,0,0,0,0,0,0,0,0,null,729,0,0,0,0,0,0,0,30.375,0,0,0,0,0,0,0,0,null,729,0,0,0,0,0,0,0,30.375,0,0,0,0,0,0,0,0,null,729,0,0,0,0,0,0,0,30.375,0,0,0,0,0,0,0,0,null,729,0,0,0,0,0,0,0,30.375,0,0,0,0,0,0,0,0,null,729,0,0,0,0,0,0,0,30.375,0,0,0,0,0,0,0,0]
[734,0,0,0,0,0,0,0,30.583333333333332,0,0,0,0,0,0,0,0,null,734,0,0,0,0,0,0,0,30.583333333333332,0,0,0,0,0,0,0,0,null,734,0,0,0,0,0,0,0,30.583333333333332,0,0,0,0,0,0,0,0,null,734,0,0,0,0,0,0,0,30.583333333333332,0,0,0,0,0,0,0,0,null,734,0,0,0,0,0,0,0,30.583333333333332,0,0,0,0,0,0,0,0,null,734,0,0,0,0,0,0,0,30.583333333333332,0,0,0,0,0,0,0,0,null,734,0,0,0,0,0,0,0,30.583333333333332,0,0,0,0,0,0,0,0,null,734,0,0,0,0,0,0,0,30.583333333333332,0,0,0,0,0,0,0,0,null,734,0,0,0,0,0,0,0,30.583333333333332,0,0,0,0,0,0,0,0,null,734,0,0,0,0,0,0,0,30.583333333333332,0,0,0,0,0,0,0,0]
[735,0,0,0,0,0,0,0,30.625,0,0,0,0,0,0,0,0,null,735,0,0,0,0,0,0,0,30.625,0,0,0,0,0,0,0,0,null,735,0,0,0,0,0,0,0,30.625,0,0,0,0,0,0,0,0,null,735,0,0,0,0,0,0,0,30.625,0,0,0,0,0,0,0,0,null,735,0,0,0,0,0,0,0,30.625,0,0,0,0,0,0,0,0,null,735,0,0,0,0,0,0,0,30.625,0,0,0,0,0,0,0,0,null,735,0,0,0,0,0,0,0,30.625,0,0,0,0,0,0,0,0,null,735,0,0,0,0,0,0,0,30.625,0,0,0,0,0,0,0,0,null,735,0,0,0,0,0,0,0,30.625,0,0,0,0,0,0,0,0,null,735,0,0,0,0,0,0,0,30.625,0,0,0,0,0,0,0,0]
[740,0,0,0,0,0,0,0,30.833333333333332,0,0,0,0,0,0,0,0,null,740,0,0,0,0,0,0,0,30.833333333333332,0,0,0,0,0,0,0,0,null,740,0,0,0,0,0,0,0,30.833333333333332,0,0,0,0,0,0,0,0,null,740,0,0,0,0,0,0,0,30.833333333333332,0,0,0,0,0,0,0,0,null,740,0,0,0,0,0,0,0,30.833333333333332,0,0,0,0,0,0,0,0,null,740,0,0,0,0,0,0,0,30.833333333333332,0,0,0,0,0,0,0,0,null,740,0,0,0,0,0,0,0,30.833333333333332,0,0,0,0,0,0,0,0,null,740,0,0,0,0,0,0,0,30.833333333333332,0,0,0,0,0,0,0,0,null,740,0,0,0,0,0,0,0,30.833333333333332,0,0,0,0,0,0,0,0,null,740,0,0,0,0,0,0,0,30.833333333333332,0,0,0,0,0,0,0,0]
[747,0,0,0,0,0,0,0,31.125,0,0,0,0,0,0,0,0,null,747,0,0,0,0,0,0,0,31.125,0,0,0,0,0,0,0,0,null,747,0,0,0,0,0,0,0,31.125,0,0,0,0,0,0,0,0,null,747,0,0,0,0,0,0,0,31.125,0,0,0,0,0,0,0,0,null,747,0,0,0,0,0,0,0,31.125,0,0,0,0,0,0,0,0,null,747,0,0,0,0,0,0,0,31.125,0,0,0,0,0,0,0,0,null,747,0,0,0,0,0,0,0,31.125,0,0,0,0,0,0,0,0,null,747,0,0,0,0,0,0,0,31.125,0,0,0,0,0,0,0,0,null,747,0,0,0,0,0,0,0,31.125,0,0,0,0,0,0,0,0,null,747,0,0,0,0,0,0,0,31.125,0,0,0,0,0,0,0,0]
[750,0,0,0,0,0,0,0,31.25,0,0,0,0,0,0,0,0,null,750,0,0,0,0,0,0,0,31.25,0,0,0,0,0,0,0,0,null,750,0,0,0,0,0,0,0,31.25,0,0,0,0,0,0,0,0,null,750,0,0,0,0,0,0,0,31.25,0,0,0,0,0,0,0,0,null,750,0,0,0,0,0,0,0,31.25,0,0,0,0,0,0,0,0,null,750,0,0,0,0,0,0,0,31.25,0,0,0,0,0,0,0,0,null,750,0,0,0,0,0,0,0,31.25,0,0,0,0,0,0,0,0,null,750,0,0,0,0,0,0,0,31.25,0,0,0,0,0,0,0,0,null,750,0,0,0,0,0,0,0,31.25,0,0,0,0,0,0,0,0,null,750,0,0,0,0,0,0,0,31.25,0,0,0,0,0,0,0,0]
[755,0,0,0,0,0,0,0,31.458333333333332,0,0,0,0,0,0,0,0,null,755,0,0,0,0,0,0,0,31.458333333333332,0,0,0,0,0,0,0,0,null,755,0,0,0,0,0,0,0,31.458333333333332,0,0,0,0,0,0,0,0,null,755,0,0,0,0,0,0,0,31.458333333333332,0,0,0,0,0,0,0,0,null,755,0,0,0,0,0,0,0,31.458333333333332,0,0,0,0,0,0,0,0,null,755,0,0,0,0,0,0,0,31.458333333333332,0,0,0,0,0,0,0,0,null,755,0,0,0,0,0,0,0,31.458333333333332,0,0,0,0,0,0,0,0,null,755,0,0,0,0,0,0,0,31.458333333333332,0,0,0,0,0,0,0,0,null,755,0,0,0,0,0,0,0,31.458333333333332,0,0,0,0,0,0,0,0,null,755,0,0,0,0,0,0,0,31.458333333333332,0,0,0,0,0,0,0,0]
[761,0,0,0,0,0,0,0,31.708333333333332,0,0,0,0,0,0,0,0,null,761,0,0,0,0,0,0,0,31.708333333333332,0,0,0,0,0,0,0,0,null,761,0,0,0,0,0,0,0,31.708333333333332,0,0,0,0,0,0,0,0,null,761,0,0,0,0,0,0,0,31.708333333333332,0,0,0,0,0,0,0,0,null,761,0,0,0,0,0,0,0,31.708333333333332,0,0,0,0,0,0,0,0,null,761,0,0,0,0,0,0,0,31.708333333333332,0,0,0,0,0,0,0,0,null,761,0,0,0,0,0,0,0,31.708333333333332,0,0,0,0,0,0,0,0,null,761,0,0,0,0,0,0,0,31.708333333333332,0,0,0,0,0,0,0,0,null,761,0,0,0,0,0,0,0,31.708333333333332,0,0,0,0,0,0,0,0,null,761,0,0,0,0,0,0,0,31.708333333333332,0,0,0,0,0,0,0,0]
[766,0,0,0,0,0,0,0,31.916666666666668,0,0,0,0,0,0,0,0,null,766,0,0,0,0,0,0,0,31.916666666666668,0,0,0,0,0,0,0,0,null,766,0,0,0,0,0,0,0,31.916666666666668,0,0,0,0,0,0,0,0,null,766,0,0,0,0,0,0,0,31.916666666666668,0,0,0,0,0,0,0,0,null,766,0,0,0,0,0,0,0,31.916666666666668,0,0,0,0,0,0,0,0,null,766,0,0,0,0,0,0,0,31.916666666666668,0,0,0,0,0,0,0,0,null,766,0,0,0,0,0,0,0,31.916666666666668,0,0,0,0,0,0,0,0,null,766,0,0,0,0,0,0,0,31.916666666666668,0,0,0,0,0,0,0,0,null,766,0,0,0,0,0,0,0,31.916666666666668,0,0,0,0,0,0,0,0,null,766,0,0,0,0,0,0,0,31.916666666666668,0,0,0,0,0,0,0,0]
[772,0,0,0,0,0,0,0,32.166666666666664,0,0,0,0,0,0,0,0,null,772,0,0,0,0,0,0,0,32.166666666666664,0,0,0,0,0,0,0,0,null,772,0,0,0,0,0,0,0,32.166666666666664,0,0,0,0,0,0,0,0,null,772,0,0,0,0,0,0,0,32.166666666666664,0,0,0,0,0,0,0,0,null,772,0,0,0,0,0,0,0,32.166666666666664,0,0,0,0,0,0,0,0,null,772,0,0,0,0,0,0,0,32.166666666666664,0,0,0,0,0,0,0,0,null,772,0,0,0,0,0,0,0,32.166666666666664,0,0,0,0,0,0,0,0,null,772,0,0,0,0,0,0,0,32.166666666666664,0,0,0,0,0,0,0,0,null,772,0,0,0,0,0,0,0,32.166666666666664,0,0,0,0,0,0,0,0,null,772,0,0,0,0,0,0,0,32.166666666666664,0,0,0,0,0,0,0,0]
[774,0,0,0,0,0,0,0,32.25,0,0,0,0,0,0,0,0,null,774,0,0,0,0,0,0,0,32.25,0,0,0,0,0,0,0,0,null,774,0,0,0,0,0,0,0,32.25,0,0,0,0,0,0,0,0,null,774,0,0,0,0,0,0,0,32.25,0,0,0,0,0,0,0,0,null,774,0,0,0,0,0,0,0,32.25,0,0,0,0,0,0,0,0,null,774,0,0,0,0,0,0,0,32.25,0,0,0,0,0,0,0,0,null,774,0,0,0,0,0,0,0,32.25,0,0,0,0,0,0,0,0,null,774,0,0,0,0,0,0,0,32.25,0,0,0,0,0,0,0,0,null,774,0,0,0,0,0,0,0,32.25,0,0,0,0,0,0,0,0,null,774,0,0,0,0,0,0,0,32.25,0,0,0,0,0,0,0,0]
[781,0,0,0,0,0,0,0,32.541666666666664,0,0,0,0,0,0,0,0,null,781,0,0,0,0,0,0,0,32.541666666666664,0,0,0,0,0,0,0,0,null,781,0,0,0,0,0,0,0,32.541666666666664,0,0,0,0,0,0,0,0,null,781,0,0,0,0,0,0,0,32.541666666666664,0,0,0,0,0,0,0,0,null,781,0,0,0,0,0,0,0,32.541666666666664,0,0,0,0,0,0,0,0,null,781,0,0,0,0,0,0,0,32.541666666666664,0,0,0,0,0,0,0,0,null,781,0,0,0,0,0,0,0,32.541666666666664,0,0,0,0,0,0,0,0,null,781,0,0,0,0,0,0,0,32.541666666666664,0,0,0,0,0,0,0,0,null,781,0,0,0,0,0,0,0,32.541666666666664,0,0,0,0,0,0,0,0,null,781,0,0,0,0,0,0,0,32.541666666666664,0,0,0,0,0,0,0,0]
[787,0,0,0,0,0,0,0,32.791666666666664,0,0,0,0,0,0,0,0,null,787,0,0,0,0,0,0,0,32.791666666666664,0,0,0,0,0,0,0,0,null,787,0,0,0,0,0,0,0,32.791666666666664,0,0,0,0,0,0,0,0,null,787,0,0,0,0,0,0,0,32.791666666666664,0,0,0,0,0,0,0,0,null,787,0,0,0,0,0,0,0,32.791666666666664,0,0,0,0,0,0,0,0,null,787,0,0,0,0,0,0,0,32.791666666666664,0,0,0,0,0,0,0,0,null,787,0,0,0,0,0,0,0,32.791666666666664,0,0,0,0,0,0,0,0,null,787,0,0,0,0,0,0,0,32.791666666666664,0,0,0,0,0,0,0,0,null,787,0,0,0,0,0,0,0,32.791666666666664,0,0,0,0,0,0,0,0,null,787,0,0,0,0,0,0,0,32.791666666666664,0,0,0,0,0,0,0,0]
[792,0,0,0,0,0,0,0,33,0,0,0,0,0,0,0,0,null,792,0,0,0,0,0,0,0,33,0,0,0,0,0,0,0,0,null,792,0,0,0,0,0,0,0,33,0,0,0,0,0,0,0,0,null,792,0,0,0,0,0,0,0,33,0,0,0,0,0,0,0,0,null,792,0,0,0,0,0,0,0,33,0,0,0,0,0,0,0,0,null,792,0,0,0,0,0,0,0,33,0,0,0,0,0,0,0,0,null,792,0,0,0,0,0,0,0,33,0,0,0,0,0,0,0,0,null,792,0,0,0,0,0,0,0,33,0,0,0,0,0,0,0,0,null,792,0,0,0,0,0,0,0,33,0,0,0,0,0,0,0,0,null,792,0,0,0,0,0,0,0,33,0,0,0,0,0,0,0,0]
[797,0,0,0,0,0,0,0,33.208333333333336,0,0,0,0,0,0,0,0,null,797,0,0,0,0,0,0,0,33.208333333333336,0,0,0,0,0,0,0,0,null,797,0,0,0,0,0,0,0,33.208333333333336,0,0,0,0,0,0,0,0,null,797,0,0,0,0,0,0,0,33.208333333333336,0,0,0,0,0,0,0,0,null,797,0,0,0,0,0,0,0,33.208333333333336,0,0,0,0,0,0,0,0,null,797,0,0,0,0,0,0,0,33.208333333333336,0,0,0,0,0,0,0,0,null,797,0,0,0,0,0,0,0,33.208333333333336,0,0,0,0,0,0,0,0,null,797,0,0,0,0,0,0,0,33.208333333333336,0,0,0,0,0,0,0,0,null,797,0,0,0,0,0,0,0,33.208333333333336,0,0,0,0,0,0,0,0,null,797,0,0,0,0,0,0,0,33.208333333333336,0,0,0,0,0,0,0,0]
[799,0,0,0,0,0,0,0,33.291666666666664,0,0,0,0,0,0,0,0,null,799,0,0,0,0,0,0,0,33.291666666666664,0,0,0,0,0,0,0,0,null,799,0,0,0,0,0,0,0,33.291666666666664,0,0,0,0,0,0,0,0,null,799,0,0,0,0,0,0,0,33.291666666666664,0,0,0,0,0,0,0,0,null,799,0,0,0,0,0,0,0,33.291666666666664,0,0,0,0,0,0,0,0,null,799,0,0,0,0,0,0,0,33.291666666666664,0,0,0,0,0,0,0,0,null,799,0,0,0,0,0,0,0,33.291666666666664,0,0,0,0,0,0,0,0,null,799,0,0,0,0,0,0,0,33.291666666666664,0,0,0,0,0,0,0,0,null,799,0,0,0,0,0,0,0,33.291666666666664,0,0,0,0,0,0,0,0,null,799,0,0,0,0,0,0,0,33.291666666666664,0,0,0,0,0,0,0,0]
[802,0,0,0,0,0,0,0,33.416666666666664,0,0,0,0,0,0,0,0,null,802,0,0,0,0,0,0,0,33.416666666666664,0,0,0,0,0,0,0,0,null,802,0,0,0,0,0,0,0,33.416666666666664,0,0,0,0,0,0,0,0,null,802,0,0,0,0,0,0,0,33.416666666666664,0,0,0,0,0,0,0,0,null,802,0,0,0,0,0,0,0,33.416666666666664,0,0,0,0,0,0,0,0,null,802,0,0,0,0,0,0,0,33.416666666666664,0,0,0,0,0,0,0,0,null,802,0,0,0,0,0,0,0,33.416666666666664,0,0,0,0,0,0,0,0,null,802,0,0,0,0,0,0,0,33.416666666666664,0,0,0,0,0,0,0,0,null,802,0,0,0,0,0,0,0,33.416666666666664,0,0,0,0,0,0,0,0,null,802,0,0,0,0,0,0,0,33.416666666666664,0,0,0,0,0,0,0,0]
[808,0,0,0,0,0,0,0,{"$f":"A820/24","v":33.666666666666664},{"$f":"SUM(B820:H820)","v":0},0,0,0,0,0,0,0,null,808,0,0,0,0,0,0,0,{"$f":"S820/24","v":33.666666666666664},{"$f":"SUM(T820:Z820)","v":0},0,0,0,0,0,0,0,null,808,0,0,0,0,0,0,0,{"$f":"AK820/24","v":33.666666666666664},{"$f":"SUM(AL820:AR820)","v":0},0,0,0,0,0,0,0,null,808,0,0,0,0,0,0,0,{"$f":"BC820/24","v":33.666666666666664},{"$f":"SUM(BD820:BJ820)","v":0},0,0,0,0,0,0,0,null,808,0,0,0,0,0,0,0,{"$f":"BU820/24","v":33.666666666666664},{"$f":"SUM(BV820:CB820)","v":0},0,0,0,0,0,0,0,null,808,0,0,0,0,0,0,0,{"$f":"CM820/24","v":33.666666666666664},{"$f":"SUM(CN820:CT820)","v":0},0,0,0,0,0,0,0,null,808,0,0,0,0,0,0,0,{"$f":"DE820/24","v":33.666666666666664},{"$f":"SUM(DF820:DL820)","v":0},0,0,0,0,0,0,0,null,808,0,0,0,0,0,0,0,{"$f":"DW820/24","v":33.666666666666664},{"$f":"SUM(DX820:ED820)","v":0},0,0,0,0,0,0,0,null,808,0,0,0,0,0,0,0,{"$f":"EO820/24","v":33.666666666666664},{"$f":"SUM(EP820:EV820)","v":0},0,0,0,0,0,0,0,null,808,0,0,0,0,0,0,0,{"$f":"FG820/24","v":33.666666666666664},{"$f":"SUM(FH820:FN820)","v":0},0,0,0,0,0,0,0]
[813,0,0,0,0,0,0,0,33.875,0,0,0,0,0,0,0,0,null,813,0,0,0,0,0,0,0,33.875,0,0,0,0,0,0,0,0,null,813,0,0,0,0,0,0,0,33.875,0,0,0,0,0,0,0,0,null,813,0,0,0,0,0,0,0,33.875,0,0,0,0,0,0,0,0,null,813,0,0,0,0,0,0,0,33.875,0,0,0,0,0,0,0,0,null,813,0,0,0,0,0,0,0,33.875,0,0,0,0,0,0,0,0,null,813,0,0,0,0,0,0,0,33.875,0,0,0,0,0,0,0,0,null,813,0,0,0,0,0,0,0,33.875,0,0,0,0,0,0,0,0,null,813,0,0,0,0,0,0,0,33.875,0,0,0,0,0,0,0,0,null,813,0,0,0,0,0,0,0,33.875,0,0,0,0,0,0,0,0]
[818,0,0,0,0,0,0,0,34.083333333333336,0,0,0,0,0,0,0,0,null,818,0,0,0,0,0,0,0,34.083333333333336,0,0,0,0,0,0,0,0,null,818,0,0,0,0,0,0,0,34.083333333333336,0,0,0,0,0,0,0,0,null,818,0,0,0,0,0,0,0,34.083333333333336,0,0,0,0,0,0,0,0,null,818,0,0,0,0,0,0,0,34.083333333333336,0,0,0,0,0,0,0,0,null,818,0,0,0,0,0,0,0,34.083333333333336,0,0,0,0,0,0,0,0,null,818,0,0,0,0,0,0,0,34.083333333333336,0,0,0,0,0,0,0,0,null,818,0,0,0,0,0,0,0,34.083333333333336,0,0,0,0,0,0,0,0,null,818,0,0,0,0,0,0,0,34.083333333333336,0,0,0,0,0,0,0,0,null,818,0,0,0,0,0,0,0,34.083333333333336,0,0,0,0,0,0,0,0]
[824,0,0,0,0,0,0,0,34.333333333333336,0,0,0,0,0,0,0,0,null,824,0,0,0,0,0,0,0,34.333333333333336,0,0,0,0,0,0,0,0,null,824,0,0,0,0,0,0,0,34.333333333333336,0,0,0,0,0,0,0,0,null,824,0,0,0,0,0,0,0,34.333333333333336,0,0,0,0,0,0,0,0,null,824,0,0,0,0,0,0,0,34.333333333333336,0,0,0,0,0,0,0,0,null,824,0,0,0,0,0,0,0,34.333333333333336,0,0,0,0,0,0,0,0,null,824,0,0,0,0,0,0,0,34.333333333333336,0,0,0,0,0,0,0,0,null,824,0,0,0,0,0,0,0,34.333333333333336,0,0,0,0,0,0,0,0,null,824,0,0,0,0,0,0,0,34.333333333333336,0,0,0,0,0,0,0,0,null,824,0,0,0,0,0,0,0,34.333333333333336,0,0,0,0,0,0,0,0]
[830,0,0,0,0,0,0,0,34.583333333333336,0,0,0,0,0,0,0,0,null,830,0,0,0,0,0,0,0,34.583333333333336,0,0,0,0,0,0,0,0,null,830,0,0,0,0,0,0,0,34.583333333333336,0,0,0,0,0,0,0,0,null,830,0,0,0,0,0,0,0,34.583333333333336,0,0,0,0,0,0,0,0,null,830,0,0,0,0,0,0,0,34.583333333333336,0,0,0,0,0,0,0,0,null,830,0,0,0,0,0,0,0,34.583333333333336,0,0,0,0,0,0,0,0,null,830,0,0,0,0,0,0,0,34.583333333333336,0,0,0,0,0,0,0,0,null,830,0,0,0,0,0,0,0,34.583333333333336,0,0,0,0,0,0,0,0,null,830,0,0,0,0,0,0,0,34.583333333333336,0,0,0,0,0,0,0,0,null,830,0,0,0,0,0,0,0,34.583333333333336,0,0,0,0,0,0,0,0]
[833,{"$f":"IF(RAEggsComm1=\"\",0,(IF(A845<(RAEggsComm1-DSTDEggsComm1),0,IF(A845<(RAEggsComm1+DSTDEggsComm1),LSComm1Eggs,0))))","v":0},{"$f":"IF(RA1stComm1=\"\",0,(IF(A845<(RA1stComm1-DSTD1stComm1),0,IF(A845<(RA1stComm1+DSTD1stComm1),LSComm11st,0))))","v":0},{"$f":"IF(RA2ndComm1=\"\",0,(IF(A845<(RA2ndComm1-DSTD2ndComm1),0,IF(A845<(RA2ndComm1+DSTD2ndComm1),LSComm12nd,0))))","v":0},{"$f":"IF(RA3rdComm1=\"\",0,(IF(A845<(RA3rdComm1-DSTD3rdComm1),0,IF(A845<(RA3rdComm1+DSTD3rdComm1),LSComm13rd,0))))","v":0},{"$f":"IF(RA4thComm1=\"\",0,(IF(A845<(RA4thComm1-DSTD4thComm1),0,IF(A845<(RA4thComm1+DSTD4thComm1),LSComm14th,0))))","v":0},{"$f":"IF(RA5thComm1=\"\",0,(IF(A845<(RA5thComm1-DSTD5thComm1),0,IF(A845<(RA5thComm1+DSTD5thComm1),LSComm15th,0))))","v":0},{"$f":"IF(RAPupaeComm1=\"\",0,(IF(A845<(RAPupaeComm1-DSTDPupaeComm1),0,IF(A845<(RAPupaeComm1+DSTDPupaeComm1),LSComm1Pupae,0))))","v":0},34.708333333333336,0,0,0,0,0,0,0,0,null,833,{"$f":"IF(RAEggsComm2=\"\",0,(IF(S845<(RAEggsComm2-DSTDEggsComm2),0,IF(S845<(RAEggsComm2+DSTDEggsComm2),LSComm2Eggs,0))))","v":0},{"$f":"IF(RA1stComm2=\"\",0,(IF(S845<(RA1stComm2-DSTD1stComm2),0,IF(S845<(RA1stComm2+DSTD1stComm2),LSComm21st,0))))","v":0},{"$f":"IF(RA2ndComm2=\"\",0,(IF(S845<(RA2ndComm2-DSTD2ndComm2),0,IF(S845<(RA2ndComm2+DSTD2ndComm2),LSComm22nd,0))))","v":0},{"$f":"IF(RA3rdComm2=\"\",0,(IF(S845<(RA3rdComm2-DSTD3rdComm2),0,IF(S845<(RA3rdComm2+DSTD3rdComm2),LSComm23rd,0))))","v":0},{"$f":"IF(RA4thComm2=\"\",0,(IF(S845<(RA4thComm2-DSTD4thComm2),0,IF(S845<(RA4thComm2+DSTD4thComm2),LSComm24th,0))))","v":0},{"$f":"IF(RA5thComm2=\"\",0,(IF(S845<(RA5thComm2-DSTD5thComm2),0,IF(S845<(RA5thComm2+DSTD5thComm2),LSComm25th,0))))","v":0},{"$f":"IF(RAPupaeComm2=\"\",0,(IF(S845<(RAPupaeComm2-DSTDPupaeComm2),0,IF(S845<(RAPupaeComm2+DSTDPupaeComm2),LSComm2Pupae,0))))","v":0},34.708333333333336,0,0,0,0,0,0,0,0,null,833,{"$f":"IF(RAEggsComm3=\"\",0,(IF(AK845<(RAEggsComm3-DSTDEggsComm3),0,IF(AK845<(RAEggsComm3+DSTDEggsComm3),LSComm3Eggs,0))))","v":0},{"$f":"IF(RA1stComm3=\"\",0,(IF(AK845<(RA1stComm3-DSTD1stComm3),0,IF(AK845<(RA1stComm3+DSTD1stComm3),LSComm31st,0))))","v":0},{"$f":"IF(RA2ndComm3=\"\",0,(IF(AK845<(RA2ndComm3-DSTD2ndComm3),0,IF(AK845<(RA2ndComm3+DSTD2ndComm3),LSComm32nd,0))))","v":0},{"$f":"IF(RA3rdComm3=\"\",0,(IF(AK845<(RA3rdComm3-DSTD3rdComm3),0,IF(AK845<(RA3rdComm3+DSTD3rdComm3),LSComm33rd,0))))","v":0},{"$f":"IF(RA4thComm3=\"\",0,(IF(AK845<(RA4thComm3-DSTD4thComm3),0,IF(AK845<(RA4thComm3+DSTD4thComm3),LSComm34th,0))))","v":0},{"$f":"IF(RA5thComm3=\"\",0,(IF(AK845<(RA5thComm3-DSTD5thComm3),0,IF(AK845<(RA5thComm3+DSTD5thComm3),LSComm35th,0))))","v":0},{"$f":"IF(RAPupaeComm3=\"\",0,(IF(AK845<(RAPupaeComm3-DSTDPupaeComm3),0,IF(AK845<(RAPupaeComm3+DSTDPupaeComm3),LSComm3Pupae,0))))","v":0},34.708333333333336,0,0,0,0,0,0,0,0,null,833,{"$f":"IF(RAEggsComm4=\"\",0,(IF(BC845<(RAEggsComm4-DSTDEggsComm4),0,IF(BC845<(RAEggsComm4+DSTDEggsComm4),LSComm4Eggs,0))))","v":0},{"$f":"IF(RA1stComm4=\"\",0,(IF(BC845<(RA1stComm4-DSTD1stComm4),0,IF(BC845<(RA1stComm4+DSTD1stComm4),LSComm41st,0))))","v":0},{"$f":"IF(RA2ndComm4=\"\",0,(IF(BC845<(RA2ndComm4-DSTD2ndComm4),0,IF(BC845<(RA2ndComm4+DSTD2ndComm4),LSComm42nd,0))))","v":0},{"$f":"IF(RA3rdComm4=\"\",0,(IF(BC845<(RA3rdComm4-DSTD3rdComm4),0,IF(BC845<(RA3rdComm4+DSTD3rdComm4),LSComm43rd,0))))","v":0},{"$f":"IF(RA4thComm4=\"\",0,(IF(BC845<(RA4thComm4-DSTD4thComm4),0,IF(BC845<(RA4thComm4+DSTD4thComm4),LSComm44th,0))))","v":0},{"$f":"IF(RA5thComm4=\"\",0,(IF(BC845<(RA5thComm4-DSTD5thComm4),0,IF(BC845<(RA5thComm4+DSTD5thComm4),LSComm45th,0))))","v":0},{"$f":"IF(RAPupaeComm4=\"\",0,(IF(BC845<(RAPupaeComm4-DSTDPupaeComm4),0,IF(BC845<(RAPupaeComm4+DSTDPupaeComm4),LSComm4Pupae,0))))","v":0},34.708333333333336,0,0,0,0,0,0,0,0,null,833,{"$f":"IF(RAEggsComm5=\"\",0,(IF(BU845<(RAEggsComm5-DSTDEggsComm5),0,IF(BU845<(RAEggsComm5+DSTDEggsComm5),LSComm5Eggs,0))))","v":0},{"$f":"IF(RA1stComm5=\"\",0,(IF(BU845<(RA1stComm5-DSTD1stComm5),0,IF(BU845<(RA1stComm5+DSTD1stComm5),LSComm51st,0))))","v":0},{"$f":"IF(RA2ndComm5=\"\",0,(IF(BU845<(RA2ndComm5-DSTD2ndComm5),0,IF(BU845<(RA2ndComm5+DSTD2ndComm5),LSComm52nd,0))))","v":0},{"$f":"IF(RA3rdComm5=\"\",0,(IF(BU845<(RA3rdComm5-DSTD3rdComm5),0,IF(BU845<(RA3rdComm5+DSTD3rdComm5),LSComm53rd,0))))","v":0},{"$f":"IF(RA4thComm5=\"\",0,(IF(BU845<(RA4thComm5-DSTD4thComm5),0,IF(BU845<(RA4thComm5+DSTD4thComm5),LSComm54th,0))))","v":0},{"$f":"IF(RA5thComm5=\"\",0,(IF(BU845<(RA5thComm5-DSTD5thComm5),0,IF(BU845<(RA5thComm5+DSTD5thComm5),LSComm55th,0))))","v":0},{"$f":"IF(RAPupaeComm5=\"\",0,(IF(BU845<(RAPupaeComm5-DSTDPupaeComm5),0,IF(BU845<(RAPupaeComm5+DSTDPupaeComm5),LSComm5Pupae,0))))","v":0},34.708333333333336,0,0,0,0,0,0,0,0,null,833,{"$f":"IF(RAEggsComm6=\"\",0,(IF(CM845<(RAEggsComm6-DSTDEggsComm6),0,IF(CM845<(RAEggsComm6+DSTDEggsComm6),LSComm6Eggs,0))))","v":0},{"$f":"IF(RA1stComm6=\"\",0,(IF(CM845<(RA1stComm6-DSTD1stComm6),0,IF(CM845<(RA1stComm6+DSTD1stComm6),LSComm61st,0))))","v":0},{"$f":"IF(RA2ndComm6=\"\",0,(IF(CM845<(RA2ndComm6-DSTD2ndComm6),0,IF(CM845<(RA2ndComm6+DSTD2ndComm6),LSComm62nd,0))))","v":0},{"$f":"IF(RA3rdComm6=\"\",0,(IF(CM845<(RA3rdComm6-DSTD3rdComm6),0,IF(CM845<(RA3rdComm6+DSTD3rdComm6),LSComm63rd,0))))","v":0},{"$f":"IF(RA4thComm6=\"\",0,(IF(CM845<(RA4thComm6-DSTD4thComm6),0,IF(CM845<(RA4thComm6+DSTD4thComm6),LSComm64th,0))))","v":0},{"$f":"IF(RA5thComm6=\"\",0,(IF(CM845<(RA5thComm6-DSTD5thComm6),0,IF(CM845<(RA5thComm6+DSTD5thComm6),LSComm65th,0))))","v":0},{"$f":"IF(RAPupaeComm6=\"\",0,(IF(CM845<(RAPupaeComm6-DSTDPupaeComm6),0,IF(CM845<(RAPupaeComm6+DSTDPupaeComm6),LSComm6Pupae,0))))","v":0},34.708333333333336,0,0,0,0,0,0,0,0,null,833,{"$f":"IF(RAEggsComm7=\"\",0,(IF(DE845<(RAEggsComm7-DSTDEggsComm7),0,IF(DE845<(RAEggsComm7+DSTDEggsComm7),LSComm7Eggs,0))))","v":0},{"$f":"IF(RA1stComm7=\"\",0,(IF(DE845<(RA1stComm7-DSTD1stComm7),0,IF(DE845<(RA1stComm7+DSTD1stComm7),LSComm71st,0))))","v":0},{"$f":"IF(RA2ndComm7=\"\",0,(IF(DE845<(RA2ndComm7-DSTD2ndComm7),0,IF(DE845<(RA2ndComm7+DSTD2ndComm7),LSComm72nd,0))))","v":0},{"$f":"IF(RA3rdComm7=\"\",0,(IF(DE845<(RA3rdComm7-DSTD3rdComm7),0,IF(DE845<(RA3rdComm7+DSTD3rdComm7),LSComm73rd,0))))","v":0},{"$f":"IF(RA4thComm7=\"\",0,(IF(DE845<(RA4thComm7-DSTD4thComm7),0,IF(DE845<(RA4thComm7+DSTD4thComm7),LSComm74th,0))))","v":0},{"$f":"IF(RA5thComm7=\"\",0,(IF(DE845<(RA5thComm7-DSTD5thComm7),0,IF(DE845<(RA5thComm7+DSTD5thComm7),LSComm75th,0))))","v":0},{"$f":"IF(RAPupaeComm7=\"\",0,(IF(DE845<(RAPupaeComm7-DSTDPupaeComm7),0,IF(DE845<(RAPupaeComm7+DSTDPupaeComm7),LSComm7Pupae,0))))","v":0},34.708333333333336,0,0,0,0,0,0,0,0,null,833,{"$f":"IF(RAEggsComm8=\"\",0,(IF(DW845<(RAEggsComm8-DSTDEggsComm8),0,IF(DW845<(RAEggsComm8+DSTDEggsComm8),LSComm8Eggs,0))))","v":0},{"$f":"IF(RA1stComm8=\"\",0,(IF(DW845<(RA1stComm8-DSTD1stComm8),0,IF(DW845<(RA1stComm8+DSTD1stComm8),LSComm81st,0))))","v":0},{"$f":"IF(RA2ndComm8=\"\",0,(IF(DW845<(RA2ndComm8-DSTD2ndComm8),0,IF(DW845<(RA2ndComm8+DSTD2ndComm8),LSComm82nd,0))))","v":0},{"$f":"IF(RA3rdComm8=\"\",0,(IF(DW845<(RA3rdComm8-DSTD3rdComm8),0,IF(DW845<(RA3rdComm8+DSTD3rdComm8),LSComm83rd,0))))","v":0},{"$f":"IF(RA4thComm8=\"\",0,(IF(DW845<(RA4thComm8-DSTD4thComm8),0,IF(DW845<(RA4thComm8+DSTD4thComm8),LSComm84th,0))))","v":0},{"$f":"IF(RA5thComm8=\"\",0,(IF(DW845<(RA5thComm8-DSTD5thComm8),0,IF(DW845<(RA5thComm8+DSTD5thComm8),LSComm85th,0))))","v":0},{"$f":"IF(RAPupaeComm8=\"\",0,(IF(DW845<(RAPupaeComm8-DSTDPupaeComm8),0,IF(DW845<(RAPupaeComm8+DSTDPupaeComm8),LSComm8Pupae,0))))","v":0},34.708333333333336,0,0,0,0,0,0,0,0,null,833,{"$f":"IF(RAEggsComm9=\"\",0,(IF(EO845<(RAEggsComm9-DSTDEggsComm9),0,IF(EO845<(RAEggsComm9+DSTDEggsComm9),LSComm9Eggs,0))))","v":0},{"$f":"IF(RA1stComm9=\"\",0,(IF(EO845<(RA1stComm9-DSTD1stComm9),0,IF(EO845<(RA1stComm9+DSTD1stComm9),LSComm91st,0))))","v":0},{"$f":"IF(RA2ndComm9=\"\",0,(IF(EO845<(RA2ndComm9-DSTD2ndComm9),0,IF(EO845<(RA2ndComm9+DSTD2ndComm9),LSComm92nd,0))))","v":0},{"$f":"IF(RA3rdComm9=\"\",0,(IF(EO845<(RA3rdComm9-DSTD3rdComm9),0,IF(EO845<(RA3rdComm9+DSTD3rdComm9),LSComm93rd,0))))","v":0},{"$f":"IF(RA4thComm9=\"\",0,(IF(EO845<(RA4thComm9-DSTD4thComm9),0,IF(EO845<(RA4thComm9+DSTD4thComm9),LSComm94th,0))))","v":0},{"$f":"IF(RA5thComm9=\"\",0,(IF(EO845<(RA5thComm9-DSTD5thComm9),0,IF(EO845<(RA5thComm9+DSTD5thComm9),LSComm95th,0))))","v":0},{"$f":"IF(RAPupaeComm9=\"\",0,(IF(EO845<(RAPupaeComm9-DSTDPupaeComm9),0,IF(EO845<(RAPupaeComm9+DSTDPupaeComm9),LSComm9Pupae,0))))","v":0},34.708333333333336,0,0,0,0,0,0,0,0,null,833,{"$f":"IF(RAEggsComm10=\"\",0,(IF(FG845<(RAEggsComm10-DSTDEggsComm10),0,IF(FG845<(RAEggsComm10+DSTDEggsComm10),LSComm10Eggs,0))))","v":0},{"$f":"IF(RA1stComm10=\"\",0,(IF(FG845<(RA1stComm10-DSTD1stComm10),0,IF(FG845<(RA1stComm10+DSTD1stComm10),LSComm101st,0))))","v":0},{"$f":"IF(RA2ndComm10=\"\",0,(IF(FG845<(RA2ndComm10-DSTD2ndComm10),0,IF(FG845<(RA2ndComm10+DSTD2ndComm10),LSComm102nd,0))))","v":0},{"$f":"IF(RA3rdComm10=\"\",0,(IF(FG845<(RA3rdComm10-DSTD3rdComm10),0,IF(FG845<(RA3rdComm10+DSTD3rdComm10),LSComm103rd,0))))","v":0},{"$f":"IF(RA4thComm10=\"\",0,(IF(FG845<(RA4thComm10-DSTD4thComm10),0,IF(FG845<(RA4thComm10+DSTD4thComm10),LSComm104th,0))))","v":0},{"$f":"IF(RA5thComm10=\"\",0,(IF(FG845<(RA5thComm10-DSTD5thComm10),0,IF(FG845<(RA5thComm10+DSTD5thComm10),LSComm105th,0))))","v":0},{"$f":"IF(RAPupaeComm10=\"\",0,(IF(FG845<(RAPupaeComm10-DSTDPupaeComm10),0,IF(FG845<(RAPupaeComm10+DSTDPupaeComm10),LSComm10Pupae,0))))","v":0},34.708333333333336,0,0,0,0,0,0,0,0]
[839,0,0,0,0,0,0,0,34.958333333333336,0,0,0,0,0,0,0,0,null,839,0,0,0,0,0,0,0,34.958333333333336,0,0,0,0,0,0,0,0,null,839,0,0,0,0,0,0,0,34.958333333333336,0,0,0,0,0,0,0,0,null,839,0,0,0,0,0,0,0,34.958333333333336,0,0,0,0,0,0,0,0,null,839,0,0,0,0,0,0,0,34.958333333333336,0,0,0,0,0,0,0,0,null,839,0,0,0,0,0,0,0,34.958333333333336,0,0,0,0,0,0,0,0,null,839,0,0,0,0,0,0,0,34.958333333333336,0,0,0,0,0,0,0,0,null,839,0,0,0,0,0,0,0,34.958333333333336,0,0,0,0,0,0,0,0,null,839,0,0,0,0,0,0,0,34.958333333333336,0,0,0,0,0,0,0,0,null,839,0,0,0,0,0,0,0,34.958333333333336,0,0,0,0,0,0,0,0]
[844,0,0,0,0,0,0,0,35.166666666666664,0,0,0,0,0,0,0,0,null,844,0,0,0,0,0,0,0,35.166666666666664,0,0,0,0,0,0,0,0,null,844,0,0,0,0,0,0,0,35.166666666666664,0,0,0,0,0,0,0,0,null,844,0,0,0,0,0,0,0,35.166666666666664,0,0,0,0,0,0,0,0,null,844,0,0,0,0,0,0,0,35.166666666666664,0,0,0,0,0,0,0,0,null,844,0,0,0,0,0,0,0,35.166666666666664,0,0,0,0,0,0,0,0,null,844,0,0,0,0,0,0,0,35.166666666666664,0,0,0,0,0,0,0,0,null,844,0,0,0,0,0,0,0,35.166666666666664,0,0,0,0,0,0,0,0,null,844,0,0,0,0,0,0,0,35.166666666666664,0,0,0,0,0,0,0,0,null,844,0,0,0,0,0,0,0,35.166666666666664,0,0,0,0,0,0,0,0]
[850,0,0,0,0,0,0,0,35.416666666666664,0,0,0,0,0,0,0,0,null,850,0,0,0,0,0,0,0,35.416666666666664,0,0,0,0,0,0,0,0,null,850,0,0,0,0,0,0,0,35.416666666666664,0,0,0,0,0,0,0,0,null,850,0,0,0,0,0,0,0,35.416666666666664,0,0,0,0,0,0,0,0,null,850,0,0,0,0,0,0,0,35.416666666666664,0,0,0,0,0,0,0,0,null,850,0,0,0,0,0,0,0,35.416666666666664,0,0,0,0,0,0,0,0,null,850,0,0,0,0,0,0,0,35.416666666666664,0,0,0,0,0,0,0,0,null,850,0,0,0,0,0,0,0,35.416666666666664,0,0,0,0,0,0,0,0,null,850,0,0,0,0,0,0,0,35.416666666666664,0,0,0,0,0,0,0,0,null,850,0,0,0,0,0,0,0,35.416666666666664,0,0,0,0,0,0,0,0]
[851,0,0,0,0,0,0,0,35.458333333333336,0,0,0,0,0,0,0,0,null,851,0,0,0,0,0,0,0,35.458333333333336,0,0,0,0,0,0,0,0,null,851,0,0,0,0,0,0,0,35.458333333333336,0,0,0,0,0,0,0,0,null,851,0,0,0,0,0,0,0,35.458333333333336,0,0,0,0,0,0,0,0,null,851,0,0,0,0,0,0,0,35.458333333333336,0,0,0,0,0,0,0,0,null,851,0,0,0,0,0,0,0,35.458333333333336,0,0,0,0,0,0,0,0,null,851,0,0,0,0,0,0,0,35.458333333333336,0,0,0,0,0,0,0,0,null,851,0,0,0,0,0,0,0,35.458333333333336,0,0,0,0,0,0,0,0,null,851,0,0,0,0,0,0,0,35.458333333333336,0,0,0,0,0,0,0,0,null,851,0,0,0,0,0,0,0,35.458333333333336,0,0,0,0,0,0,0,0]
[859,0,0,0,0,0,0,0,35.791666666666664,0,0,0,0,0,0,0,0,null,859,0,0,0,0,0,0,0,35.791666666666664,0,0,0,0,0,0,0,0,null,859,0,0,0,0,0,0,0,35.791666666666664,0,0,0,0,0,0,0,0,null,859,0,0,0,0,0,0,0,35.791666666666664,0,0,0,0,0,0,0,0,null,859,0,0,0,0,0,0,0,35.791666666666664,0,0,0,0,0,0,0,0,null,859,0,0,0,0,0,0,0,35.791666666666664,0,0,0,0,0,0,0,0,null,859,0,0,0,0,0,0,0,35.791666666666664,0,0,0,0,0,0,0,0,null,859,0,0,0,0,0,0,0,35.791666666666664,0,0,0,0,0,0,0,0,null,859,0,0,0,0,0,0,0,35.791666666666664,0,0,0,0,0,0,0,0,null,859,0,0,0,0,0,0,0,35.791666666666664,0,0,0,0,0,0,0,0]
[860,0,0,0,0,0,0,0,35.833333333333336,0,0,0,0,0,0,0,0,null,860,0,0,0,0,0,0,0,35.833333333333336,0,0,0,0,0,0,0,0,null,860,0,0,0,0,0,0,0,35.833333333333336,0,0,0,0,0,0,0,0,null,860,0,0,0,0,0,0,0,35.833333333333336,0,0,0,0,0,0,0,0,null,860,0,0,0,0,0,0,0,35.833333333333336,0,0,0,0,0,0,0,0,null,860,0,0,0,0,0,0,0,35.833333333333336,0,0,0,0,0,0,0,0,null,860,0,0,0,0,0,0,0,35.833333333333336,0,0,0,0,0,0,0,0,null,860,0,0,0,0,0,0,0,35.833333333333336,0,0,0,0,0,0,0,0,null,860,0,0,0,0,0,0,0,35.833333333333336,0,0,0,0,0,0,0,0,null,860,0,0,0,0,0,0,0,35.833333333333336,0,0,0,0,0,0,0,0]
[865,0,0,0,0,0,0,0,36.041666666666664,0,0,0,0,0,0,0,0,null,865,0,0,0,0,0,0,0,36.041666666666664,0,0,0,0,0,0,0,0,null,865,0,0,0,0,0,0,0,36.041666666666664,0,0,0,0,0,0,0,0,null,865,0,0,0,0,0,0,0,36.041666666666664,0,0,0,0,0,0,0,0,null,865,0,0,0,0,0,0,0,36.041666666666664,0,0,0,0,0,0,0,0,null,865,0,0,0,0,0,0,0,36.041666666666664,0,0,0,0,0,0,0,0,null,865,0,0,0,0,0,0,0,36.041666666666664,0,0,0,0,0,0,0,0,null,865,0,0,0,0,0,0,0,36.041666666666664,0,0,0,0,0,0,0,0,null,865,0,0,0,0,0,0,0,36.041666666666664,0,0,0,0,0,0,0,0,null,865,0,0,0,0,0,0,0,36.041666666666664,0,0,0,0,0,0,0,0]
[871,0,0,0,0,0,0,0,36.291666666666664,0,0,0,0,0,0,0,0,null,871,0,0,0,0,0,0,0,36.291666666666664,0,0,0,0,0,0,0,0,null,871,0,0,0,0,0,0,0,36.291666666666664,0,0,0,0,0,0,0,0,null,871,0,0,0,0,0,0,0,36.291666666666664,0,0,0,0,0,0,0,0,null,871,0,0,0,0,0,0,0,36.291666666666664,0,0,0,0,0,0,0,0,null,871,0,0,0,0,0,0,0,36.291666666666664,0,0,0,0,0,0,0,0,null,871,0,0,0,0,0,0,0,36.291666666666664,0,0,0,0,0,0,0,0,null,871,0,0,0,0,0,0,0,36.291666666666664,0,0,0,0,0,0,0,0,null,871,0,0,0,0,0,0,0,36.291666666666664,0,0,0,0,0,0,0,0,null,871,0,0,0,0,0,0,0,36.291666666666664,0,0,0,0,0,0,0,0]
[876,0,0,0,0,0,0,0,36.5,0,0,0,0,0,0,0,0,null,876,0,0,0,0,0,0,0,36.5,0,0,0,0,0,0,0,0,null,876,0,0,0,0,0,0,0,36.5,0,0,0,0,0,0,0,0,null,876,0,0,0,0,0,0,0,36.5,0,0,0,0,0,0,0,0,null,876,0,0,0,0,0,0,0,36.5,0,0,0,0,0,0,0,0,null,876,0,0,0,0,0,0,0,36.5,0,0,0,0,0,0,0,0,null,876,0,0,0,0,0,0,0,36.5,0,0,0,0,0,0,0,0,null,876,0,0,0,0,0,0,0,36.5,0,0,0,0,0,0,0,0,null,876,0,0,0,0,0,0,0,36.5,0,0,0,0,0,0,0,0,null,876,0,0,0,0,0,0,0,36.5,0,0,0,0,0,0,0,0]
[882,0,0,0,0,0,0,0,36.75,0,0,0,0,0,0,0,0,null,882,0,0,0,0,0,0,0,36.75,0,0,0,0,0,0,0,0,null,882,0,0,0,0,0,0,0,36.75,0,0,0,0,0,0,0,0,null,882,0,0,0,0,0,0,0,36.75,0,0,0,0,0,0,0,0,null,882,0,0,0,0,0,0,0,36.75,0,0,0,0,0,0,0,0,null,882,0,0,0,0,0,0,0,36.75,0,0,0,0,0,0,0,0,null,882,0,0,0,0,0,0,0,36.75,0,0,0,0,0,0,0,0,null,882,0,0,0,0,0,0,0,36.75,0,0,0,0,0,0,0,0,null,882,0,0,0,0,0,0,0,36.75,0,0,0,0,0,0,0,0,null,882,0,0,0,0,0,0,0,36.75,0,0,0,0,0,0,0,0]
[886,0,0,0,0,0,0,0,36.916666666666664,0,0,0,0,0,0,0,0,null,886,0,0,0,0,0,0,0,36.916666666666664,0,0,0,0,0,0,0,0,null,886,0,0,0,0,0,0,0,36.916666666666664,0,0,0,0,0,0,0,0,null,886,0,0,0,0,0,0,0,36.916666666666664,0,0,0,0,0,0,0,0,null,886,0,0,0,0,0,0,0,36.916666666666664,0,0,0,0,0,0,0,0,null,886,0,0,0,0,0,0,0,36.916666666666664,0,0,0,0,0,0,0,0,null,886,0,0,0,0,0,0,0,36.916666666666664,0,0,0,0,0,0,0,0,null,886,0,0,0,0,0,0,0,36.916666666666664,0,0,0,0,0,0,0,0,null,886,0,0,0,0,0,0,0,36.916666666666664,0,0,0,0,0,0,0,0,null,886,0,0,0,0,0,0,0,36.916666666666664,0,0,0,0,0,0,0,0]
[891,0,0,0,0,0,0,0,37.125,0,0,0,0,0,0,0,0,null,891,0,0,0,0,0,0,0,37.125,0,0,0,0,0,0,0,0,null,891,0,0,0,0,0,0,0,37.125,0,0,0,0,0,0,0,0,null,891,0,0,0,0,0,0,0,37.125,0,0,0,0,0,0,0,0,null,891,0,0,0,0,0,0,0,37.125,0,0,0,0,0,0,0,0,null,891,0,0,0,0,0,0,0,37.125,0,0,0,0,0,0,0,0,null,891,0,0,0,0,0,0,0,37.125,0,0,0,0,0,0,0,0,null,891,0,0,0,0,0,0,0,37.125,0,0,0,0,0,0,0,0,null,891,0,0,0,0,0,0,0,37.125,0,0,0,0,0,0,0,0,null,891,0,0,0,0,0,0,0,37.125,0,0,0,0,0,0,0,0]
[896,0,0,0,0,0,0,0,37.333333333333336,0,0,0,0,0,0,0,0,null,896,0,0,0,0,0,0,0,37.333333333333336,0,0,0,0,0,0,0,0,null,896,0,0,0,0,0,0,0,37.333333333333336,0,0,0,0,0,0,0,0,null,896,0,0,0,0,0,0,0,37.333333333333336,0,0,0,0,0,0,0,0,null,896,0,0,0,0,0,0,0,37.333333333333336,0,0,0,0,0,0,0,0,null,896,0,0,0,0,0,0,0,37.333333333333336,0,0,0,0,0,0,0,0,null,896,0,0,0,0,0,0,0,37.333333333333336,0,0,0,0,0,0,0,0,null,896,0,0,0,0,0,0,0,37.333333333333336,0,0,0,0,0,0,0,0,null,896,0,0,0,0,0,0,0,37.333333333333336,0,0,0,0,0,0,0,0,null,896,0,0,0,0,0,0,0,37.333333333333336,0,0,0,0,0,0,0,0]
[902,0,0,0,0,0,0,0,37.583333333333336,0,0,0,0,0,0,0,0,null,902,0,0,0,0,0,0,0,37.583333333333336,0,0,0,0,0,0,0,0,null,902,0,0,0,0,0,0,0,37.583333333333336,0,0,0,0,0,0,0,0,null,902,0,0,0,0,0,0,0,37.583333333333336,0,0,0,0,0,0,0,0,null,902,0,0,0,0,0,0,0,37.583333333333336,0,0,0,0,0,0,0,0,null,902,0,0,0,0,0,0,0,37.583333333333336,0,0,0,0,0,0,0,0,null,902,0,0,0,0,0,0,0,37.583333333333336,0,0,0,0,0,0,0,0,null,902,0,0,0,0,0,0,0,37.583333333333336,0,0,0,0,0,0,0,0,null,902,0,0,0,0,0,0,0,37.583333333333336,0,0,0,0,0,0,0,0,null,902,0,0,0,0,0,0,0,37.583333333333336,0,0,0,0,0,0,0,0]
[907,0,0,0,0,0,0,0,37.791666666666664,0,0,0,0,0,0,0,0,null,907,0,0,0,0,0,0,0,37.791666666666664,0,0,0,0,0,0,0,0,null,907,0,0,0,0,0,0,0,37.791666666666664,0,0,0,0,0,0,0,0,null,907,0,0,0,0,0,0,0,37.791666666666664,0,0,0,0,0,0,0,0,null,907,0,0,0,0,0,0,0,37.791666666666664,0,0,0,0,0,0,0,0,null,907,0,0,0,0,0,0,0,37.791666666666664,0,0,0,0,0,0,0,0,null,907,0,0,0,0,0,0,0,37.791666666666664,0,0,0,0,0,0,0,0,null,907,0,0,0,0,0,0,0,37.791666666666664,0,0,0,0,0,0,0,0,null,907,0,0,0,0,0,0,0,37.791666666666664,0,0,0,0,0,0,0,0,null,907,0,0,0,0,0,0,0,37.791666666666664,0,0,0,0,0,0,0,0]
[912,0,0,0,0,0,0,0,38,0,0,0,0,0,0,0,0,null,912,0,0,0,0,0,0,0,38,0,0,0,0,0,0,0,0,null,912,0,0,0,0,0,0,0,38,0,0,0,0,0,0,0,0,null,912,0,0,0,0,0,0,0,38,0,0,0,0,0,0,0,0,null,912,0,0,0,0,0,0,0,38,0,0,0,0,0,0,0,0,null,912,0,0,0,0,0,0,0,38,0,0,0,0,0,0,0,0,null,912,0,0,0,0,0,0,0,38,0,0,0,0,0,0,0,0,null,912,0,0,0,0,0,0,0,38,0,0,0,0,0,0,0,0,null,912,0,0,0,0,0,0,0,38,0,0,0,0,0,0,0,0,null,912,0,0,0,0,0,0,0,38,0,0,0,0,0,0,0,0]
[917,0,0,0,0,0,0,0,38.208333333333336,0,0,0,0,0,0,0,0,null,917,0,0,0,0,0,0,0,38.208333333333336,0,0,0,0,0,0,0,0,null,917,0,0,0,0,0,0,0,38.208333333333336,0,0,0,0,0,0,0,0,null,917,0,0,0,0,0,0,0,38.208333333333336,0,0,0,0,0,0,0,0,null,917,0,0,0,0,0,0,0,38.208333333333336,0,0,0,0,0,0,0,0,null,917,0,0,0,0,0,0,0,38.208333333333336,0,0,0,0,0,0,0,0,null,917,0,0,0,0,0,0,0,38.208333333333336,0,0,0,0,0,0,0,0,null,917,0,0,0,0,0,0,0,38.208333333333336,0,0,0,0,0,0,0,0,null,917,0,0,0,0,0,0,0,38.208333333333336,0,0,0,0,0,0,0,0,null,917,0,0,0,0,0,0,0,38.208333333333336,0,0,0,0,0,0,0,0]
[922,0,0,0,0,0,0,0,38.416666666666664,0,0,0,0,0,0,0,0,null,922,0,0,0,0,0,0,0,38.416666666666664,0,0,0,0,0,0,0,0,null,922,0,0,0,0,0,0,0,38.416666666666664,0,0,0,0,0,0,0,0,null,922,0,0,0,0,0,0,0,38.416666666666664,0,0,0,0,0,0,0,0,null,922,0,0,0,0,0,0,0,38.416666666666664,0,0,0,0,0,0,0,0,null,922,0,0,0,0,0,0,0,38.416666666666664,0,0,0,0,0,0,0,0,null,922,0,0,0,0,0,0,0,38.416666666666664,0,0,0,0,0,0,0,0,null,922,0,0,0,0,0,0,0,38.416666666666664,0,0,0,0,0,0,0,0,null,922,0,0,0,0,0,0,0,38.416666666666664,0,0,0,0,0,0,0,0,null,922,0,0,0,0,0,0,0,38.416666666666664,0,0,0,0,0,0,0,0]
[923,0,0,0,0,0,0,0,38.458333333333336,0,0,0,0,0,0,0,0,null,923,0,0,0,0,0,0,0,38.458333333333336,0,0,0,0,0,0,0,0,null,923,0,0,0,0,0,0,0,38.458333333333336,0,0,0,0,0,0,0,0,null,923,0,0,0,0,0,0,0,38.458333333333336,0,0,0,0,0,0,0,0,null,923,0,0,0,0,0,0,0,38.458333333333336,0,0,0,0,0,0,0,0,null,923,0,0,0,0,0,0,0,38.458333333333336,0,0,0,0,0,0,0,0,null,923,0,0,0,0,0,0,0,38.458333333333336,0,0,0,0,0,0,0,0,null,923,0,0,0,0,0,0,0,38.458333333333336,0,0,0,0,0,0,0,0,null,923,0,0,0,0,0,0,0,38.458333333333336,0,0,0,0,0,0,0,0,null,923,0,0,0,0,0,0,0,38.458333333333336,0,0,0,0,0,0,0,0]
[928,0,0,0,0,0,0,0,38.666666666666664,0,0,0,0,0,0,0,0,null,928,0,0,0,0,0,0,0,38.666666666666664,0,0,0,0,0,0,0,0,null,928,0,0,0,0,0,0,0,38.666666666666664,0,0,0,0,0,0,0,0,null,928,0,0,0,0,0,0,0,38.666666666666664,0,0,0,0,0,0,0,0,null,928,0,0,0,0,0,0,0,38.666666666666664,0,0,0,0,0,0,0,0,null,928,0,0,0,0,0,0,0,38.666666666666664,0,0,0,0,0,0,0,0,null,928,0,0,0,0,0,0,0,38.666666666666664,0,0,0,0,0,0,0,0,null,928,0,0,0,0,0,0,0,38.666666666666664,0,0,0,0,0,0,0,0,null,928,0,0,0,0,0,0,0,38.666666666666664,0,0,0,0,0,0,0,0,null,928,0,0,0,0,0,0,0,38.666666666666664,0,0,0,0,0,0,0,0]
[934,0,0,0,0,0,0,0,38.916666666666664,0,0,0,0,0,0,0,0,null,934,0,0,0,0,0,0,0,38.916666666666664,0,0,0,0,0,0,0,0,null,934,0,0,0,0,0,0,0,38.916666666666664,0,0,0,0,0,0,0,0,null,934,0,0,0,0,0,0,0,38.916666666666664,0,0,0,0,0,0,0,0,null,934,0,0,0,0,0,0,0,38.916666666666664,0,0,0,0,0,0,0,0,null,934,0,0,0,0,0,0,0,38.916666666666664,0,0,0,0,0,0,0,0,null,934,0,0,0,0,0,0,0,38.916666666666664,0,0,0,0,0,0,0,0,null,934,0,0,0,0,0,0,0,38.916666666666664,0,0,0,0,0,0,0,0,null,934,0,0,0,0,0,0,0,38.916666666666664,0,0,0,0,0,0,0,0,null,934,0,0,0,0,0,0,0,38.916666666666664,0,0,0,0,0,0,0,0]
[938,0,0,0,0,0,0,0,39.083333333333336,0,0,0,0,0,0,0,0,null,938,0,0,0,0,0,0,0,39.083333333333336,0,0,0,0,0,0,0,0,null,938,0,0,0,0,0,0,0,39.083333333333336,0,0,0,0,0,0,0,0,null,938,0,0,0,0,0,0,0,39.083333333333336,0,0,0,0,0,0,0,0,null,938,0,0,0,0,0,0,0,39.083333333333336,0,0,0,0,0,0,0,0,null,938,0,0,0,0,0,0,0,39.083333333333336,0,0,0,0,0,0,0,0,null,938,0,0,0,0,0,0,0,39.083333333333336,0,0,0,0,0,0,0,0,null,938,0,0,0,0,0,0,0,39.083333333333336,0,0,0,0,0,0,0,0,null,938,0,0,0,0,0,0,0,39.083333333333336,0,0,0,0,0,0,0,0,null,938,0,0,0,0,0,0,0,39.083333333333336,0,0,0,0,0,0,0,0]
[943,0,0,0,0,0,0,0,39.291666666666664,0,0,0,0,0,0,0,0,null,943,0,0,0,0,0,0,0,39.291666666666664,0,0,0,0,0,0,0,0,null,943,0,0,0,0,0,0,0,39.291666666666664,0,0,0,0,0,0,0,0,null,943,0,0,0,0,0,0,0,39.291666666666664,0,0,0,0,0,0,0,0,null,943,0,0,0,0,0,0,0,39.291666666666664,0,0,0,0,0,0,0,0,null,943,0,0,0,0,0,0,0,39.291666666666664,0,0,0,0,0,0,0,0,null,943,0,0,0,0,0,0,0,39.291666666666664,0,0,0,0,0,0,0,0,null,943,0,0,0,0,0,0,0,39.291666666666664,0,0,0,0,0,0,0,0,null,943,0,0,0,0,0,0,0,39.291666666666664,0,0,0,0,0,0,0,0,null,943,0,0,0,0,0,0,0,39.291666666666664,0,0,0,0,0,0,0,0]
[949,0,0,0,0,0,0,0,39.541666666666664,0,0,0,0,0,0,0,0,null,949,0,0,0,0,0,0,0,39.541666666666664,0,0,0,0,0,0,0,0,null,949,0,0,0,0,0,0,0,39.541666666666664,0,0,0,0,0,0,0,0,null,949,0,0,0,0,0,0,0,39.541666666666664,0,0,0,0,0,0,0,0,null,949,0,0,0,0,0,0,0,39.541666666666664,0,0,0,0,0,0,0,0,null,949,0,0,0,0,0,0,0,39.541666666666664,0,0,0,0,0,0,0,0,null,949,0,0,0,0,0,0,0,39.541666666666664,0,0,0,0,0,0,0,0,null,949,0,0,0,0,0,0,0,39.541666666666664,0,0,0,0,0,0,0,0,null,949,0,0,0,0,0,0,0,39.541666666666664,0,0,0,0,0,0,0,0,null,949,0,0,0,0,0,0,0,39.541666666666664,0,0,0,0,0,0,0,0]
[954,0,0,0,0,0,0,0,39.75,0,0,0,0,0,0,0,0,null,954,0,0,0,0,0,0,0,39.75,0,0,0,0,0,0,0,0,null,954,0,0,0,0,0,0,0,39.75,0,0,0,0,0,0,0,0,null,954,0,0,0,0,0,0,0,39.75,0,0,0,0,0,0,0,0,null,954,0,0,0,0,0,0,0,39.75,0,0,0,0,0,0,0,0,null,954,0,0,0,0,0,0,0,39.75,0,0,0,0,0,0,0,0,null,954,0,0,0,0,0,0,0,39.75,0,0,0,0,0,0,0,0,null,954,0,0,0,0,0,0,0,39.75,0,0,0,0,0,0,0,0,null,954,0,0,0,0,0,0,0,39.75,0,0,0,0,0,0,0,0,null,954,0,0,0,0,0,0,0,39.75,0,0,0,0,0,0,0,0]
[959,0,0,0,0,0,0,0,39.958333333333336,0,0,0,0,0,0,0,0,null,959,0,0,0,0,0,0,0,39.958333333333336,0,0,0,0,0,0,0,0,null,959,0,0,0,0,0,0,0,39.958333333333336,0,0,0,0,0,0,0,0,null,959,0,0,0,0,0,0,0,39.958333333333336,0,0,0,0,0,0,0,0,null,959,0,0,0,0,0,0,0,39.958333333333336,0,0,0,0,0,0,0,0,null,959,0,0,0,0,0,0,0,39.958333333333336,0,0,0,0,0,0,0,0,null,959,0,0,0,0,0,0,0,39.958333333333336,0,0,0,0,0,0,0,0,null,959,0,0,0,0,0,0,0,39.958333333333336,0,0,0,0,0,0,0,0,null,959,0,0,0,0,0,0,0,39.958333333333336,0,0,0,0,0,0,0,0,null,959,0,0,0,0,0,0,0,39.958333333333336,0,0,0,0,0,0,0,0]
[965,0,0,0,0,0,0,0,40.208333333333336,0,0,0,0,0,0,0,0,null,965,0,0,0,0,0,0,0,40.208333333333336,0,0,0,0,0,0,0,0,null,965,0,0,0,0,0,0,0,40.208333333333336,0,0,0,0,0,0,0,0,null,965,0,0,0,0,0,0,0,40.208333333333336,0,0,0,0,0,0,0,0,null,965,0,0,0,0,0,0,0,40.208333333333336,0,0,0,0,0,0,0,0,null,965,0,0,0,0,0,0,0,40.208333333333336,0,0,0,0,0,0,0,0,null,965,0,0,0,0,0,0,0,40.208333333333336,0,0,0,0,0,0,0,0,null,965,0,0,0,0,0,0,0,40.208333333333336,0,0,0,0,0,0,0,0,null,965,0,0,0,0,0,0,0,40.208333333333336,0,0,0,0,0,0,0,0,null,965,0,0,0,0,0,0,0,40.208333333333336,0,0,0,0,0,0,0,0]
[969,0,0,0,0,0,0,0,40.375,0,0,0,0,0,0,0,0,null,969,0,0,0,0,0,0,0,40.375,0,0,0,0,0,{"$f":"IF(AB981=0,0,X981/AB981)","v":0},0,0,null,969,0,0,0,0,0,0,0,40.375,0,0,0,0,0,{"$f":"IF(AT981=0,0,AP981/AT981)","v":0},0,0,null,969,0,0,0,0,0,0,0,40.375,0,0,0,0,0,{"$f":"IF(BL981=0,0,BH981/BL981)","v":0},0,0,null,969,0,0,0,0,0,0,0,40.375,0,0,0,0,0,{"$f":"IF(CD981=0,0,BZ981/CD981)","v":0},0,0,null,969,0,0,0,0,0,0,0,40.375,0,0,0,0,0,{"$f":"IF(CV981=0,0,CR981/CV981)","v":0},0,0,null,969,0,0,0,0,0,0,0,40.375,0,0,0,0,0,{"$f":"IF(DN981=0,0,DJ981/DN981)","v":0},0,0,null,969,0,0,0,0,0,0,0,40.375,0,0,0,0,0,{"$f":"IF(EF981=0,0,EB981/EF981)","v":0},0,0,null,969,0,0,0,0,0,0,0,40.375,0,0,0,0,0,{"$f":"IF(EX981=0,0,ET981/EX981)","v":0},0,0,null,969,0,0,0,0,0,0,0,40.375,0,0,0,0,0,{"$f":"IF(FP981=0,0,FL981/FP981)","v":0},0,0]
[975,0,0,0,0,0,0,0,40.625,0,0,0,0,0,0,0,0,null,975,0,0,0,0,0,0,0,40.625,0,0,0,0,0,0,0,0,null,975,0,0,0,0,0,0,0,40.625,0,0,0,0,0,0,0,0,null,975,0,0,0,0,0,0,0,40.625,0,0,0,0,0,0,0,0,null,975,0,0,0,0,0,0,0,40.625,0,0,0,0,0,0,0,0,null,975,0,0,0,0,0,0,0,40.625,0,0,0,0,0,0,0,0,null,975,0,0,0,0,0,0,0,40.625,0,0,0,0,0,0,0,0,null,975,0,0,0,0,0,0,0,40.625,0,0,0,0,0,0,0,0,null,975,0,0,0,0,0,0,0,40.625,0,0,0,0,0,0,0,0,null,975,0,0,0,0,0,0,0,40.625,0,0,0,0,0,0,0,0]
[980,0,0,0,0,0,0,0,40.833333333333336,0,0,0,0,0,0,0,0,null,980,0,0,0,0,0,0,0,40.833333333333336,0,0,0,0,0,0,0,0,null,980,0,0,0,0,0,0,0,40.833333333333336,0,0,0,0,0,0,0,0,null,980,0,0,0,0,0,0,0,40.833333333333336,0,0,0,0,0,0,0,0,null,980,0,0,0,0,0,0,0,40.833333333333336,0,0,0,0,0,0,0,0,null,980,0,0,0,0,0,0,0,40.833333333333336,0,0,0,0,0,0,0,0,null,980,0,0,0,0,0,0,0,40.833333333333336,0,0,0,0,0,0,0,0,null,980,0,0,0,0,0,0,0,40.833333333333336,0,0,0,0,0,0,0,0,null,980,0,0,0,0,0,0,0,40.833333333333336,0,0,0,0,0,0,0,0,null,980,0,0,0,0,0,0,0,40.833333333333336,0,0,0,0,0,0,0,0]
[985,0,0,0,0,0,0,0,41.041666666666664,0,0,0,0,0,0,0,0,null,985,0,0,0,0,0,0,0,41.041666666666664,0,0,0,0,0,0,0,0,null,985,0,0,0,0,0,0,0,41.041666666666664,0,0,0,0,0,0,0,0,null,985,0,0,0,0,0,0,0,41.041666666666664,0,0,0,0,0,0,0,0,null,985,0,0,0,0,0,0,0,41.041666666666664,0,0,0,0,0,0,0,0,null,985,0,0,0,0,0,0,0,41.041666666666664,0,0,0,0,0,0,0,0,null,985,0,0,0,0,0,0,0,41.041666666666664,0,0,0,0,0,0,0,0,null,985,0,0,0,0,0,0,0,41.041666666666664,0,0,0,0,0,0,0,0,null,985,0,0,0,0,0,0,0,41.041666666666664,0,0,0,0,0,0,0,0,null,985,0,0,0,0,0,0,0,41.041666666666664,0,0,0,0,0,0,0,0]
[986,0,0,0,0,0,0,0,41.083333333333336,0,0,0,0,0,0,0,0,null,986,0,0,0,0,0,0,0,41.083333333333336,0,0,0,0,0,0,0,0,null,986,0,0,0,0,0,0,0,41.083333333333336,0,0,0,0,0,0,0,0,null,986,0,0,0,0,0,0,0,41.083333333333336,0,0,0,0,0,0,0,0,null,986,0,0,0,0,0,0,0,41.083333333333336,0,0,0,0,0,0,0,0,null,986,0,0,0,0,0,0,0,41.083333333333336,0,0,0,0,0,0,0,0,null,986,0,0,0,0,0,0,0,41.083333333333336,0,0,0,0,0,0,0,0,null,986,0,0,0,0,0,0,0,41.083333333333336,0,0,0,0,0,0,0,0,null,986,0,0,0,0,0,0,0,41.083333333333336,0,0,0,0,0,0,0,0,null,986,0,0,0,0,0,0,0,41.083333333333336,0,0,0,0,0,0,0,0]
[990,0,0,0,0,0,0,0,41.25,0,0,0,0,0,0,0,0,null,990,0,0,0,0,0,0,0,41.25,0,0,0,0,0,0,0,0,null,990,0,0,0,0,0,0,0,41.25,0,0,0,0,0,0,0,0,null,990,0,0,0,0,0,0,0,41.25,0,0,0,0,0,0,0,0,null,990,0,0,0,0,0,0,0,41.25,0,0,0,0,0,0,0,0,null,990,0,0,0,0,0,0,0,41.25,0,0,0,0,0,0,0,0,null,990,0,0,0,0,0,0,0,41.25,0,0,0,0,0,0,0,0,null,990,0,0,0,0,0,0,0,41.25,0,0,0,0,0,0,0,0,null,990,0,0,0,0,0,0,0,41.25,0,0,0,0,0,0,0,0,null,990,0,0,0,0,0,0,0,41.25,0,0,0,0,0,0,0,0]
[995,0,0,0,0,0,0,0,41.458333333333336,0,0,0,0,0,0,0,0,null,995,0,0,0,0,0,0,0,41.458333333333336,0,0,0,0,0,0,0,0,null,995,0,0,0,0,0,0,0,41.458333333333336,0,0,0,0,0,0,0,0,null,995,0,0,0,0,0,0,0,41.458333333333336,0,0,0,0,0,0,0,0,null,995,0,0,0,0,0,0,0,41.458333333333336,0,0,0,0,0,0,0,0,null,995,0,0,0,0,0,0,0,41.458333333333336,0,0,0,0,0,0,0,0,null,995,0,0,0,0,0,0,0,41.458333333333336,0,0,0,0,0,0,0,0,null,995,0,0,0,0,0,0,0,41.458333333333336,0,0,0,0,0,0,0,0,null,995,0,0,0,0,0,0,0,41.458333333333336,0,0,0,0,0,0,0,0,null,995,0,0,0,0,0,0,0,41.458333333333336,0,0,0,0,0,0,0,0]
[1001,0,0,0,0,0,0,0,41.708333333333336,0,0,0,0,0,0,0,0,null,1001,0,0,0,0,0,0,0,41.708333333333336,0,0,0,0,0,0,0,0,null,1001,0,0,0,0,0,0,0,41.708333333333336,0,0,0,0,0,0,0,0,null,1001,0,0,0,0,0,0,0,41.708333333333336,0,0,0,0,0,0,0,0,null,1001,0,0,0,0,0,0,0,41.708333333333336,0,0,0,0,0,0,0,0,null,1001,0,0,0,0,0,0,0,41.708333333333336,0,0,0,0,0,0,0,0,null,1001,0,0,0,0,0,0,0,41.708333333333336,0,0,0,0,0,0,0,0,null,1001,0,0,0,0,0,0,0,41.708333333333336,0,0,0,0,0,0,0,0,null,1001,0,0,0,0,0,0,0,41.708333333333336,0,0,0,0,0,0,0,0,null,1001,0,0,0,0,0,0,0,41.708333333333336,0,0,0,0,0,0,0,0]
[1006,0,0,0,0,0,0,0,41.916666666666664,0,0,0,0,0,0,0,0,null,1006,0,0,0,0,0,0,0,41.916666666666664,0,0,0,0,0,0,0,0,null,1006,0,0,0,0,0,0,0,41.916666666666664,0,0,0,0,0,0,0,0,null,1006,0,0,0,0,0,0,0,41.916666666666664,0,0,0,0,0,0,0,0,null,1006,0,0,0,0,0,0,0,41.916666666666664,0,0,0,0,0,0,0,0,null,1006,0,0,0,0,0,0,0,41.916666666666664,0,0,0,0,0,0,0,0,null,1006,0,0,0,0,0,0,0,41.916666666666664,0,0,0,0,0,0,0,0,null,1006,0,0,0,0,0,0,0,41.916666666666664,0,0,0,0,0,0,0,0,null,1006,0,0,0,0,0,0,0,41.916666666666664,0,0,0,0,0,0,0,0,null,1006,0,0,0,0,0,0,0,41.916666666666664,0,0,0,0,0,0,0,0]
[1012,0,0,0,0,0,0,0,42.166666666666664,0,0,0,0,0,0,0,0,null,1012,0,0,0,0,0,0,0,42.166666666666664,0,0,0,0,0,0,0,0,null,1012,0,0,0,0,0,0,0,42.166666666666664,0,0,0,0,0,0,0,0,null,1012,0,0,0,0,0,0,0,42.166666666666664,0,0,0,0,0,0,0,0,null,1012,0,0,0,0,0,0,0,42.166666666666664,0,0,0,0,0,0,0,0,null,1012,0,0,0,0,0,0,0,42.166666666666664,0,0,0,0,0,0,0,0,null,1012,0,0,0,0,0,0,0,42.166666666666664,0,0,0,0,0,0,0,0,null,1012,0,0,0,0,0,0,0,42.166666666666664,0,0,0,0,0,0,0,0,null,1012,0,0,0,0,0,0,0,42.166666666666664,0,0,0,0,0,0,0,0,null,1012,0,0,0,0,0,0,0,42.166666666666664,0,0,0,0,0,0,0,0]
[1017,0,0,0,0,0,0,0,42.375,0,0,0,0,0,0,0,0,null,1017,0,0,0,0,0,0,0,42.375,0,0,0,0,0,0,0,0,null,1017,0,0,0,0,0,0,0,42.375,0,0,0,0,0,0,0,0,null,1017,0,0,0,0,0,0,0,42.375,0,0,0,0,0,0,0,0,null,1017,0,0,0,0,0,0,0,42.375,0,0,0,0,0,0,0,0,null,1017,0,0,0,0,0,0,0,42.375,0,0,0,0,0,0,0,0,null,1017,0,0,0,0,0,0,0,42.375,0,0,0,0,0,0,0,0,null,1017,0,0,0,0,0,0,0,42.375,0,0,0,0,0,0,0,0,null,1017,0,0,0,0,0,0,0,42.375,0,0,0,0,0,0,0,0,null,1017,0,0,0,0,0,0,0,42.375,0,0,0,0,0,0,0,0]
[1021,0,0,0,0,0,0,0,42.541666666666664,0,0,0,0,0,0,0,0,null,1021,0,0,0,0,0,0,0,42.541666666666664,0,0,0,0,0,0,0,0,null,1021,0,0,0,0,0,0,0,42.541666666666664,0,0,0,0,0,0,0,0,null,1021,0,0,0,0,0,0,0,42.541666666666664,0,0,0,0,0,0,0,0,null,1021,0,0,0,0,0,0,0,42.541666666666664,0,0,0,0,0,0,0,0,null,1021,0,0,0,0,0,0,0,42.541666666666664,0,0,0,0,0,0,0,0,null,1021,0,0,0,0,0,0,0,42.541666666666664,0,0,0,0,0,0,0,0,null,1021,0,0,0,0,0,0,0,42.541666666666664,0,0,0,0,0,0,0,0,null,1021,0,0,0,0,0,0,0,42.541666666666664,0,0,0,0,0,0,0,0,null,1021,0,0,0,0,0,0,0,42.541666666666664,0,0,0,0,0,0,0,0]
[1027,0,0,0,0,0,0,0,42.791666666666664,0,0,0,0,0,0,0,0,null,1027,0,0,0,0,0,0,0,42.791666666666664,0,0,0,0,0,0,0,0,null,1027,0,0,0,0,0,0,0,42.791666666666664,0,0,0,0,0,0,0,0,null,1027,0,0,0,0,0,0,0,42.791666666666664,0,0,0,0,0,0,0,0,null,1027,0,0,0,0,0,0,0,42.791666666666664,0,0,0,0,0,0,0,0,null,1027,0,0,0,0,0,0,0,42.791666666666664,0,0,0,0,0,0,0,0,null,1027,0,0,0,0,0,0,0,42.791666666666664,0,0,0,0,0,0,0,0,null,1027,0,0,0,0,0,0,0,42.791666666666664,0,0,0,0,0,0,0,0,null,1027,0,0,0,0,0,0,0,42.791666666666664,0,0,0,0,0,0,0,0,null,1027,0,0,0,0,0,0,0,42.791666666666664,0,0,0,0,0,0,0,0]
[1032,0,0,0,0,0,0,0,43,0,0,0,0,0,0,0,0,null,1032,0,0,0,0,0,0,0,43,0,0,0,0,0,0,0,0,null,1032,0,0,0,0,0,0,0,43,0,0,0,0,0,0,0,0,null,1032,0,0,0,0,0,0,0,43,0,0,0,0,0,0,0,0,null,1032,0,0,0,0,0,0,0,43,0,0,0,0,0,0,0,0,null,1032,0,0,0,0,0,0,0,43,0,0,0,0,0,0,0,0,null,1032,0,0,0,0,0,0,0,43,0,0,0,0,0,0,0,0,null,1032,0,0,0,0,0,0,0,43,0,0,0,0,0,0,0,0,null,1032,0,0,0,0,0,0,0,43,0,0,0,0,0,0,0,0,null,1032,0,0,0,0,0,0,0,43,0,0,0,0,0,0,0,0]
[1038,0,0,0,0,0,0,0,43.25,0,0,0,0,0,0,0,0,null,1038,0,0,0,0,0,0,0,43.25,0,0,0,0,0,0,0,0,null,1038,0,0,0,0,0,0,0,43.25,0,0,0,0,0,0,0,0,null,1038,0,0,0,0,0,0,0,43.25,0,0,0,0,0,0,0,0,null,1038,0,0,0,0,0,0,0,43.25,0,0,0,0,0,0,0,0,null,1038,0,0,0,0,0,0,0,43.25,0,0,0,0,0,0,0,0,null,1038,0,0,0,0,0,0,0,43.25,0,0,0,0,0,0,0,0,null,1038,0,0,0,0,0,0,0,43.25,0,0,0,0,0,0,0,0,null,1038,0,0,0,0,0,0,0,43.25,0,0,0,0,0,0,0,0,null,1038,0,0,0,0,0,0,0,43.25,0,0,0,0,0,0,0,0]
[1042,0,0,0,0,0,0,0,43.416666666666664,0,0,0,0,0,0,0,0,null,1042,0,0,0,0,0,0,0,43.416666666666664,0,0,0,0,0,0,0,0,null,1042,0,0,0,0,0,0,0,43.416666666666664,0,0,0,0,0,0,0,0,null,1042,0,0,0,0,0,0,0,43.416666666666664,0,0,0,0,0,0,0,0,null,1042,0,0,0,0,0,0,0,43.416666666666664,0,0,0,0,0,0,0,0,null,1042,0,0,0,0,0,0,0,43.416666666666664,0,0,0,0,0,0,0,0,null,1042,0,0,0,0,0,0,0,43.416666666666664,0,0,0,0,0,0,0,0,null,1042,0,0,0,0,0,0,0,43.416666666666664,0,0,0,0,0,0,0,0,null,1042,0,0,0,0,0,0,0,43.416666666666664,0,0,0,0,0,0,0,0,null,1042,0,0,0,0,0,0,0,43.416666666666664,0,0,0,0,0,0,0,0]
[1047,0,0,0,0,0,0,0,43.625,0,0,0,0,0,0,0,0,null,1047,0,0,0,0,0,0,0,43.625,0,0,0,0,0,0,0,0,null,1047,0,0,0,0,0,0,0,43.625,0,0,0,0,0,0,0,0,null,1047,0,0,0,0,0,0,0,43.625,0,0,0,0,0,0,0,0,null,1047,0,0,0,0,0,0,0,43.625,0,0,0,0,0,0,0,0,null,1047,0,0,0,0,0,0,0,43.625,0,0,0,0,0,0,0,0,null,1047,0,0,0,0,0,0,0,43.625,0,0,0,0,0,0,0,0,null,1047,0,0,0,0,0,0,0,43.625,0,0,0,0,0,0,0,0,null,1047,0,0,0,0,0,0,0,43.625,0,0,0,0,0,0,0,0,null,1047,0,0,0,0,0,0,0,43.625,0,0,0,0,0,0,0,0]
[1048,0,0,0,0,0,0,0,43.666666666666664,0,0,0,0,0,0,0,0,null,1048,0,0,0,0,0,0,0,43.666666666666664,0,0,0,0,0,0,0,0,null,1048,0,0,0,0,0,0,0,43.666666666666664,0,0,0,0,0,0,0,0,null,1048,0,0,0,0,0,0,0,43.666666666666664,0,0,0,0,0,0,0,0,null,1048,0,0,0,0,0,0,0,43.666666666666664,0,0,0,0,0,0,0,0,null,1048,0,0,0,0,0,0,0,43.666666666666664,0,0,0,0,0,0,0,0,null,1048,0,0,0,0,0,0,0,43.666666666666664,0,0,0,0,0,0,0,0,null,1048,0,0,0,0,0,0,0,43.666666666666664,0,0,0,0,0,0,0,0,null,1048,0,0,0,0,0,0,0,43.666666666666664,0,0,0,0,0,0,0,0,null,1048,0,0,0,0,0,0,0,43.666666666666664,0,0,0,0,0,0,0,0]
[1053,0,0,0,0,0,0,0,43.875,0,0,0,0,0,0,0,0,null,1053,0,0,0,0,0,0,0,43.875,0,0,0,0,0,0,0,0,null,1053,0,0,0,0,0,0,0,43.875,0,0,0,0,0,0,0,0,null,1053,0,0,0,0,0,0,0,43.875,0,0,0,0,0,0,0,0,null,1053,0,0,0,0,0,0,0,43.875,0,0,0,0,0,0,0,0,null,1053,0,0,0,0,0,0,0,43.875,0,0,0,0,0,0,0,0,null,1053,0,0,0,0,0,0,0,43.875,0,0,0,0,0,0,0,0,null,1053,0,0,0,0,0,0,0,43.875,0,0,0,0,0,0,0,0,null,1053,0,0,0,0,0,0,0,43.875,0,0,0,0,0,0,0,0,null,1053,0,0,0,0,0,0,0,43.875,0,0,0,0,0,0,0,0]
[1058,0,0,0,0,0,0,0,44.083333333333336,0,0,0,0,0,0,0,0,null,1058,0,0,0,0,0,0,0,44.083333333333336,0,0,0,0,0,0,0,0,null,1058,0,0,0,0,0,0,0,44.083333333333336,0,0,0,0,0,0,0,0,null,1058,0,0,0,0,0,0,0,44.083333333333336,0,0,0,0,0,0,0,0,null,1058,0,0,0,0,0,0,0,44.083333333333336,0,0,0,0,0,0,0,0,null,1058,0,0,0,0,0,0,0,44.083333333333336,0,0,0,0,0,0,0,0,null,1058,0,0,0,0,0,0,0,44.083333333333336,0,0,0,0,0,0,0,0,null,1058,0,0,0,0,0,0,0,44.083333333333336,0,0,0,0,0,0,0,0,null,1058,0,0,0,0,0,0,0,44.083333333333336,0,0,0,0,0,0,0,0,null,1058,0,0,0,0,0,0,0,44.083333333333336,0,0,0,0,0,0,0,0]
[1064,0,0,0,0,0,0,0,{"$f":"A1076/24","v":44.333333333333336},{"$f":"SUM(B1076:H1076)","v":0},0,0,0,0,0,0,0,null,1064,0,0,0,0,0,0,0,{"$f":"S1076/24","v":44.333333333333336},{"$f":"SUM(T1076:Z1076)","v":0},0,0,0,0,0,0,0,null,1064,0,0,0,0,0,0,0,{"$f":"AK1076/24","v":44.333333333333336},{"$f":"SUM(AL1076:AR1076)","v":0},0,0,0,0,0,0,0,null,1064,0,0,0,0,0,0,0,{"$f":"BC1076/24","v":44.333333333333336},{"$f":"SUM(BD1076:BJ1076)","v":0},0,0,0,0,0,0,0,null,1064,0,0,0,0,0,0,0,{"$f":"BU1076/24","v":44.333333333333336},{"$f":"SUM(BV1076:CB1076)","v":0},0,0,0,0,0,0,0,null,1064,0,0,0,0,0,0,0,{"$f":"CM1076/24","v":44.333333333333336},{"$f":"SUM(CN1076:CT1076)","v":0},0,0,0,0,0,0,0,null,1064,0,0,0,0,0,0,0,{"$f":"DE1076/24","v":44.333333333333336},{"$f":"SUM(DF1076:DL1076)","v":0},0,0,0,0,0,0,0,null,1064,0,0,0,0,0,0,0,{"$f":"DW1076/24","v":44.333333333333336},{"$f":"SUM(DX1076:ED1076)","v":0},0,0,0,0,0,0,0,null,1064,0,0,0,0,0,0,0,{"$f":"EO1076/24","v":44.333333333333336},{"$f":"SUM(EP1076:EV1076)","v":0},0,0,0,0,0,0,0,null,1064,0,0,0,0,0,0,0,{"$f":"FG1076/24","v":44.333333333333336},{"$f":"SUM(FH1076:FN1076)","v":0},0,0,0,0,0,0,0]
[1069,0,0,0,0,0,0,0,44.541666666666664,0,0,0,0,0,0,0,0,null,1069,0,0,0,0,0,0,0,44.541666666666664,0,0,0,0,0,0,0,0,null,1069,0,0,0,0,0,0,0,44.541666666666664,0,0,0,0,0,0,0,0,null,1069,0,0,0,0,0,0,0,44.541666666666664,0,0,0,0,0,0,0,0,null,1069,0,0,0,0,0,0,0,44.541666666666664,0,0,0,0,0,0,0,0,null,1069,0,0,0,0,0,0,0,44.541666666666664,0,0,0,0,0,0,0,0,null,1069,0,0,0,0,0,0,0,44.541666666666664,0,0,0,0,0,0,0,0,null,1069,0,0,0,0,0,0,0,44.541666666666664,0,0,0,0,0,0,0,0,null,1069,0,0,0,0,0,0,0,44.541666666666664,0,0,0,0,0,0,0,0,null,1069,0,0,0,0,0,0,0,44.541666666666664,0,0,0,0,0,0,0,0]
[1074,0,0,0,0,0,0,0,44.75,0,0,0,0,0,0,0,0,null,1074,0,0,0,0,0,0,0,44.75,0,0,0,0,0,0,0,0,null,1074,0,0,0,0,0,0,0,44.75,0,0,0,0,0,0,0,0,null,1074,0,0,0,0,0,0,0,44.75,0,0,0,0,0,0,0,0,null,1074,0,0,0,0,0,0,0,44.75,0,0,0,0,0,0,0,0,null,1074,0,0,0,0,0,0,0,44.75,0,0,0,0,0,0,0,0,null,1074,0,0,0,0,0,0,0,44.75,0,0,0,0,0,0,0,0,null,1074,0,0,0,0,0,0,0,44.75,0,0,0,0,0,0,0,0,null,1074,0,0,0,0,0,0,0,44.75,0,0,0,0,0,0,0,0,null,1074,0,0,0,0,0,0,0,44.75,0,0,0,0,0,0,0,0]
[1079,0,0,0,0,0,0,0,44.958333333333336,0,0,0,0,0,0,0,0,null,1079,0,0,0,0,0,0,0,44.958333333333336,0,0,0,0,0,0,0,0,null,1079,0,0,0,0,0,0,0,44.958333333333336,0,0,0,0,0,0,0,0,null,1079,0,0,0,0,0,0,0,44.958333333333336,0,0,0,0,0,0,0,0,null,1079,0,0,0,0,0,0,0,44.958333333333336,0,0,0,0,0,0,0,0,null,1079,0,0,0,0,0,0,0,44.958333333333336,0,0,0,0,0,0,0,0,null,1079,0,0,0,0,0,0,0,44.958333333333336,0,0,0,0,0,0,0,0,null,1079,0,0,0,0,0,0,0,44.958333333333336,0,0,0,0,0,0,0,0,null,1079,0,0,0,0,0,0,0,44.958333333333336,0,0,0,0,0,0,0,0,null,1079,0,0,0,0,0,0,0,44.958333333333336,0,0,0,0,0,0,0,0]
[1084,0,0,0,0,0,0,0,45.166666666666664,0,0,0,0,0,0,0,0,null,1084,0,0,0,0,0,0,0,45.166666666666664,0,0,0,0,0,0,0,0,null,1084,0,0,0,0,0,0,0,45.166666666666664,0,0,0,0,0,0,0,0,null,1084,0,0,0,0,0,0,0,45.166666666666664,0,0,0,0,0,0,0,0,null,1084,0,0,0,0,0,0,0,45.166666666666664,0,0,0,0,0,0,0,0,null,1084,0,0,0,0,0,0,0,45.166666666666664,0,0,0,0,0,0,0,0,null,1084,0,0,0,0,0,0,0,45.166666666666664,0,0,0,0,0,0,0,0,null,1084,0,0,0,0,0,0,0,45.166666666666664,0,0,0,0,0,0,0,0,null,1084,0,0,0,0,0,0,0,45.166666666666664,0,0,0,0,0,0,0,0,null,1084,0,0,0,0,0,0,0,45.166666666666664,0,0,0,0,0,0,0,0]
[1090,0,0,0,0,0,0,0,45.416666666666664,0,{"$f":"IF(J1102=0,0,B1102/J1102)","v":0},{"$f":"IF(J1102=0,0,C1102/J1102)","v":0},{"$f":"IF(J1102=0,0,D1102/J1102)","v":0},{"$f":"IF(J1102=0,0,E1102/J1102)","v":0},{"$f":"IF(J1102=0,0,F1102/J1102)","v":0},{"$f":"IF(J1102=0,0,G1102/J1102)","v":0},{"$f":"IF(J1102=0,0,H1102/J1102)","v":0},null,1090,0,0,0,0,0,0,0,45.416666666666664,0,{"$f":"IF(AB1102=0,0,T1102/AB1102)","v":0},{"$f":"IF(AB1102=0,0,U1102/AB1102)","v":0},{"$f":"IF(AB1102=0,0,V1102/AB1102)","v":0},{"$f":"IF(AB1102=0,0,W1102/AB1102)","v":0},0,{"$f":"IF(AB1102=0,0,Y1102/AB1102)","v":0},{"$f":"IF(AB1102=0,0,Z1102/AB1102)","v":0},null,1090,0,0,0,0,0,0,0,45.416666666666664,0,{"$f":"IF(AT1102=0,0,AL1102/AT1102)","v":0},{"$f":"IF(AT1102=0,0,AM1102/AT1102)","v":0},{"$f":"IF(AT1102=0,0,AN1102/AT1102)","v":0},{"$f":"IF(AT1102=0,0,AO1102/AT1102)","v":0},0,{"$f":"IF(AT1102=0,0,AQ1102/AT1102)","v":0},{"$f":"IF(AT1102=0,0,AR1102/AT1102)","v":0},null,1090,0,0,0,0,0,0,0,45.416666666666664,0,{"$f":"IF(BL1102=0,0,BD1102/BL1102)","v":0},{"$f":"IF(BL1102=0,0,BE1102/BL1102)","v":0},{"$f":"IF(BL1102=0,0,BF1102/BL1102)","v":0},{"$f":"IF(BL1102=0,0,BG1102/BL1102)","v":0},0,{"$f":"IF(BL1102=0,0,BI1102/BL1102)","v":0},{"$f":"IF(BL1102=0,0,BJ1102/BL1102)","v":0},null,1090,0,0,0,0,0,0,0,45.416666666666664,0,{"$f":"IF(CD1102=0,0,BV1102/CD1102)","v":0},{"$f":"IF(CD1102=0,0,BW1102/CD1102)","v":0},{"$f":"IF(CD1102=0,0,BX1102/CD1102)","v":0},{"$f":"IF(CD1102=0,0,BY1102/CD1102)","v":0},0,{"$f":"IF(CD1102=0,0,CA1102/CD1102)","v":0},{"$f":"IF(CD1102=0,0,CB1102/CD1102)","v":0},null,1090,0,0,0,0,0,0,0,45.416666666666664,0,{"$f":"IF(CV1102=0,0,CN1102/CV1102)","v":0},{"$f":"IF(CV1102=0,0,CO1102/CV1102)","v":0},{"$f":"IF(CV1102=0,0,CP1102/CV1102)","v":0},{"$f":"IF(CV1102=0,0,CQ1102/CV1102)","v":0},0,{"$f":"IF(CV1102=0,0,CS1102/CV1102)","v":0},{"$f":"IF(CV1102=0,0,CT1102/CV1102)","v":0},null,1090,0,0,0,0,0,0,0,45.416666666666664,0,{"$f":"IF(DN1102=0,0,DF1102/DN1102)","v":0},{"$f":"IF(DN1102=0,0,DG1102/DN1102)","v":0},{"$f":"IF(DN1102=0,0,DH1102/DN1102)","v":0},{"$f":"IF(DN1102=0,0,DI1102/DN1102)","v":0},0,{"$f":"IF(DN1102=0,0,DK1102/DN1102)","v":0},{"$f":"IF(DN1102=0,0,DL1102/DN1102)","v":0},null,1090,0,0,0,0,0,0,0,45.416666666666664,0,{"$f":"IF(EF1102=0,0,DX1102/EF1102)","v":0},{"$f":"IF(EF1102=0,0,DY1102/EF1102)","v":0},{"$f":"IF(EF1102=0,0,DZ1102/EF1102)","v":0},{"$f":"IF(EF1102=0,0,EA1102/EF1102)","v":0},0,{"$f":"IF(EF1102=0,0,EC1102/EF1102)","v":0},{"$f":"IF(EF1102=0,0,ED1102/EF1102)","v":0},null,1090,0,0,0,0,0,0,0,45.416666666666664,0,{"$f":"IF(EX1102=0,0,EP1102/EX1102)","v":0},{"$f":"IF(EX1102=0,0,EQ1102/EX1102)","v":0},{"$f":"IF(EX1102=0,0,ER1102/EX1102)","v":0},{"$f":"IF(EX1102=0,0,ES1102/EX1102)","v":0},0,{"$f":"IF(EX1102=0,0,EU1102/EX1102)","v":0},{"$f":"IF(EX1102=0,0,EV1102/EX1102)","v":0},null,1090,0,0,0,0,0,0,0,45.416666666666664,0,{"$f":"IF(FP1102=0,0,FH1102/FP1102)","v":0},{"$f":"IF(FP1102=0,0,FI1102/FP1102)","v":0},{"$f":"IF(FP1102=0,0,FJ1102/FP1102)","v":0},{"$f":"IF(FP1102=0,0,FK1102/FP1102)","v":0},0,{"$f":"IF(FP1102=0,0,FM1102/FP1102)","v":0},{"$f":"IF(FP1102=0,0,FN1102/FP1102)","v":0}]
[1094,0,0,0,0,0,0,0,45.583333333333336,0,0,0,0,0,0,0,0,null,1094,0,0,0,0,0,0,0,45.583333333333336,0,0,0,0,0,0,0,0,null,1094,0,0,0,0,0,0,0,45.583333333333336,0,0,0,0,0,0,0,0,null,1094,0,0,0,0,0,0,0,45.583333333333336,0,0,0,0,0,0,0,0,null,1094,0,0,0,0,0,0,0,45.583333333333336,0,0,0,0,0,0,0,0,null,1094,0,0,0,0,0,0,0,45.583333333333336,0,0,0,0,0,0,0,0,null,1094,0,0,0,0,0,0,0,45.583333333333336,0,0,0,0,0,0,0,0,null,1094,0,0,0,0,0,0,0,45.583333333333336,0,0,0,0,0,0,0,0,null,1094,0,0,0,0,0,0,0,45.583333333333336,0,0,0,0,0,0,0,0,null,1094,0,0,0,0,0,0,0,45.583333333333336,0,0,0,0,0,0,0,0]
[1099,0,0,0,0,0,0,0,45.791666666666664,0,0,0,0,0,0,0,0,null,1099,0,0,0,0,0,0,0,45.791666666666664,0,0,0,0,0,0,0,0,null,1099,0,0,0,0,0,0,0,45.791666666666664,0,0,0,0,0,0,0,0,null,1099,0,0,0,0,0,0,0,45.791666666666664,0,0,0,0,0,0,0,0,null,1099,0,0,0,0,0,0,0,45.791666666666664,0,0,0,0,0,0,0,0,null,1099,0,0,0,0,0,0,0,45.791666666666664,0,0,0,0,0,0,0,0,null,1099,0,0,0,0,0,0,0,45.791666666666664,0,0,0,0,0,0,0,0,null,1099,0,0,0,0,0,0,0,45.791666666666664,0,0,0,0,0,0,0,0,null,1099,0,0,0,0,0,0,0,45.791666666666664,0,0,0,0,0,0,0,0,null,1099,0,0,0,0,0,0,0,45.791666666666664,0,0,0,0,0,0,0,0]
[1105,0,0,0,0,0,0,0,46.041666666666664,0,0,0,0,0,0,0,0,null,1105,0,0,0,0,0,0,0,46.041666666666664,0,0,0,0,0,0,0,0,null,1105,0,0,0,0,0,0,0,46.041666666666664,0,0,0,0,0,0,0,0,null,1105,0,0,0,0,0,0,0,46.041666666666664,0,0,0,0,0,0,0,0,null,1105,0,0,0,0,0,0,0,46.041666666666664,0,0,0,0,0,0,0,0,null,1105,0,0,0,0,0,0,0,46.041666666666664,0,0,0,0,0,0,0,0,null,1105,0,0,0,0,0,0,0,46.041666666666664,0,0,0,0,0,0,0,0,null,1105,0,0,0,0,0,0,0,46.041666666666664,0,0,0,0,0,0,0,0,null,1105,0,0,0,0,0,0,0,46.041666666666664,0,0,0,0,0,0,0,0,null,1105,0,0,0,0,0,0,0,46.041666666666664,0,0,0,0,0,0,0,0]
[1110,0,0,0,0,0,0,0,46.25,0,0,0,0,0,0,0,0,null,1110,0,0,0,0,0,0,0,46.25,0,0,0,0,0,0,0,0,null,1110,0,0,0,0,0,0,0,46.25,0,0,0,0,0,0,0,0,null,1110,0,0,0,0,0,0,0,46.25,0,0,0,0,0,0,0,0,null,1110,0,0,0,0,0,0,0,46.25,0,0,0,0,0,0,0,0,null,1110,0,0,0,0,0,0,0,46.25,0,0,0,0,0,0,0,0,null,1110,0,0,0,0,0,0,0,46.25,0,0,0,0,0,0,0,0,null,1110,0,0,0,0,0,0,0,46.25,0,0,0,0,0,0,0,0,null,1110,0,0,0,0,0,0,0,46.25,0,0,0,0,0,0,0,0,null,1110,0,0,0,0,0,0,0,46.25,0,0,0,0,0,0,0,0]
[1111,0,0,0,0,0,0,0,46.291666666666664,0,0,0,0,0,0,0,0,null,1111,0,0,0,0,0,0,0,46.291666666666664,0,0,0,0,0,0,0,0,null,1111,0,0,0,0,0,0,0,46.291666666666664,0,0,0,0,0,0,0,0,null,1111,0,0,0,0,0,0,0,46.291666666666664,0,0,0,0,0,0,0,0,null,1111,0,0,0,0,0,0,0,46.291666666666664,0,0,0,0,0,0,0,0,null,1111,0,0,0,0,0,0,0,46.291666666666664,0,0,0,0,0,0,0,0,null,1111,0,0,0,0,0,0,0,46.291666666666664,0,0,0,0,0,0,0,0,null,1111,0,0,0,0,0,0,0,46.291666666666664,0,0,0,0,0,0,0,0,null,1111,0,0,0,0,0,0,0,46.291666666666664,0,0,0,0,0,0,0,0,null,1111,0,0,0,0,0,0,0,46.291666666666664,0,0,0,0,0,0,0,0]
[1116,0,0,0,0,0,0,0,46.5,0,0,0,0,0,0,0,0,null,1116,0,0,0,0,0,0,0,46.5,0,0,0,0,0,0,0,0,null,1116,0,0,0,0,0,0,0,46.5,0,0,0,0,0,0,0,0,null,1116,0,0,0,0,0,0,0,46.5,0,0,0,0,0,0,0,0,null,1116,0,0,0,0,0,0,0,46.5,0,0,0,0,0,0,0,0,null,1116,0,0,0,0,0,0,0,46.5,0,0,0,0,0,0,0,0,null,1116,0,0,0,0,0,0,0,46.5,0,0,0,0,0,0,0,0,null,1116,0,0,0,0,0,0,0,46.5,0,0,0,0,0,0,0,0,null,1116,0,0,0,0,0,0,0,46.5,0,0,0,0,0,0,0,0,null,1116,0,0,0,0,0,0,0,46.5,0,0,0,0,0,0,0,0]
[1121,0,0,0,0,0,0,0,46.708333333333336,0,0,0,0,0,0,0,0,null,1121,0,0,0,0,0,0,0,46.708333333333336,0,0,0,0,0,0,0,0,null,1121,0,0,0,0,0,0,0,46.708333333333336,0,0,0,0,0,0,0,0,null,1121,0,0,0,0,0,0,0,46.708333333333336,0,0,0,0,0,0,0,0,null,1121,0,0,0,0,0,0,0,46.708333333333336,0,0,0,0,0,0,0,0,null,1121,0,0,0,0,0,0,0,46.708333333333336,0,0,0,0,0,0,0,0,null,1121,0,0,0,0,0,0,0,46.708333333333336,0,0,0,0,0,0,0,0,null,1121,0,0,0,0,0,0,0,46.708333333333336,0,0,0,0,0,0,0,0,null,1121,0,0,0,0,0,0,0,46.708333333333336,0,0,0,0,0,0,0,0,null,1121,0,0,0,0,0,0,0,46.708333333333336,0,0,0,0,0,0,0,0]
[1126,0,0,0,0,0,0,0,46.916666666666664,0,0,0,0,0,0,0,0,null,1126,0,0,0,0,0,0,0,46.916666666666664,0,0,0,0,0,0,0,0,null,1126,0,0,0,0,0,0,0,46.916666666666664,0,0,0,0,0,0,0,0,null,1126,0,0,0,0,0,0,0,46.916666666666664,0,0,0,0,0,0,0,0,null,1126,0,0,0,0,0,0,0,46.916666666666664,0,0,0,0,0,0,0,0,null,1126,0,0,0,0,0,0,0,46.916666666666664,0,0,0,0,0,0,0,0,null,1126,0,0,0,0,0,0,0,46.916666666666664,0,0,0,0,0,0,0,0,null,1126,0,0,0,0,0,0,0,46.916666666666664,0,0,0,0,0,0,0,0,null,1126,0,0,0,0,0,0,0,46.916666666666664,0,0,0,0,0,0,0,0,null,1126,0,0,0,0,0,0,0,46.916666666666664,0,0,0,0,0,0,0,0]
[1131,0,0,0,0,0,0,0,47.125,0,0,0,0,0,0,0,0,null,1131,0,0,0,0,0,0,0,47.125,0,0,0,0,0,0,0,0,null,1131,0,0,0,0,0,0,0,47.125,0,0,0,0,0,0,0,0,null,1131,0,0,0,0,0,0,0,47.125,0,0,0,0,0,0,0,0,null,1131,0,0,0,0,0,0,0,47.125,0,0,0,0,0,0,0,0,null,1131,0,0,0,0,0,0,0,47.125,0,0,0,0,0,0,0,0,null,1131,0,0,0,0,0,0,0,47.125,0,0,0,0,0,0,0,0,null,1131,0,0,0,0,0,0,0,47.125,0,0,0,0,0,0,0,0,null,1131,0,0,0,0,0,0,0,47.125,0,0,0,0,0,0,0,0,null,1131,0,0,0,0,0,0,0,47.125,0,0,0,0,0,0,0,0]
[1137,0,0,0,0,0,0,0,47.375,0,0,0,0,0,0,0,0,null,1137,0,0,0,0,0,0,0,47.375,0,0,0,0,0,0,0,0,null,1137,0,0,0,0,0,0,0,47.375,0,0,0,0,0,0,0,0,null,1137,0,0,0,0,0,0,0,47.375,0,0,0,0,0,0,0,0,null,1137,0,0,0,0,0,0,0,47.375,0,0,0,0,0,0,0,0,null,1137,0,0,0,0,0,0,0,47.375,0,0,0,0,0,0,0,0,null,1137,0,0,0,0,0,0,0,47.375,0,0,0,0,0,0,0,0,null,1137,0,0,0,0,0,0,0,47.375,0,0,0,0,0,0,0,0,null,1137,0,0,0,0,0,0,0,47.375,0,0,0,0,0,0,0,0,null,1137,0,0,0,0,0,0,0,47.375,0,0,0,0,0,0,0,0]
[1142,0,0,0,0,0,0,0,47.583333333333336,0,0,0,0,0,0,0,0,null,1142,0,0,0,0,0,0,0,47.583333333333336,0,0,0,0,0,0,0,0,null,1142,0,0,0,0,0,0,0,47.583333333333336,0,0,0,0,0,0,0,0,null,1142,0,0,0,0,0,0,0,47.583333333333336,0,0,0,0,0,0,0,0,null,1142,0,0,0,0,0,0,0,47.583333333333336,0,0,0,0,0,0,0,0,null,1142,0,0,0,0,0,0,0,47.583333333333336,0,0,0,0,0,0,0,0,null,1142,0,0,0,0,0,0,0,47.583333333333336,0,0,0,0,0,0,0,0,null,1142,0,0,0,0,0,0,0,47.583333333333336,0,0,0,0,0,0,0,0,null,1142,0,0,0,0,0,0,0,47.583333333333336,0,0,0,0,0,0,0,0,null,1142,0,0,0,0,0,0,0,47.583333333333336,0,0,0,0,0,0,0,0]
[1146,0,0,0,0,0,0,0,47.75,0,0,0,0,0,0,0,0,null,1146,0,0,0,0,0,0,0,47.75,0,0,0,0,0,0,0,0,null,1146,0,0,0,0,0,0,0,47.75,0,0,0,0,0,0,0,0,null,1146,0,0,0,0,0,0,0,47.75,0,0,0,0,0,0,0,0,null,1146,0,0,0,0,0,0,0,47.75,0,0,0,0,0,0,0,0,null,1146,0,0,0,0,0,0,0,47.75,0,0,0,0,0,0,0,0,null,1146,0,0,0,0,0,0,0,47.75,0,0,0,0,0,0,0,0,null,1146,0,0,0,0,0,0,0,47.75,0,0,0,0,0,0,0,0,null,1146,0,0,0,0,0,0,0,47.75,0,0,0,0,0,0,0,0,null,1146,0,0,0,0,0,0,0,47.75,0,0,0,0,0,0,0,0]
[1152,0,0,0,0,0,0,0,48,0,0,0,0,0,0,0,0,null,1152,0,0,0,0,0,0,0,48,0,0,0,0,0,0,0,0,null,1152,0,0,0,0,0,0,0,48,0,0,0,0,0,0,0,0,null,1152,0,0,0,0,0,0,0,48,0,0,0,0,0,0,0,0,null,1152,0,0,0,0,0,0,0,48,0,0,0,0,0,0,0,0,null,1152,0,0,0,0,0,0,0,48,0,0,0,0,0,0,0,0,null,1152,0,0,0,0,0,0,0,48,0,0,0,0,0,0,0,0,null,1152,0,0,0,0,0,0,0,48,0,0,0,0,0,0,0,0,null,1152,0,0,0,0,0,0,0,48,0,0,0,0,0,0,0,0,null,1152,0,0,0,0,0,0,0,48,0,0,0,0,0,0,0,0]
[1157,0,0,0,0,0,0,0,48.208333333333336,0,0,0,0,0,0,0,0,null,1157,0,0,0,0,0,0,0,48.208333333333336,0,0,0,0,0,0,0,0,null,1157,0,0,0,0,0,0,0,48.208333333333336,0,0,0,0,0,0,0,0,null,1157,0,0,0,0,0,0,0,48.208333333333336,0,0,0,0,0,0,0,0,null,1157,0,0,0,0,0,0,0,48.208333333333336,0,0,0,0,0,0,0,0,null,1157,0,0,0,0,0,0,0,48.208333333333336,0,0,0,0,0,0,0,0,null,1157,0,0,0,0,0,0,0,48.208333333333336,0,0,0,0,0,0,0,0,null,1157,0,0,0,0,0,0,0,48.208333333333336,0,0,0,0,0,0,0,0,null,1157,0,0,0,0,0,0,0,48.208333333333336,0,0,0,0,0,0,0,0,null,1157,0,0,0,0,0,0,0,48.208333333333336,0,0,0,0,0,0,0,0]
[1162,0,0,0,0,0,0,0,48.416666666666664,0,0,0,0,0,0,0,0,null,1162,0,0,0,0,0,0,0,48.416666666666664,0,0,0,0,0,0,0,0,null,1162,0,0,0,0,0,0,0,48.416666666666664,0,0,0,0,0,0,0,0,null,1162,0,0,0,0,0,0,0,48.416666666666664,0,0,0,0,0,0,0,0,null,1162,0,0,0,0,0,0,0,48.416666666666664,0,0,0,0,0,0,0,0,null,1162,0,0,0,0,0,0,0,48.416666666666664,0,0,0,0,0,0,0,0,null,1162,0,0,0,0,0,0,0,48.416666666666664,0,0,0,0,0,0,0,0,null,1162,0,0,0,0,0,0,0,48.416666666666664,0,0,0,0,0,0,0,0,null,1162,0,0,0,0,0,0,0,48.416666666666664,0,0,0,0,0,0,0,0,null,1162,0,0,0,0,0,0,0,48.416666666666664,0,0,0,0,0,0,0,0]
[1168,0,0,0,0,0,0,0,48.666666666666664,0,0,0,0,0,0,0,0,null,1168,0,0,0,0,0,0,0,48.666666666666664,0,0,0,0,0,0,0,0,null,1168,0,0,0,0,0,0,0,48.666666666666664,0,0,0,0,0,0,0,0,null,1168,0,0,0,0,0,0,0,48.666666666666664,0,0,0,0,0,0,0,0,null,1168,0,0,0,0,0,0,0,48.666666666666664,0,0,0,0,0,0,0,0,null,1168,0,0,0,0,0,0,0,48.666666666666664,0,0,0,0,0,0,0,0,null,1168,0,0,0,0,0,0,0,48.666666666666664,0,0,0,0,0,0,0,0,null,1168,0,0,0,0,0,0,0,48.666666666666664,0,0,0,0,0,0,0,0,null,1168,0,0,0,0,0,0,0,48.666666666666664,0,0,0,0,0,0,0,0,null,1168,0,0,0,0,0,0,0,48.666666666666664,0,0,0,0,0,0,0,0]
[1173,0,0,0,0,0,0,0,48.875,0,0,0,0,0,0,0,0,null,1173,0,0,0,0,0,0,0,48.875,0,0,0,0,0,0,0,0,null,1173,0,0,0,0,0,0,0,48.875,0,0,0,0,0,0,0,0,null,1173,0,0,0,0,0,0,0,48.875,0,0,0,0,0,0,0,0,null,1173,0,0,0,0,0,0,0,48.875,0,0,0,0,0,0,0,0,null,1173,0,0,0,0,0,0,0,48.875,0,0,0,0,0,0,0,0,null,1173,0,0,0,0,0,0,0,48.875,0,0,0,0,0,0,0,0,null,1173,0,0,0,0,0,0,0,48.875,0,0,0,0,0,0,0,0,null,1173,0,0,0,0,0,0,0,48.875,0,0,0,0,0,0,0,0,null,1173,0,0,0,0,0,0,0,48.875,0,0,0,0,0,0,0,0]
[1177,0,0,0,0,0,0,0,49.041666666666664,0,0,0,0,0,0,0,0,null,1177,0,0,0,0,0,0,0,49.041666666666664,0,0,0,0,0,0,0,0,null,1177,0,0,0,0,0,0,0,49.041666666666664,0,0,0,0,0,0,0,0,null,1177,0,0,0,0,0,0,0,49.041666666666664,0,0,0,0,0,0,0,0,null,1177,0,0,0,0,0,0,0,49.041666666666664,0,0,0,0,0,0,0,0,null,1177,0,0,0,0,0,0,0,49.041666666666664,0,0,0,0,0,0,0,0,null,1177,0,0,0,0,0,0,0,49.041666666666664,0,0,0,0,0,0,0,0,null,1177,0,0,0,0,0,0,0,49.041666666666664,0,0,0,0,0,0,0,0,null,1177,0,0,0,0,0,0,0,49.041666666666664,0,0,0,0,0,0,0,0,null,1177,0,0,0,0,0,0,0,49.041666666666664,0,0,0,0,0,0,0,0]
[1178,0,0,0,0,0,0,0,49.083333333333336,0,0,0,0,0,0,0,0,null,1178,0,0,0,0,0,0,0,49.083333333333336,0,0,0,0,0,0,0,0,null,1178,0,0,0,0,0,0,0,49.083333333333336,0,0,0,0,0,0,0,0,null,1178,0,0,0,0,0,0,0,49.083333333333336,0,0,0,0,0,0,0,0,null,1178,0,0,0,0,0,0,0,49.083333333333336,0,0,0,0,0,0,0,0,null,1178,0,0,0,0,0,0,0,49.083333333333336,0,0,0,0,0,0,0,0,null,1178,0,0,0,0,0,0,0,49.083333333333336,0,0,0,0,0,0,0,0,null,1178,0,0,0,0,0,0,0,49.083333333333336,0,0,0,0,0,0,0,0,null,1178,0,0,0,0,0,0,0,49.083333333333336,0,0,0,0,0,0,0,0,null,1178,0,0,0,0,0,0,0,49.083333333333336,0,0,0,0,0,0,0,0]
[1183,0,0,0,0,0,0,0,49.291666666666664,0,0,0,0,0,0,0,0,null,1183,0,0,0,0,0,0,0,49.291666666666664,0,0,0,0,0,0,0,0,null,1183,0,0,0,0,0,0,0,49.291666666666664,0,0,0,0,0,0,0,0,null,1183,0,0,0,0,0,0,0,49.291666666666664,0,0,0,0,0,0,0,0,null,1183,0,0,0,0,0,0,0,49.291666666666664,0,0,0,0,0,0,0,0,null,1183,0,0,0,0,0,0,0,49.291666666666664,0,0,0,0,0,0,0,0,null,1183,0,0,0,0,0,0,0,49.291666666666664,0,0,0,0,0,0,0,0,null,1183,0,0,0,0,0,0,0,49.291666666666664,0,0,0,0,0,0,0,0,null,1183,0,0,0,0,0,0,0,49.291666666666664,0,0,0,0,0,0,0,0,null,1183,0,0,0,0,0,0,0,49.291666666666664,0,0,0,0,0,0,0,0]
[1189,0,0,0,0,0,0,0,49.541666666666664,0,0,0,0,0,0,0,0,null,1189,0,0,0,0,0,0,0,49.541666666666664,0,0,0,0,0,0,0,0,null,1189,0,0,0,0,0,0,0,49.541666666666664,0,0,0,0,0,0,0,0,null,1189,0,0,0,0,0,0,0,49.541666666666664,0,0,0,0,0,0,0,0,null,1189,0,0,0,0,0,0,0,49.541666666666664,0,0,0,0,0,0,0,0,null,1189,0,0,0,0,0,0,0,49.541666666666664,0,0,0,0,0,0,0,0,null,1189,0,0,0,0,0,0,0,49.541666666666664,0,0,0,0,0,0,0,0,null,1189,0,0,0,0,0,0,0,49.541666666666664,0,0,0,0,0,0,0,0,null,1189,0,0,0,0,0,0,0,49.541666666666664,0,0,0,0,0,0,0,0,null,1189,0,0,0,0,0,0,0,49.541666666666664,0,0,0,0,0,0,0,0]
[1194,0,0,0,0,0,0,0,49.75,0,0,0,0,0,0,0,0,null,1194,0,0,0,0,0,0,0,49.75,0,0,0,0,0,0,0,0,null,1194,0,0,0,0,0,0,0,49.75,0,0,0,0,0,0,0,0,null,1194,0,0,0,0,0,0,0,49.75,0,0,0,0,0,0,0,0,null,1194,0,0,0,0,0,0,0,49.75,0,0,0,0,0,0,0,0,null,1194,0,0,0,0,0,0,0,49.75,0,0,0,0,0,0,0,0,null,1194,0,0,0,0,0,0,0,49.75,0,0,0,0,0,0,0,0,null,1194,0,0,0,0,0,0,0,49.75,0,0,0,0,0,0,0,0,null,1194,0,0,0,0,0,0,0,49.75,0,0,0,0,0,0,0,0,null,1194,0,0,0,0,0,0,0,49.75,0,0,0,0,0,0,0,0]
[1200,0,0,0,0,0,0,0,50,0,0,0,0,0,0,0,0,null,1200,0,0,0,0,0,0,0,50,0,0,0,0,0,0,0,0,null,1200,0,0,0,0,0,0,0,50,0,0,0,0,0,0,0,0,null,1200,0,0,0,0,0,0,0,50,0,0,0,0,0,0,0,0,null,1200,0,0,0,0,0,0,0,50,0,0,0,0,0,0,0,0,null,1200,0,0,0,0,0,0,0,50,0,0,0,0,0,0,0,0,null,1200,0,0,0,0,0,0,0,50,0,0,0,0,0,0,0,0,null,1200,0,0,0,0,0,0,0,50,0,0,0,0,0,0,0,0,null,1200,0,0,0,0,0,0,0,50,0,0,0,0,0,0,0,0,null,1200,0,0,0,0,0,0,0,50,0,0,0,0,0,0,0,0]
[1204,0,0,0,0,0,0,0,50.166666666666664,0,0,0,0,0,0,0,0,null,1204,0,0,0,0,0,0,0,50.166666666666664,0,0,0,0,0,0,0,0,null,1204,0,0,0,0,0,0,0,50.166666666666664,0,0,0,0,0,0,0,0,null,1204,0,0,0,0,0,0,0,50.166666666666664,0,0,0,0,0,0,0,0,null,1204,0,0,0,0,0,0,0,50.166666666666664,0,0,0,0,0,0,0,0,null,1204,0,0,0,0,0,0,0,50.166666666666664,0,0,0,0,0,0,0,0,null,1204,0,0,0,0,0,0,0,50.166666666666664,0,0,0,0,0,0,0,0,null,1204,0,0,0,0,0,0,0,50.166666666666664,0,0,0,0,0,0,0,0,null,1204,0,0,0,0,0,0,0,50.166666666666664,0,0,0,0,0,0,0,0,null,1204,0,0,0,0,0,0,0,50.166666666666664,0,0,0,0,0,0,0,0]
[1209,0,0,0,0,0,0,0,50.375,0,0,0,0,0,0,0,0,null,1209,0,0,0,0,0,0,0,50.375,0,0,0,0,0,0,0,0,null,1209,0,0,0,0,0,0,0,50.375,0,0,0,0,0,0,0,0,null,1209,0,0,0,0,0,0,0,50.375,0,0,0,0,0,0,0,0,null,1209,0,0,0,0,0,0,0,50.375,0,0,0,0,0,0,0,0,null,1209,0,0,0,0,0,0,0,50.375,0,0,0,0,0,0,0,0,null,1209,0,0,0,0,0,0,0,50.375,0,0,0,0,0,0,0,0,null,1209,0,0,0,0,0,0,0,50.375,0,0,0,0,0,0,0,0,null,1209,0,0,0,0,0,0,0,50.375,0,0,0,0,0,0,0,0,null,1209,0,0,0,0,0,0,0,50.375,0,0,0,0,0,0,0,0]
[1215,0,0,0,0,0,0,0,50.625,0,0,0,0,0,0,0,0,null,1215,0,0,0,0,0,0,0,50.625,0,0,0,0,0,0,0,0,null,1215,0,0,0,0,0,0,0,50.625,0,0,0,0,0,0,0,0,null,1215,0,0,0,0,0,0,0,50.625,0,0,0,0,0,0,0,0,null,1215,0,0,0,0,0,0,0,50.625,0,0,0,0,0,0,0,0,null,1215,0,0,0,0,0,0,0,50.625,0,0,0,0,0,0,0,0,null,1215,0,0,0,0,0,0,0,50.625,0,0,0,0,0,0,0,0,null,1215,0,0,0,0,0,0,0,50.625,0,0,0,0,0,0,0,0,null,1215,0,0,0,0,0,0,0,50.625,0,0,0,0,0,0,0,0,null,1215,0,0,0,0,0,0,0,50.625,0,0,0,0,0,0,0,0]
[1220,0,0,0,0,0,0,0,50.833333333333336,0,0,0,0,0,0,0,0,null,1220,0,0,0,0,0,0,0,50.833333333333336,0,0,0,0,0,0,0,0,null,1220,0,0,0,0,0,0,0,50.833333333333336,0,0,0,0,0,0,0,0,null,1220,0,0,0,0,0,0,0,50.833333333333336,0,0,0,0,0,0,0,0,null,1220,0,0,0,0,0,0,0,50.833333333333336,0,0,0,0,0,0,0,0,null,1220,0,0,0,0,0,0,0,50.833333333333336,0,0,0,0,0,0,0,0,null,1220,0,0,0,0,0,0,0,50.833333333333336,0,0,0,0,0,0,0,0,null,1220,0,0,0,0,0,0,0,50.833333333333336,0,0,0,0,0,0,0,0,null,1220,0,0,0,0,0,0,0,50.833333333333336,0,0,0,0,0,0,0,0,null,1220,0,0,0,0,0,0,0,50.833333333333336,0,0,0,0,0,0,0,0]
[1225,0,0,0,0,0,0,0,51.041666666666664,0,0,0,0,0,0,0,0,null,1225,0,0,0,0,0,0,0,51.041666666666664,0,0,0,0,0,{"$f":"IF(AB1237=0,0,X1237/AB1237)","v":0},0,0,null,1225,0,0,0,0,0,0,0,51.041666666666664,0,0,0,0,0,{"$f":"IF(AT1237=0,0,AP1237/AT1237)","v":0},0,0,null,1225,0,0,0,0,0,0,0,51.041666666666664,0,0,0,0,0,{"$f":"IF(BL1237=0,0,BH1237/BL1237)","v":0},0,0,null,1225,0,0,0,0,0,0,0,51.041666666666664,0,0,0,0,0,{"$f":"IF(CD1237=0,0,BZ1237/CD1237)","v":0},0,0,null,1225,0,0,0,0,0,0,0,51.041666666666664,0,0,0,0,0,{"$f":"IF(CV1237=0,0,CR1237/CV1237)","v":0},0,0,null,1225,0,0,0,0,0,0,0,51.041666666666664,0,0,0,0,0,{"$f":"IF(DN1237=0,0,DJ1237/DN1237)","v":0},0,0,null,1225,0,0,0,0,0,0,0,51.041666666666664,0,0,0,0,0,{"$f":"IF(EF1237=0,0,EB1237/EF1237)","v":0},0,0,null,1225,0,0,0,0,0,0,0,51.041666666666664,0,0,0,0,0,{"$f":"IF(EX1237=0,0,ET1237/EX1237)","v":0},0,0,null,1225,0,0,0,0,0,0,0,51.041666666666664,0,0,0,0,0,{"$f":"IF(FP1237=0,0,FL1237/FP1237)","v":0},0,0]
[1229,0,0,0,0,0,0,0,51.208333333333336,0,0,0,0,0,0,0,0,null,1229,0,0,0,0,0,0,0,51.208333333333336,0,0,0,0,0,0,0,0,null,1229,0,0,0,0,0,0,0,51.208333333333336,0,0,0,0,0,0,0,0,null,1229,0,0,0,0,0,0,0,51.208333333333336,0,0,0,0,0,0,0,0,null,1229,0,0,0,0,0,0,0,51.208333333333336,0,0,0,0,0,0,0,0,null,1229,0,0,0,0,0,0,0,51.208333333333336,0,0,0,0,0,0,0,0,null,1229,0,0,0,0,0,0,0,51.208333333333336,0,0,0,0,0,0,0,0,null,1229,0,0,0,0,0,0,0,51.208333333333336,0,0,0,0,0,0,0,0,null,1229,0,0,0,0,0,0,0,51.208333333333336,0,0,0,0,0,0,0,0,null,1229,0,0,0,0,0,0,0,51.208333333333336,0,0,0,0,0,0,0,0]
[1235,0,0,0,0,0,0,0,51.458333333333336,0,0,0,0,0,0,0,0,null,1235,0,0,0,0,0,0,0,51.458333333333336,0,0,0,0,0,0,0,0,null,1235,0,0,0,0,0,0,0,51.458333333333336,0,0,0,0,0,0,0,0,null,1235,0,0,0,0,0,0,0,51.458333333333336,0,0,0,0,0,0,0,0,null,1235,0,0,0,0,0,0,0,51.458333333333336,0,0,0,0,0,0,0,0,null,1235,0,0,0,0,0,0,0,51.458333333333336,0,0,0,0,0,0,0,0,null,1235,0,0,0,0,0,0,0,51.458333333333336,0,0,0,0,0,0,0,0,null,1235,0,0,0,0,0,0,0,51.458333333333336,0,0,0,0,0,0,0,0,null,1235,0,0,0,0,0,0,0,51.458333333333336,0,0,0,0,0,0,0,0,null,1235,0,0,0,0,0,0,0,51.458333333333336,0,0,0,0,0,0,0,0]
[1236,0,0,0,0,0,0,0,51.5,0,0,0,0,0,0,0,0,null,1236,0,0,0,0,0,0,0,51.5,0,0,0,0,0,0,0,0,null,1236,0,0,0,0,0,0,0,51.5,0,0,0,0,0,0,0,0,null,1236,0,0,0,0,0,0,0,51.5,0,0,0,0,0,0,0,0,null,1236,0,0,0,0,0,0,0,51.5,0,0,0,0,0,0,0,0,null,1236,0,0,0,0,0,0,0,51.5,0,0,0,0,0,0,0,0,null,1236,0,0,0,0,0,0,0,51.5,0,0,0,0,0,0,0,0,null,1236,0,0,0,0,0,0,0,51.5,0,0,0,0,0,0,0,0,null,1236,0,0,0,0,0,0,0,51.5,0,0,0,0,0,0,0,0,null,1236,0,0,0,0,0,0,0,51.5,0,0,0,0,0,0,0,0]
[1241,0,0,0,0,0,0,0,51.708333333333336,0,0,0,0,0,0,0,0,null,1241,0,0,0,0,0,0,0,51.708333333333336,0,0,0,0,0,0,0,0,null,1241,0,0,0,0,0,0,0,51.708333333333336,0,0,0,0,0,0,0,0,null,1241,0,0,0,0,0,0,0,51.708333333333336,0,0,0,0,0,0,0,0,null,1241,0,0,0,0,0,0,0,51.708333333333336,0,0,0,0,0,0,0,0,null,1241,0,0,0,0,0,0,0,51.708333333333336,0,0,0,0,0,0,0,0,null,1241,0,0,0,0,0,0,0,51.708333333333336,0,0,0,0,0,0,0,0,null,1241,0,0,0,0,0,0,0,51.708333333333336,0,0,0,0,0,0,0,0,null,1241,0,0,0,0,0,0,0,51.708333333333336,0,0,0,0,0,0,0,0,null,1241,0,0,0,0,0,0,0,51.708333333333336,0,0,0,0,0,0,0,0]
[1246,0,0,0,0,0,0,0,51.916666666666664,0,0,0,0,0,0,0,0,null,1246,0,0,0,0,0,0,0,51.916666666666664,0,0,0,0,0,0,0,0,null,1246,0,0,0,0,0,0,0,51.916666666666664,0,0,0,0,0,0,0,0,null,1246,0,0,0,0,0,0,0,51.916666666666664,0,0,0,0,0,0,0,0,null,1246,0,0,0,0,0,0,0,51.916666666666664,0,0,0,0,0,0,0,0,null,1246,0,0,0,0,0,0,0,51.916666666666664,0,0,0,0,0,0,0,0,null,1246,0,0,0,0,0,0,0,51.916666666666664,0,0,0,0,0,0,0,0,null,1246,0,0,0,0,0,0,0,51.916666666666664,0,0,0,0,0,0,0,0,null,1246,0,0,0,0,0,0,0,51.916666666666664,0,0,0,0,0,0,0,0,null,1246,0,0,0,0,0,0,0,51.916666666666664,0,0,0,0,0,0,0,0]
[1252,0,0,0,0,0,0,0,52.166666666666664,0,0,0,0,0,0,0,0,null,1252,0,0,0,0,0,0,0,52.166666666666664,0,0,0,0,0,0,0,0,null,1252,0,0,0,0,0,0,0,52.166666666666664,0,0,0,0,0,0,0,0,null,1252,0,0,0,0,0,0,0,52.166666666666664,0,0,0,0,0,0,0,0,null,1252,0,0,0,0,0,0,0,52.166666666666664,0,0,0,0,0,0,0,0,null,1252,0,0,0,0,0,0,0,52.166666666666664,0,0,0,0,0,0,0,0,null,1252,0,0,0,0,0,0,0,52.166666666666664,0,0,0,0,0,0,0,0,null,1252,0,0,0,0,0,0,0,52.166666666666664,0,0,0,0,0,0,0,0,null,1252,0,0,0,0,0,0,0,52.166666666666664,0,0,0,0,0,0,0,0,null,1252,0,0,0,0,0,0,0,52.166666666666664,0,0,0,0,0,0,0,0]
[1256,0,0,0,0,0,0,0,{"$f":"A1268/24","v":52.333333333333336},{"$f":"SUM(B1268:H1268)","v":0},0,0,0,0,0,0,0,null,1256,0,0,0,0,0,0,0,{"$f":"S1268/24","v":52.333333333333336},{"$f":"SUM(T1268:Z1268)","v":0},0,0,0,0,0,0,0,null,1256,0,0,0,0,0,0,0,{"$f":"AK1268/24","v":52.333333333333336},{"$f":"SUM(AL1268:AR1268)","v":0},0,0,0,0,0,0,0,null,1256,0,0,0,0,0,0,0,{"$f":"BC1268/24","v":52.333333333333336},{"$f":"SUM(BD1268:BJ1268)","v":0},0,0,0,0,0,0,0,null,1256,0,0,0,0,0,0,0,{"$f":"BU1268/24","v":52.333333333333336},{"$f":"SUM(BV1268:CB1268)","v":0},0,0,0,0,0,0,0,null,1256,0,0,0,0,0,0,0,{"$f":"CM1268/24","v":52.333333333333336},{"$f":"SUM(CN1268:CT1268)","v":0},0,0,0,0,0,0,0,null,1256,0,0,0,0,0,0,0,{"$f":"DE1268/24","v":52.333333333333336},{"$f":"SUM(DF1268:DL1268)","v":0},0,0,0,0,0,0,0,null,1256,0,0,0,0,0,0,0,{"$f":"DW1268/24","v":52.333333333333336},{"$f":"SUM(DX1268:ED1268)","v":0},0,0,0,0,0,0,0,null,1256,0,0,0,0,0,0,0,{"$f":"EO1268/24","v":52.333333333333336},{"$f":"SUM(EP1268:EV1268)","v":0},0,0,0,0,0,0,0,null,1256,0,0,0,0,0,0,0,{"$f":"FG1268/24","v":52.333333333333336},{"$f":"SUM(FH1268:FN1268)","v":0},0,0,0,0,0,0,0]
[1261,0,0,0,0,0,0,0,52.541666666666664,0,0,0,0,0,0,0,0,null,1261,0,0,0,0,0,0,0,52.541666666666664,0,0,0,0,0,0,0,0,null,1261,0,0,0,0,0,0,0,52.541666666666664,0,0,0,0,0,0,0,0,null,1261,0,0,0,0,0,0,0,52.541666666666664,0,0,0,0,0,0,0,0,null,1261,0,0,0,0,0,0,0,52.541666666666664,0,0,0,0,0,0,0,0,null,1261,0,0,0,0,0,0,0,52.541666666666664,0,0,0,0,0,0,0,0,null,1261,0,0,0,0,0,0,0,52.541666666666664,0,0,0,0,0,0,0,0,null,1261,0,0,0,0,0,0,0,52.541666666666664,0,0,0,0,0,0,0,0,null,1261,0,0,0,0,0,0,0,52.541666666666664,0,0,0,0,0,0,0,0,null,1261,0,0,0,0,0,0,0,52.541666666666664,0,0,0,0,0,0,0,0]
[1267,0,0,0,0,0,0,0,52.791666666666664,0,0,0,0,0,0,0,0,null,1267,0,0,0,0,0,0,0,52.791666666666664,0,0,0,0,0,0,0,0,null,1267,0,0,0,0,0,0,0,52.791666666666664,0,0,0,0,0,0,0,0,null,1267,0,0,0,0,0,0,0,52.791666666666664,0,0,0,0,0,0,0,0,null,1267,0,0,0,0,0,0,0,52.791666666666664,0,0,0,0,0,0,0,0,null,1267,0,0,0,0,0,0,0,52.791666666666664,0,0,0,0,0,0,0,0,null,1267,0,0,0,0,0,0,0,52.791666666666664,0,0,0,0,0,0,0,0,null,1267,0,0,0,0,0,0,0,52.791666666666664,0,0,0,0,0,0,0,0,null,1267,0,0,0,0,0,0,0,52.791666666666664,0,0,0,0,0,0,0,0,null,1267,0,0,0,0,0,0,0,52.791666666666664,0,0,0,0,0,0,0,0]
[1272,0,0,0,0,0,0,0,53,0,0,0,0,0,0,0,0,null,1272,0,0,0,0,0,0,0,53,0,0,0,0,0,0,0,0,null,1272,0,0,0,0,0,0,0,53,0,0,0,0,0,0,0,0,null,1272,0,0,0,0,0,0,0,53,0,0,0,0,0,0,0,0,null,1272,0,0,0,0,0,0,0,53,0,0,0,0,0,0,0,0,null,1272,0,0,0,0,0,0,0,53,0,0,0,0,0,0,0,0,null,1272,0,0,0,0,0,0,0,53,0,0,0,0,0,0,0,0,null,1272,0,0,0,0,0,0,0,53,0,0,0,0,0,0,0,0,null,1272,0,0,0,0,0,0,0,53,0,0,0,0,0,0,0,0,null,1272,0,0,0,0,0,0,0,53,0,0,0,0,0,0,0,0]
[1278,0,0,0,0,0,0,0,53.25,0,0,0,0,0,0,0,0,null,1278,0,0,0,0,0,0,0,53.25,0,0,0,0,0,0,0,0,null,1278,0,0,0,0,0,0,0,53.25,0,0,0,0,0,0,0,0,null,1278,0,0,0,0,0,0,0,53.25,0,0,0,0,0,0,0,0,null,1278,0,0,0,0,0,0,0,53.25,0,0,0,0,0,0,0,0,null,1278,0,0,0,0,0,0,0,53.25,0,0,0,0,0,0,0,0,null,1278,0,0,0,0,0,0,0,53.25,0,0,0,0,0,0,0,0,null,1278,0,0,0,0,0,0,0,53.25,0,0,0,0,0,0,0,0,null,1278,0,0,0,0,0,0,0,53.25,0,0,0,0,0,0,0,0,null,1278,0,0,0,0,0,0,0,53.25,0,0,0,0,0,0,0,0]
[1281,{"$f":"IF(RAEggsComm1=\"\",0,(IF(A1293<(RAEggsComm1-DSTDEggsComm1),0,IF(A1293<(RAEggsComm1+DSTDEggsComm1),LSComm1Eggs,0))))","v":0},{"$f":"IF(RA1stComm1=\"\",0,(IF(A1293<(RA1stComm1-DSTD1stComm1),0,IF(A1293<(RA1stComm1+DSTD1stComm1),LSComm11st,0))))","v":0},{"$f":"IF(RA2ndComm1=\"\",0,(IF(A1293<(RA2ndComm1-DSTD2ndComm1),0,IF(A1293<(RA2ndComm1+DSTD2ndComm1),LSComm12nd,0))))","v":0},{"$f":"IF(RA3rdComm1=\"\",0,(IF(A1293<(RA3rdComm1-DSTD3rdComm1),0,IF(A1293<(RA3rdComm1+DSTD3rdComm1),LSComm13rd,0))))","v":0},{"$f":"IF(RA4thComm1=\"\",0,(IF(A1293<(RA4thComm1-DSTD4thComm1),0,IF(A1293<(RA4thComm1+DSTD4thComm1),LSComm14th,0))))","v":0},{"$f":"IF(RA5thComm1=\"\",0,(IF(A1293<(RA5thComm1-DSTD5thComm1),0,IF(A1293<(RA5thComm1+DSTD5thComm1),LSComm15th,0))))","v":0},{"$f":"IF(RAPupaeComm1=\"\",0,(IF(A1293<(RAPupaeComm1-DSTDPupaeComm1),0,IF(A1293<(RAPupaeComm1+DSTDPupaeComm1),LSComm1Pupae,0))))","v":0},53.375,0,0,0,0,0,0,0,0,null,1281,{"$f":"IF(RAEggsComm2=\"\",0,(IF(S1293<(RAEggsComm2-DSTDEggsComm2),0,IF(S1293<(RAEggsComm2+DSTDEggsComm2),LSComm2Eggs,0))))","v":0},{"$f":"IF(RA1stComm2=\"\",0,(IF(S1293<(RA1stComm2-DSTD1stComm2),0,IF(S1293<(RA1stComm2+DSTD1stComm2),LSComm21st,0))))","v":0},{"$f":"IF(RA2ndComm2=\"\",0,(IF(S1293<(RA2ndComm2-DSTD2ndComm2),0,IF(S1293<(RA2ndComm2+DSTD2ndComm2),LSComm22nd,0))))","v":0},{"$f":"IF(RA3rdComm2=\"\",0,(IF(S1293<(RA3rdComm2-DSTD3rdComm2),0,IF(S1293<(RA3rdComm2+DSTD3rdComm2),LSComm23rd,0))))","v":0},{"$f":"IF(RA4thComm2=\"\",0,(IF(S1293<(RA4thComm2-DSTD4thComm2),0,IF(S1293<(RA4thComm2+DSTD4thComm2),LSComm24th,0))))","v":0},{"$f":"IF(RA5thComm2=\"\",0,(IF(S1293<(RA5thComm2-DSTD5thComm2),0,IF(S1293<(RA5thComm2+DSTD5thComm2),LSComm25th,0))))","v":0},{"$f":"IF(RAPupaeComm2=\"\",0,(IF(S1293<(RAPupaeComm2-DSTDPupaeComm2),0,IF(S1293<(RAPupaeComm2+DSTDPupaeComm2),LSComm2Pupae,0))))","v":0},53.375,0,0,0,0,0,0,0,0,null,1281,{"$f":"IF(RAEggsComm3=\"\",0,(IF(AK1293<(RAEggsComm3-DSTDEggsComm3),0,IF(AK1293<(RAEggsComm3+DSTDEggsComm3),LSComm3Eggs,0))))","v":0},{"$f":"IF(RA1stComm3=\"\",0,(IF(AK1293<(RA1stComm3-DSTD1stComm3),0,IF(AK1293<(RA1stComm3+DSTD1stComm3),LSComm31st,0))))","v":0},{"$f":"IF(RA2ndComm3=\"\",0,(IF(AK1293<(RA2ndComm3-DSTD2ndComm3),0,IF(AK1293<(RA2ndComm3+DSTD2ndComm3),LSComm32nd,0))))","v":0},{"$f":"IF(RA3rdComm3=\"\",0,(IF(AK1293<(RA3rdComm3-DSTD3rdComm3),0,IF(AK1293<(RA3rdComm3+DSTD3rdComm3),LSComm33rd,0))))","v":0},{"$f":"IF(RA4thComm3=\"\",0,(IF(AK1293<(RA4thComm3-DSTD4thComm3),0,IF(AK1293<(RA4thComm3+DSTD4thComm3),LSComm34th,0))))","v":0},{"$f":"IF(RA5thComm3=\"\",0,(IF(AK1293<(RA5thComm3-DSTD5thComm3),0,IF(AK1293<(RA5thComm3+DSTD5thComm3),LSComm35th,0))))","v":0},{"$f":"IF(RAPupaeComm3=\"\",0,(IF(AK1293<(RAPupaeComm3-DSTDPupaeComm3),0,IF(AK1293<(RAPupaeComm3+DSTDPupaeComm3),LSComm3Pupae,0))))","v":0},53.375,0,0,0,0,0,0,0,0,null,1281,{"$f":"IF(RAEggsComm4=\"\",0,(IF(BC1293<(RAEggsComm4-DSTDEggsComm4),0,IF(BC1293<(RAEggsComm4+DSTDEggsComm4),LSComm4Eggs,0))))","v":0},{"$f":"IF(RA1stComm4=\"\",0,(IF(BC1293<(RA1stComm4-DSTD1stComm4),0,IF(BC1293<(RA1stComm4+DSTD1stComm4),LSComm41st,0))))","v":0},{"$f":"IF(RA2ndComm4=\"\",0,(IF(BC1293<(RA2ndComm4-DSTD2ndComm4),0,IF(BC1293<(RA2ndComm4+DSTD2ndComm4),LSComm42nd,0))))","v":0},{"$f":"IF(RA3rdComm4=\"\",0,(IF(BC1293<(RA3rdComm4-DSTD3rdComm4),0,IF(BC1293<(RA3rdComm4+DSTD3rdComm4),LSComm43rd,0))))","v":0},{"$f":"IF(RA4thComm4=\"\",0,(IF(BC1293<(RA4thComm4-DSTD4thComm4),0,IF(BC1293<(RA4thComm4+DSTD4thComm4),LSComm44th,0))))","v":0},{"$f":"IF(RA5thComm4=\"\",0,(IF(BC1293<(RA5thComm4-DSTD5thComm4),0,IF(BC1293<(RA5thComm4+DSTD5thComm4),LSComm45th,0))))","v":0},{"$f":"IF(RAPupaeComm4=\"\",0,(IF(BC1293<(RAPupaeComm4-DSTDPupaeComm4),0,IF(BC1293<(RAPupaeComm4+DSTDPupaeComm4),LSComm4Pupae,0))))","v":0},53.375,0,0,0,0,0,0,0,0,null,1281,{"$f":"IF(RAEggsComm5=\"\",0,(IF(BU1293<(RAEggsComm5-DSTDEggsComm5),0,IF(BU1293<(RAEggsComm5+DSTDEggsComm5),LSComm5Eggs,0))))","v":0},{"$f":"IF(RA1stComm5=\"\",0,(IF(BU1293<(RA1stComm5-DSTD1stComm5),0,IF(BU1293<(RA1stComm5+DSTD1stComm5),LSComm51st,0))))","v":0},{"$f":"IF(RA2ndComm5=\"\",0,(IF(BU1293<(RA2ndComm5-DSTD2ndComm5),0,IF(BU1293<(RA2ndComm5+DSTD2ndComm5),LSComm52nd,0))))","v":0},{"$f":"IF(RA3rdComm5=\"\",0,(IF(BU1293<(RA3rdComm5-DSTD3rdComm5),0,IF(BU1293<(RA3rdComm5+DSTD3rdComm5),LSComm53rd,0))))","v":0},{"$f":"IF(RA4thComm5=\"\",0,(IF(BU1293<(RA4thComm5-DSTD4thComm5),0,IF(BU1293<(RA4thComm5+DSTD4thComm5),LSComm54th,0))))","v":0},{"$f":"IF(RA5thComm5=\"\",0,(IF(BU1293<(RA5thComm5-DSTD5thComm5),0,IF(BU1293<(RA5thComm5+DSTD5thComm5),LSComm55th,0))))","v":0},{"$f":"IF(RAPupaeComm5=\"\",0,(IF(BU1293<(RAPupaeComm5-DSTDPupaeComm5),0,IF(BU1293<(RAPupaeComm5+DSTDPupaeComm5),LSComm5Pupae,0))))","v":0},53.375,0,0,0,0,0,0,0,0,null,1281,{"$f":"IF(RAEggsComm6=\"\",0,(IF(CM1293<(RAEggsComm6-DSTDEggsComm6),0,IF(CM1293<(RAEggsComm6+DSTDEggsComm6),LSComm6Eggs,0))))","v":0},{"$f":"IF(RA1stComm6=\"\",0,(IF(CM1293<(RA1stComm6-DSTD1stComm6),0,IF(CM1293<(RA1stComm6+DSTD1stComm6),LSComm61st,0))))","v":0},{"$f":"IF(RA2ndComm6=\"\",0,(IF(CM1293<(RA2ndComm6-DSTD2ndComm6),0,IF(CM1293<(RA2ndComm6+DSTD2ndComm6),LSComm62nd,0))))","v":0},{"$f":"IF(RA3rdComm6=\"\",0,(IF(CM1293<(RA3rdComm6-DSTD3rdComm6),0,IF(CM1293<(RA3rdComm6+DSTD3rdComm6),LSComm63rd,0))))","v":0},{"$f":"IF(RA4thComm6=\"\",0,(IF(CM1293<(RA4thComm6-DSTD4thComm6),0,IF(CM1293<(RA4thComm6+DSTD4thComm6),LSComm64th,0))))","v":0},{"$f":"IF(RA5thComm6=\"\",0,(IF(CM1293<(RA5thComm6-DSTD5thComm6),0,IF(CM1293<(RA5thComm6+DSTD5thComm6),LSComm65th,0))))","v":0},{"$f":"IF(RAPupaeComm6=\"\",0,(IF(CM1293<(RAPupaeComm6-DSTDPupaeComm6),0,IF(CM1293<(RAPupaeComm6+DSTDPupaeComm6),LSComm6Pupae,0))))","v":0},53.375,0,0,0,0,0,0,0,0,null,1281,{"$f":"IF(RAEggsComm7=\"\",0,(IF(DE1293<(RAEggsComm7-DSTDEggsComm7),0,IF(DE1293<(RAEggsComm7+DSTDEggsComm7),LSComm7Eggs,0))))","v":0},{"$f":"IF(RA1stComm7=\"\",0,(IF(DE1293<(RA1stComm7-DSTD1stComm7),0,IF(DE1293<(RA1stComm7+DSTD1stComm7),LSComm71st,0))))","v":0},{"$f":"IF(RA2ndComm7=\"\",0,(IF(DE1293<(RA2ndComm7-DSTD2ndComm7),0,IF(DE1293<(RA2ndComm7+DSTD2ndComm7),LSComm72nd,0))))","v":0},{"$f":"IF(RA3rdComm7=\"\",0,(IF(DE1293<(RA3rdComm7-DSTD3rdComm7),0,IF(DE1293<(RA3rdComm7+DSTD3rdComm7),LSComm73rd,0))))","v":0},{"$f":"IF(RA4thComm7=\"\",0,(IF(DE1293<(RA4thComm7-DSTD4thComm7),0,IF(DE1293<(RA4thComm7+DSTD4thComm7),LSComm74th,0))))","v":0},{"$f":"IF(RA5thComm7=\"\",0,(IF(DE1293<(RA5thComm7-DSTD5thComm7),0,IF(DE1293<(RA5thComm7+DSTD5thComm7),LSComm75th,0))))","v":0},{"$f":"IF(RAPupaeComm7=\"\",0,(IF(DE1293<(RAPupaeComm7-DSTDPupaeComm7),0,IF(DE1293<(RAPupaeComm7+DSTDPupaeComm7),LSComm7Pupae,0))))","v":0},53.375,0,0,0,0,0,0,0,0,null,1281,{"$f":"IF(RAEggsComm8=\"\",0,(IF(DW1293<(RAEggsComm8-DSTDEggsComm8),0,IF(DW1293<(RAEggsComm8+DSTDEggsComm8),LSComm8Eggs,0))))","v":0},{"$f":"IF(RA1stComm8=\"\",0,(IF(DW1293<(RA1stComm8-DSTD1stComm8),0,IF(DW1293<(RA1stComm8+DSTD1stComm8),LSComm81st,0))))","v":0},{"$f":"IF(RA2ndComm8=\"\",0,(IF(DW1293<(RA2ndComm8-DSTD2ndComm8),0,IF(DW1293<(RA2ndComm8+DSTD2ndComm8),LSComm82nd,0))))","v":0},{"$f":"IF(RA3rdComm8=\"\",0,(IF(DW1293<(RA3rdComm8-DSTD3rdComm8),0,IF(DW1293<(RA3rdComm8+DSTD3rdComm8),LSComm83rd,0))))","v":0},{"$f":"IF(RA4thComm8=\"\",0,(IF(DW1293<(RA4thComm8-DSTD4thComm8),0,IF(DW1293<(RA4thComm8+DSTD4thComm8),LSComm84th,0))))","v":0},{"$f":"IF(RA5thComm8=\"\",0,(IF(DW1293<(RA5thComm8-DSTD5thComm8),0,IF(DW1293<(RA5thComm8+DSTD5thComm8),LSComm85th,0))))","v":0},{"$f":"IF(RAPupaeComm8=\"\",0,(IF(DW1293<(RAPupaeComm8-DSTDPupaeComm8),0,IF(DW1293<(RAPupaeComm8+DSTDPupaeComm8),LSComm8Pupae,0))))","v":0},53.375,0,0,0,0,0,0,0,0,null,1281,{"$f":"IF(RAEggsComm9=\"\",0,(IF(EO1293<(RAEggsComm9-DSTDEggsComm9),0,IF(EO1293<(RAEggsComm9+DSTDEggsComm9),LSComm9Eggs,0))))","v":0},{"$f":"IF(RA1stComm9=\"\",0,(IF(EO1293<(RA1stComm9-DSTD1stComm9),0,IF(EO1293<(RA1stComm9+DSTD1stComm9),LSComm91st,0))))","v":0},{"$f":"IF(RA2ndComm9=\"\",0,(IF(EO1293<(RA2ndComm9-DSTD2ndComm9),0,IF(EO1293<(RA2ndComm9+DSTD2ndComm9),LSComm92nd,0))))","v":0},{"$f":"IF(RA3rdComm9=\"\",0,(IF(EO1293<(RA3rdComm9-DSTD3rdComm9),0,IF(EO1293<(RA3rdComm9+DSTD3rdComm9),LSComm93rd,0))))","v":0},{"$f":"IF(RA4thComm9=\"\",0,(IF(EO1293<(RA4thComm9-DSTD4thComm9),0,IF(EO1293<(RA4thComm9+DSTD4thComm9),LSComm94th,0))))","v":0},{"$f":"IF(RA5thComm9=\"\",0,(IF(EO1293<(RA5thComm9-DSTD5thComm9),0,IF(EO1293<(RA5thComm9+DSTD5thComm9),LSComm95th,0))))","v":0},{"$f":"IF(RAPupaeComm9=\"\",0,(IF(EO1293<(RAPupaeComm9-DSTDPupaeComm9),0,IF(EO1293<(RAPupaeComm9+DSTDPupaeComm9),LSComm9Pupae,0))))","v":0},53.375,0,0,0,0,0,0,0,0,null,1281,{"$f":"IF(RAEggsComm10=\"\",0,(IF(FG1293<(RAEggsComm10-DSTDEggsComm10),0,IF(FG1293<(RAEggsComm10+DSTDEggsComm10),LSComm10Eggs,0))))","v":0},{"$f":"IF(RA1stComm10=\"\",0,(IF(FG1293<(RA1stComm10-DSTD1stComm10),0,IF(FG1293<(RA1stComm10+DSTD1stComm10),LSComm101st,0))))","v":0},{"$f":"IF(RA2ndComm10=\"\",0,(IF(FG1293<(RA2ndComm10-DSTD2ndComm10),0,IF(FG1293<(RA2ndComm10+DSTD2ndComm10),LSComm102nd,0))))","v":0},{"$f":"IF(RA3rdComm10=\"\",0,(IF(FG1293<(RA3rdComm10-DSTD3rdComm10),0,IF(FG1293<(RA3rdComm10+DSTD3rdComm10),LSComm103rd,0))))","v":0},{"$f":"IF(RA4thComm10=\"\",0,(IF(FG1293<(RA4thComm10-DSTD4thComm10),0,IF(FG1293<(RA4thComm10+DSTD4thComm10),LSComm104th,0))))","v":0},{"$f":"IF(RA5thComm10=\"\",0,(IF(FG1293<(RA5thComm10-DSTD5thComm10),0,IF(FG1293<(RA5thComm10+DSTD5thComm10),LSComm105th,0))))","v":0},{"$f":"IF(RAPupaeComm10=\"\",0,(IF(FG1293<(RAPupaeComm10-DSTDPupaeComm10),0,IF(FG1293<(RAPupaeComm10+DSTDPupaeComm10),LSComm10Pupae,0))))","v":0},53.375,0,0,0,0,0,0,0,0]
[1287,0,0,0,0,0,0,0,53.625,0,0,0,0,0,0,0,0,null,1287,0,0,0,0,0,0,0,53.625,0,0,0,0,0,0,0,0,null,1287,0,0,0,0,0,0,0,53.625,0,0,0,0,0,0,0,0,null,1287,0,0,0,0,0,0,0,53.625,0,0,0,0,0,0,0,0,null,1287,0,0,0,0,0,0,0,53.625,0,0,0,0,0,0,0,0,null,1287,0,0,0,0,0,0,0,53.625,0,0,0,0,0,0,0,0,null,1287,0,0,0,0,0,0,0,53.625,0,0,0,0,0,0,0,0,null,1287,0,0,0,0,0,0,0,53.625,0,0,0,0,0,0,0,0,null,1287,0,0,0,0,0,0,0,53.625,0,0,0,0,0,0,0,0,null,1287,0,0,0,0,0,0,0,53.625,0,0,0,0,0,0,0,0]
[1293,0,0,0,0,0,0,0,53.875,0,0,0,0,0,0,0,0,null,1293,0,0,0,0,0,0,0,53.875,0,0,0,0,0,0,0,0,null,1293,0,0,0,0,0,0,0,53.875,0,0,0,0,0,0,0,0,null,1293,0,0,0,0,0,0,0,53.875,0,0,0,0,0,0,0,0,null,1293,0,0,0,0,0,0,0,53.875,0,0,0,0,0,0,0,0,null,1293,0,0,0,0,0,0,0,53.875,0,0,0,0,0,0,0,0,null,1293,0,0,0,0,0,0,0,53.875,0,0,0,0,0,0,0,0,null,1293,0,0,0,0,0,0,0,53.875,0,0,0,0,0,0,0,0,null,1293,0,0,0,0,0,0,0,53.875,0,0,0,0,0,0,0,0,null,1293,0,0,0,0,0,0,0,53.875,0,0,0,0,0,0,0,0]
[1298,0,0,0,0,0,0,0,54.083333333333336,0,0,0,0,0,0,0,0,null,1298,0,0,0,0,0,0,0,54.083333333333336,0,0,0,0,0,0,0,0,null,1298,0,0,0,0,0,0,0,54.083333333333336,0,0,0,0,0,0,0,0,null,1298,0,0,0,0,0,0,0,54.083333333333336,0,0,0,0,0,0,0,0,null,1298,0,0,0,0,0,0,0,54.083333333333336,0,0,0,0,0,0,0,0,null,1298,0,0,0,0,0,0,0,54.083333333333336,0,0,0,0,0,0,0,0,null,1298,0,0,0,0,0,0,0,54.083333333333336,0,0,0,0,0,0,0,0,null,1298,0,0,0,0,0,0,0,54.083333333333336,0,0,0,0,0,0,0,0,null,1298,0,0,0,0,0,0,0,54.083333333333336,0,0,0,0,0,0,0,0,null,1298,0,0,0,0,0,0,0,54.083333333333336,0,0,0,0,0,0,0,0]
[1299,0,0,0,0,0,0,0,54.125,0,0,0,0,0,0,0,0,null,1299,0,0,0,0,0,0,0,54.125,0,0,0,0,0,0,0,0,null,1299,0,0,0,0,0,0,0,54.125,0,0,0,0,0,0,0,0,null,1299,0,0,0,0,0,0,0,54.125,0,0,0,0,0,0,0,0,null,1299,0,0,0,0,0,0,0,54.125,0,0,0,0,0,0,0,0,null,1299,0,0,0,0,0,0,0,54.125,0,0,0,0,0,0,0,0,null,1299,0,0,0,0,0,0,0,54.125,0,0,0,0,0,0,0,0,null,1299,0,0,0,0,0,0,0,54.125,0,0,0,0,0,0,0,0,null,1299,0,0,0,0,0,0,0,54.125,0,0,0,0,0,0,0,0,null,1299,0,0,0,0,0,0,0,54.125,0,0,0,0,0,0,0,0]
[1304,0,0,0,0,0,0,0,54.333333333333336,0,0,0,0,0,0,0,0,null,1304,0,0,0,0,0,0,0,54.333333333333336,0,0,0,0,0,0,0,0,null,1304,0,0,0,0,0,0,0,54.333333333333336,0,0,0,0,0,0,0,0,null,1304,0,0,0,0,0,0,0,54.333333333333336,0,0,0,0,0,0,0,0,null,1304,0,0,0,0,0,0,0,54.333333333333336,0,0,0,0,0,0,0,0,null,1304,0,0,0,0,0,0,0,54.333333333333336,0,0,0,0,0,0,0,0,null,1304,0,0,0,0,0,0,0,54.333333333333336,0,0,0,0,0,0,0,0,null,1304,0,0,0,0,0,0,0,54.333333333333336,0,0,0,0,0,0,0,0,null,1304,0,0,0,0,0,0,0,54.333333333333336,0,0,0,0,0,0,0,0,null,1304,0,0,0,0,0,0,0,54.333333333333336,0,0,0,0,0,0,0,0]
[1312,0,0,0,0,0,0,0,54.666666666666664,0,0,0,0,0,0,0,0,null,1312,0,0,0,0,0,0,0,54.666666666666664,0,0,0,0,0,0,0,0,null,1312,0,0,0,0,0,0,0,54.666666666666664,0,0,0,0,0,0,0,0,null,1312,0,0,0,0,0,0,0,54.666666666666664,0,0,0,0,0,0,0,0,null,1312,0,0,0,0,0,0,0,54.666666666666664,0,0,0,0,0,0,0,0,null,1312,0,0,0,0,0,0,0,54.666666666666664,0,0,0,0,0,0,0,0,null,1312,0,0,0,0,0,0,0,54.666666666666664,0,0,0,0,0,0,0,0,null,1312,0,0,0,0,0,0,0,54.666666666666664,0,0,0,0,0,0,0,0,null,1312,0,0,0,0,0,0,0,54.666666666666664,0,0,0,0,0,0,0,0,null,1312,0,0,0,0,0,0,0,54.666666666666664,0,0,0,0,0,0,0,0]
[1314,0,0,0,0,0,0,0,54.75,0,0,0,0,0,0,0,0,null,1314,0,0,0,0,0,0,0,54.75,0,0,0,0,0,0,0,0,null,1314,0,0,0,0,0,0,0,54.75,0,0,0,0,0,0,0,0,null,1314,0,0,0,0,0,0,0,54.75,0,0,0,0,0,0,0,0,null,1314,0,0,0,0,0,0,0,54.75,0,0,0,0,0,0,0,0,null,1314,0,0,0,0,0,0,0,54.75,0,0,0,0,0,0,0,0,null,1314,0,0,0,0,0,0,0,54.75,0,0,0,0,0,0,0,0,null,1314,0,0,0,0,0,0,0,54.75,0,0,0,0,0,0,0,0,null,1314,0,0,0,0,0,0,0,54.75,0,0,0,0,0,0,0,0,null,1314,0,0,0,0,0,0,0,54.75,0,0,0,0,0,0,0,0]
[1319,0,0,0,0,0,0,0,54.958333333333336,0,0,0,0,0,0,0,0,null,1319,0,0,0,0,0,0,0,54.958333333333336,0,0,0,0,0,0,0,0,null,1319,0,0,0,0,0,0,0,54.958333333333336,0,0,0,0,0,0,0,0,null,1319,0,0,0,0,0,0,0,54.958333333333336,0,0,0,0,0,0,0,0,null,1319,0,0,0,0,0,0,0,54.958333333333336,0,0,0,0,0,0,0,0,null,1319,0,0,0,0,0,0,0,54.958333333333336,0,0,0,0,0,0,0,0,null,1319,0,0,0,0,0,0,0,54.958333333333336,0,0,0,0,0,0,0,0,null,1319,0,0,0,0,0,0,0,54.958333333333336,0,0,0,0,0,0,0,0,null,1319,0,0,0,0,0,0,0,54.958333333333336,0,0,0,0,0,0,0,0,null,1319,0,0,0,0,0,0,0,54.958333333333336,0,0,0,0,0,0,0,0]
[1324,0,0,0,0,0,0,0,55.166666666666664,0,0,0,0,0,0,0,0,null,1324,0,0,0,0,0,0,0,55.166666666666664,0,0,0,0,0,0,0,0,null,1324,0,0,0,0,0,0,0,55.166666666666664,0,0,0,0,0,0,0,0,null,1324,0,0,0,0,0,0,0,55.166666666666664,0,0,0,0,0,0,0,0,null,1324,0,0,0,0,0,0,0,55.166666666666664,0,0,0,0,0,0,0,0,null,1324,0,0,0,0,0,0,0,55.166666666666664,0,0,0,0,0,0,0,0,null,1324,0,0,0,0,0,0,0,55.166666666666664,0,0,0,0,0,0,0,0,null,1324,0,0,0,0,0,0,0,55.166666666666664,0,0,0,0,0,0,0,0,null,1324,0,0,0,0,0,0,0,55.166666666666664,0,0,0,0,0,0,0,0,null,1324,0,0,0,0,0,0,0,55.166666666666664,0,0,0,0,0,0,0,0]
[1330,0,0,0,0,0,0,0,55.416666666666664,0,0,0,0,0,0,0,0,null,1330,0,0,0,0,0,0,0,55.416666666666664,0,0,0,0,0,0,0,0,null,1330,0,0,0,0,0,0,0,55.416666666666664,0,0,0,0,0,0,0,0,null,1330,0,0,0,0,0,0,0,55.416666666666664,0,0,0,0,0,0,0,0,null,1330,0,0,0,0,0,0,0,55.416666666666664,0,0,0,0,0,0,0,0,null,1330,0,0,0,0,0,0,0,55.416666666666664,0,0,0,0,0,0,0,0,null,1330,0,0,0,0,0,0,0,55.416666666666664,0,0,0,0,0,0,0,0,null,1330,0,0,0,0,0,0,0,55.416666666666664,0,0,0,0,0,0,0,0,null,1330,0,0,0,0,0,0,0,55.416666666666664,0,0,0,0,0,0,0,0,null,1330,0,0,0,0,0,0,0,55.416666666666664,0,0,0,0,0,0,0,0]
[1333,0,0,0,0,0,0,0,55.541666666666664,0,0,0,0,0,0,0,0,null,1333,0,0,0,0,0,0,0,55.541666666666664,0,0,0,0,0,0,0,0,null,1333,0,0,0,0,0,0,0,55.541666666666664,0,0,0,0,0,0,0,0,null,1333,0,0,0,0,0,0,0,55.541666666666664,0,0,0,0,0,0,0,0,null,1333,0,0,0,0,0,0,0,55.541666666666664,0,0,0,0,0,0,0,0,null,1333,0,0,0,0,0,0,0,55.541666666666664,0,0,0,0,0,0,0,0,null,1333,0,0,0,0,0,0,0,55.541666666666664,0,0,0,0,0,0,0,0,null,1333,0,0,0,0,0,0,0,55.541666666666664,0,0,0,0,0,0,0,0,null,1333,0,0,0,0,0,0,0,55.541666666666664,0,0,0,0,0,0,0,0,null,1333,0,0,0,0,0,0,0,55.541666666666664,0,0,0,0,0,0,0,0]
[1340,0,0,0,0,0,0,0,55.833333333333336,0,0,0,0,0,0,0,0,null,1340,0,0,0,0,0,0,0,55.833333333333336,0,0,0,0,0,0,0,0,null,1340,0,0,0,0,0,0,0,55.833333333333336,0,0,0,0,0,0,0,0,null,1340,0,0,0,0,0,0,0,55.833333333333336,0,0,0,0,0,0,0,0,null,1340,0,0,0,0,0,0,0,55.833333333333336,0,0,0,0,0,0,0,0,null,1340,0,0,0,0,0,0,0,55.833333333333336,0,0,0,0,0,0,0,0,null,1340,0,0,0,0,0,0,0,55.833333333333336,0,0,0,0,0,0,0,0,null,1340,0,0,0,0,0,0,0,55.833333333333336,0,0,0,0,0,0,0,0,null,1340,0,0,0,0,0,0,0,55.833333333333336,0,0,0,0,0,0,0,0,null,1340,0,0,0,0,0,0,0,55.833333333333336,0,0,0,0,0,0,0,0]
[1345,{"$f":"IF(RAEggsComm1=\"\",0,(IF(A1357<(RAEggsComm1-DSTDEggsComm1),0,IF(A1357<(RAEggsComm1+DSTDEggsComm1),LSComm1Eggs,0))))","v":0},{"$f":"IF(RA1stComm1=\"\",0,(IF(A1357<(RA1stComm1-DSTD1stComm1),0,IF(A1357<(RA1stComm1+DSTD1stComm1),LSComm11st,0))))","v":0},{"$f":"IF(RA2ndComm1=\"\",0,(IF(A1357<(RA2ndComm1-DSTD2ndComm1),0,IF(A1357<(RA2ndComm1+DSTD2ndComm1),LSComm12nd,0))))","v":0},{"$f":"IF(RA3rdComm1=\"\",0,(IF(A1357<(RA3rdComm1-DSTD3rdComm1),0,IF(A1357<(RA3rdComm1+DSTD3rdComm1),LSComm13rd,0))))","v":0},{"$f":"IF(RA4thComm1=\"\",0,(IF(A1357<(RA4thComm1-DSTD4thComm1),0,IF(A1357<(RA4thComm1+DSTD4thComm1),LSComm14th,0))))","v":0},{"$f":"IF(RA5thComm1=\"\",0,(IF(A1357<(RA5thComm1-DSTD5thComm1),0,IF(A1357<(RA5thComm1+DSTD5thComm1),LSComm15th,0))))","v":0},{"$f":"IF(RAPupaeComm1=\"\",0,(IF(A1357<(RAPupaeComm1-DSTDPupaeComm1),0,IF(A1357<(RAPupaeComm1+DSTDPupaeComm1),LSComm1Pupae,0))))","v":0},56.041666666666664,0,0,0,0,0,0,0,0,null,1345,{"$f":"IF(RAEggsComm2=\"\",0,(IF(S1357<(RAEggsComm2-DSTDEggsComm2),0,IF(S1357<(RAEggsComm2+DSTDEggsComm2),LSComm2Eggs,0))))","v":0},{"$f":"IF(RA1stComm2=\"\",0,(IF(S1357<(RA1stComm2-DSTD1stComm2),0,IF(S1357<(RA1stComm2+DSTD1stComm2),LSComm21st,0))))","v":0},{"$f":"IF(RA2ndComm2=\"\",0,(IF(S1357<(RA2ndComm2-DSTD2ndComm2),0,IF(S1357<(RA2ndComm2+DSTD2ndComm2),LSComm22nd,0))))","v":0},{"$f":"IF(RA3rdComm2=\"\",0,(IF(S1357<(RA3rdComm2-DSTD3rdComm2),0,IF(S1357<(RA3rdComm2+DSTD3rdComm2),LSComm23rd,0))))","v":0},{"$f":"IF(RA4thComm2=\"\",0,(IF(S1357<(RA4thComm2-DSTD4thComm2),0,IF(S1357<(RA4thComm2+DSTD4thComm2),LSComm24th,0))))","v":0},{"$f":"IF(RA5thComm2=\"\",0,(IF(S1357<(RA5thComm2-DSTD5thComm2),0,IF(S1357<(RA5thComm2+DSTD5thComm2),LSComm25th,0))))","v":0},{"$f":"IF(RAPupaeComm2=\"\",0,(IF(S1357<(RAPupaeComm2-DSTDPupaeComm2),0,IF(S1357<(RAPupaeComm2+DSTDPupaeComm2),LSComm2Pupae,0))))","v":0},56.041666666666664,0,0,0,0,0,0,0,0,null,1345,{"$f":"IF(RAEggsComm3=\"\",0,(IF(AK1357<(RAEggsComm3-DSTDEggsComm3),0,IF(AK1357<(RAEggsComm3+DSTDEggsComm3),LSComm3Eggs,0))))","v":0},{"$f":"IF(RA1stComm3=\"\",0,(IF(AK1357<(RA1stComm3-DSTD1stComm3),0,IF(AK1357<(RA1stComm3+DSTD1stComm3),LSComm31st,0))))","v":0},{"$f":"IF(RA2ndComm3=\"\",0,(IF(AK1357<(RA2ndComm3-DSTD2ndComm3),0,IF(AK1357<(RA2ndComm3+DSTD2ndComm3),LSComm32nd,0))))","v":0},{"$f":"IF(RA3rdComm3=\"\",0,(IF(AK1357<(RA3rdComm3-DSTD3rdComm3),0,IF(AK1357<(RA3rdComm3+DSTD3rdComm3),LSComm33rd,0))))","v":0},{"$f":"IF(RA4thComm3=\"\",0,(IF(AK1357<(RA4thComm3-DSTD4thComm3),0,IF(AK1357<(RA4thComm3+DSTD4thComm3),LSComm34th,0))))","v":0},{"$f":"IF(RA5thComm3=\"\",0,(IF(AK1357<(RA5thComm3-DSTD5thComm3),0,IF(AK1357<(RA5thComm3+DSTD5thComm3),LSComm35th,0))))","v":0},{"$f":"IF(RAPupaeComm3=\"\",0,(IF(AK1357<(RAPupaeComm3-DSTDPupaeComm3),0,IF(AK1357<(RAPupaeComm3+DSTDPupaeComm3),LSComm3Pupae,0))))","v":0},56.041666666666664,0,0,0,0,0,0,0,0,null,1345,{"$f":"IF(RAEggsComm4=\"\",0,(IF(BC1357<(RAEggsComm4-DSTDEggsComm4),0,IF(BC1357<(RAEggsComm4+DSTDEggsComm4),LSComm4Eggs,0))))","v":0},{"$f":"IF(RA1stComm4=\"\",0,(IF(BC1357<(RA1stComm4-DSTD1stComm4),0,IF(BC1357<(RA1stComm4+DSTD1stComm4),LSComm41st,0))))","v":0},{"$f":"IF(RA2ndComm4=\"\",0,(IF(BC1357<(RA2ndComm4-DSTD2ndComm4),0,IF(BC1357<(RA2ndComm4+DSTD2ndComm4),LSComm42nd,0))))","v":0},{"$f":"IF(RA3rdComm4=\"\",0,(IF(BC1357<(RA3rdComm4-DSTD3rdComm4),0,IF(BC1357<(RA3rdComm4+DSTD3rdComm4),LSComm43rd,0))))","v":0},{"$f":"IF(RA4thComm4=\"\",0,(IF(BC1357<(RA4thComm4-DSTD4thComm4),0,IF(BC1357<(RA4thComm4+DSTD4thComm4),LSComm44th,0))))","v":0},{"$f":"IF(RA5thComm4=\"\",0,(IF(BC1357<(RA5thComm4-DSTD5thComm4),0,IF(BC1357<(RA5thComm4+DSTD5thComm4),LSComm45th,0))))","v":0},{"$f":"IF(RAPupaeComm4=\"\",0,(IF(BC1357<(RAPupaeComm4-DSTDPupaeComm4),0,IF(BC1357<(RAPupaeComm4+DSTDPupaeComm4),LSComm4Pupae,0))))","v":0},56.041666666666664,0,0,0,0,0,0,0,0,null,1345,{"$f":"IF(RAEggsComm5=\"\",0,(IF(BU1357<(RAEggsComm5-DSTDEggsComm5),0,IF(BU1357<(RAEggsComm5+DSTDEggsComm5),LSComm5Eggs,0))))","v":0},{"$f":"IF(RA1stComm5=\"\",0,(IF(BU1357<(RA1stComm5-DSTD1stComm5),0,IF(BU1357<(RA1stComm5+DSTD1stComm5),LSComm51st,0))))","v":0},{"$f":"IF(RA2ndComm5=\"\",0,(IF(BU1357<(RA2ndComm5-DSTD2ndComm5),0,IF(BU1357<(RA2ndComm5+DSTD2ndComm5),LSComm52nd,0))))","v":0},{"$f":"IF(RA3rdComm5=\"\",0,(IF(BU1357<(RA3rdComm5-DSTD3rdComm5),0,IF(BU1357<(RA3rdComm5+DSTD3rdComm5),LSComm53rd,0))))","v":0},{"$f":"IF(RA4thComm5=\"\",0,(IF(BU1357<(RA4thComm5-DSTD4thComm5),0,IF(BU1357<(RA4thComm5+DSTD4thComm5),LSComm54th,0))))","v":0},{"$f":"IF(RA5thComm5=\"\",0,(IF(BU1357<(RA5thComm5-DSTD5thComm5),0,IF(BU1357<(RA5thComm5+DSTD5thComm5),LSComm55th,0))))","v":0},{"$f":"IF(RAPupaeComm5=\"\",0,(IF(BU1357<(RAPupaeComm5-DSTDPupaeComm5),0,IF(BU1357<(RAPupaeComm5+DSTDPupaeComm5),LSComm5Pupae,0))))","v":0},56.041666666666664,0,0,0,0,0,0,0,0,null,1345,{"$f":"IF(RAEggsComm6=\"\",0,(IF(CM1357<(RAEggsComm6-DSTDEggsComm6),0,IF(CM1357<(RAEggsComm6+DSTDEggsComm6),LSComm6Eggs,0))))","v":0},{"$f":"IF(RA1stComm6=\"\",0,(IF(CM1357<(RA1stComm6-DSTD1stComm6),0,IF(CM1357<(RA1stComm6+DSTD1stComm6),LSComm61st,0))))","v":0},{"$f":"IF(RA2ndComm6=\"\",0,(IF(CM1357<(RA2ndComm6-DSTD2ndComm6),0,IF(CM1357<(RA2ndComm6+DSTD2ndComm6),LSComm62nd,0))))","v":0},{"$f":"IF(RA3rdComm6=\"\",0,(IF(CM1357<(RA3rdComm6-DSTD3rdComm6),0,IF(CM1357<(RA3rdComm6+DSTD3rdComm6),LSComm63rd,0))))","v":0},{"$f":"IF(RA4thComm6=\"\",0,(IF(CM1357<(RA4thComm6-DSTD4thComm6),0,IF(CM1357<(RA4thComm6+DSTD4thComm6),LSComm64th,0))))","v":0},{"$f":"IF(RA5thComm6=\"\",0,(IF(CM1357<(RA5thComm6-DSTD5thComm6),0,IF(CM1357<(RA5thComm6+DSTD5thComm6),LSComm65th,0))))","v":0},{"$f":"IF(RAPupaeComm6=\"\",0,(IF(CM1357<(RAPupaeComm6-DSTDPupaeComm6),0,IF(CM1357<(RAPupaeComm6+DSTDPupaeComm6),LSComm6Pupae,0))))","v":0},56.041666666666664,0,0,0,0,0,0,0,0,null,1345,{"$f":"IF(RAEggsComm7=\"\",0,(IF(DE1357<(RAEggsComm7-DSTDEggsComm7),0,IF(DE1357<(RAEggsComm7+DSTDEggsComm7),LSComm7Eggs,0))))","v":0},{"$f":"IF(RA1stComm7=\"\",0,(IF(DE1357<(RA1stComm7-DSTD1stComm7),0,IF(DE1357<(RA1stComm7+DSTD1stComm7),LSComm71st,0))))","v":0},{"$f":"IF(RA2ndComm7=\"\",0,(IF(DE1357<(RA2ndComm7-DSTD2ndComm7),0,IF(DE1357<(RA2ndComm7+DSTD2ndComm7),LSComm72nd,0))))","v":0},{"$f":"IF(RA3rdComm7=\"\",0,(IF(DE1357<(RA3rdComm7-DSTD3rdComm7),0,IF(DE1357<(RA3rdComm7+DSTD3rdComm7),LSComm73rd,0))))","v":0},{"$f":"IF(RA4thComm7=\"\",0,(IF(DE1357<(RA4thComm7-DSTD4thComm7),0,IF(DE1357<(RA4thComm7+DSTD4thComm7),LSComm74th,0))))","v":0},{"$f":"IF(RA5thComm7=\"\",0,(IF(DE1357<(RA5thComm7-DSTD5thComm7),0,IF(DE1357<(RA5thComm7+DSTD5thComm7),LSComm75th,0))))","v":0},{"$f":"IF(RAPupaeComm7=\"\",0,(IF(DE1357<(RAPupaeComm7-DSTDPupaeComm7),0,IF(DE1357<(RAPupaeComm7+DSTDPupaeComm7),LSComm7Pupae,0))))","v":0},56.041666666666664,0,0,0,0,0,0,0,0,null,1345,{"$f":"IF(RAEggsComm8=\"\",0,(IF(DW1357<(RAEggsComm8-DSTDEggsComm8),0,IF(DW1357<(RAEggsComm8+DSTDEggsComm8),LSComm8Eggs,0))))","v":0},{"$f":"IF(RA1stComm8=\"\",0,(IF(DW1357<(RA1stComm8-DSTD1stComm8),0,IF(DW1357<(RA1stComm8+DSTD1stComm8),LSComm81st,0))))","v":0},{"$f":"IF(RA2ndComm8=\"\",0,(IF(DW1357<(RA2ndComm8-DSTD2ndComm8),0,IF(DW1357<(RA2ndComm8+DSTD2ndComm8),LSComm82nd,0))))","v":0},{"$f":"IF(RA3rdComm8=\"\",0,(IF(DW1357<(RA3rdComm8-DSTD3rdComm8),0,IF(DW1357<(RA3rdComm8+DSTD3rdComm8),LSComm83rd,0))))","v":0},{"$f":"IF(RA4thComm8=\"\",0,(IF(DW1357<(RA4thComm8-DSTD4thComm8),0,IF(DW1357<(RA4thComm8+DSTD4thComm8),LSComm84th,0))))","v":0},{"$f":"IF(RA5thComm8=\"\",0,(IF(DW1357<(RA5thComm8-DSTD5thComm8),0,IF(DW1357<(RA5thComm8+DSTD5thComm8),LSComm85th,0))))","v":0},{"$f":"IF(RAPupaeComm8=\"\",0,(IF(DW1357<(RAPupaeComm8-DSTDPupaeComm8),0,IF(DW1357<(RAPupaeComm8+DSTDPupaeComm8),LSComm8Pupae,0))))","v":0},56.041666666666664,0,0,0,0,0,0,0,0,null,1345,{"$f":"IF(RAEggsComm9=\"\",0,(IF(EO1357<(RAEggsComm9-DSTDEggsComm9),0,IF(EO1357<(RAEggsComm9+DSTDEggsComm9),LSComm9Eggs,0))))","v":0},{"$f":"IF(RA1stComm9=\"\",0,(IF(EO1357<(RA1stComm9-DSTD1stComm9),0,IF(EO1357<(RA1stComm9+DSTD1stComm9),LSComm91st,0))))","v":0},{"$f":"IF(RA2ndComm9=\"\",0,(IF(EO1357<(RA2ndComm9-DSTD2ndComm9),0,IF(EO1357<(RA2ndComm9+DSTD2ndComm9),LSComm92nd,0))))","v":0},{"$f":"IF(RA3rdComm9=\"\",0,(IF(EO1357<(RA3rdComm9-DSTD3rdComm9),0,IF(EO1357<(RA3rdComm9+DSTD3rdComm9),LSComm93rd,0))))","v":0},{"$f":"IF(RA4thComm9=\"\",0,(IF(EO1357<(RA4thComm9-DSTD4thComm9),0,IF(EO1357<(RA4thComm9+DSTD4thComm9),LSComm94th,0))))","v":0},{"$f":"IF(RA5thComm9=\"\",0,(IF(EO1357<(RA5thComm9-DSTD5thComm9),0,IF(EO1357<(RA5thComm9+DSTD5thComm9),LSComm95th,0))))","v":0},{"$f":"IF(RAPupaeComm9=\"\",0,(IF(EO1357<(RAPupaeComm9-DSTDPupaeComm9),0,IF(EO1357<(RAPupaeComm9+DSTDPupaeComm9),LSComm9Pupae,0))))","v":0},56.041666666666664,0,0,0,0,0,0,0,0,null,1345,{"$f":"IF(RAEggsComm10=\"\",0,(IF(FG1357<(RAEggsComm10-DSTDEggsComm10),0,IF(FG1357<(RAEggsComm10+DSTDEggsComm10),LSComm10Eggs,0))))","v":0},{"$f":"IF(RA1stComm10=\"\",0,(IF(FG1357<(RA1stComm10-DSTD1stComm10),0,IF(FG1357<(RA1stComm10+DSTD1stComm10),LSComm101st,0))))","v":0},{"$f":"IF(RA2ndComm10=\"\",0,(IF(FG1357<(RA2ndComm10-DSTD2ndComm10),0,IF(FG1357<(RA2ndComm10+DSTD2ndComm10),LSComm102nd,0))))","v":0},{"$f":"IF(RA3rdComm10=\"\",0,(IF(FG1357<(RA3rdComm10-DSTD3rdComm10),0,IF(FG1357<(RA3rdComm10+DSTD3rdComm10),LSComm103rd,0))))","v":0},{"$f":"IF(RA4thComm10=\"\",0,(IF(FG1357<(RA4thComm10-DSTD4thComm10),0,IF(FG1357<(RA4thComm10+DSTD4thComm10),LSComm104th,0))))","v":0},{"$f":"IF(RA5thComm10=\"\",0,(IF(FG1357<(RA5thComm10-DSTD5thComm10),0,IF(FG1357<(RA5thComm10+DSTD5thComm10),LSComm105th,0))))","v":0},{"$f":"IF(RAPupaeComm10=\"\",0,(IF(FG1357<(RAPupaeComm10-DSTDPupaeComm10),0,IF(FG1357<(RAPupaeComm10+DSTDPupaeComm10),LSComm10Pupae,0))))","v":0},56.041666666666664,0,0,0,0,0,0,0,0]
[1350,0,0,0,0,0,0,0,56.25,0,0,0,0,0,0,0,0,null,1350,0,0,0,0,0,0,0,56.25,0,0,0,0,0,0,0,0,null,1350,0,0,0,0,0,0,0,56.25,0,0,0,0,0,0,0,0,null,1350,0,0,0,0,0,0,0,56.25,0,0,0,0,0,0,0,0,null,1350,0,0,0,0,0,0,0,56.25,0,0,0,0,0,0,0,0,null,1350,0,0,0,0,0,0,0,56.25,0,0,0,0,0,0,0,0,null,1350,0,0,0,0,0,0,0,56.25,0,0,0,0,0,0,0,0,null,1350,0,0,0,0,0,0,0,56.25,0,0,0,0,0,0,0,0,null,1350,0,0,0,0,0,0,0,56.25,0,0,0,0,0,0,0,0,null,1350,0,0,0,0,0,0,0,56.25,0,0,0,0,0,0,0,0]
[1356,0,0,0,0,0,0,0,56.5,0,0,0,0,0,0,0,0,null,1356,0,0,0,0,0,0,0,56.5,0,0,0,0,0,0,0,0,null,1356,0,0,0,0,0,0,0,56.5,0,0,0,0,0,0,0,0,null,1356,0,0,0,0,0,0,0,56.5,0,0,0,0,0,0,0,0,null,1356,0,0,0,0,0,0,0,56.5,0,0,0,0,0,0,0,0,null,1356,0,0,0,0,0,0,0,56.5,0,0,0,0,0,0,0,0,null,1356,0,0,0,0,0,0,0,56.5,0,0,0,0,0,0,0,0,null,1356,0,0,0,0,0,0,0,56.5,0,0,0,0,0,0,0,0,null,1356,0,0,0,0,0,0,0,56.5,0,0,0,0,0,0,0,0,null,1356,0,0,0,0,0,0,0,56.5,0,0,0,0,0,0,0,0]
[1361,0,0,0,0,0,0,0,56.708333333333336,0,0,0,0,0,0,0,0,null,1361,0,0,0,0,0,0,0,56.708333333333336,0,0,0,0,0,0,0,0,null,1361,0,0,0,0,0,0,0,56.708333333333336,0,0,0,0,0,0,0,0,null,1361,0,0,0,0,0,0,0,56.708333333333336,0,0,0,0,0,0,0,0,null,1361,0,0,0,0,0,0,0,56.708333333333336,0,0,0,0,0,0,0,0,null,1361,0,0,0,0,0,0,0,56.708333333333336,0,0,0,0,0,0,0,0,null,1361,0,0,0,0,0,0,0,56.708333333333336,0,0,0,0,0,0,0,0,null,1361,0,0,0,0,0,0,0,56.708333333333336,0,0,0,0,0,0,0,0,null,1361,0,0,0,0,0,0,0,56.708333333333336,0,0,0,0,0,0,0,0,null,1361,0,0,0,0,0,0,0,56.708333333333336,0,0,0,0,0,0,0,0]
[1364,0,0,0,0,0,0,0,56.833333333333336,0,0,0,0,0,0,0,0,null,1364,0,0,0,0,0,0,0,56.833333333333336,0,0,0,0,0,0,0,0,null,1364,0,0,0,0,0,0,0,56.833333333333336,0,0,0,0,0,0,0,0,null,1364,0,0,0,0,0,0,0,56.833333333333336,0,0,0,0,0,0,0,0,null,1364,0,0,0,0,0,0,0,56.833333333333336,0,0,0,0,0,0,0,0,null,1364,0,0,0,0,0,0,0,56.833333333333336,0,0,0,0,0,0,0,0,null,1364,0,0,0,0,0,0,0,56.833333333333336,0,0,0,0,0,0,0,0,null,1364,0,0,0,0,0,0,0,56.833333333333336,0,0,0,0,0,0,0,0,null,1364,0,0,0,0,0,0,0,56.833333333333336,0,0,0,0,0,0,0,0,null,1364,0,0,0,0,0,0,0,56.833333333333336,0,0,0,0,0,0,0,0]
[1366,0,0,0,0,0,0,0,56.916666666666664,0,0,0,0,0,0,0,0,null,1366,0,0,0,0,0,0,0,56.916666666666664,0,0,0,0,0,0,0,0,null,1366,0,0,0,0,0,0,0,56.916666666666664,0,0,0,0,0,0,0,0,null,1366,0,0,0,0,0,0,0,56.916666666666664,0,0,0,0,0,0,0,0,null,1366,0,0,0,0,0,0,0,56.916666666666664,0,0,0,0,0,0,0,0,null,1366,0,0,0,0,0,0,0,56.916666666666664,0,0,0,0,0,0,0,0,null,1366,0,0,0,0,0,0,0,56.916666666666664,0,0,0,0,0,0,0,0,null,1366,0,0,0,0,0,0,0,56.916666666666664,0,0,0,0,0,0,0,0,null,1366,0,0,0,0,0,0,0,56.916666666666664,0,0,0,0,0,0,0,0,null,1366,0,0,0,0,0,0,0,56.916666666666664,0,0,0,0,0,0,0,0]
[1371,0,0,0,0,0,0,0,57.125,0,0,0,0,0,0,0,0,null,1371,0,0,0,0,0,0,0,57.125,0,0,0,0,0,0,0,0,null,1371,0,0,0,0,0,0,0,57.125,0,0,0,0,0,0,0,0,null,1371,0,0,0,0,0,0,0,57.125,0,0,0,0,0,0,0,0,null,1371,0,0,0,0,0,0,0,57.125,0,0,0,0,0,0,0,0,null,1371,0,0,0,0,0,0,0,57.125,0,0,0,0,0,0,0,0,null,1371,0,0,0,0,0,0,0,57.125,0,0,0,0,0,0,0,0,null,1371,0,0,0,0,0,0,0,57.125,0,0,0,0,0,0,0,0,null,1371,0,0,0,0,0,0,0,57.125,0,0,0,0,0,0,0,0,null,1371,0,0,0,0,0,0,0,57.125,0,0,0,0,0,0,0,0]
[1377,0,0,0,0,0,0,0,57.375,0,0,0,0,0,0,0,0,null,1377,0,0,0,0,0,0,0,57.375,0,0,0,0,0,0,0,0,null,1377,0,0,0,0,0,0,0,57.375,0,0,0,0,0,0,0,0,null,1377,0,0,0,0,0,0,0,57.375,0,0,0,0,0,0,0,0,null,1377,0,0,0,0,0,0,0,57.375,0,0,0,0,0,0,0,0,null,1377,0,0,0,0,0,0,0,57.375,0,0,0,0,0,0,0,0,null,1377,0,0,0,0,0,0,0,57.375,0,0,0,0,0,0,0,0,null,1377,0,0,0,0,0,0,0,57.375,0,0,0,0,0,0,0,0,null,1377,0,0,0,0,0,0,0,57.375,0,0,0,0,0,0,0,0,null,1377,0,0,0,0,0,0,0,57.375,0,0,0,0,0,0,0,0]
[1382,0,0,0,0,0,0,0,57.583333333333336,0,0,0,0,0,0,0,0,null,1382,0,0,0,0,0,0,0,57.583333333333336,0,0,0,0,0,0,0,0,null,1382,0,0,0,0,0,0,0,57.583333333333336,0,0,0,0,0,0,0,0,null,1382,0,0,0,0,0,0,0,57.583333333333336,0,0,0,0,0,0,0,0,null,1382,0,0,0,0,0,0,0,57.583333333333336,0,0,0,0,0,0,0,0,null,1382,0,0,0,0,0,0,0,57.583333333333336,0,0,0,0,0,0,0,0,null,1382,0,0,0,0,0,0,0,57.583333333333336,0,0,0,0,0,0,0,0,null,1382,0,0,0,0,0,0,0,57.583333333333336,0,0,0,0,0,0,0,0,null,1382,0,0,0,0,0,0,0,57.583333333333336,0,0,0,0,0,0,0,0,null,1382,0,0,0,0,0,0,0,57.583333333333336,0,0,0,0,0,0,0,0]
[1389,0,0,0,0,0,0,0,57.875,0,0,0,0,0,0,0,0,null,1389,0,0,0,0,0,0,0,57.875,0,0,0,0,0,0,0,0,null,1389,0,0,0,0,0,0,0,57.875,0,0,0,0,0,0,0,0,null,1389,0,0,0,0,0,0,0,57.875,0,0,0,0,0,0,0,0,null,1389,0,0,0,0,0,0,0,57.875,0,0,0,0,0,0,0,0,null,1389,0,0,0,0,0,0,0,57.875,0,0,0,0,0,0,0,0,null,1389,0,0,0,0,0,0,0,57.875,0,0,0,0,0,0,0,0,null,1389,0,0,0,0,0,0,0,57.875,0,0,0,0,0,0,0,0,null,1389,0,0,0,0,0,0,0,57.875,0,0,0,0,0,0,0,0,null,1389,0,0,0,0,0,0,0,57.875,0,0,0,0,0,0,0,0]
[1392,0,0,0,0,0,0,0,58,0,0,0,0,0,0,0,0,null,1392,0,0,0,0,0,0,0,58,0,0,0,0,0,0,0,0,null,1392,0,0,0,0,0,0,0,58,0,0,0,0,0,0,0,0,null,1392,0,0,0,0,0,0,0,58,0,0,0,0,0,0,0,0,null,1392,0,0,0,0,0,0,0,58,0,0,0,0,0,0,0,0,null,1392,0,0,0,0,0,0,0,58,0,0,0,0,0,0,0,0,null,1392,0,0,0,0,0,0,0,58,0,0,0,0,0,0,0,0,null,1392,0,0,0,0,0,0,0,58,0,0,0,0,0,0,0,0,null,1392,0,0,0,0,0,0,0,58,0,0,0,0,0,0,0,0,null,1392,0,0,0,0,0,0,0,58,0,0,0,0,0,0,0,0]
[1397,0,0,0,0,0,0,0,58.208333333333336,0,0,0,0,0,0,0,0,null,1397,0,0,0,0,0,0,0,58.208333333333336,0,0,0,0,0,0,0,0,null,1397,0,0,0,0,0,0,0,58.208333333333336,0,0,0,0,0,0,0,0,null,1397,0,0,0,0,0,0,0,58.208333333333336,0,0,0,0,0,0,0,0,null,1397,0,0,0,0,0,0,0,58.208333333333336,0,0,0,0,0,0,0,0,null,1397,0,0,0,0,0,0,0,58.208333333333336,0,0,0,0,0,0,0,0,null,1397,0,0,0,0,0,0,0,58.208333333333336,0,0,0,0,0,0,0,0,null,1397,0,0,0,0,0,0,0,58.208333333333336,0,0,0,0,0,0,0,0,null,1397,0,0,0,0,0,0,0,58.208333333333336,0,0,0,0,0,0,0,0,null,1397,0,0,0,0,0,0,0,58.208333333333336,0,0,0,0,0,0,0,0]
[1403,0,0,0,0,0,0,0,58.458333333333336,0,0,0,0,0,0,0,0,null,1403,0,0,0,0,0,0,0,58.458333333333336,0,0,0,0,0,0,0,0,null,1403,0,0,0,0,0,0,0,58.458333333333336,0,0,0,0,0,0,0,0,null,1403,0,0,0,0,0,0,0,58.458333333333336,0,0,0,0,0,0,0,0,null,1403,0,0,0,0,0,0,0,58.458333333333336,0,0,0,0,0,0,0,0,null,1403,0,0,0,0,0,0,0,58.458333333333336,0,0,0,0,0,0,0,0,null,1403,0,0,0,0,0,0,0,58.458333333333336,0,0,0,0,0,0,0,0,null,1403,0,0,0,0,0,0,0,58.458333333333336,0,0,0,0,0,0,0,0,null,1403,0,0,0,0,0,0,0,58.458333333333336,0,0,0,0,0,0,0,0,null,1403,0,0,0,0,0,0,0,58.458333333333336,0,0,0,0,0,0,0,0]
[1408,0,0,0,0,0,0,0,58.666666666666664,0,0,0,0,0,0,0,0,null,1408,0,0,0,0,0,0,0,58.666666666666664,0,0,0,0,0,0,0,0,null,1408,0,0,0,0,0,0,0,58.666666666666664,0,0,0,0,0,0,0,0,null,1408,0,0,0,0,0,0,0,58.666666666666664,0,0,0,0,0,0,0,0,null,1408,0,0,0,0,0,0,0,58.666666666666664,0,0,0,0,0,0,0,0,null,1408,0,0,0,0,0,0,0,58.666666666666664,0,0,0,0,0,0,0,0,null,1408,0,0,0,0,0,0,0,58.666666666666664,0,0,0,0,0,0,0,0,null,1408,0,0,0,0,0,0,0,58.666666666666664,0,0,0,0,0,0,0,0,null,1408,0,0,0,0,0,0,0,58.666666666666664,0,0,0,0,0,0,0,0,null,1408,0,0,0,0,0,0,0,58.666666666666664,0,0,0,0,0,0,0,0]
[1413,0,0,0,0,0,0,0,58.875,0,0,0,0,0,0,0,0,null,1413,0,0,0,0,0,0,0,58.875,0,0,0,0,0,0,0,0,null,1413,0,0,0,0,0,0,0,58.875,0,0,0,0,0,0,0,0,null,1413,0,0,0,0,0,0,0,58.875,0,0,0,0,0,0,0,0,null,1413,0,0,0,0,0,0,0,58.875,0,0,0,0,0,0,0,0,null,1413,0,0,0,0,0,0,0,58.875,0,0,0,0,0,0,0,0,null,1413,0,0,0,0,0,0,0,58.875,0,0,0,0,0,0,0,0,null,1413,0,0,0,0,0,0,0,58.875,0,0,0,0,0,0,0,0,null,1413,0,0,0,0,0,0,0,58.875,0,0,0,0,0,0,0,0,null,1413,0,0,0,0,0,0,0,58.875,0,0,0,0,0,0,0,0]
[1416,0,0,0,0,0,0,0,59,0,0,0,0,0,0,0,0,null,1416,0,0,0,0,0,0,0,59,0,0,0,0,0,0,0,0,null,1416,0,0,0,0,0,0,0,59,0,0,0,0,0,0,0,0,null,1416,0,0,0,0,0,0,0,59,0,0,0,0,0,0,0,0,null,1416,0,0,0,0,0,0,0,59,0,0,0,0,0,0,0,0,null,1416,0,0,0,0,0,0,0,59,0,0,0,0,0,0,0,0,null,1416,0,0,0,0,0,0,0,59,0,0,0,0,0,0,0,0,null,1416,0,0,0,0,0,0,0,59,0,0,0,0,0,0,0,0,null,1416,0,0,0,0,0,0,0,59,0,0,0,0,0,0,0,0,null,1416,0,0,0,0,0,0,0,59,0,0,0,0,0,0,0,0]
[1423,0,0,0,0,0,0,0,59.291666666666664,0,0,0,0,0,0,0,0,null,1423,0,0,0,0,0,0,0,59.291666666666664,0,0,0,0,0,0,0,0,null,1423,0,0,0,0,0,0,0,59.291666666666664,0,0,0,0,0,0,0,0,null,1423,0,0,0,0,0,0,0,59.291666666666664,0,0,0,0,0,0,0,0,null,1423,0,0,0,0,0,0,0,59.291666666666664,0,0,0,0,0,0,0,0,null,1423,0,0,0,0,0,0,0,59.291666666666664,0,0,0,0,0,0,0,0,null,1423,0,0,0,0,0,0,0,59.291666666666664,0,0,0,0,0,0,0,0,null,1423,0,0,0,0,0,0,0,59.291666666666664,0,0,0,0,0,0,0,0,null,1423,0,0,0,0,0,0,0,59.291666666666664,0,0,0,0,0,0,0,0,null,1423,0,0,0,0,0,0,0,59.291666666666664,0,0,0,0,0,0,0,0]
[1428,0,0,0,0,0,0,0,59.5,0,0,0,0,0,0,0,0,null,1428,0,0,0,0,0,0,0,59.5,0,0,0,0,0,0,0,0,null,1428,0,0,0,0,0,0,0,59.5,0,0,0,0,0,0,0,0,null,1428,0,0,0,0,0,0,0,59.5,0,0,0,0,0,0,0,0,null,1428,0,0,0,0,0,0,0,59.5,0,0,0,0,0,0,0,0,null,1428,0,0,0,0,0,0,0,59.5,0,0,0,0,0,0,0,0,null,1428,0,0,0,0,0,0,0,59.5,0,0,0,0,0,0,0,0,null,1428,0,0,0,0,0,0,0,59.5,0,0,0,0,0,0,0,0,null,1428,0,0,0,0,0,0,0,59.5,0,0,0,0,0,0,0,0,null,1428,0,0,0,0,0,0,0,59.5,0,0,0,0,0,0,0,0]
[1429,0,0,0,0,0,0,0,59.541666666666664,0,0,0,0,0,0,0,0,null,1429,0,0,0,0,0,0,0,59.541666666666664,0,0,0,0,0,0,0,0,null,1429,0,0,0,0,0,0,0,59.541666666666664,0,0,0,0,0,0,0,0,null,1429,0,0,0,0,0,0,0,59.541666666666664,0,0,0,0,0,0,0,0,null,1429,0,0,0,0,0,0,0,59.541666666666664,0,0,0,0,0,0,0,0,null,1429,0,0,0,0,0,0,0,59.541666666666664,0,0,0,0,0,0,0,0,null,1429,0,0,0,0,0,0,0,59.541666666666664,0,0,0,0,0,0,0,0,null,1429,0,0,0,0,0,0,0,59.541666666666664,0,0,0,0,0,0,0,0,null,1429,0,0,0,0,0,0,0,59.541666666666664,0,0,0,0,0,0,0,0,null,1429,0,0,0,0,0,0,0,59.541666666666664,0,0,0,0,0,0,0,0]
[1434,0,0,0,0,0,0,0,59.75,0,0,0,0,0,0,0,0,null,1434,0,0,0,0,0,0,0,59.75,0,0,0,0,0,0,0,0,null,1434,0,0,0,0,0,0,0,59.75,0,0,0,0,0,0,0,0,null,1434,0,0,0,0,0,0,0,59.75,0,0,0,0,0,0,0,0,null,1434,0,0,0,0,0,0,0,59.75,0,0,0,0,0,0,0,0,null,1434,0,0,0,0,0,0,0,59.75,0,0,0,0,0,0,0,0,null,1434,0,0,0,0,0,0,0,59.75,0,0,0,0,0,0,0,0,null,1434,0,0,0,0,0,0,0,59.75,0,0,0,0,0,0,0,0,null,1434,0,0,0,0,0,0,0,59.75,0,0,0,0,0,0,0,0,null,1434,0,0,0,0,0,0,0,59.75,0,0,0,0,0,0,0,0]
[1440,0,0,0,0,0,0,0,60,0,0,0,0,0,0,0,0,null,1440,0,0,0,0,0,0,0,60,0,0,0,0,0,0,0,0,null,1440,0,0,0,0,0,0,0,60,0,0,0,0,0,0,0,0,null,1440,0,0,0,0,0,0,0,60,0,0,0,0,0,0,0,0,null,1440,0,0,0,0,0,0,0,60,0,0,0,0,0,0,0,0,null,1440,0,0,0,0,0,0,0,60,0,0,0,0,0,0,0,0,null,1440,0,0,0,0,0,0,0,60,0,0,0,0,0,0,0,0,null,1440,0,0,0,0,0,0,0,60,0,0,0,0,0,0,0,0,null,1440,0,0,0,0,0,0,0,60,0,0,0,0,0,0,0,0,null,1440,0,0,0,0,0,0,0,60,0,0,0,0,0,0,0,0]
[null,{"$f":"Comm1","v":"Blackberry"},null,null,null,null,null,null,null,null,null,null,null,null,null,null,null,null,null,{"$f":"Comm2","v":"Blueberry"},null,null,null,null,null,null,null,null,null,null,null,null,null,null,null,null,null,{"$f":"Comm3","v":"Cherry"},null,null,null,null,null,null,null,null,null,null,null,null,null,null,null,null,null,{"$f":"Comm4","v":"Grape"},null,null,null,null,null,null,null,null,null,null,null,null,null,null,null,null,null,{"$f":"Comm5","v":"Raspberry"},null,null,null,null,null,null,null,null,null,null,null,null,null,null,null,null,null,{"$f":"Comm6","v":"Strawberry"},null,null,null,null,null,null,null,null,null,null,null,null,null,null,null,null,null,{"$f":"Comm7","v":0},null,null,null,null,null,null,null,null,null,null,null,null,null,null,null,null,null,{"$f":"Comm8","v":0},null,null,null,null,null,null,null,null,null,null,null,null,null,null,null,null,null,{"$f":"Comm9","v":0},null,null,null,null,null,null,null,null,null,null,null,null,null,null,null,null,null,{"$f":"Comm10","v":0}]
[null,"Observed adult emergence time (d)","Prob egg","Prob 1st","Prob 2nd","Prob 3rd","Prob 4th","Prob 5th","Prob Pupae",null,"LS","Prob",null,null,null,null,null,null,null,"Observed adult emergence time (d)","Prob egg","Prob 1st","Prob 2nd","Prob 3rd","Prob 4th","Prob 5th","Prob Pupae",null,"LS","Prob",null,null,null,null,null,null,null,"Observed adult emergence time (d)","Prob egg","Prob 1st","Prob 2nd","Prob 3rd","Prob 4th","Prob 5th","Prob Pupae",null,"LS","Prob",null,null,null,null,null,null,null,"Observed adult emergence time (d)","Prob egg","Prob 1st","Prob 2nd","Prob 3rd","Prob 4th","Prob 5th","Prob Pupae",null,"LS","Prob",null,null,null,null,null,null,null,"Observed adult emergence time (d)","Prob egg","Prob 1st","Prob 2nd","Prob 3rd","Prob 4th","Prob 5th","Prob Pupae",null,"LS","Prob",null,null,null,null,null,null,null,"Observed adult emergence time (d)","Prob egg","Prob 1st","Prob 2nd","Prob 3rd","Prob 4th","Prob 5th","Prob Pupae",null,"LS","Prob",null,null,null,null,null,null,null,"Observed adult emergence time (d)","Prob egg","Prob 1st","Prob 2nd","Prob 3rd","Prob 4th","Prob 5th","Prob Pupae",null,"LS","Prob",null,null,null,null,null,null,null,"Observed adult emergence time (d)","Prob egg","Prob 1st","Prob 2nd","Prob 3rd","Prob 4th","Prob 5th","Prob Pupae",null,"LS","Prob",null,null,null,null,null,null,null,"Observed adult emergence time (d)","Prob egg","Prob 1st","Prob 2nd","Prob 3rd","Prob 4th","Prob 5th","Prob Pupae",null,"LS","Prob",null,null,null,null,null,null,null,"Observed adult emergence time (d)","Prob egg","Prob 1st","Prob 2nd","Prob 3rd","Prob 4th","Prob 5th","Prob Pupae",null,"LS","Prob"]
[null,1,{"$f":"IF(SUM($J13:$J36)=0,0,SUM(B13:B36)/SUM($J13:$J36))","v":0},{"$f":"IF(SUM($J13:$J36)=0,0,SUM(C13:C36)/SUM($J13:$J36))","v":0},0,0,{"$f":"IF(SUM($J13:$J36)=0,0,SUM(F13:F36)/SUM($J13:$J36))","v":0},0,0,null,"Eggs",{"$f":"VLOOKUP(RLSAdultAge,B$1457:I$1517,2)","v":0},null,null,null,null,null,null,null,1,{"$f":"IF(SUM($AB13:$AB36)=0,0,SUM(T13:T36)/SUM($AB13:$AB36))","v":0},{"$f":"IF(SUM($AB13:$AB36)=0,0,SUM(U13:U36)/SUM($AB13:$AB36))","v":0},0,0,0,0,{"$f":"IF(SUM($AB13:$AB36)=0,0,SUM(Z13:Z36)/SUM($AB13:$AB36))","v":0},null,"Eggs",{"$f":"VLOOKUP(RLSAdultAge,T$1457:AA$1517,2)","v":0},null,null,null,null,null,null,null,1,{"$f":"IF(SUM($AT13:$AT36)=0,0,SUM(AL13:AL36)/SUM($AT13:$AT36))","v":0},{"$f":"IF(SUM($AT13:$AT36)=0,0,SUM(AM13:AM36)/SUM($AT13:$AT36))","v":0},0,0,0,0,0,null,"Eggs",{"$f":"VLOOKUP(RLSAdultAge,AL$1457:AS$1517,2)","v":0},null,null,null,null,null,null,null,1,{"$f":"IF(SUM($BL13:$BL36)=0,0,SUM(BD13:BD36)/SUM($BL13:$BL36))","v":0},{"$f":"IF(SUM($BL13:$BL36)=0,0,SUM(BE13:BE36)/SUM($BL13:$BL36))","v":0},0,0,0,0,0,null,"Eggs",{"$f":"VLOOKUP(RLSAdultAge,BD$1457:BK$1517,2)","v":0},null,null,null,null,null,null,null,1,{"$f":"IF(SUM($CD13:$CD36)=0,0,SUM(BV13:BV36)/SUM($CD13:$CD36))","v":0},{"$f":"IF(SUM($CD13:$CD36)=0,0,SUM(BW13:BW36)/SUM($CD13:$CD36))","v":0},0,0,0,0,0,null,"Eggs",{"$f":"VLOOKUP(RLSAdultAge,BV$1457:CC$1517,2)","v":0},null,null,null,null,null,null,null,1,{"$f":"IF(SUM($CV13:$CV36)=0,0,SUM(CN13:CN36)/SUM($CV13:$CV36))","v":0},{"$f":"IF(SUM($CV13:$CV36)=0,0,SUM(CO13:CO36)/SUM($CV13:$CV36))","v":0},0,0,0,0,0,null,"Eggs",{"$f":"VLOOKUP(RLSAdultAge,CN$1457:CU$1517,2)","v":0},null,null,null,null,null,null,null,1,{"$f":"IF(SUM($DN13:$DN36)=0,0,SUM(DF13:DF36)/SUM($DN13:$DN36))","v":0},{"$f":"IF(SUM($DN13:$DN36)=0,0,SUM(DG13:DG36)/SUM($DN13:$DN36))","v":0},0,0,0,0,0,null,"Eggs",{"$f":"VLOOKUP(RLSAdultAge,DF$1457:DM$1517,2)","v":0},null,null,null,null,null,null,null,1,{"$f":"IF(SUM($EF13:$EF36)=0,0,SUM(DX13:DX36)/SUM($EF13:$EF36))","v":0},{"$f":"IF(SUM($EF13:$EF36)=0,0,SUM(DY13:DY36)/SUM($EF13:$EF36))","v":0},0,0,0,0,0,null,"Eggs",{"$f":"VLOOKUP(RLSAdultAge,DX$1457:EE$1517,2)","v":0},null,null,null,null,null,null,null,1,{"$f":"IF(SUM($EX13:$EX36)=0,0,SUM(EP13:EP36)/SUM($EX13:$EX36))","v":0},{"$f":"IF(SUM($EX13:$EX36)=0,0,SUM(EQ13:EQ36)/SUM($EX13:$EX36))","v":0},0,0,0,0,0,null,"Eggs",{"$f":"VLOOKUP(RLSAdultAge,EP$1457:EW$1517,2)","v":0},null,null,null,null,null,null,null,1,{"$f":"IF(SUM($FP13:$FP36)=0,0,SUM(FH13:FH36)/SUM($FP13:$FP36))","v":0},{"$f":"IF(SUM($FP13:$FP36)=0,0,SUM(FI13:FI36)/SUM($FP13:$FP36))","v":0},0,0,0,0,0,null,"Eggs",{"$f":"VLOOKUP(RLSAdultAge,FH$1457:FO$1517,2)","v":0}]
[null,2,{"$f":"IF(SUM($J37:$J60)=0,0,SUM(B37:B60)/SUM($J37:$J60))","v":0},{"$f":"IF(SUM($J37:$J60)=0,0,SUM(C37:C60)/SUM($J37:$J60))","v":0},0,0,{"$f":"IF(SUM($J37:$J60)=0,0,SUM(F37:F60)/SUM($J37:$J60))","v":0},0,0,null,"1st",{"$f":"VLOOKUP(RLSAdultAge,B$1457:I$1517,3)","v":0},null,null,null,null,null,null,null,2,{"$f":"IF(SUM($AB37:$AB60)=0,0,SUM(T37:T60)/SUM($AB37:$AB60))","v":0},{"$f":"IF(SUM($AB37:$AB60)=0,0,SUM(U37:U60)/SUM($AB37:$AB60))","v":0},0,0,0,0,0,null,"1st",{"$f":"VLOOKUP(RLSAdultAge,T$1457:AA$1517,3)","v":0},null,null,null,null,null,null,null,2,{"$f":"IF(SUM($AT37:$AT60)=0,0,SUM(AL37:AL60)/SUM($AT37:$AT60))","v":0},{"$f":"IF(SUM($AT37:$AT60)=0,0,SUM(AM37:AM60)/SUM($AT37:$AT60))","v":0},0,0,0,0,0,null,"1st",{"$f":"VLOOKUP(RLSAdultAge,AL$1457:AS$1517,3)","v":0},null,null,null,null,null,null,null,2,{"$f":"IF(SUM($BL37:$BL60)=0,0,SUM(BD37:BD60)/SUM($BL37:$BL60))","v":0},{"$f":"IF(SUM($BL37:$BL60)=0,0,SUM(BE37:BE60)/SUM($BL37:$BL60))","v":0},0,0,0,0,0,null,"1st",{"$f":"VLOOKUP(RLSAdultAge,BD$1457:BK$1517,3)","v":0},null,null,null,null,null,null,null,2,{"$f":"IF(SUM($CD37:$CD60)=0,0,SUM(BV37:BV60)/SUM($CD37:$CD60))","v":0},{"$f":"IF(SUM($CD37:$CD60)=0,0,SUM(BW37:BW60)/SUM($CD37:$CD60))","v":0},0,0,0,0,0,null,"1st",{"$f":"VLOOKUP(RLSAdultAge,BV$1457:CC$1517,3)","v":0},null,null,null,null,null,null,null,2,{"$f":"IF(SUM($CV37:$CV60)=0,0,SUM(CN37:CN60)/SUM($CV37:$CV60))","v":0},{"$f":"IF(SUM($CV37:$CV60)=0,0,SUM(CO37:CO60)/SUM($CV37:$CV60))","v":0},0,0,0,0,0,null,"1st",{"$f":"VLOOKUP(RLSAdultAge,CN$1457:CU$1517,3)","v":0},null,null,null,null,null,null,null,2,{"$f":"IF(SUM($DN37:$DN60)=0,0,SUM(DF37:DF60)/SUM($DN37:$DN60))","v":0},{"$f":"IF(SUM($DN37:$DN60)=0,0,SUM(DG37:DG60)/SUM($DN37:$DN60))","v":0},0,0,0,0,0,null,"1st",{"$f":"VLOOKUP(RLSAdultAge,DF$1457:DM$1517,3)","v":0},null,null,null,null,null,null,null,2,{"$f":"IF(SUM($EF37:$EF60)=0,0,SUM(DX37:DX60)/SUM($EF37:$EF60))","v":0},{"$f":"IF(SUM($EF37:$EF60)=0,0,SUM(DY37:DY60)/SUM($EF37:$EF60))","v":0},0,0,0,0,0,null,"1st",{"$f":"VLOOKUP(RLSAdultAge,DX$1457:EE$1517,3)","v":0},null,null,null,null,null,null,null,2,{"$f":"IF(SUM($EX37:$EX60)=0,0,SUM(EP37:EP60)/SUM($EX37:$EX60))","v":0},{"$f":"IF(SUM($EX37:$EX60)=0,0,SUM(EQ37:EQ60)/SUM($EX37:$EX60))","v":0},0,0,0,0,0,null,"1st",{"$f":"VLOOKUP(RLSAdultAge,EP$1457:EW$1517,3)","v":0},null,null,null,null,null,null,null,2,{"$f":"IF(SUM($FP37:$FP60)=0,0,SUM(FH37:FH60)/SUM($FP37:$FP60))","v":0},{"$f":"IF(SUM($FP37:$FP60)=0,0,SUM(FI37:FI60)/SUM($FP37:$FP60))","v":0},0,0,0,0,0,null,"1st",{"$f":"VLOOKUP(RLSAdultAge,FH$1457:FO$1517,3)","v":0}]
[null,3,{"$f":"IF(SUM($J61:$J84)=0,0,SUM(B61:B84)/SUM($J61:$J84))","v":0},{"$f":"IF(SUM($J61:$J84)=0,0,SUM(C61:C84)/SUM($J61:$J84))","v":0},0,0,{"$f":"IF(SUM($J61:$J84)=0,0,SUM(F61:F84)/SUM($J61:$J84))","v":0},0,0,null,"2nd",{"$f":"VLOOKUP(RLSAdultAge,B$1457:I$1517,4)","v":0},null,null,null,null,null,null,null,3,{"$f":"IF(SUM($AB61:$AB84)=0,0,SUM(T61:T84)/SUM($AB61:$AB84))","v":0},{"$f":"IF(SUM($AB61:$AB84)=0,0,SUM(U61:U84)/SUM($AB61:$AB84))","v":0},0,0,0,0,0,null,"2nd",{"$f":"VLOOKUP(RLSAdultAge,T$1457:AA$1517,4)","v":0.55922865013774103},null,null,null,null,null,null,null,3,{"$f":"IF(SUM($AT61:$AT84)=0,0,SUM(AL61:AL84)/SUM($AT61:$AT84))","v":0},{"$f":"IF(SUM($AT61:$AT84)=0,0,SUM(AM61:AM84)/SUM($AT61:$AT84))","v":0},0,0,0,0,0,null,"2nd",{"$f":"VLOOKUP(RLSAdultAge,AL$1457:AS$1517,4)","v":0},null,null,null,null,null,null,null,3,{"$f":"IF(SUM($BL61:$BL84)=0,0,SUM(BD61:BD84)/SUM($BL61:$BL84))","v":0},{"$f":"IF(SUM($BL61:$BL84)=0,0,SUM(BE61:BE84)/SUM($BL61:$BL84))","v":0},0,0,0,0,0,null,"2nd",{"$f":"VLOOKUP(RLSAdultAge,BD$1457:BK$1517,4)","v":0.26041666666666641},null,null,null,null,null,null,null,3,{"$f":"IF(SUM($CD61:$CD84)=0,0,SUM(BV61:BV84)/SUM($CD61:$CD84))","v":0},{"$f":"IF(SUM($CD61:$CD84)=0,0,SUM(BW61:BW84)/SUM($CD61:$CD84))","v":0},0,0,0,0,0,null,"2nd",{"$f":"VLOOKUP(RLSAdultAge,BV$1457:CC$1517,4)","v":0},null,null,null,null,null,null,null,3,{"$f":"IF(SUM($CV61:$CV84)=0,0,SUM(CN61:CN84)/SUM($CV61:$CV84))","v":0},{"$f":"IF(SUM($CV61:$CV84)=0,0,SUM(CO61:CO84)/SUM($CV61:$CV84))","v":0},0,0,0,0,0,null,"2nd",{"$f":"VLOOKUP(RLSAdultAge,CN$1457:CU$1517,4)","v":0},null,null,null,null,null,null,null,3,{"$f":"IF(SUM($DN61:$DN84)=0,0,SUM(DF61:DF84)/SUM($DN61:$DN84))","v":0},{"$f":"IF(SUM($DN61:$DN84)=0,0,SUM(DG61:DG84)/SUM($DN61:$DN84))","v":0},0,0,0,0,0,null,"2nd",{"$f":"VLOOKUP(RLSAdultAge,DF$1457:DM$1517,4)","v":0},null,null,null,null,null,null,null,3,{"$f":"IF(SUM($EF61:$EF84)=0,0,SUM(DX61:DX84)/SUM($EF61:$EF84))","v":0},{"$f":"IF(SUM($EF61:$EF84)=0,0,SUM(DY61:DY84)/SUM($EF61:$EF84))","v":0},0,0,0,0,0,null,"2nd",{"$f":"VLOOKUP(RLSAdultAge,DX$1457:EE$1517,4)","v":0},null,null,null,null,null,null,null,3,{"$f":"IF(SUM($EX61:$EX84)=0,0,SUM(EP61:EP84)/SUM($EX61:$EX84))","v":0},{"$f":"IF(SUM($EX61:$EX84)=0,0,SUM(EQ61:EQ84)/SUM($EX61:$EX84))","v":0},0,0,0,0,0,null,"2nd",{"$f":"VLOOKUP(RLSAdultAge,EP$1457:EW$1517,4)","v":0},null,null,null,null,null,null,null,3,{"$f":"IF(SUM($FP61:$FP84)=0,0,SUM(FH61:FH84)/SUM($FP61:$FP84))","v":0},{"$f":"IF(SUM($FP61:$FP84)=0,0,SUM(FI61:FI84)/SUM($FP61:$FP84))","v":0},0,0,0,0,0,null,"2nd",{"$f":"VLOOKUP(RLSAdultAge,FH$1457:FO$1517,4)","v":0}]
[null,4,{"$f":"IF(SUM($J85:$J108)=0,0,SUM(B85:B108)/SUM($J85:$J108))","v":0},{"$f":"IF(SUM($J85:$J108)=0,0,SUM(C85:C108)/SUM($J85:$J108))","v":0},0,0,{"$f":"IF(SUM($J85:$J108)=0,0,SUM(F85:F108)/SUM($J85:$J108))","v":0},0,0,null,"3rd",{"$f":"VLOOKUP(RLSAdultAge,B$1457:I$1517,5)","v":1},null,null,null,null,null,null,null,4,{"$f":"IF(SUM($AB85:$AB108)=0,0,SUM(T85:T108)/SUM($AB85:$AB108))","v":0},{"$f":"IF(SUM($AB85:$AB108)=0,0,SUM(U85:U108)/SUM($AB85:$AB108))","v":0},0,0,0,0,0,null,"3rd",{"$f":"VLOOKUP(RLSAdultAge,T$1457:AA$1517,5)","v":0.44077134986225919},null,null,null,null,null,null,null,4,{"$f":"IF(SUM($AT85:$AT108)=0,0,SUM(AL85:AL108)/SUM($AT85:$AT108))","v":0},{"$f":"IF(SUM($AT85:$AT108)=0,0,SUM(AM85:AM108)/SUM($AT85:$AT108))","v":0},0,0,0,0,0,null,"3rd",{"$f":"VLOOKUP(RLSAdultAge,AL$1457:AS$1517,5)","v":1},null,null,null,null,null,null,null,4,{"$f":"IF(SUM($BL85:$BL108)=0,0,SUM(BD85:BD108)/SUM($BL85:$BL108))","v":0},{"$f":"IF(SUM($BL85:$BL108)=0,0,SUM(BE85:BE108)/SUM($BL85:$BL108))","v":0},0,0,0,0,0,null,"3rd",{"$f":"VLOOKUP(RLSAdultAge,BD$1457:BK$1517,5)","v":0.73958333333333337},null,null,null,null,null,null,null,4,{"$f":"IF(SUM($CD85:$CD108)=0,0,SUM(BV85:BV108)/SUM($CD85:$CD108))","v":0},{"$f":"IF(SUM($CD85:$CD108)=0,0,SUM(BW85:BW108)/SUM($CD85:$CD108))","v":0},0,0,0,0,0,null,"3rd",{"$f":"VLOOKUP(RLSAdultAge,BV$1457:CC$1517,5)","v":0.99539170506912444},null,null,null,null,null,null,null,4,{"$f":"IF(SUM($CV85:$CV108)=0,0,SUM(CN85:CN108)/SUM($CV85:$CV108))","v":0},{"$f":"IF(SUM($CV85:$CV108)=0,0,SUM(CO85:CO108)/SUM($CV85:$CV108))","v":0},0,0,0,0,0,null,"3rd",{"$f":"VLOOKUP(RLSAdultAge,CN$1457:CU$1517,5)","v":1},null,null,null,null,null,null,null,4,{"$f":"IF(SUM($DN85:$DN108)=0,0,SUM(DF85:DF108)/SUM($DN85:$DN108))","v":0},{"$f":"IF(SUM($DN85:$DN108)=0,0,SUM(DG85:DG108)/SUM($DN85:$DN108))","v":0},0,0,0,0,0,null,"3rd",{"$f":"VLOOKUP(RLSAdultAge,DF$1457:DM$1517,5)","v":0},null,null,null,null,null,null,null,4,{"$f":"IF(SUM($EF85:$EF108)=0,0,SUM(DX85:DX108)/SUM($EF85:$EF108))","v":0},{"$f":"IF(SUM($EF85:$EF108)=0,0,SUM(DY85:DY108)/SUM($EF85:$EF108))","v":0},0,0,0,0,0,null,"3rd",{"$f":"VLOOKUP(RLSAdultAge,DX$1457:EE$1517,5)","v":0},null,null,null,null,null,null,null,4,{"$f":"IF(SUM($EX85:$EX108)=0,0,SUM(EP85:EP108)/SUM($EX85:$EX108))","v":0},{"$f":"IF(SUM($EX85:$EX108)=0,0,SUM(EQ85:EQ108)/SUM($EX85:$EX108))","v":0},0,0,0,0,0,null,"3rd",{"$f":"VLOOKUP(RLSAdultAge,EP$1457:EW$1517,5)","v":0},null,null,null,null,null,null,null,4,{"$f":"IF(SUM($FP85:$FP108)=0,0,SUM(FH85:FH108)/SUM($FP85:$FP108))","v":0},{"$f":"IF(SUM($FP85:$FP108)=0,0,SUM(FI85:FI108)/SUM($FP85:$FP108))","v":0},0,0,0,0,0,null,"3rd",{"$f":"VLOOKUP(RLSAdultAge,FH$1457:FO$1517,5)","v":0}]
[null,5,{"$f":"IF(SUM($J109:$J132)=0,0,SUM(B109:B132)/SUM($J109:$J132))","v":0},{"$f":"IF(SUM($J109:$J132)=0,0,SUM(C109:C132)/SUM($J109:$J132))","v":0},0,0,{"$f":"IF(SUM($J109:$J132)=0,0,SUM(F109:F132)/SUM($J109:$J132))","v":0},0,0,null,"4th",{"$f":"VLOOKUP(RLSAdultAge,B$1457:I$1517,6)","v":0},null,null,null,null,null,null,null,5,{"$f":"IF(SUM($AB109:$AB132)=0,0,SUM(T109:T132)/SUM($AB109:$AB132))","v":0},{"$f":"IF(SUM($AB109:$AB132)=0,0,SUM(U109:U132)/SUM($AB109:$AB132))","v":0},0,0,0,0,0,null,"4th",{"$f":"VLOOKUP(RLSAdultAge,T$1457:AA$1517,6)","v":0},null,null,null,null,null,null,null,5,{"$f":"IF(SUM($AT109:$AT132)=0,0,SUM(AL109:AL132)/SUM($AT109:$AT132))","v":0},{"$f":"IF(SUM($AT109:$AT132)=0,0,SUM(AM109:AM132)/SUM($AT109:$AT132))","v":0},0,0,0,0,0,null,"4th",{"$f":"VLOOKUP(RLSAdultAge,AL$1457:AS$1517,6)","v":0},null,null,null,null,null,null,null,5,{"$f":"IF(SUM($BL109:$BL132)=0,0,SUM(BD109:BD132)/SUM($BL109:$BL132))","v":0},{"$f":"IF(SUM($BL109:$BL132)=0,0,SUM(BE109:BE132)/SUM($BL109:$BL132))","v":0},0,0,0,0,0,null,"4th",{"$f":"VLOOKUP(RLSAdultAge,BD$1457:BK$1517,6)","v":0},null,null,null,null,null,null,null,5,{"$f":"IF(SUM($CD109:$CD132)=0,0,SUM(BV109:BV132)/SUM($CD109:$CD132))","v":0},{"$f":"IF(SUM($CD109:$CD132)=0,0,SUM(BW109:BW132)/SUM($CD109:$CD132))","v":0},0,0,0,0,0,null,"4th",{"$f":"VLOOKUP(RLSAdultAge,BV$1457:CC$1517,6)","v":0},null,null,null,null,null,null,null,5,{"$f":"IF(SUM($CV109:$CV132)=0,0,SUM(CN109:CN132)/SUM($CV109:$CV132))","v":0},{"$f":"IF(SUM($CV109:$CV132)=0,0,SUM(CO109:CO132)/SUM($CV109:$CV132))","v":0},0,0,0,0,0,null,"4th",{"$f":"VLOOKUP(RLSAdultAge,CN$1457:CU$1517,6)","v":0},null,null,null,null,null,null,null,5,{"$f":"IF(SUM($DN109:$DN132)=0,0,SUM(DF109:DF132)/SUM($DN109:$DN132))","v":0},{"$f":"IF(SUM($DN109:$DN132)=0,0,SUM(DG109:DG132)/SUM($DN109:$DN132))","v":0},0,0,0,0,0,null,"4th",{"$f":"VLOOKUP(RLSAdultAge,DF$1457:DM$1517,6)","v":0},null,null,null,null,null,null,null,5,{"$f":"IF(SUM($EF109:$EF132)=0,0,SUM(DX109:DX132)/SUM($EF109:$EF132))","v":0},{"$f":"IF(SUM($EF109:$EF132)=0,0,SUM(DY109:DY132)/SUM($EF109:$EF132))","v":0},0,0,0,0,0,null,"4th",{"$f":"VLOOKUP(RLSAdultAge,DX$1457:EE$1517,6)","v":0},null,null,null,null,null,null,null,5,{"$f":"IF(SUM($EX109:$EX132)=0,0,SUM(EP109:EP132)/SUM($EX109:$EX132))","v":0},{"$f":"IF(SUM($EX109:$EX132)=0,0,SUM(EQ109:EQ132)/SUM($EX109:$EX132))","v":0},0,0,0,0,0,null,"4th",{"$f":"VLOOKUP(RLSAdultAge,EP$1457:EW$1517,6)","v":0},null,null,null,null,null,null,null,5,{"$f":"IF(SUM($FP109:$FP132)=0,0,SUM(FH109:FH132)/SUM($FP109:$FP132))","v":0},{"$f":"IF(SUM($FP109:$FP132)=0,0,SUM(FI109:FI132)/SUM($FP109:$FP132))","v":0},0,0,0,0,0,null,"4th",{"$f":"VLOOKUP(RLSAdultAge,FH$1457:FO$1517,6)","v":0}]
[null,6,{"$f":"IF(SUM($J133:$J156)=0,0,SUM(B133:B156)/SUM($J133:$J156))","v":0},{"$f":"IF(SUM($J133:$J156)=0,0,SUM(C133:C156)/SUM($J133:$J156))","v":0},0,0,{"$f":"IF(SUM($J133:$J156)=0,0,SUM(F133:F156)/SUM($J133:$J156))","v":0},0,0,null,"5th",{"$f":"VLOOKUP(RLSAdultAge,B$1457:I$1517,7)","v":0},null,null,null,null,null,null,null,6,{"$f":"IF(SUM($AB133:$AB156)=0,0,SUM(T133:T156)/SUM($AB133:$AB156))","v":0},{"$f":"IF(SUM($AB133:$AB156)=0,0,SUM(U133:U156)/SUM($AB133:$AB156))","v":0},0,0,0,0,0,null,"5th",{"$f":"VLOOKUP(RLSAdultAge,T$1457:AA$1517,7)","v":0},null,null,null,null,null,null,null,6,{"$f":"IF(SUM($AT133:$AT156)=0,0,SUM(AL133:AL156)/SUM($AT133:$AT156))","v":0},{"$f":"IF(SUM($AT133:$AT156)=0,0,SUM(AM133:AM156)/SUM($AT133:$AT156))","v":0},0,0,0,0,0,null,"5th",{"$f":"VLOOKUP(RLSAdultAge,AL$1457:AS$1517,7)","v":0},null,null,null,null,null,null,null,6,{"$f":"IF(SUM($BL133:$BL156)=0,0,SUM(BD133:BD156)/SUM($BL133:$BL156))","v":0},{"$f":"IF(SUM($BL133:$BL156)=0,0,SUM(BE133:BE156)/SUM($BL133:$BL156))","v":0},0,0,0,0,0,null,"5th",{"$f":"VLOOKUP(RLSAdultAge,BD$1457:BK$1517,7)","v":0},null,null,null,null,null,null,null,6,{"$f":"IF(SUM($CD133:$CD156)=0,0,SUM(BV133:BV156)/SUM($CD133:$CD156))","v":0},{"$f":"IF(SUM($CD133:$CD156)=0,0,SUM(BW133:BW156)/SUM($CD133:$CD156))","v":0},0,0,0,0,0,null,"5th",{"$f":"VLOOKUP(RLSAdultAge,BV$1457:CC$1517,7)","v":0},null,null,null,null,null,null,null,6,{"$f":"IF(SUM($CV133:$CV156)=0,0,SUM(CN133:CN156)/SUM($CV133:$CV156))","v":0},{"$f":"IF(SUM($CV133:$CV156)=0,0,SUM(CO133:CO156)/SUM($CV133:$CV156))","v":0},0,0,0,0,0,null,"5th",{"$f":"VLOOKUP(RLSAdultAge,CN$1457:CU$1517,7)","v":0},null,null,null,null,null,null,null,6,{"$f":"IF(SUM($DN133:$DN156)=0,0,SUM(DF133:DF156)/SUM($DN133:$DN156))","v":0},{"$f":"IF(SUM($DN133:$DN156)=0,0,SUM(DG133:DG156)/SUM($DN133:$DN156))","v":0},0,0,0,0,0,null,"5th",{"$f":"VLOOKUP(RLSAdultAge,DF$1457:DM$1517,7)","v":0},null,null,null,null,null,null,null,6,{"$f":"IF(SUM($EF133:$EF156)=0,0,SUM(DX133:DX156)/SUM($EF133:$EF156))","v":0},{"$f":"IF(SUM($EF133:$EF156)=0,0,SUM(DY133:DY156)/SUM($EF133:$EF156))","v":0},0,0,0,0,0,null,"5th",{"$f":"VLOOKUP(RLSAdultAge,DX$1457:EE$1517,7)","v":0},null,null,null,null,null,null,null,6,{"$f":"IF(SUM($EX133:$EX156)=0,0,SUM(EP133:EP156)/SUM($EX133:$EX156))","v":0},{"$f":"IF(SUM($EX133:$EX156)=0,0,SUM(EQ133:EQ156)/SUM($EX133:$EX156))","v":0},0,0,0,0,0,null,"5th",{"$f":"VLOOKUP(RLSAdultAge,EP$1457:EW$1517,7)","v":0},null,null,null,null,null,null,null,6,{"$f":"IF(SUM($FP133:$FP156)=0,0,SUM(FH133:FH156)/SUM($FP133:$FP156))","v":0},{"$f":"IF(SUM($FP133:$FP156)=0,0,SUM(FI133:FI156)/SUM($FP133:$FP156))","v":0},0,0,0,0,0,null,"5th",{"$f":"VLOOKUP(RLSAdultAge,FH$1457:FO$1517,7)","v":0}]
[null,7,{"$f":"IF(SUM($J157:$J180)=0,0,SUM(B157:B180)/SUM($J157:$J180))","v":0},{"$f":"IF(SUM($J157:$J180)=0,0,SUM(C157:C180)/SUM($J157:$J180))","v":0},0,1,{"$f":"IF(SUM($J157:$J180)=0,0,SUM(F157:F180)/SUM($J157:$J180))","v":0},0,0,null,"Pupae",{"$f":"VLOOKUP(RLSAdultAge,B$1457:I$1517,8)","v":0},null,null,null,null,null,null,null,7,{"$f":"IF(SUM($AB157:$AB180)=0,0,SUM(T157:T180)/SUM($AB157:$AB180))","v":0},{"$f":"IF(SUM($AB157:$AB180)=0,0,SUM(U157:U180)/SUM($AB157:$AB180))","v":0},0,1,0,0,0,null,"Pupae",{"$f":"VLOOKUP(RLSAdultAge,T$1457:AA$1517,8)","v":0},null,null,null,null,null,null,null,7,{"$f":"IF(SUM($AT157:$AT180)=0,0,SUM(AL157:AL180)/SUM($AT157:$AT180))","v":0},{"$f":"IF(SUM($AT157:$AT180)=0,0,SUM(AM157:AM180)/SUM($AT157:$AT180))","v":0},0,0,0,0,0,null,"Pupae",{"$f":"VLOOKUP(RLSAdultAge,AL$1457:AS$1517,8)","v":0},null,null,null,null,null,null,null,7,{"$f":"IF(SUM($BL157:$BL180)=0,0,SUM(BD157:BD180)/SUM($BL157:$BL180))","v":0},{"$f":"IF(SUM($BL157:$BL180)=0,0,SUM(BE157:BE180)/SUM($BL157:$BL180))","v":0},0,1,0,0,0,null,"Pupae",{"$f":"VLOOKUP(RLSAdultAge,BD$1457:BK$1517,8)","v":0},null,null,null,null,null,null,null,7,{"$f":"IF(SUM($CD157:$CD180)=0,0,SUM(BV157:BV180)/SUM($CD157:$CD180))","v":0},{"$f":"IF(SUM($CD157:$CD180)=0,0,SUM(BW157:BW180)/SUM($CD157:$CD180))","v":0},0,0,0,0,1,null,"Pupae",{"$f":"VLOOKUP(RLSAdultAge,BV$1457:CC$1517,8)","v":4.6082949308755769E-3},null,null,null,null,null,null,null,7,{"$f":"IF(SUM($CV157:$CV180)=0,0,SUM(CN157:CN180)/SUM($CV157:$CV180))","v":0},{"$f":"IF(SUM($CV157:$CV180)=0,0,SUM(CO157:CO180)/SUM($CV157:$CV180))","v":0},0,0,0,0,0,null,"Pupae",{"$f":"VLOOKUP(RLSAdultAge,CN$1457:CU$1517,8)","v":0},null,null,null,null,null,null,null,7,{"$f":"IF(SUM($DN157:$DN180)=0,0,SUM(DF157:DF180)/SUM($DN157:$DN180))","v":0},{"$f":"IF(SUM($DN157:$DN180)=0,0,SUM(DG157:DG180)/SUM($DN157:$DN180))","v":0},0,0,0,0,0,null,"Pupae",{"$f":"VLOOKUP(RLSAdultAge,DF$1457:DM$1517,8)","v":0},null,null,null,null,null,null,null,7,{"$f":"IF(SUM($EF157:$EF180)=0,0,SUM(DX157:DX180)/SUM($EF157:$EF180))","v":0},{"$f":"IF(SUM($EF157:$EF180)=0,0,SUM(DY157:DY180)/SUM($EF157:$EF180))","v":0},0,0,0,0,0,null,"Pupae",{"$f":"VLOOKUP(RLSAdultAge,DX$1457:EE$1517,8)","v":0},null,null,null,null,null,null,null,7,{"$f":"IF(SUM($EX157:$EX180)=0,0,SUM(EP157:EP180)/SUM($EX157:$EX180))","v":0},{"$f":"IF(SUM($EX157:$EX180)=0,0,SUM(EQ157:EQ180)/SUM($EX157:$EX180))","v":0},0,0,0,0,0,null,"Pupae",{"$f":"VLOOKUP(RLSAdultAge,EP$1457:EW$1517,8)","v":0},null,null,null,null,null,null,null,7,{"$f":"IF(SUM($FP157:$FP180)=0,0,SUM(FH157:FH180)/SUM($FP157:$FP180))","v":0},{"$f":"IF(SUM($FP157:$FP180)=0,0,SUM(FI157:FI180)/SUM($FP157:$FP180))","v":0},0,0,0,0,0,null,"Pupae",{"$f":"VLOOKUP(RLSAdultAge,FH$1457:FO$1517,8)","v":0}]
[null,8,{"$f":"IF(SUM($J181:$J204)=0,0,SUM(B181:B204)/SUM($J181:$J204))","v":0},{"$f":"IF(SUM($J181:$J204)=0,0,SUM(C181:C204)/SUM($J181:$J204))","v":0},0,1,{"$f":"IF(SUM($J181:$J204)=0,0,SUM(F181:F204)/SUM($J181:$J204))","v":0},0,0,null,null,null,null,null,null,null,null,null,null,8,{"$f":"IF(SUM($AB181:$AB204)=0,0,SUM(T181:T204)/SUM($AB181:$AB204))","v":0},{"$f":"IF(SUM($AB181:$AB204)=0,0,SUM(U181:U204)/SUM($AB181:$AB204))","v":0},0,1,0,0,0,null,null,null,null,null,null,null,null,null,null,8,{"$f":"IF(SUM($AT181:$AT204)=0,0,SUM(AL181:AL204)/SUM($AT181:$AT204))","v":0},{"$f":"IF(SUM($AT181:$AT204)=0,0,SUM(AM181:AM204)/SUM($AT181:$AT204))","v":0},0,1,0,0,0,null,null,null,null,null,null,null,null,null,null,8,{"$f":"IF(SUM($BL181:$BL204)=0,0,SUM(BD181:BD204)/SUM($BL181:$BL204))","v":0},{"$f":"IF(SUM($BL181:$BL204)=0,0,SUM(BE181:BE204)/SUM($BL181:$BL204))","v":0},1.4459224985540767E-2,0.98554077501445914,0,0,0,null,null,null,null,null,null,null,null,null,null,8,{"$f":"IF(SUM($CD181:$CD204)=0,0,SUM(BV181:BV204)/SUM($CD181:$CD204))","v":0},{"$f":"IF(SUM($CD181:$CD204)=0,0,SUM(BW181:BW204)/SUM($CD181:$CD204))","v":0},0,0.96774193548387077,0,0,3.2258064516129052E-2,null,null,null,null,null,null,null,null,null,null,8,{"$f":"IF(SUM($CV181:$CV204)=0,0,SUM(CN181:CN204)/SUM($CV181:$CV204))","v":0},{"$f":"IF(SUM($CV181:$CV204)=0,0,SUM(CO181:CO204)/SUM($CV181:$CV204))","v":0},0,0,0,0,0,null,null,null,null,null,null,null,null,null,null,8,{"$f":"IF(SUM($DN181:$DN204)=0,0,SUM(DF181:DF204)/SUM($DN181:$DN204))","v":0},{"$f":"IF(SUM($DN181:$DN204)=0,0,SUM(DG181:DG204)/SUM($DN181:$DN204))","v":0},0,0,0,0,0,null,null,null,null,null,null,null,null,null,null,8,{"$f":"IF(SUM($EF181:$EF204)=0,0,SUM(DX181:DX204)/SUM($EF181:$EF204))","v":0},{"$f":"IF(SUM($EF181:$EF204)=0,0,SUM(DY181:DY204)/SUM($EF181:$EF204))","v":0},0,0,0,0,0,null,null,null,null,null,null,null,null,null,null,8,{"$f":"IF(SUM($EX181:$EX204)=0,0,SUM(EP181:EP204)/SUM($EX181:$EX204))","v":0},{"$f":"IF(SUM($EX181:$EX204)=0,0,SUM(EQ181:EQ204)/SUM($EX181:$EX204))","v":0},0,0,0,0,0,null,null,null,null,null,null,null,null,null,null,8,{"$f":"IF(SUM($FP181:$FP204)=0,0,SUM(FH181:FH204)/SUM($FP181:$FP204))","v":0},{"$f":"IF(SUM($FP181:$FP204)=0,0,SUM(FI181:FI204)/SUM($FP181:$FP204))","v":0},0,0,0,0,0]
[null,9,{"$f":"IF(SUM($J205:$J228)=0,0,SUM(B205:B228)/SUM($J205:$J228))","v":0},{"$f":"IF(SUM($J205:$J228)=0,0,SUM(C205:C228)/SUM($J205:$J228))","v":0},0,1,{"$f":"IF(SUM($J205:$J228)=0,0,SUM(F205:F228)/SUM($J205:$J228))","v":0},0,0,null,"Check = 1",{"$f":"SUM(L1458:L1465)","v":1},null,null,null,null,null,null,null,9,{"$f":"IF(SUM($AB205:$AB228)=0,0,SUM(T205:T228)/SUM($AB205:$AB228))","v":0},{"$f":"IF(SUM($AB205:$AB228)=0,0,SUM(U205:U228)/SUM($AB205:$AB228))","v":0},0.55922865013774103,0.44077134986225919,0,0,0,null,"Check = 1",{"$f":"SUM(AD1458:AD1465)","v":1.0000000000000002},null,null,null,null,null,null,null,9,{"$f":"IF(SUM($AT205:$AT228)=0,0,SUM(AL205:AL228)/SUM($AT205:$AT228))","v":0},{"$f":"IF(SUM($AT205:$AT228)=0,0,SUM(AM205:AM228)/SUM($AT205:$AT228))","v":0},0,1,0,0,0,null,"Check = 1",{"$f":"SUM(AV1458:AV1465)","v":1},null,null,null,null,null,null,null,9,{"$f":"IF(SUM($BL205:$BL228)=0,0,SUM(BD205:BD228)/SUM($BL205:$BL228))","v":0},{"$f":"IF(SUM($BL205:$BL228)=0,0,SUM(BE205:BE228)/SUM($BL205:$BL228))","v":0},0.26041666666666641,0.73958333333333337,0,0,0,null,"Check = 1",{"$f":"SUM(BN1458:BN1465)","v":0.99999999999999978},null,null,null,null,null,null,null,9,{"$f":"IF(SUM($CD205:$CD228)=0,0,SUM(BV205:BV228)/SUM($CD205:$CD228))","v":0},{"$f":"IF(SUM($CD205:$CD228)=0,0,SUM(BW205:BW228)/SUM($CD205:$CD228))","v":0},0,0.99539170506912444,0,0,4.6082949308755769E-3,null,"Check = 1",{"$f":"SUM(CF1458:CF1465)","v":1},null,null,null,null,null,null,null,9,{"$f":"IF(SUM($CV205:$CV228)=0,0,SUM(CN205:CN228)/SUM($CV205:$CV228))","v":0},{"$f":"IF(SUM($CV205:$CV228)=0,0,SUM(CO205:CO228)/SUM($CV205:$CV228))","v":0},0,1,0,0,0,null,"Check = 1",{"$f":"SUM(CX1458:CX1465)","v":1},null,null,null,null,null,null,null,9,{"$f":"IF(SUM($DN205:$DN228)=0,0,SUM(DF205:DF228)/SUM($DN205:$DN228))","v":0},{"$f":"IF(SUM($DN205:$DN228)=0,0,SUM(DG205:DG228)/SUM($DN205:$DN228))","v":0},0,0,0,0,0,null,"Check = 1",{"$f":"SUM(DP1458:DP1465)","v":0},null,null,null,null,null,null,null,9,{"$f":"IF(SUM($EF205:$EF228)=0,0,SUM(DX205:DX228)/SUM($EF205:$EF228))","v":0},{"$f":"IF(SUM($EF205:$EF228)=0,0,SUM(DY205:DY228)/SUM($EF205:$EF228))","v":0},0,0,0,0,0,null,"Check = 1",{"$f":"SUM(EH1458:EH1465)","v":0},null,null,null,null,null,null,null,9,{"$f":"IF(SUM($EX205:$EX228)=0,0,SUM(EP205:EP228)/SUM($EX205:$EX228))","v":0},{"$f":"IF(SUM($EX205:$EX228)=0,0,SUM(EQ205:EQ228)/SUM($EX205:$EX228))","v":0},0,0,0,0,0,null,"Check = 1",{"$f":"SUM(EZ1458:EZ1465)","v":0},null,null,null,null,null,null,null,9,{"$f":"IF(SUM($FP205:$FP228)=0,0,SUM(FH205:FH228)/SUM($FP205:$FP228))","v":0},{"$f":"IF(SUM($FP205:$FP228)=0,0,SUM(FI205:FI228)/SUM($FP205:$FP228))","v":0},0,0,0,0,0,null,"Check = 1",{"$f":"SUM(FR1458:FR1465)","v":0}]
[null,10,{"$f":"IF(SUM($J229:$J252)=0,0,SUM(B229:B252)/SUM($J229:$J252))","v":0},{"$f":"IF(SUM($J229:$J252)=0,0,SUM(C229:C252)/SUM($J229:$J252))","v":0},4.9029622063329885E-2,0.95097037793666983,{"$f":"IF(SUM($J229:$J252)=0,0,SUM(F229:F252)/SUM($J229:$J252))","v":0},0,0,null,null,null,null,null,null,null,null,null,null,10,{"$f":"IF(SUM($AB229:$AB252)=0,0,SUM(T229:T252)/SUM($AB229:$AB252))","v":0},{"$f":"IF(SUM($AB229:$AB252)=0,0,SUM(U229:U252)/SUM($AB229:$AB252))","v":0},0.81308411214953347,0.18691588785046748,0,0,0,null,null,null,null,null,null,null,null,null,null,10,{"$f":"IF(SUM($AT229:$AT252)=0,0,SUM(AL229:AL252)/SUM($AT229:$AT252))","v":0},{"$f":"IF(SUM($AT229:$AT252)=0,0,SUM(AM229:AM252)/SUM($AT229:$AT252))","v":0},0,1,0,0,0,null,null,null,null,null,null,null,null,null,null,10,{"$f":"IF(SUM($BL229:$BL252)=0,0,SUM(BD229:BD252)/SUM($BL229:$BL252))","v":0},{"$f":"IF(SUM($BL229:$BL252)=0,0,SUM(BE229:BE252)/SUM($BL229:$BL252))","v":0},0.26041666666666641,0.73958333333333337,0,0,0,null,null,null,null,null,null,null,null,null,null,10,{"$f":"IF(SUM($CD229:$CD252)=0,0,SUM(BV229:BV252)/SUM($CD229:$CD252))","v":0},{"$f":"IF(SUM($CD229:$CD252)=0,0,SUM(BW229:BW252)/SUM($CD229:$CD252))","v":0},3.0837004405286365E-2,0.96916299559471397,0,0,0,null,null,null,null,null,null,null,null,null,null,10,{"$f":"IF(SUM($CV229:$CV252)=0,0,SUM(CN229:CN252)/SUM($CV229:$CV252))","v":0},{"$f":"IF(SUM($CV229:$CV252)=0,0,SUM(CO229:CO252)/SUM($CV229:$CV252))","v":0},1.26874279123414E-2,0.98731257208765844,0,0,0,null,null,null,null,null,null,null,null,null,null,10,{"$f":"IF(SUM($DN229:$DN252)=0,0,SUM(DF229:DF252)/SUM($DN229:$DN252))","v":0},{"$f":"IF(SUM($DN229:$DN252)=0,0,SUM(DG229:DG252)/SUM($DN229:$DN252))","v":0},0,0,0,0,0,null,null,null,null,null,null,null,null,null,null,10,{"$f":"IF(SUM($EF229:$EF252)=0,0,SUM(DX229:DX252)/SUM($EF229:$EF252))","v":0},{"$f":"IF(SUM($EF229:$EF252)=0,0,SUM(DY229:DY252)/SUM($EF229:$EF252))","v":0},0,0,0,0,0,null,null,null,null,null,null,null,null,null,null,10,{"$f":"IF(SUM($EX229:$EX252)=0,0,SUM(EP229:EP252)/SUM($EX229:$EX252))","v":0},{"$f":"IF(SUM($EX229:$EX252)=0,0,SUM(EQ229:EQ252)/SUM($EX229:$EX252))","v":0},0,0,0,0,0,null,null,null,null,null,null,null,null,null,null,10,{"$f":"IF(SUM($FP229:$FP252)=0,0,SUM(FH229:FH252)/SUM($FP229:$FP252))","v":0},{"$f":"IF(SUM($FP229:$FP252)=0,0,SUM(FI229:FI252)/SUM($FP229:$FP252))","v":0},0,0,0,0,0]
[null,11,{"$f":"IF(SUM($J253:$J276)=0,0,SUM(B253:B276)/SUM($J253:$J276))","v":0},{"$f":"IF(SUM($J253:$J276)=0,0,SUM(C253:C276)/SUM($J253:$J276))","v":0},1,0,{"$f":"IF(SUM($J253:$J276)=0,0,SUM(F253:F276)/SUM($J253:$J276))","v":0},0,0,null,null,null,null,null,null,null,null,null,null,11,{"$f":"IF(SUM($AB253:$AB276)=0,0,SUM(T253:T276)/SUM($AB253:$AB276))","v":0},{"$f":"IF(SUM($AB253:$AB276)=0,0,SUM(U253:U276)/SUM($AB253:$AB276))","v":2.910882221227052E-2},0.93506493506493538,3.5826242722794444E-2,0,0,0,null,null,null,null,null,null,null,null,null,null,11,{"$f":"IF(SUM($AT253:$AT276)=0,0,SUM(AL253:AL276)/SUM($AT253:$AT276))","v":0},{"$f":"IF(SUM($AT253:$AT276)=0,0,SUM(AM253:AM276)/SUM($AT253:$AT276))","v":0},0.27835051546391748,0.72164948453608257,0,0,0,null,null,null,null,null,null,null,null,null,null,11,{"$f":"IF(SUM($BL253:$BL276)=0,0,SUM(BD253:BD276)/SUM($BL253:$BL276))","v":0},{"$f":"IF(SUM($BL253:$BL276)=0,0,SUM(BE253:BE276)/SUM($BL253:$BL276))","v":0},0.2686968204209581,0.73130317957904178,0,0,0,null,null,null,null,null,null,null,null,null,null,11,{"$f":"IF(SUM($CD253:$CD276)=0,0,SUM(BV253:BV276)/SUM($CD253:$CD276))","v":0},{"$f":"IF(SUM($CD253:$CD276)=0,0,SUM(BW253:BW276)/SUM($CD253:$CD276))","v":0},1,0,0,0,0,null,null,null,null,null,null,null,null,null,null,11,{"$f":"IF(SUM($CV253:$CV276)=0,0,SUM(CN253:CN276)/SUM($CV253:$CV276))","v":0},{"$f":"IF(SUM($CV253:$CV276)=0,0,SUM(CO253:CO276)/SUM($CV253:$CV276))","v":2.4853296513634798E-2},0.27338626164998264,0.70176044183638264,0,0,0,null,null,null,null,null,null,null,null,null,null,11,{"$f":"IF(SUM($DN253:$DN276)=0,0,SUM(DF253:DF276)/SUM($DN253:$DN276))","v":0},{"$f":"IF(SUM($DN253:$DN276)=0,0,SUM(DG253:DG276)/SUM($DN253:$DN276))","v":0},0,0,0,0,0,null,null,null,null,null,null,null,null,null,null,11,{"$f":"IF(SUM($EF253:$EF276)=0,0,SUM(DX253:DX276)/SUM($EF253:$EF276))","v":0},{"$f":"IF(SUM($EF253:$EF276)=0,0,SUM(DY253:DY276)/SUM($EF253:$EF276))","v":0},0,0,0,0,0,null,null,null,null,null,null,null,null,null,null,11,{"$f":"IF(SUM($EX253:$EX276)=0,0,SUM(EP253:EP276)/SUM($EX253:$EX276))","v":0},{"$f":"IF(SUM($EX253:$EX276)=0,0,SUM(EQ253:EQ276)/SUM($EX253:$EX276))","v":0},0,0,0,0,0,null,null,null,null,null,null,null,null,null,null,11,{"$f":"IF(SUM($FP253:$FP276)=0,0,SUM(FH253:FH276)/SUM($FP253:$FP276))","v":0},{"$f":"IF(SUM($FP253:$FP276)=0,0,SUM(FI253:FI276)/SUM($FP253:$FP276))","v":0},0,0,0,0,0]
[null,12,{"$f":"IF(SUM($J277:$J300)=0,0,SUM(B277:B300)/SUM($J277:$J300))","v":0},{"$f":"IF(SUM($J277:$J300)=0,0,SUM(C277:C300)/SUM($J277:$J300))","v":0},1,0,{"$f":"IF(SUM($J277:$J300)=0,0,SUM(F277:F300)/SUM($J277:$J300))","v":0},0,0,null,null,null,null,null,null,null,null,null,null,12,{"$f":"IF(SUM($AB277:$AB300)=0,0,SUM(T277:T300)/SUM($AB277:$AB300))","v":0},{"$f":"IF(SUM($AB277:$AB300)=0,0,SUM(U277:U300)/SUM($AB277:$AB300))","v":6.1633281972265107E-2},0.93836671802773552,0,0,0,0,null,null,null,null,null,null,null,null,null,null,12,{"$f":"IF(SUM($AT277:$AT300)=0,0,SUM(AL277:AL300)/SUM($AT277:$AT300))","v":0},{"$f":"IF(SUM($AT277:$AT300)=0,0,SUM(AM277:AM300)/SUM($AT277:$AT300))","v":0},1,0,0,0,0,null,null,null,null,null,null,null,null,null,null,12,{"$f":"IF(SUM($BL277:$BL300)=0,0,SUM(BD277:BD300)/SUM($BL277:$BL300))","v":0},{"$f":"IF(SUM($BL277:$BL300)=0,0,SUM(BE277:BE300)/SUM($BL277:$BL300))","v":4.7619047619047707E-2},0.95238095238095244,0,0,0,0,null,null,null,null,null,null,null,null,null,null,12,{"$f":"IF(SUM($CD277:$CD300)=0,0,SUM(BV277:BV300)/SUM($CD277:$CD300))","v":0},{"$f":"IF(SUM($CD277:$CD300)=0,0,SUM(BW277:BW300)/SUM($CD277:$CD300))","v":0},1,0,0,0,0,null,null,null,null,null,null,null,null,null,null,12,{"$f":"IF(SUM($CV277:$CV300)=0,0,SUM(CN277:CN300)/SUM($CV277:$CV300))","v":0},{"$f":"IF(SUM($CV277:$CV300)=0,0,SUM(CO277:CO300)/SUM($CV277:$CV300))","v":0.26666666666666689},0.73333333333333361,0,0,0,0,null,null,null,null,null,null,null,null,null,null,12,{"$f":"IF(SUM($DN277:$DN300)=0,0,SUM(DF277:DF300)/SUM($DN277:$DN300))","v":0},{"$f":"IF(SUM($DN277:$DN300)=0,0,SUM(DG277:DG300)/SUM($DN277:$DN300))","v":0},0,0,0,0,0,null,null,null,null,null,null,null,null,null,null,12,{"$f":"IF(SUM($EF277:$EF300)=0,0,SUM(DX277:DX300)/SUM($EF277:$EF300))","v":0},{"$f":"IF(SUM($EF277:$EF300)=0,0,SUM(DY277:DY300)/SUM($EF277:$EF300))","v":0},0,0,0,0,0,null,null,null,null,null,null,null,null,null,null,12,{"$f":"IF(SUM($EX277:$EX300)=0,0,SUM(EP277:EP300)/SUM($EX277:$EX300))","v":0},{"$f":"IF(SUM($EX277:$EX300)=0,0,SUM(EQ277:EQ300)/SUM($EX277:$EX300))","v":0},0,0,0,0,0,null,null,null,null,null,null,null,null,null,null,12,{"$f":"IF(SUM($FP277:$FP300)=0,0,SUM(FH277:FH300)/SUM($FP277:$FP300))","v":0},{"$f":"IF(SUM($FP277:$FP300)=0,0,SUM(FI277:FI300)/SUM($FP277:$FP300))","v":0},0,0,0,0,0]
[null,13,{"$f":"IF(SUM($J301:$J324)=0,0,SUM(B301:B324)/SUM($J301:$J324))","v":0},{"$f":"IF(SUM($J301:$J324)=0,0,SUM(C301:C324)/SUM($J301:$J324))","v":0},0,0,{"$f":"IF(SUM($J301:$J324)=0,0,SUM(F301:F324)/SUM($J301:$J324))","v":0},0,0,null,null,null,null,null,null,null,null,null,null,13,{"$f":"IF(SUM($AB301:$AB324)=0,0,SUM(T301:T324)/SUM($AB301:$AB324))","v":0},{"$f":"IF(SUM($AB301:$AB324)=0,0,SUM(U301:U324)/SUM($AB301:$AB324))","v":1},0,0,0,0,0,null,null,null,null,null,null,null,null,null,null,13,{"$f":"IF(SUM($AT301:$AT324)=0,0,SUM(AL301:AL324)/SUM($AT301:$AT324))","v":0},{"$f":"IF(SUM($AT301:$AT324)=0,0,SUM(AM301:AM324)/SUM($AT301:$AT324))","v":0},1,0,0,0,0,null,null,null,null,null,null,null,null,null,null,13,{"$f":"IF(SUM($BL301:$BL324)=0,0,SUM(BD301:BD324)/SUM($BL301:$BL324))","v":0},{"$f":"IF(SUM($BL301:$BL324)=0,0,SUM(BE301:BE324)/SUM($BL301:$BL324))","v":7.4074074074074209E-2},0.92592592592592582,0,0,0,0,null,null,null,null,null,null,null,null,null,null,13,{"$f":"IF(SUM($CD301:$CD324)=0,0,SUM(BV301:BV324)/SUM($CD301:$CD324))","v":0},{"$f":"IF(SUM($CD301:$CD324)=0,0,SUM(BW301:BW324)/SUM($CD301:$CD324))","v":0},0,0,0,0,0,null,null,null,null,null,null,null,null,null,null,13,{"$f":"IF(SUM($CV301:$CV324)=0,0,SUM(CN301:CN324)/SUM($CV301:$CV324))","v":0},{"$f":"IF(SUM($CV301:$CV324)=0,0,SUM(CO301:CO324)/SUM($CV301:$CV324))","v":0.52173913043478271},0.47826086956521724,0,0,0,0,null,null,null,null,null,null,null,null,null,null,13,{"$f":"IF(SUM($DN301:$DN324)=0,0,SUM(DF301:DF324)/SUM($DN301:$DN324))","v":0},{"$f":"IF(SUM($DN301:$DN324)=0,0,SUM(DG301:DG324)/SUM($DN301:$DN324))","v":0},0,0,0,0,0,null,null,null,null,null,null,null,null,null,null,13,{"$f":"IF(SUM($EF301:$EF324)=0,0,SUM(DX301:DX324)/SUM($EF301:$EF324))","v":0},{"$f":"IF(SUM($EF301:$EF324)=0,0,SUM(DY301:DY324)/SUM($EF301:$EF324))","v":0},0,0,0,0,0,null,null,null,null,null,null,null,null,null,null,13,{"$f":"IF(SUM($EX301:$EX324)=0,0,SUM(EP301:EP324)/SUM($EX301:$EX324))","v":0},{"$f":"IF(SUM($EX301:$EX324)=0,0,SUM(EQ301:EQ324)/SUM($EX301:$EX324))","v":0},0,0,0,0,0,null,null,null,null,null,null,null,null,null,null,13,{"$f":"IF(SUM($FP301:$FP324)=0,0,SUM(FH301:FH324)/SUM($FP301:$FP324))","v":0},{"$f":"IF(SUM($FP301:$FP324)=0,0,SUM(FI301:FI324)/SUM($FP301:$FP324))","v":0},0,0,0,0,0]
[null,14,{"$f":"IF(SUM($J325:$J348)=0,0,SUM(B325:B348)/SUM($J325:$J348))","v":0},{"$f":"IF(SUM($J325:$J348)=0,0,SUM(C325:C348)/SUM($J325:$J348))","v":0},0,0,0,0,0,null,null,null,null,null,null,null,null,null,null,14,{"$f":"IF(SUM($AB325:$AB348)=0,0,SUM(T325:T348)/SUM($AB325:$AB348))","v":0},{"$f":"IF(SUM($AB325:$AB348)=0,0,SUM(U325:U348)/SUM($AB325:$AB348))","v":1},0,0,0,0,0,null,null,null,null,null,null,null,null,null,null,14,{"$f":"IF(SUM($AT325:$AT348)=0,0,SUM(AL325:AL348)/SUM($AT325:$AT348))","v":0},{"$f":"IF(SUM($AT325:$AT348)=0,0,SUM(AM325:AM348)/SUM($AT325:$AT348))","v":0},0,0,0,0,0,null,null,null,null,null,null,null,null,null,null,14,{"$f":"IF(SUM($BL325:$BL348)=0,0,SUM(BD325:BD348)/SUM($BL325:$BL348))","v":0},{"$f":"IF(SUM($BL325:$BL348)=0,0,SUM(BE325:BE348)/SUM($BL325:$BL348))","v":0.32432432432432462},0.67567567567567544,0,0,0,0,null,null,null,null,null,null,null,null,null,null,14,{"$f":"IF(SUM($CD325:$CD348)=0,0,SUM(BV325:BV348)/SUM($CD325:$CD348))","v":0},{"$f":"IF(SUM($CD325:$CD348)=0,0,SUM(BW325:BW348)/SUM($CD325:$CD348))","v":0},0,0,0,0,0,null,null,null,null,null,null,null,null,null,null,14,{"$f":"IF(SUM($CV325:$CV348)=0,0,SUM(CN325:CN348)/SUM($CV325:$CV348))","v":0},{"$f":"IF(SUM($CV325:$CV348)=0,0,SUM(CO325:CO348)/SUM($CV325:$CV348))","v":1},0,0,0,0,0,null,null,null,null,null,null,null,null,null,null,14,{"$f":"IF(SUM($DN325:$DN348)=0,0,SUM(DF325:DF348)/SUM($DN325:$DN348))","v":0},{"$f":"IF(SUM($DN325:$DN348)=0,0,SUM(DG325:DG348)/SUM($DN325:$DN348))","v":0},0,0,0,0,0,null,null,null,null,null,null,null,null,null,null,14,{"$f":"IF(SUM($EF325:$EF348)=0,0,SUM(DX325:DX348)/SUM($EF325:$EF348))","v":0},{"$f":"IF(SUM($EF325:$EF348)=0,0,SUM(DY325:DY348)/SUM($EF325:$EF348))","v":0},0,0,0,0,0,null,null,null,null,null,null,null,null,null,null,14,{"$f":"IF(SUM($EX325:$EX348)=0,0,SUM(EP325:EP348)/SUM($EX325:$EX348))","v":0},{"$f":"IF(SUM($EX325:$EX348)=0,0,SUM(EQ325:EQ348)/SUM($EX325:$EX348))","v":0},0,0,0,0,0,null,null,null,null,null,null,null,null,null,null,14,{"$f":"IF(SUM($FP325:$FP348)=0,0,SUM(FH325:FH348)/SUM($FP325:$FP348))","v":0},{"$f":"IF(SUM($FP325:$FP348)=0,0,SUM(FI325:FI348)/SUM($FP325:$FP348))","v":0},0,0,0,0,0]
[null,15,{"$f":"IF(SUM($J349:$J372)=0,0,SUM(B349:B372)/SUM($J349:$J372))","v":0},{"$f":"IF(SUM($J349:$J372)=0,0,SUM(C349:C372)/SUM($J349:$J372))","v":0},0,0,0,0,0,null,null,null,null,null,null,null,null,null,null,15,{"$f":"IF(SUM($AB349:$AB372)=0,0,SUM(T349:T372)/SUM($AB349:$AB372))","v":0},{"$f":"IF(SUM($AB349:$AB372)=0,0,SUM(U349:U372)/SUM($AB349:$AB372))","v":0},0,0,0,0,0,null,null,null,null,null,null,null,null,null,null,15,{"$f":"IF(SUM($AT349:$AT372)=0,0,SUM(AL349:AL372)/SUM($AT349:$AT372))","v":0},{"$f":"IF(SUM($AT349:$AT372)=0,0,SUM(AM349:AM372)/SUM($AT349:$AT372))","v":0},0,0,0,0,0,null,null,null,null,null,null,null,null,null,null,15,{"$f":"IF(SUM($BL349:$BL372)=0,0,SUM(BD349:BD372)/SUM($BL349:$BL372))","v":0},{"$f":"IF(SUM($BL349:$BL372)=0,0,SUM(BE349:BE372)/SUM($BL349:$BL372))","v":1},0,0,0,0,0,null,null,null,null,null,null,null,null,null,null,15,{"$f":"IF(SUM($CD349:$CD372)=0,0,SUM(BV349:BV372)/SUM($CD349:$CD372))","v":0},{"$f":"IF(SUM($CD349:$CD372)=0,0,SUM(BW349:BW372)/SUM($CD349:$CD372))","v":0},0,0,0,0,0,null,null,null,null,null,null,null,null,null,null,15,{"$f":"IF(SUM($CV349:$CV372)=0,0,SUM(CN349:CN372)/SUM($CV349:$CV372))","v":0},{"$f":"IF(SUM($CV349:$CV372)=0,0,SUM(CO349:CO372)/SUM($CV349:$CV372))","v":0},0,0,0,0,0,null,null,null,null,null,null,null,null,null,null,15,{"$f":"IF(SUM($DN349:$DN372)=0,0,SUM(DF349:DF372)/SUM($DN349:$DN372))","v":0},{"$f":"IF(SUM($DN349:$DN372)=0,0,SUM(DG349:DG372)/SUM($DN349:$DN372))","v":0},0,0,0,0,0,null,null,null,null,null,null,null,null,null,null,15,{"$f":"IF(SUM($EF349:$EF372)=0,0,SUM(DX349:DX372)/SUM($EF349:$EF372))","v":0},{"$f":"IF(SUM($EF349:$EF372)=0,0,SUM(DY349:DY372)/SUM($EF349:$EF372))","v":0},0,0,0,0,0,null,null,null,null,null,null,null,null,null,null,15,{"$f":"IF(SUM($EX349:$EX372)=0,0,SUM(EP349:EP372)/SUM($EX349:$EX372))","v":0},{"$f":"IF(SUM($EX349:$EX372)=0,0,SUM(EQ349:EQ372)/SUM($EX349:$EX372))","v":0},0,0,0,0,0,null,null,null,null,null,null,null,null,null,null,15,{"$f":"IF(SUM($FP349:$FP372)=0,0,SUM(FH349:FH372)/SUM($FP349:$FP372))","v":0},{"$f":"IF(SUM($FP349:$FP372)=0,0,SUM(FI349:FI372)/SUM($FP349:$FP372))","v":0},0,0,0,0,0]
[null,16,{"$f":"IF(SUM($J373:$J396)=0,0,SUM(B373:B396)/SUM($J373:$J396))","v":0},{"$f":"IF(SUM($J373:$J396)=0,0,SUM(C373:C396)/SUM($J373:$J396))","v":0},0,0,0,{"$f":"IF(SUM($J373:$J396)=0,0,SUM(G373:G396)/SUM($J373:$J396))","v":0},0,null,null,null,null,null,null,null,null,null,null,16,{"$f":"IF(SUM($AB373:$AB396)=0,0,SUM(T373:T396)/SUM($AB373:$AB396))","v":0},{"$f":"IF(SUM($AB373:$AB396)=0,0,SUM(U373:U396)/SUM($AB373:$AB396))","v":0},0,0,0,0,0,null,null,null,null,null,null,null,null,null,null,16,{"$f":"IF(SUM($AT373:$AT396)=0,0,SUM(AL373:AL396)/SUM($AT373:$AT396))","v":0},{"$f":"IF(SUM($AT373:$AT396)=0,0,SUM(AM373:AM396)/SUM($AT373:$AT396))","v":0},0,0,0,0,0,null,null,null,null,null,null,null,null,null,null,16,{"$f":"IF(SUM($BL373:$BL396)=0,0,SUM(BD373:BD396)/SUM($BL373:$BL396))","v":0},{"$f":"IF(SUM($BL373:$BL396)=0,0,SUM(BE373:BE396)/SUM($BL373:$BL396))","v":0},0,0,0,0,0,null,null,null,null,null,null,null,null,null,null,16,{"$f":"IF(SUM($CD373:$CD396)=0,0,SUM(BV373:BV396)/SUM($CD373:$CD396))","v":0},{"$f":"IF(SUM($CD373:$CD396)=0,0,SUM(BW373:BW396)/SUM($CD373:$CD396))","v":0},0,0,0,0,0,null,null,null,null,null,null,null,null,null,null,16,{"$f":"IF(SUM($CV373:$CV396)=0,0,SUM(CN373:CN396)/SUM($CV373:$CV396))","v":0},{"$f":"IF(SUM($CV373:$CV396)=0,0,SUM(CO373:CO396)/SUM($CV373:$CV396))","v":0},0,0,0,0,0,null,null,null,null,null,null,null,null,null,null,16,{"$f":"IF(SUM($DN373:$DN396)=0,0,SUM(DF373:DF396)/SUM($DN373:$DN396))","v":0},{"$f":"IF(SUM($DN373:$DN396)=0,0,SUM(DG373:DG396)/SUM($DN373:$DN396))","v":0},0,0,0,0,0,null,null,null,null,null,null,null,null,null,null,16,{"$f":"IF(SUM($EF373:$EF396)=0,0,SUM(DX373:DX396)/SUM($EF373:$EF396))","v":0},{"$f":"IF(SUM($EF373:$EF396)=0,0,SUM(DY373:DY396)/SUM($EF373:$EF396))","v":0},0,0,0,0,0,null,null,null,null,null,null,null,null,null,null,16,{"$f":"IF(SUM($EX373:$EX396)=0,0,SUM(EP373:EP396)/SUM($EX373:$EX396))","v":0},{"$f":"IF(SUM($EX373:$EX396)=0,0,SUM(EQ373:EQ396)/SUM($EX373:$EX396))","v":0},0,0,0,0,0,null,null,null,null,null,null,null,null,null,null,16,{"$f":"IF(SUM($FP373:$FP396)=0,0,SUM(FH373:FH396)/SUM($FP373:$FP396))","v":0},{"$f":"IF(SUM($FP373:$FP396)=0,0,SUM(FI373:FI396)/SUM($FP373:$FP396))","v":0},0,0,0,0,0]
[null,17,{"$f":"IF(SUM($J397:$J420)=0,0,SUM(B397:B420)/SUM($J397:$J420))","v":0},{"$f":"IF(SUM($J397:$J420)=0,0,SUM(C397:C420)/SUM($J397:$J420))","v":0},0,0,0,0,0,null,null,null,null,null,null,null,null,null,null,17,{"$f":"IF(SUM($AB397:$AB420)=0,0,SUM(T397:T420)/SUM($AB397:$AB420))","v":0},{"$f":"IF(SUM($AB397:$AB420)=0,0,SUM(U397:U420)/SUM($AB397:$AB420))","v":0},0,0,0,0,0,null,null,null,null,null,null,null,null,null,null,17,{"$f":"IF(SUM($AT397:$AT420)=0,0,SUM(AL397:AL420)/SUM($AT397:$AT420))","v":0},{"$f":"IF(SUM($AT397:$AT420)=0,0,SUM(AM397:AM420)/SUM($AT397:$AT420))","v":0},0,0,0,0,0,null,null,null,null,null,null,null,null,null,null,17,{"$f":"IF(SUM($BL397:$BL420)=0,0,SUM(BD397:BD420)/SUM($BL397:$BL420))","v":0},{"$f":"IF(SUM($BL397:$BL420)=0,0,SUM(BE397:BE420)/SUM($BL397:$BL420))","v":0},0,0,0,0,0,null,null,null,null,null,null,null,null,null,null,17,{"$f":"IF(SUM($CD397:$CD420)=0,0,SUM(BV397:BV420)/SUM($CD397:$CD420))","v":0},{"$f":"IF(SUM($CD397:$CD420)=0,0,SUM(BW397:BW420)/SUM($CD397:$CD420))","v":0},0,0,0,0,0,null,null,null,null,null,null,null,null,null,null,17,{"$f":"IF(SUM($CV397:$CV420)=0,0,SUM(CN397:CN420)/SUM($CV397:$CV420))","v":0},{"$f":"IF(SUM($CV397:$CV420)=0,0,SUM(CO397:CO420)/SUM($CV397:$CV420))","v":0},0,0,0,0,0,null,null,null,null,null,null,null,null,null,null,17,{"$f":"IF(SUM($DN397:$DN420)=0,0,SUM(DF397:DF420)/SUM($DN397:$DN420))","v":0},{"$f":"IF(SUM($DN397:$DN420)=0,0,SUM(DG397:DG420)/SUM($DN397:$DN420))","v":0},0,0,0,0,0,null,null,null,null,null,null,null,null,null,null,17,{"$f":"IF(SUM($EF397:$EF420)=0,0,SUM(DX397:DX420)/SUM($EF397:$EF420))","v":0},{"$f":"IF(SUM($EF397:$EF420)=0,0,SUM(DY397:DY420)/SUM($EF397:$EF420))","v":0},0,0,0,0,0,null,null,null,null,null,null,null,null,null,null,17,{"$f":"IF(SUM($EX397:$EX420)=0,0,SUM(EP397:EP420)/SUM($EX397:$EX420))","v":0},{"$f":"IF(SUM($EX397:$EX420)=0,0,SUM(EQ397:EQ420)/SUM($EX397:$EX420))","v":0},0,0,0,0,0,null,null,null,null,null,null,null,null,null,null,17,{"$f":"IF(SUM($FP397:$FP420)=0,0,SUM(FH397:FH420)/SUM($FP397:$FP420))","v":0},{"$f":"IF(SUM($FP397:$FP420)=0,0,SUM(FI397:FI420)/SUM($FP397:$FP420))","v":0},0,0,0,0,0]
[null,18,{"$f":"IF(SUM($J421:$J444)=0,0,SUM(B421:B444)/SUM($J421:$J444))","v":0},{"$f":"IF(SUM($J421:$J444)=0,0,SUM(C421:C444)/SUM($J421:$J444))","v":0},0,0,0,0,0,null,null,null,null,null,null,null,null,null,null,18,{"$f":"IF(SUM($AB421:$AB444)=0,0,SUM(T421:T444)/SUM($AB421:$AB444))","v":0},{"$f":"IF(SUM($AB421:$AB444)=0,0,SUM(U421:U444)/SUM($AB421:$AB444))","v":0},0,0,0,0,0,null,null,null,null,null,null,null,null,null,null,18,{"$f":"IF(SUM($AT421:$AT444)=0,0,SUM(AL421:AL444)/SUM($AT421:$AT444))","v":0},{"$f":"IF(SUM($AT421:$AT444)=0,0,SUM(AM421:AM444)/SUM($AT421:$AT444))","v":0},0,0,0,0,0,null,null,null,null,null,null,null,null,null,null,18,{"$f":"IF(SUM($BL421:$BL444)=0,0,SUM(BD421:BD444)/SUM($BL421:$BL444))","v":0},{"$f":"IF(SUM($BL421:$BL444)=0,0,SUM(BE421:BE444)/SUM($BL421:$BL444))","v":0},0,0,0,0,0,null,null,null,null,null,null,null,null,null,null,18,{"$f":"IF(SUM($CD421:$CD444)=0,0,SUM(BV421:BV444)/SUM($CD421:$CD444))","v":0},{"$f":"IF(SUM($CD421:$CD444)=0,0,SUM(BW421:BW444)/SUM($CD421:$CD444))","v":0},0,0,0,0,0,null,null,null,null,null,null,null,null,null,null,18,{"$f":"IF(SUM($CV421:$CV444)=0,0,SUM(CN421:CN444)/SUM($CV421:$CV444))","v":0},{"$f":"IF(SUM($CV421:$CV444)=0,0,SUM(CO421:CO444)/SUM($CV421:$CV444))","v":0},0,0,0,0,0,null,null,null,null,null,null,null,null,null,null,18,{"$f":"IF(SUM($DN421:$DN444)=0,0,SUM(DF421:DF444)/SUM($DN421:$DN444))","v":0},{"$f":"IF(SUM($DN421:$DN444)=0,0,SUM(DG421:DG444)/SUM($DN421:$DN444))","v":0},0,0,0,0,0,null,null,null,null,null,null,null,null,null,null,18,{"$f":"IF(SUM($EF421:$EF444)=0,0,SUM(DX421:DX444)/SUM($EF421:$EF444))","v":0},{"$f":"IF(SUM($EF421:$EF444)=0,0,SUM(DY421:DY444)/SUM($EF421:$EF444))","v":0},0,0,0,0,0,null,null,null,null,null,null,null,null,null,null,18,{"$f":"IF(SUM($EX421:$EX444)=0,0,SUM(EP421:EP444)/SUM($EX421:$EX444))","v":0},{"$f":"IF(SUM($EX421:$EX444)=0,0,SUM(EQ421:EQ444)/SUM($EX421:$EX444))","v":0},0,0,0,0,0,null,null,null,null,null,null,null,null,null,null,18,{"$f":"IF(SUM($FP421:$FP444)=0,0,SUM(FH421:FH444)/SUM($FP421:$FP444))","v":0},{"$f":"IF(SUM($FP421:$FP444)=0,0,SUM(FI421:FI444)/SUM($FP421:$FP444))","v":0},0,0,0,0,0]
[null,19,{"$f":"IF(SUM($J445:$J468)=0,0,SUM(B445:B468)/SUM($J445:$J468))","v":0},{"$f":"IF(SUM($J445:$J468)=0,0,SUM(C445:C468)/SUM($J445:$J468))","v":0},0,0,0,0,0,null,null,null,null,null,null,null,null,null,null,19,{"$f":"IF(SUM($AB445:$AB468)=0,0,SUM(T445:T468)/SUM($AB445:$AB468))","v":0},{"$f":"IF(SUM($AB445:$AB468)=0,0,SUM(U445:U468)/SUM($AB445:$AB468))","v":0},0,0,0,0,0,null,null,null,null,null,null,null,null,null,null,19,{"$f":"IF(SUM($AT445:$AT468)=0,0,SUM(AL445:AL468)/SUM($AT445:$AT468))","v":0},{"$f":"IF(SUM($AT445:$AT468)=0,0,SUM(AM445:AM468)/SUM($AT445:$AT468))","v":0},0,0,0,0,0,null,null,null,null,null,null,null,null,null,null,19,{"$f":"IF(SUM($BL445:$BL468)=0,0,SUM(BD445:BD468)/SUM($BL445:$BL468))","v":0},{"$f":"IF(SUM($BL445:$BL468)=0,0,SUM(BE445:BE468)/SUM($BL445:$BL468))","v":0},0,0,0,0,0,null,null,null,null,null,null,null,null,null,null,19,{"$f":"IF(SUM($CD445:$CD468)=0,0,SUM(BV445:BV468)/SUM($CD445:$CD468))","v":0},{"$f":"IF(SUM($CD445:$CD468)=0,0,SUM(BW445:BW468)/SUM($CD445:$CD468))","v":0},0,0,0,0,0,null,null,null,null,null,null,null,null,null,null,19,{"$f":"IF(SUM($CV445:$CV468)=0,0,SUM(CN445:CN468)/SUM($CV445:$CV468))","v":0},{"$f":"IF(SUM($CV445:$CV468)=0,0,SUM(CO445:CO468)/SUM($CV445:$CV468))","v":0},0,0,0,0,0,null,null,null,null,null,null,null,null,null,null,19,{"$f":"IF(SUM($DN445:$DN468)=0,0,SUM(DF445:DF468)/SUM($DN445:$DN468))","v":0},{"$f":"IF(SUM($DN445:$DN468)=0,0,SUM(DG445:DG468)/SUM($DN445:$DN468))","v":0},0,0,0,0,0,null,null,null,null,null,null,null,null,null,null,19,{"$f":"IF(SUM($EF445:$EF468)=0,0,SUM(DX445:DX468)/SUM($EF445:$EF468))","v":0},{"$f":"IF(SUM($EF445:$EF468)=0,0,SUM(DY445:DY468)/SUM($EF445:$EF468))","v":0},0,0,0,0,0,null,null,null,null,null,null,null,null,null,null,19,{"$f":"IF(SUM($EX445:$EX468)=0,0,SUM(EP445:EP468)/SUM($EX445:$EX468))","v":0},{"$f":"IF(SUM($EX445:$EX468)=0,0,SUM(EQ445:EQ468)/SUM($EX445:$EX468))","v":0},0,0,0,0,0,null,null,null,null,null,null,null,null,null,null,19,{"$f":"IF(SUM($FP445:$FP468)=0,0,SUM(FH445:FH468)/SUM($FP445:$FP468))","v":0},{"$f":"IF(SUM($FP445:$FP468)=0,0,SUM(FI445:FI468)/SUM($FP445:$FP468))","v":0},0,0,0,0,0]
[null,20,{"$f":"IF(SUM($J469:$J492)=0,0,SUM(B469:B492)/SUM($J469:$J492))","v":0},{"$f":"IF(SUM($J469:$J492)=0,0,SUM(C469:C492)/SUM($J469:$J492))","v":0},0,0,0,0,0,null,null,null,null,null,null,null,null,null,null,20,{"$f":"IF(SUM($AB469:$AB492)=0,0,SUM(T469:T492)/SUM($AB469:$AB492))","v":0},{"$f":"IF(SUM($AB469:$AB492)=0,0,SUM(U469:U492)/SUM($AB469:$AB492))","v":0},0,0,0,0,0,null,null,null,null,null,null,null,null,null,null,20,{"$f":"IF(SUM($AT469:$AT492)=0,0,SUM(AL469:AL492)/SUM($AT469:$AT492))","v":0},{"$f":"IF(SUM($AT469:$AT492)=0,0,SUM(AM469:AM492)/SUM($AT469:$AT492))","v":0},0,0,0,0,0,null,null,null,null,null,null,null,null,null,null,20,{"$f":"IF(SUM($BL469:$BL492)=0,0,SUM(BD469:BD492)/SUM($BL469:$BL492))","v":0},{"$f":"IF(SUM($BL469:$BL492)=0,0,SUM(BE469:BE492)/SUM($BL469:$BL492))","v":0},0,0,0,0,0,null,null,null,null,null,null,null,null,null,null,20,{"$f":"IF(SUM($CD469:$CD492)=0,0,SUM(BV469:BV492)/SUM($CD469:$CD492))","v":0},{"$f":"IF(SUM($CD469:$CD492)=0,0,SUM(BW469:BW492)/SUM($CD469:$CD492))","v":0},0,0,0,0,0,null,null,null,null,null,null,null,null,null,null,20,{"$f":"IF(SUM($CV469:$CV492)=0,0,SUM(CN469:CN492)/SUM($CV469:$CV492))","v":0},{"$f":"IF(SUM($CV469:$CV492)=0,0,SUM(CO469:CO492)/SUM($CV469:$CV492))","v":0},0,0,0,0,0,null,null,null,null,null,null,null,null,null,null,20,{"$f":"IF(SUM($DN469:$DN492)=0,0,SUM(DF469:DF492)/SUM($DN469:$DN492))","v":0},{"$f":"IF(SUM($DN469:$DN492)=0,0,SUM(DG469:DG492)/SUM($DN469:$DN492))","v":0},0,0,0,0,0,null,null,null,null,null,null,null,null,null,null,20,{"$f":"IF(SUM($EF469:$EF492)=0,0,SUM(DX469:DX492)/SUM($EF469:$EF492))","v":0},{"$f":"IF(SUM($EF469:$EF492)=0,0,SUM(DY469:DY492)/SUM($EF469:$EF492))","v":0},0,0,0,0,0,null,null,null,null,null,null,null,null,null,null,20,{"$f":"IF(SUM($EX469:$EX492)=0,0,SUM(EP469:EP492)/SUM($EX469:$EX492))","v":0},{"$f":"IF(SUM($EX469:$EX492)=0,0,SUM(EQ469:EQ492)/SUM($EX469:$EX492))","v":0},0,0,0,0,0,null,null,null,null,null,null,null,null,null,null,20,{"$f":"IF(SUM($FP469:$FP492)=0,0,SUM(FH469:FH492)/SUM($FP469:$FP492))","v":0},{"$f":"IF(SUM($FP469:$FP492)=0,0,SUM(FI469:FI492)/SUM($FP469:$FP492))","v":0},0,0,0,0,0]
[null,21,{"$f":"IF(SUM($J493:$J516)=0,0,SUM(B493:B516)/SUM($J493:$J516))","v":0},{"$f":"IF(SUM($J493:$J516)=0,0,SUM(C493:C516)/SUM($J493:$J516))","v":0},0,0,0,0,0,null,null,null,null,null,null,null,null,null,null,21,{"$f":"IF(SUM($AB493:$AB516)=0,0,SUM(T493:T516)/SUM($AB493:$AB516))","v":0},{"$f":"IF(SUM($AB493:$AB516)=0,0,SUM(U493:U516)/SUM($AB493:$AB516))","v":0},0,0,0,0,0,null,null,null,null,null,null,null,null,null,null,21,{"$f":"IF(SUM($AT493:$AT516)=0,0,SUM(AL493:AL516)/SUM($AT493:$AT516))","v":0},{"$f":"IF(SUM($AT493:$AT516)=0,0,SUM(AM493:AM516)/SUM($AT493:$AT516))","v":0},0,0,0,0,0,null,null,null,null,null,null,null,null,null,null,21,{"$f":"IF(SUM($BL493:$BL516)=0,0,SUM(BD493:BD516)/SUM($BL493:$BL516))","v":0},{"$f":"IF(SUM($BL493:$BL516)=0,0,SUM(BE493:BE516)/SUM($BL493:$BL516))","v":0},0,0,0,0,0,null,null,null,null,null,null,null,null,null,null,21,{"$f":"IF(SUM($CD493:$CD516)=0,0,SUM(BV493:BV516)/SUM($CD493:$CD516))","v":0},{"$f":"IF(SUM($CD493:$CD516)=0,0,SUM(BW493:BW516)/SUM($CD493:$CD516))","v":0},0,0,0,0,0,null,null,null,null,null,null,null,null,null,null,21,{"$f":"IF(SUM($CV493:$CV516)=0,0,SUM(CN493:CN516)/SUM($CV493:$CV516))","v":0},{"$f":"IF(SUM($CV493:$CV516)=0,0,SUM(CO493:CO516)/SUM($CV493:$CV516))","v":0},0,0,0,0,0,null,null,null,null,null,null,null,null,null,null,21,{"$f":"IF(SUM($DN493:$DN516)=0,0,SUM(DF493:DF516)/SUM($DN493:$DN516))","v":0},{"$f":"IF(SUM($DN493:$DN516)=0,0,SUM(DG493:DG516)/SUM($DN493:$DN516))","v":0},0,0,0,0,0,null,null,null,null,null,null,null,null,null,null,21,{"$f":"IF(SUM($EF493:$EF516)=0,0,SUM(DX493:DX516)/SUM($EF493:$EF516))","v":0},{"$f":"IF(SUM($EF493:$EF516)=0,0,SUM(DY493:DY516)/SUM($EF493:$EF516))","v":0},0,0,0,0,0,null,null,null,null,null,null,null,null,null,null,21,{"$f":"IF(SUM($EX493:$EX516)=0,0,SUM(EP493:EP516)/SUM($EX493:$EX516))","v":0},{"$f":"IF(SUM($EX493:$EX516)=0,0,SUM(EQ493:EQ516)/SUM($EX493:$EX516))","v":0},0,0,0,0,0,null,null,null,null,null,null,null,null,null,null,21,{"$f":"IF(SUM($FP493:$FP516)=0,0,SUM(FH493:FH516)/SUM($FP493:$FP516))","v":0},{"$f":"IF(SUM($FP493:$FP516)=0,0,SUM(FI493:FI516)/SUM($FP493:$FP516))","v":0},0,0,0,0,0]
[null,22,{"$f":"IF(SUM($J517:$J540)=0,0,SUM(B517:B540)/SUM($J517:$J540))","v":0},{"$f":"IF(SUM($J517:$J540)=0,0,SUM(C517:C540)/SUM($J517:$J540))","v":0},0,0,0,0,0,null,null,null,null,null,null,null,null,null,null,22,{"$f":"IF(SUM($AB517:$AB540)=0,0,SUM(T517:T540)/SUM($AB517:$AB540))","v":0},{"$f":"IF(SUM($AB517:$AB540)=0,0,SUM(U517:U540)/SUM($AB517:$AB540))","v":0},0,0,0,0,0,null,null,null,null,null,null,null,null,null,null,22,{"$f":"IF(SUM($AT517:$AT540)=0,0,SUM(AL517:AL540)/SUM($AT517:$AT540))","v":0},{"$f":"IF(SUM($AT517:$AT540)=0,0,SUM(AM517:AM540)/SUM($AT517:$AT540))","v":0},0,0,0,0,0,null,null,null,null,null,null,null,null,null,null,22,{"$f":"IF(SUM($BL517:$BL540)=0,0,SUM(BD517:BD540)/SUM($BL517:$BL540))","v":0},{"$f":"IF(SUM($BL517:$BL540)=0,0,SUM(BE517:BE540)/SUM($BL517:$BL540))","v":0},0,0,0,0,0,null,null,null,null,null,null,null,null,null,null,22,{"$f":"IF(SUM($CD517:$CD540)=0,0,SUM(BV517:BV540)/SUM($CD517:$CD540))","v":0},{"$f":"IF(SUM($CD517:$CD540)=0,0,SUM(BW517:BW540)/SUM($CD517:$CD540))","v":0},0,0,0,0,0,null,null,null,null,null,null,null,null,null,null,22,{"$f":"IF(SUM($CV517:$CV540)=0,0,SUM(CN517:CN540)/SUM($CV517:$CV540))","v":0},{"$f":"IF(SUM($CV517:$CV540)=0,0,SUM(CO517:CO540)/SUM($CV517:$CV540))","v":0},0,0,0,0,0,null,null,null,null,null,null,null,null,null,null,22,{"$f":"IF(SUM($DN517:$DN540)=0,0,SUM(DF517:DF540)/SUM($DN517:$DN540))","v":0},{"$f":"IF(SUM($DN517:$DN540)=0,0,SUM(DG517:DG540)/SUM($DN517:$DN540))","v":0},0,0,0,0,0,null,null,null,null,null,null,null,null,null,null,22,{"$f":"IF(SUM($EF517:$EF540)=0,0,SUM(DX517:DX540)/SUM($EF517:$EF540))","v":0},{"$f":"IF(SUM($EF517:$EF540)=0,0,SUM(DY517:DY540)/SUM($EF517:$EF540))","v":0},0,0,0,0,0,null,null,null,null,null,null,null,null,null,null,22,{"$f":"IF(SUM($EX517:$EX540)=0,0,SUM(EP517:EP540)/SUM($EX517:$EX540))","v":0},{"$f":"IF(SUM($EX517:$EX540)=0,0,SUM(EQ517:EQ540)/SUM($EX517:$EX540))","v":0},0,0,0,0,0,null,null,null,null,null,null,null,null,null,null,22,{"$f":"IF(SUM($FP517:$FP540)=0,0,SUM(FH517:FH540)/SUM($FP517:$FP540))","v":0},{"$f":"IF(SUM($FP517:$FP540)=0,0,SUM(FI517:FI540)/SUM($FP517:$FP540))","v":0},0,0,0,0,0]
[null,23,{"$f":"IF(SUM($J541:$J564)=0,0,SUM(B541:B564)/SUM($J541:$J564))","v":0},{"$f":"IF(SUM($J541:$J564)=0,0,SUM(C541:C564)/SUM($J541:$J564))","v":0},0,0,0,0,0,null,null,null,null,null,null,null,null,null,null,23,{"$f":"IF(SUM($AB541:$AB564)=0,0,SUM(T541:T564)/SUM($AB541:$AB564))","v":0},{"$f":"IF(SUM($AB541:$AB564)=0,0,SUM(U541:U564)/SUM($AB541:$AB564))","v":0},0,0,0,0,0,null,null,null,null,null,null,null,null,null,null,23,{"$f":"IF(SUM($AT541:$AT564)=0,0,SUM(AL541:AL564)/SUM($AT541:$AT564))","v":0},{"$f":"IF(SUM($AT541:$AT564)=0,0,SUM(AM541:AM564)/SUM($AT541:$AT564))","v":0},0,0,0,0,0,null,null,null,null,null,null,null,null,null,null,23,{"$f":"IF(SUM($BL541:$BL564)=0,0,SUM(BD541:BD564)/SUM($BL541:$BL564))","v":0},{"$f":"IF(SUM($BL541:$BL564)=0,0,SUM(BE541:BE564)/SUM($BL541:$BL564))","v":0},0,0,0,0,0,null,null,null,null,null,null,null,null,null,null,23,{"$f":"IF(SUM($CD541:$CD564)=0,0,SUM(BV541:BV564)/SUM($CD541:$CD564))","v":0},{"$f":"IF(SUM($CD541:$CD564)=0,0,SUM(BW541:BW564)/SUM($CD541:$CD564))","v":0},0,0,0,0,0,null,null,null,null,null,null,null,null,null,null,23,{"$f":"IF(SUM($CV541:$CV564)=0,0,SUM(CN541:CN564)/SUM($CV541:$CV564))","v":0},{"$f":"IF(SUM($CV541:$CV564)=0,0,SUM(CO541:CO564)/SUM($CV541:$CV564))","v":0},0,0,0,0,0,null,null,null,null,null,null,null,null,null,null,23,{"$f":"IF(SUM($DN541:$DN564)=0,0,SUM(DF541:DF564)/SUM($DN541:$DN564))","v":0},{"$f":"IF(SUM($DN541:$DN564)=0,0,SUM(DG541:DG564)/SUM($DN541:$DN564))","v":0},0,0,0,0,0,null,null,null,null,null,null,null,null,null,null,23,{"$f":"IF(SUM($EF541:$EF564)=0,0,SUM(DX541:DX564)/SUM($EF541:$EF564))","v":0},{"$f":"IF(SUM($EF541:$EF564)=0,0,SUM(DY541:DY564)/SUM($EF541:$EF564))","v":0},0,0,0,0,0,null,null,null,null,null,null,null,null,null,null,23,{"$f":"IF(SUM($EX541:$EX564)=0,0,SUM(EP541:EP564)/SUM($EX541:$EX564))","v":0},{"$f":"IF(SUM($EX541:$EX564)=0,0,SUM(EQ541:EQ564)/SUM($EX541:$EX564))","v":0},0,0,0,0,0,null,null,null,null,null,null,null,null,null,null,23,{"$f":"IF(SUM($FP541:$FP564)=0,0,SUM(FH541:FH564)/SUM($FP541:$FP564))","v":0},{"$f":"IF(SUM($FP541:$FP564)=0,0,SUM(FI541:FI564)/SUM($FP541:$FP564))","v":0},0,0,0,0,0]
[null,24,{"$f":"IF(SUM($J565:$J588)=0,0,SUM(B565:B588)/SUM($J565:$J588))","v":0},{"$f":"IF(SUM($J565:$J588)=0,0,SUM(C565:C588)/SUM($J565:$J588))","v":0},0,0,0,0,0,null,null,null,null,null,null,null,null,null,null,24,{"$f":"IF(SUM($AB565:$AB588)=0,0,SUM(T565:T588)/SUM($AB565:$AB588))","v":0},{"$f":"IF(SUM($AB565:$AB588)=0,0,SUM(U565:U588)/SUM($AB565:$AB588))","v":0},0,0,0,0,0,null,null,null,null,null,null,null,null,null,null,24,{"$f":"IF(SUM($AT565:$AT588)=0,0,SUM(AL565:AL588)/SUM($AT565:$AT588))","v":0},{"$f":"IF(SUM($AT565:$AT588)=0,0,SUM(AM565:AM588)/SUM($AT565:$AT588))","v":0},0,0,0,0,0,null,null,null,null,null,null,null,null,null,null,24,{"$f":"IF(SUM($BL565:$BL588)=0,0,SUM(BD565:BD588)/SUM($BL565:$BL588))","v":0},{"$f":"IF(SUM($BL565:$BL588)=0,0,SUM(BE565:BE588)/SUM($BL565:$BL588))","v":0},0,0,0,0,0,null,null,null,null,null,null,null,null,null,null,24,{"$f":"IF(SUM($CD565:$CD588)=0,0,SUM(BV565:BV588)/SUM($CD565:$CD588))","v":0},{"$f":"IF(SUM($CD565:$CD588)=0,0,SUM(BW565:BW588)/SUM($CD565:$CD588))","v":0},0,0,0,0,0,null,null,null,null,null,null,null,null,null,null,24,{"$f":"IF(SUM($CV565:$CV588)=0,0,SUM(CN565:CN588)/SUM($CV565:$CV588))","v":0},{"$f":"IF(SUM($CV565:$CV588)=0,0,SUM(CO565:CO588)/SUM($CV565:$CV588))","v":0},0,0,0,0,0,null,null,null,null,null,null,null,null,null,null,24,{"$f":"IF(SUM($DN565:$DN588)=0,0,SUM(DF565:DF588)/SUM($DN565:$DN588))","v":0},{"$f":"IF(SUM($DN565:$DN588)=0,0,SUM(DG565:DG588)/SUM($DN565:$DN588))","v":0},0,0,0,0,0,null,null,null,null,null,null,null,null,null,null,24,{"$f":"IF(SUM($EF565:$EF588)=0,0,SUM(DX565:DX588)/SUM($EF565:$EF588))","v":0},{"$f":"IF(SUM($EF565:$EF588)=0,0,SUM(DY565:DY588)/SUM($EF565:$EF588))","v":0},0,0,0,0,0,null,null,null,null,null,null,null,null,null,null,24,{"$f":"IF(SUM($EX565:$EX588)=0,0,SUM(EP565:EP588)/SUM($EX565:$EX588))","v":0},{"$f":"IF(SUM($EX565:$EX588)=0,0,SUM(EQ565:EQ588)/SUM($EX565:$EX588))","v":0},0,0,0,0,0,null,null,null,null,null,null,null,null,null,null,24,{"$f":"IF(SUM($FP565:$FP588)=0,0,SUM(FH565:FH588)/SUM($FP565:$FP588))","v":0},{"$f":"IF(SUM($FP565:$FP588)=0,0,SUM(FI565:FI588)/SUM($FP565:$FP588))","v":0},0,0,0,0,0]
[null,25,{"$f":"IF(SUM($J589:$J612)=0,0,SUM(B589:B612)/SUM($J589:$J612))","v":0},{"$f":"IF(SUM($J589:$J612)=0,0,SUM(C589:C612)/SUM($J589:$J612))","v":0},0,0,0,0,0,null,null,null,null,null,null,null,null,null,null,25,{"$f":"IF(SUM($AB589:$AB612)=0,0,SUM(T589:T612)/SUM($AB589:$AB612))","v":0},{"$f":"IF(SUM($AB589:$AB612)=0,0,SUM(U589:U612)/SUM($AB589:$AB612))","v":0},0,0,0,0,0,null,null,null,null,null,null,null,null,null,null,25,{"$f":"IF(SUM($AT589:$AT612)=0,0,SUM(AL589:AL612)/SUM($AT589:$AT612))","v":0},{"$f":"IF(SUM($AT589:$AT612)=0,0,SUM(AM589:AM612)/SUM($AT589:$AT612))","v":0},0,0,0,0,0,null,null,null,null,null,null,null,null,null,null,25,{"$f":"IF(SUM($BL589:$BL612)=0,0,SUM(BD589:BD612)/SUM($BL589:$BL612))","v":0},{"$f":"IF(SUM($BL589:$BL612)=0,0,SUM(BE589:BE612)/SUM($BL589:$BL612))","v":0},0,0,0,0,0,null,null,null,null,null,null,null,null,null,null,25,{"$f":"IF(SUM($CD589:$CD612)=0,0,SUM(BV589:BV612)/SUM($CD589:$CD612))","v":0},{"$f":"IF(SUM($CD589:$CD612)=0,0,SUM(BW589:BW612)/SUM($CD589:$CD612))","v":0},0,0,0,0,0,null,null,null,null,null,null,null,null,null,null,25,{"$f":"IF(SUM($CV589:$CV612)=0,0,SUM(CN589:CN612)/SUM($CV589:$CV612))","v":0},{"$f":"IF(SUM($CV589:$CV612)=0,0,SUM(CO589:CO612)/SUM($CV589:$CV612))","v":0},0,0,0,0,0,null,null,null,null,null,null,null,null,null,null,25,{"$f":"IF(SUM($DN589:$DN612)=0,0,SUM(DF589:DF612)/SUM($DN589:$DN612))","v":0},{"$f":"IF(SUM($DN589:$DN612)=0,0,SUM(DG589:DG612)/SUM($DN589:$DN612))","v":0},0,0,0,0,0,null,null,null,null,null,null,null,null,null,null,25,{"$f":"IF(SUM($EF589:$EF612)=0,0,SUM(DX589:DX612)/SUM($EF589:$EF612))","v":0},{"$f":"IF(SUM($EF589:$EF612)=0,0,SUM(DY589:DY612)/SUM($EF589:$EF612))","v":0},0,0,0,0,0,null,null,null,null,null,null,null,null,null,null,25,{"$f":"IF(SUM($EX589:$EX612)=0,0,SUM(EP589:EP612)/SUM($EX589:$EX612))","v":0},{"$f":"IF(SUM($EX589:$EX612)=0,0,SUM(EQ589:EQ612)/SUM($EX589:$EX612))","v":0},0,0,0,0,0,null,null,null,null,null,null,null,null,null,null,25,{"$f":"IF(SUM($FP589:$FP612)=0,0,SUM(FH589:FH612)/SUM($FP589:$FP612))","v":0},{"$f":"IF(SUM($FP589:$FP612)=0,0,SUM(FI589:FI612)/SUM($FP589:$FP612))","v":0},0,0,0,0,0]
[null,26,{"$f":"IF(SUM($J613:$J636)=0,0,SUM(B613:B636)/SUM($J613:$J636))","v":0},{"$f":"IF(SUM($J613:$J636)=0,0,SUM(C613:C636)/SUM($J613:$J636))","v":0},0,0,0,0,0,null,null,null,null,null,null,null,null,null,null,26,{"$f":"IF(SUM($AB613:$AB636)=0,0,SUM(T613:T636)/SUM($AB613:$AB636))","v":0},{"$f":"IF(SUM($AB613:$AB636)=0,0,SUM(U613:U636)/SUM($AB613:$AB636))","v":0},0,0,0,0,0,null,null,null,null,null,null,null,null,null,null,26,{"$f":"IF(SUM($AT613:$AT636)=0,0,SUM(AL613:AL636)/SUM($AT613:$AT636))","v":0},{"$f":"IF(SUM($AT613:$AT636)=0,0,SUM(AM613:AM636)/SUM($AT613:$AT636))","v":0},0,0,0,0,0,null,null,null,null,null,null,null,null,null,null,26,{"$f":"IF(SUM($BL613:$BL636)=0,0,SUM(BD613:BD636)/SUM($BL613:$BL636))","v":0},{"$f":"IF(SUM($BL613:$BL636)=0,0,SUM(BE613:BE636)/SUM($BL613:$BL636))","v":0},0,0,0,0,0,null,null,null,null,null,null,null,null,null,null,26,{"$f":"IF(SUM($CD613:$CD636)=0,0,SUM(BV613:BV636)/SUM($CD613:$CD636))","v":0},{"$f":"IF(SUM($CD613:$CD636)=0,0,SUM(BW613:BW636)/SUM($CD613:$CD636))","v":0},0,0,0,0,0,null,null,null,null,null,null,null,null,null,null,26,{"$f":"IF(SUM($CV613:$CV636)=0,0,SUM(CN613:CN636)/SUM($CV613:$CV636))","v":0},{"$f":"IF(SUM($CV613:$CV636)=0,0,SUM(CO613:CO636)/SUM($CV613:$CV636))","v":0},0,0,0,0,0,null,null,null,null,null,null,null,null,null,null,26,{"$f":"IF(SUM($DN613:$DN636)=0,0,SUM(DF613:DF636)/SUM($DN613:$DN636))","v":0},{"$f":"IF(SUM($DN613:$DN636)=0,0,SUM(DG613:DG636)/SUM($DN613:$DN636))","v":0},0,0,0,0,0,null,null,null,null,null,null,null,null,null,null,26,{"$f":"IF(SUM($EF613:$EF636)=0,0,SUM(DX613:DX636)/SUM($EF613:$EF636))","v":0},{"$f":"IF(SUM($EF613:$EF636)=0,0,SUM(DY613:DY636)/SUM($EF613:$EF636))","v":0},0,0,0,0,0,null,null,null,null,null,null,null,null,null,null,26,{"$f":"IF(SUM($EX613:$EX636)=0,0,SUM(EP613:EP636)/SUM($EX613:$EX636))","v":0},{"$f":"IF(SUM($EX613:$EX636)=0,0,SUM(EQ613:EQ636)/SUM($EX613:$EX636))","v":0},0,0,0,0,0,null,null,null,null,null,null,null,null,null,null,26,{"$f":"IF(SUM($FP613:$FP636)=0,0,SUM(FH613:FH636)/SUM($FP613:$FP636))","v":0},{"$f":"IF(SUM($FP613:$FP636)=0,0,SUM(FI613:FI636)/SUM($FP613:$FP636))","v":0},0,0,0,0,0]
[null,27,{"$f":"IF(SUM($J637:$J660)=0,0,SUM(B637:B660)/SUM($J637:$J660))","v":0},{"$f":"IF(SUM($J637:$J660)=0,0,SUM(C637:C660)/SUM($J637:$J660))","v":0},0,0,0,0,0,null,null,null,null,null,null,null,null,null,null,27,{"$f":"IF(SUM($AB637:$AB660)=0,0,SUM(T637:T660)/SUM($AB637:$AB660))","v":0},{"$f":"IF(SUM($AB637:$AB660)=0,0,SUM(U637:U660)/SUM($AB637:$AB660))","v":0},0,0,0,0,0,null,null,null,null,null,null,null,null,null,null,27,{"$f":"IF(SUM($AT637:$AT660)=0,0,SUM(AL637:AL660)/SUM($AT637:$AT660))","v":0},{"$f":"IF(SUM($AT637:$AT660)=0,0,SUM(AM637:AM660)/SUM($AT637:$AT660))","v":0},0,0,0,0,0,null,null,null,null,null,null,null,null,null,null,27,{"$f":"IF(SUM($BL637:$BL660)=0,0,SUM(BD637:BD660)/SUM($BL637:$BL660))","v":0},{"$f":"IF(SUM($BL637:$BL660)=0,0,SUM(BE637:BE660)/SUM($BL637:$BL660))","v":0},0,0,0,0,0,null,null,null,null,null,null,null,null,null,null,27,{"$f":"IF(SUM($CD637:$CD660)=0,0,SUM(BV637:BV660)/SUM($CD637:$CD660))","v":0},{"$f":"IF(SUM($CD637:$CD660)=0,0,SUM(BW637:BW660)/SUM($CD637:$CD660))","v":0},0,0,0,0,0,null,null,null,null,null,null,null,null,null,null,27,{"$f":"IF(SUM($CV637:$CV660)=0,0,SUM(CN637:CN660)/SUM($CV637:$CV660))","v":0},{"$f":"IF(SUM($CV637:$CV660)=0,0,SUM(CO637:CO660)/SUM($CV637:$CV660))","v":0},0,0,0,0,0,null,null,null,null,null,null,null,null,null,null,27,{"$f":"IF(SUM($DN637:$DN660)=0,0,SUM(DF637:DF660)/SUM($DN637:$DN660))","v":0},{"$f":"IF(SUM($DN637:$DN660)=0,0,SUM(DG637:DG660)/SUM($DN637:$DN660))","v":0},0,0,0,0,0,null,null,null,null,null,null,null,null,null,null,27,{"$f":"IF(SUM($EF637:$EF660)=0,0,SUM(DX637:DX660)/SUM($EF637:$EF660))","v":0},{"$f":"IF(SUM($EF637:$EF660)=0,0,SUM(DY637:DY660)/SUM($EF637:$EF660))","v":0},0,0,0,0,0,null,null,null,null,null,null,null,null,null,null,27,{"$f":"IF(SUM($EX637:$EX660)=0,0,SUM(EP637:EP660)/SUM($EX637:$EX660))","v":0},{"$f":"IF(SUM($EX637:$EX660)=0,0,SUM(EQ637:EQ660)/SUM($EX637:$EX660))","v":0},0,0,0,0,0,null,null,null,null,null,null,null,null,null,null,27,{"$f":"IF(SUM($FP637:$FP660)=0,0,SUM(FH637:FH660)/SUM($FP637:$FP660))","v":0},{"$f":"IF(SUM($FP637:$FP660)=0,0,SUM(FI637:FI660)/SUM($FP637:$FP660))","v":0},0,0,0,0,0]
[null,28,{"$f":"IF(SUM($J661:$J684)=0,0,SUM(B661:B684)/SUM($J661:$J684))","v":0},{"$f":"IF(SUM($J661:$J684)=0,0,SUM(C661:C684)/SUM($J661:$J684))","v":0},0,0,0,0,0,null,null,null,null,null,null,null,null,null,null,28,{"$f":"IF(SUM($AB661:$AB684)=0,0,SUM(T661:T684)/SUM($AB661:$AB684))","v":0},{"$f":"IF(SUM($AB661:$AB684)=0,0,SUM(U661:U684)/SUM($AB661:$AB684))","v":0},0,0,0,0,0,null,null,null,null,null,null,null,null,null,null,28,{"$f":"IF(SUM($AT661:$AT684)=0,0,SUM(AL661:AL684)/SUM($AT661:$AT684))","v":0},{"$f":"IF(SUM($AT661:$AT684)=0,0,SUM(AM661:AM684)/SUM($AT661:$AT684))","v":0},0,0,0,0,0,null,null,null,null,null,null,null,null,null,null,28,{"$f":"IF(SUM($BL661:$BL684)=0,0,SUM(BD661:BD684)/SUM($BL661:$BL684))","v":0},{"$f":"IF(SUM($BL661:$BL684)=0,0,SUM(BE661:BE684)/SUM($BL661:$BL684))","v":0},0,0,0,0,0,null,null,null,null,null,null,null,null,null,null,28,{"$f":"IF(SUM($CD661:$CD684)=0,0,SUM(BV661:BV684)/SUM($CD661:$CD684))","v":0},{"$f":"IF(SUM($CD661:$CD684)=0,0,SUM(BW661:BW684)/SUM($CD661:$CD684))","v":0},0,0,0,0,0,null,null,null,null,null,null,null,null,null,null,28,{"$f":"IF(SUM($CV661:$CV684)=0,0,SUM(CN661:CN684)/SUM($CV661:$CV684))","v":0},{"$f":"IF(SUM($CV661:$CV684)=0,0,SUM(CO661:CO684)/SUM($CV661:$CV684))","v":0},0,0,0,0,0,null,null,null,null,null,null,null,null,null,null,28,{"$f":"IF(SUM($DN661:$DN684)=0,0,SUM(DF661:DF684)/SUM($DN661:$DN684))","v":0},{"$f":"IF(SUM($DN661:$DN684)=0,0,SUM(DG661:DG684)/SUM($DN661:$DN684))","v":0},0,0,0,0,0,null,null,null,null,null,null,null,null,null,null,28,{"$f":"IF(SUM($EF661:$EF684)=0,0,SUM(DX661:DX684)/SUM($EF661:$EF684))","v":0},{"$f":"IF(SUM($EF661:$EF684)=0,0,SUM(DY661:DY684)/SUM($EF661:$EF684))","v":0},0,0,0,0,0,null,null,null,null,null,null,null,null,null,null,28,{"$f":"IF(SUM($EX661:$EX684)=0,0,SUM(EP661:EP684)/SUM($EX661:$EX684))","v":0},{"$f":"IF(SUM($EX661:$EX684)=0,0,SUM(EQ661:EQ684)/SUM($EX661:$EX684))","v":0},0,0,0,0,0,null,null,null,null,null,null,null,null,null,null,28,{"$f":"IF(SUM($FP661:$FP684)=0,0,SUM(FH661:FH684)/SUM($FP661:$FP684))","v":0},{"$f":"IF(SUM($FP661:$FP684)=0,0,SUM(FI661:FI684)/SUM($FP661:$FP684))","v":0},0,0,0,0,0]
[null,29,{"$f":"IF(SUM($J685:$J708)=0,0,SUM(B685:B708)/SUM($J685:$J708))","v":0},{"$f":"IF(SUM($J685:$J708)=0,0,SUM(C685:C708)/SUM($J685:$J708))","v":0},0,0,0,0,0,null,null,null,null,null,null,null,null,null,null,29,{"$f":"IF(SUM($AB685:$AB708)=0,0,SUM(T685:T708)/SUM($AB685:$AB708))","v":0},{"$f":"IF(SUM($AB685:$AB708)=0,0,SUM(U685:U708)/SUM($AB685:$AB708))","v":0},0,0,0,0,0,null,null,null,null,null,null,null,null,null,null,29,{"$f":"IF(SUM($AT685:$AT708)=0,0,SUM(AL685:AL708)/SUM($AT685:$AT708))","v":0},{"$f":"IF(SUM($AT685:$AT708)=0,0,SUM(AM685:AM708)/SUM($AT685:$AT708))","v":0},0,0,0,0,0,null,null,null,null,null,null,null,null,null,null,29,{"$f":"IF(SUM($BL685:$BL708)=0,0,SUM(BD685:BD708)/SUM($BL685:$BL708))","v":0},{"$f":"IF(SUM($BL685:$BL708)=0,0,SUM(BE685:BE708)/SUM($BL685:$BL708))","v":0},0,0,0,0,0,null,null,null,null,null,null,null,null,null,null,29,{"$f":"IF(SUM($CD685:$CD708)=0,0,SUM(BV685:BV708)/SUM($CD685:$CD708))","v":0},{"$f":"IF(SUM($CD685:$CD708)=0,0,SUM(BW685:BW708)/SUM($CD685:$CD708))","v":0},0,0,0,0,0,null,null,null,null,null,null,null,null,null,null,29,{"$f":"IF(SUM($CV685:$CV708)=0,0,SUM(CN685:CN708)/SUM($CV685:$CV708))","v":0},{"$f":"IF(SUM($CV685:$CV708)=0,0,SUM(CO685:CO708)/SUM($CV685:$CV708))","v":0},0,0,0,0,0,null,null,null,null,null,null,null,null,null,null,29,{"$f":"IF(SUM($DN685:$DN708)=0,0,SUM(DF685:DF708)/SUM($DN685:$DN708))","v":0},{"$f":"IF(SUM($DN685:$DN708)=0,0,SUM(DG685:DG708)/SUM($DN685:$DN708))","v":0},0,0,0,0,0,null,null,null,null,null,null,null,null,null,null,29,{"$f":"IF(SUM($EF685:$EF708)=0,0,SUM(DX685:DX708)/SUM($EF685:$EF708))","v":0},{"$f":"IF(SUM($EF685:$EF708)=0,0,SUM(DY685:DY708)/SUM($EF685:$EF708))","v":0},0,0,0,0,0,null,null,null,null,null,null,null,null,null,null,29,{"$f":"IF(SUM($EX685:$EX708)=0,0,SUM(EP685:EP708)/SUM($EX685:$EX708))","v":0},{"$f":"IF(SUM($EX685:$EX708)=0,0,SUM(EQ685:EQ708)/SUM($EX685:$EX708))","v":0},0,0,0,0,0,null,null,null,null,null,null,null,null,null,null,29,{"$f":"IF(SUM($FP685:$FP708)=0,0,SUM(FH685:FH708)/SUM($FP685:$FP708))","v":0},{"$f":"IF(SUM($FP685:$FP708)=0,0,SUM(FI685:FI708)/SUM($FP685:$FP708))","v":0},0,0,0,0,0]
[null,30,{"$f":"IF(SUM($J709:$J732)=0,0,SUM(B709:B732)/SUM($J709:$J732))","v":0},{"$f":"IF(SUM($J709:$J732)=0,0,SUM(C709:C732)/SUM($J709:$J732))","v":0},0,0,0,0,0,null,null,null,null,null,null,null,null,null,null,30,{"$f":"IF(SUM($AB709:$AB732)=0,0,SUM(T709:T732)/SUM($AB709:$AB732))","v":0},{"$f":"IF(SUM($AB709:$AB732)=0,0,SUM(U709:U732)/SUM($AB709:$AB732))","v":0},0,0,0,0,0,null,null,null,null,null,null,null,null,null,null,30,{"$f":"IF(SUM($AT709:$AT732)=0,0,SUM(AL709:AL732)/SUM($AT709:$AT732))","v":0},{"$f":"IF(SUM($AT709:$AT732)=0,0,SUM(AM709:AM732)/SUM($AT709:$AT732))","v":0},0,0,0,0,0,null,null,null,null,null,null,null,null,null,null,30,{"$f":"IF(SUM($BL709:$BL732)=0,0,SUM(BD709:BD732)/SUM($BL709:$BL732))","v":0},{"$f":"IF(SUM($BL709:$BL732)=0,0,SUM(BE709:BE732)/SUM($BL709:$BL732))","v":0},0,0,0,0,0,null,null,null,null,null,null,null,null,null,null,30,{"$f":"IF(SUM($CD709:$CD732)=0,0,SUM(BV709:BV732)/SUM($CD709:$CD732))","v":0},{"$f":"IF(SUM($CD709:$CD732)=0,0,SUM(BW709:BW732)/SUM($CD709:$CD732))","v":0},0,0,0,0,0,null,null,null,null,null,null,null,null,null,null,30,{"$f":"IF(SUM($CV709:$CV732)=0,0,SUM(CN709:CN732)/SUM($CV709:$CV732))","v":0},{"$f":"IF(SUM($CV709:$CV732)=0,0,SUM(CO709:CO732)/SUM($CV709:$CV732))","v":0},0,0,0,0,0,null,null,null,null,null,null,null,null,null,null,30,{"$f":"IF(SUM($DN709:$DN732)=0,0,SUM(DF709:DF732)/SUM($DN709:$DN732))","v":0},{"$f":"IF(SUM($DN709:$DN732)=0,0,SUM(DG709:DG732)/SUM($DN709:$DN732))","v":0},0,0,0,0,0,null,null,null,null,null,null,null,null,null,null,30,{"$f":"IF(SUM($EF709:$EF732)=0,0,SUM(DX709:DX732)/SUM($EF709:$EF732))","v":0},{"$f":"IF(SUM($EF709:$EF732)=0,0,SUM(DY709:DY732)/SUM($EF709:$EF732))","v":0},0,0,0,0,0,null,null,null,null,null,null,null,null,null,null,30,{"$f":"IF(SUM($EX709:$EX732)=0,0,SUM(EP709:EP732)/SUM($EX709:$EX732))","v":0},{"$f":"IF(SUM($EX709:$EX732)=0,0,SUM(EQ709:EQ732)/SUM($EX709:$EX732))","v":0},0,0,0,0,0,null,null,null,null,null,null,null,null,null,null,30,{"$f":"IF(SUM($FP709:$FP732)=0,0,SUM(FH709:FH732)/SUM($FP709:$FP732))","v":0},{"$f":"IF(SUM($FP709:$FP732)=0,0,SUM(FI709:FI732)/SUM($FP709:$FP732))","v":0},0,0,0,0,0]
[null,31,{"$f":"IF(SUM($J733:$J756)=0,0,SUM(B733:B756)/SUM($J733:$J756))","v":0},{"$f":"IF(SUM($J733:$J756)=0,0,SUM(C733:C756)/SUM($J733:$J756))","v":0},0,0,0,0,0,null,null,null,null,null,null,null,null,null,null,31,{"$f":"IF(SUM($AB733:$AB756)=0,0,SUM(T733:T756)/SUM($AB733:$AB756))","v":0},{"$f":"IF(SUM($AB733:$AB756)=0,0,SUM(U733:U756)/SUM($AB733:$AB756))","v":0},0,0,0,0,0,null,null,null,null,null,null,null,null,null,null,31,{"$f":"IF(SUM($AT733:$AT756)=0,0,SUM(AL733:AL756)/SUM($AT733:$AT756))","v":0},{"$f":"IF(SUM($AT733:$AT756)=0,0,SUM(AM733:AM756)/SUM($AT733:$AT756))","v":0},0,0,0,0,0,null,null,null,null,null,null,null,null,null,null,31,{"$f":"IF(SUM($BL733:$BL756)=0,0,SUM(BD733:BD756)/SUM($BL733:$BL756))","v":0},{"$f":"IF(SUM($BL733:$BL756)=0,0,SUM(BE733:BE756)/SUM($BL733:$BL756))","v":0},0,0,0,0,0,null,null,null,null,null,null,null,null,null,null,31,{"$f":"IF(SUM($CD733:$CD756)=0,0,SUM(BV733:BV756)/SUM($CD733:$CD756))","v":0},{"$f":"IF(SUM($CD733:$CD756)=0,0,SUM(BW733:BW756)/SUM($CD733:$CD756))","v":0},0,0,0,0,0,null,null,null,null,null,null,null,null,null,null,31,{"$f":"IF(SUM($CV733:$CV756)=0,0,SUM(CN733:CN756)/SUM($CV733:$CV756))","v":0},{"$f":"IF(SUM($CV733:$CV756)=0,0,SUM(CO733:CO756)/SUM($CV733:$CV756))","v":0},0,0,0,0,0,null,null,null,null,null,null,null,null,null,null,31,{"$f":"IF(SUM($DN733:$DN756)=0,0,SUM(DF733:DF756)/SUM($DN733:$DN756))","v":0},{"$f":"IF(SUM($DN733:$DN756)=0,0,SUM(DG733:DG756)/SUM($DN733:$DN756))","v":0},0,0,0,0,0,null,null,null,null,null,null,null,null,null,null,31,{"$f":"IF(SUM($EF733:$EF756)=0,0,SUM(DX733:DX756)/SUM($EF733:$EF756))","v":0},{"$f":"IF(SUM($EF733:$EF756)=0,0,SUM(DY733:DY756)/SUM($EF733:$EF756))","v":0},0,0,0,0,0,null,null,null,null,null,null,null,null,null,null,31,{"$f":"IF(SUM($EX733:$EX756)=0,0,SUM(EP733:EP756)/SUM($EX733:$EX756))","v":0},{"$f":"IF(SUM($EX733:$EX756)=0,0,SUM(EQ733:EQ756)/SUM($EX733:$EX756))","v":0},0,0,0,0,0,null,null,null,null,null,null,null,null,null,null,31,{"$f":"IF(SUM($FP733:$FP756)=0,0,SUM(FH733:FH756)/SUM($FP733:$FP756))","v":0},{"$f":"IF(SUM($FP733:$FP756)=0,0,SUM(FI733:FI756)/SUM($FP733:$FP756))","v":0},0,0,0,0,0]
[null,32,{"$f":"IF(SUM($J757:$J780)=0,0,SUM(B757:B780)/SUM($J757:$J780))","v":0},{"$f":"IF(SUM($J757:$J780)=0,0,SUM(C757:C780)/SUM($J757:$J780))","v":0},0,0,0,0,0,null,null,null,null,null,null,null,null,null,null,32,{"$f":"IF(SUM($AB757:$AB780)=0,0,SUM(T757:T780)/SUM($AB757:$AB780))","v":0},{"$f":"IF(SUM($AB757:$AB780)=0,0,SUM(U757:U780)/SUM($AB757:$AB780))","v":0},0,0,0,0,0,null,null,null,null,null,null,null,null,null,null,32,{"$f":"IF(SUM($AT757:$AT780)=0,0,SUM(AL757:AL780)/SUM($AT757:$AT780))","v":0},{"$f":"IF(SUM($AT757:$AT780)=0,0,SUM(AM757:AM780)/SUM($AT757:$AT780))","v":0},0,0,0,0,0,null,null,null,null,null,null,null,null,null,null,32,{"$f":"IF(SUM($BL757:$BL780)=0,0,SUM(BD757:BD780)/SUM($BL757:$BL780))","v":0},{"$f":"IF(SUM($BL757:$BL780)=0,0,SUM(BE757:BE780)/SUM($BL757:$BL780))","v":0},0,0,0,0,0,null,null,null,null,null,null,null,null,null,null,32,{"$f":"IF(SUM($CD757:$CD780)=0,0,SUM(BV757:BV780)/SUM($CD757:$CD780))","v":0},{"$f":"IF(SUM($CD757:$CD780)=0,0,SUM(BW757:BW780)/SUM($CD757:$CD780))","v":0},0,0,0,0,0,null,null,null,null,null,null,null,null,null,null,32,{"$f":"IF(SUM($CV757:$CV780)=0,0,SUM(CN757:CN780)/SUM($CV757:$CV780))","v":0},{"$f":"IF(SUM($CV757:$CV780)=0,0,SUM(CO757:CO780)/SUM($CV757:$CV780))","v":0},0,0,0,0,0,null,null,null,null,null,null,null,null,null,null,32,{"$f":"IF(SUM($DN757:$DN780)=0,0,SUM(DF757:DF780)/SUM($DN757:$DN780))","v":0},{"$f":"IF(SUM($DN757:$DN780)=0,0,SUM(DG757:DG780)/SUM($DN757:$DN780))","v":0},0,0,0,0,0,null,null,null,null,null,null,null,null,null,null,32,{"$f":"IF(SUM($EF757:$EF780)=0,0,SUM(DX757:DX780)/SUM($EF757:$EF780))","v":0},{"$f":"IF(SUM($EF757:$EF780)=0,0,SUM(DY757:DY780)/SUM($EF757:$EF780))","v":0},0,0,0,0,0,null,null,null,null,null,null,null,null,null,null,32,{"$f":"IF(SUM($EX757:$EX780)=0,0,SUM(EP757:EP780)/SUM($EX757:$EX780))","v":0},{"$f":"IF(SUM($EX757:$EX780)=0,0,SUM(EQ757:EQ780)/SUM($EX757:$EX780))","v":0},0,0,0,0,0,null,null,null,null,null,null,null,null,null,null,32,{"$f":"IF(SUM($FP757:$FP780)=0,0,SUM(FH757:FH780)/SUM($FP757:$FP780))","v":0},{"$f":"IF(SUM($FP757:$FP780)=0,0,SUM(FI757:FI780)/SUM($FP757:$FP780))","v":0},0,0,0,0,0]
[null,33,{"$f":"IF(SUM($J781:$J804)=0,0,SUM(B781:B804)/SUM($J781:$J804))","v":0},{"$f":"IF(SUM($J781:$J804)=0,0,SUM(C781:C804)/SUM($J781:$J804))","v":0},0,0,0,0,0,null,null,null,null,null,null,null,null,null,null,33,{"$f":"IF(SUM($AB781:$AB804)=0,0,SUM(T781:T804)/SUM($AB781:$AB804))","v":0},{"$f":"IF(SUM($AB781:$AB804)=0,0,SUM(U781:U804)/SUM($AB781:$AB804))","v":0},0,0,0,0,0,null,null,null,null,null,null,null,null,null,null,33,{"$f":"IF(SUM($AT781:$AT804)=0,0,SUM(AL781:AL804)/SUM($AT781:$AT804))","v":0},{"$f":"IF(SUM($AT781:$AT804)=0,0,SUM(AM781:AM804)/SUM($AT781:$AT804))","v":0},0,0,0,0,0,null,null,null,null,null,null,null,null,null,null,33,{"$f":"IF(SUM($BL781:$BL804)=0,0,SUM(BD781:BD804)/SUM($BL781:$BL804))","v":0},{"$f":"IF(SUM($BL781:$BL804)=0,0,SUM(BE781:BE804)/SUM($BL781:$BL804))","v":0},0,0,0,0,0,null,null,null,null,null,null,null,null,null,null,33,{"$f":"IF(SUM($CD781:$CD804)=0,0,SUM(BV781:BV804)/SUM($CD781:$CD804))","v":0},{"$f":"IF(SUM($CD781:$CD804)=0,0,SUM(BW781:BW804)/SUM($CD781:$CD804))","v":0},0,0,0,0,0,null,null,null,null,null,null,null,null,null,null,33,{"$f":"IF(SUM($CV781:$CV804)=0,0,SUM(CN781:CN804)/SUM($CV781:$CV804))","v":0},{"$f":"IF(SUM($CV781:$CV804)=0,0,SUM(CO781:CO804)/SUM($CV781:$CV804))","v":0},0,0,0,0,0,null,null,null,null,null,null,null,null,null,null,33,{"$f":"IF(SUM($DN781:$DN804)=0,0,SUM(DF781:DF804)/SUM($DN781:$DN804))","v":0},{"$f":"IF(SUM($DN781:$DN804)=0,0,SUM(DG781:DG804)/SUM($DN781:$DN804))","v":0},0,0,0,0,0,null,null,null,null,null,null,null,null,null,null,33,{"$f":"IF(SUM($EF781:$EF804)=0,0,SUM(DX781:DX804)/SUM($EF781:$EF804))","v":0},{"$f":"IF(SUM($EF781:$EF804)=0,0,SUM(DY781:DY804)/SUM($EF781:$EF804))","v":0},0,0,0,0,0,null,null,null,null,null,null,null,null,null,null,33,{"$f":"IF(SUM($EX781:$EX804)=0,0,SUM(EP781:EP804)/SUM($EX781:$EX804))","v":0},{"$f":"IF(SUM($EX781:$EX804)=0,0,SUM(EQ781:EQ804)/SUM($EX781:$EX804))","v":0},0,0,0,0,0,null,null,null,null,null,null,null,null,null,null,33,{"$f":"IF(SUM($FP781:$FP804)=0,0,SUM(FH781:FH804)/SUM($FP781:$FP804))","v":0},{"$f":"IF(SUM($FP781:$FP804)=0,0,SUM(FI781:FI804)/SUM($FP781:$FP804))","v":0},0,0,0,0,0]
[null,34,{"$f":"IF(SUM($J805:$J828)=0,0,SUM(B805:B828)/SUM($J805:$J828))","v":0},{"$f":"IF(SUM($J805:$J828)=0,0,SUM(C805:C828)/SUM($J805:$J828))","v":0},0,0,0,0,0,null,null,null,null,null,null,null,null,null,null,34,{"$f":"IF(SUM($AB805:$AB828)=0,0,SUM(T805:T828)/SUM($AB805:$AB828))","v":0},{"$f":"IF(SUM($AB805:$AB828)=0,0,SUM(U805:U828)/SUM($AB805:$AB828))","v":0},0,0,0,0,0,null,null,null,null,null,null,null,null,null,null,34,{"$f":"IF(SUM($AT805:$AT828)=0,0,SUM(AL805:AL828)/SUM($AT805:$AT828))","v":0},{"$f":"IF(SUM($AT805:$AT828)=0,0,SUM(AM805:AM828)/SUM($AT805:$AT828))","v":0},0,0,0,0,0,null,null,null,null,null,null,null,null,null,null,34,{"$f":"IF(SUM($BL805:$BL828)=0,0,SUM(BD805:BD828)/SUM($BL805:$BL828))","v":0},{"$f":"IF(SUM($BL805:$BL828)=0,0,SUM(BE805:BE828)/SUM($BL805:$BL828))","v":0},0,0,0,0,0,null,null,null,null,null,null,null,null,null,null,34,{"$f":"IF(SUM($CD805:$CD828)=0,0,SUM(BV805:BV828)/SUM($CD805:$CD828))","v":0},{"$f":"IF(SUM($CD805:$CD828)=0,0,SUM(BW805:BW828)/SUM($CD805:$CD828))","v":0},0,0,0,0,0,null,null,null,null,null,null,null,null,null,null,34,{"$f":"IF(SUM($CV805:$CV828)=0,0,SUM(CN805:CN828)/SUM($CV805:$CV828))","v":0},{"$f":"IF(SUM($CV805:$CV828)=0,0,SUM(CO805:CO828)/SUM($CV805:$CV828))","v":0},0,0,0,0,0,null,null,null,null,null,null,null,null,null,null,34,{"$f":"IF(SUM($DN805:$DN828)=0,0,SUM(DF805:DF828)/SUM($DN805:$DN828))","v":0},{"$f":"IF(SUM($DN805:$DN828)=0,0,SUM(DG805:DG828)/SUM($DN805:$DN828))","v":0},0,0,0,0,0,null,null,null,null,null,null,null,null,null,null,34,{"$f":"IF(SUM($EF805:$EF828)=0,0,SUM(DX805:DX828)/SUM($EF805:$EF828))","v":0},{"$f":"IF(SUM($EF805:$EF828)=0,0,SUM(DY805:DY828)/SUM($EF805:$EF828))","v":0},0,0,0,0,0,null,null,null,null,null,null,null,null,null,null,34,{"$f":"IF(SUM($EX805:$EX828)=0,0,SUM(EP805:EP828)/SUM($EX805:$EX828))","v":0},{"$f":"IF(SUM($EX805:$EX828)=0,0,SUM(EQ805:EQ828)/SUM($EX805:$EX828))","v":0},0,0,0,0,0,null,null,null,null,null,null,null,null,null,null,34,{"$f":"IF(SUM($FP805:$FP828)=0,0,SUM(FH805:FH828)/SUM($FP805:$FP828))","v":0},{"$f":"IF(SUM($FP805:$FP828)=0,0,SUM(FI805:FI828)/SUM($FP805:$FP828))","v":0},0,0,0,0,0]
[null,35,{"$f":"IF(SUM($J829:$J852)=0,0,SUM(B829:B852)/SUM($J829:$J852))","v":0},{"$f":"IF(SUM($J829:$J852)=0,0,SUM(C829:C852)/SUM($J829:$J852))","v":0},0,0,0,0,0,null,null,null,null,null,null,null,null,null,null,35,{"$f":"IF(SUM($AB829:$AB852)=0,0,SUM(T829:T852)/SUM($AB829:$AB852))","v":0},{"$f":"IF(SUM($AB829:$AB852)=0,0,SUM(U829:U852)/SUM($AB829:$AB852))","v":0},0,0,0,0,0,null,null,null,null,null,null,null,null,null,null,35,{"$f":"IF(SUM($AT829:$AT852)=0,0,SUM(AL829:AL852)/SUM($AT829:$AT852))","v":0},{"$f":"IF(SUM($AT829:$AT852)=0,0,SUM(AM829:AM852)/SUM($AT829:$AT852))","v":0},0,0,0,0,0,null,null,null,null,null,null,null,null,null,null,35,{"$f":"IF(SUM($BL829:$BL852)=0,0,SUM(BD829:BD852)/SUM($BL829:$BL852))","v":0},{"$f":"IF(SUM($BL829:$BL852)=0,0,SUM(BE829:BE852)/SUM($BL829:$BL852))","v":0},0,0,0,0,0,null,null,null,null,null,null,null,null,null,null,35,{"$f":"IF(SUM($CD829:$CD852)=0,0,SUM(BV829:BV852)/SUM($CD829:$CD852))","v":0},{"$f":"IF(SUM($CD829:$CD852)=0,0,SUM(BW829:BW852)/SUM($CD829:$CD852))","v":0},0,0,0,0,0,null,null,null,null,null,null,null,null,null,null,35,{"$f":"IF(SUM($CV829:$CV852)=0,0,SUM(CN829:CN852)/SUM($CV829:$CV852))","v":0},{"$f":"IF(SUM($CV829:$CV852)=0,0,SUM(CO829:CO852)/SUM($CV829:$CV852))","v":0},0,0,0,0,0,null,null,null,null,null,null,null,null,null,null,35,{"$f":"IF(SUM($DN829:$DN852)=0,0,SUM(DF829:DF852)/SUM($DN829:$DN852))","v":0},{"$f":"IF(SUM($DN829:$DN852)=0,0,SUM(DG829:DG852)/SUM($DN829:$DN852))","v":0},0,0,0,0,0,null,null,null,null,null,null,null,null,null,null,35,{"$f":"IF(SUM($EF829:$EF852)=0,0,SUM(DX829:DX852)/SUM($EF829:$EF852))","v":0},{"$f":"IF(SUM($EF829:$EF852)=0,0,SUM(DY829:DY852)/SUM($EF829:$EF852))","v":0},0,0,0,0,0,null,null,null,null,null,null,null,null,null,null,35,{"$f":"IF(SUM($EX829:$EX852)=0,0,SUM(EP829:EP852)/SUM($EX829:$EX852))","v":0},{"$f":"IF(SUM($EX829:$EX852)=0,0,SUM(EQ829:EQ852)/SUM($EX829:$EX852))","v":0},0,0,0,0,0,null,null,null,null,null,null,null,null,null,null,35,{"$f":"IF(SUM($FP829:$FP852)=0,0,SUM(FH829:FH852)/SUM($FP829:$FP852))","v":0},{"$f":"IF(SUM($FP829:$FP852)=0,0,SUM(FI829:FI852)/SUM($FP829:$FP852))","v":0},0,0,0,0,0]
[null,36,{"$f":"IF(SUM($J853:$J876)=0,0,SUM(B853:B876)/SUM($J853:$J876))","v":0},{"$f":"IF(SUM($J853:$J876)=0,0,SUM(C853:C876)/SUM($J853:$J876))","v":0},0,0,0,0,0,null,null,null,null,null,null,null,null,null,null,36,{"$f":"IF(SUM($AB853:$AB876)=0,0,SUM(T853:T876)/SUM($AB853:$AB876))","v":0},{"$f":"IF(SUM($AB853:$AB876)=0,0,SUM(U853:U876)/SUM($AB853:$AB876))","v":0},0,0,0,0,0,null,null,null,null,null,null,null,null,null,null,36,{"$f":"IF(SUM($AT853:$AT876)=0,0,SUM(AL853:AL876)/SUM($AT853:$AT876))","v":0},{"$f":"IF(SUM($AT853:$AT876)=0,0,SUM(AM853:AM876)/SUM($AT853:$AT876))","v":0},0,0,0,0,0,null,null,null,null,null,null,null,null,null,null,36,{"$f":"IF(SUM($BL853:$BL876)=0,0,SUM(BD853:BD876)/SUM($BL853:$BL876))","v":0},{"$f":"IF(SUM($BL853:$BL876)=0,0,SUM(BE853:BE876)/SUM($BL853:$BL876))","v":0},0,0,0,0,0,null,null,null,null,null,null,null,null,null,null,36,{"$f":"IF(SUM($CD853:$CD876)=0,0,SUM(BV853:BV876)/SUM($CD853:$CD876))","v":0},{"$f":"IF(SUM($CD853:$CD876)=0,0,SUM(BW853:BW876)/SUM($CD853:$CD876))","v":0},0,0,0,0,0,null,null,null,null,null,null,null,null,null,null,36,{"$f":"IF(SUM($CV853:$CV876)=0,0,SUM(CN853:CN876)/SUM($CV853:$CV876))","v":0},{"$f":"IF(SUM($CV853:$CV876)=0,0,SUM(CO853:CO876)/SUM($CV853:$CV876))","v":0},0,0,0,0,0,null,null,null,null,null,null,null,null,null,null,36,{"$f":"IF(SUM($DN853:$DN876)=0,0,SUM(DF853:DF876)/SUM($DN853:$DN876))","v":0},{"$f":"IF(SUM($DN853:$DN876)=0,0,SUM(DG853:DG876)/SUM($DN853:$DN876))","v":0},0,0,0,0,0,null,null,null,null,null,null,null,null,null,null,36,{"$f":"IF(SUM($EF853:$EF876)=0,0,SUM(DX853:DX876)/SUM($EF853:$EF876))","v":0},{"$f":"IF(SUM($EF853:$EF876)=0,0,SUM(DY853:DY876)/SUM($EF853:$EF876))","v":0},0,0,0,0,0,null,null,null,null,null,null,null,null,null,null,36,{"$f":"IF(SUM($EX853:$EX876)=0,0,SUM(EP853:EP876)/SUM($EX853:$EX876))","v":0},{"$f":"IF(SUM($EX853:$EX876)=0,0,SUM(EQ853:EQ876)/SUM($EX853:$EX876))","v":0},0,0,0,0,0,null,null,null,null,null,null,null,null,null,null,36,{"$f":"IF(SUM($FP853:$FP876)=0,0,SUM(FH853:FH876)/SUM($FP853:$FP876))","v":0},{"$f":"IF(SUM($FP853:$FP876)=0,0,SUM(FI853:FI876)/SUM($FP853:$FP876))","v":0},0,0,0,0,0]
[null,37,{"$f":"IF(SUM($J877:$J900)=0,0,SUM(B877:B900)/SUM($J877:$J900))","v":0},{"$f":"IF(SUM($J877:$J900)=0,0,SUM(C877:C900)/SUM($J877:$J900))","v":0},0,0,0,0,0,null,null,null,null,null,null,null,null,null,null,37,{"$f":"IF(SUM($AB877:$AB900)=0,0,SUM(T877:T900)/SUM($AB877:$AB900))","v":0},{"$f":"IF(SUM($AB877:$AB900)=0,0,SUM(U877:U900)/SUM($AB877:$AB900))","v":0},0,0,0,0,0,null,null,null,null,null,null,null,null,null,null,37,{"$f":"IF(SUM($AT877:$AT900)=0,0,SUM(AL877:AL900)/SUM($AT877:$AT900))","v":0},{"$f":"IF(SUM($AT877:$AT900)=0,0,SUM(AM877:AM900)/SUM($AT877:$AT900))","v":0},0,0,0,0,0,null,null,null,null,null,null,null,null,null,null,37,{"$f":"IF(SUM($BL877:$BL900)=0,0,SUM(BD877:BD900)/SUM($BL877:$BL900))","v":0},{"$f":"IF(SUM($BL877:$BL900)=0,0,SUM(BE877:BE900)/SUM($BL877:$BL900))","v":0},0,0,0,0,0,null,null,null,null,null,null,null,null,null,null,37,{"$f":"IF(SUM($CD877:$CD900)=0,0,SUM(BV877:BV900)/SUM($CD877:$CD900))","v":0},{"$f":"IF(SUM($CD877:$CD900)=0,0,SUM(BW877:BW900)/SUM($CD877:$CD900))","v":0},0,0,0,0,0,null,null,null,null,null,null,null,null,null,null,37,{"$f":"IF(SUM($CV877:$CV900)=0,0,SUM(CN877:CN900)/SUM($CV877:$CV900))","v":0},{"$f":"IF(SUM($CV877:$CV900)=0,0,SUM(CO877:CO900)/SUM($CV877:$CV900))","v":0},0,0,0,0,0,null,null,null,null,null,null,null,null,null,null,37,{"$f":"IF(SUM($DN877:$DN900)=0,0,SUM(DF877:DF900)/SUM($DN877:$DN900))","v":0},{"$f":"IF(SUM($DN877:$DN900)=0,0,SUM(DG877:DG900)/SUM($DN877:$DN900))","v":0},0,0,0,0,0,null,null,null,null,null,null,null,null,null,null,37,{"$f":"IF(SUM($EF877:$EF900)=0,0,SUM(DX877:DX900)/SUM($EF877:$EF900))","v":0},{"$f":"IF(SUM($EF877:$EF900)=0,0,SUM(DY877:DY900)/SUM($EF877:$EF900))","v":0},0,0,0,0,0,null,null,null,null,null,null,null,null,null,null,37,{"$f":"IF(SUM($EX877:$EX900)=0,0,SUM(EP877:EP900)/SUM($EX877:$EX900))","v":0},{"$f":"IF(SUM($EX877:$EX900)=0,0,SUM(EQ877:EQ900)/SUM($EX877:$EX900))","v":0},0,0,0,0,0,null,null,null,null,null,null,null,null,null,null,37,{"$f":"IF(SUM($FP877:$FP900)=0,0,SUM(FH877:FH900)/SUM($FP877:$FP900))","v":0},{"$f":"IF(SUM($FP877:$FP900)=0,0,SUM(FI877:FI900)/SUM($FP877:$FP900))","v":0},0,0,0,0,0]
[null,38,{"$f":"IF(SUM($J901:$J924)=0,0,SUM(B901:B924)/SUM($J901:$J924))","v":0},{"$f":"IF(SUM($J901:$J924)=0,0,SUM(C901:C924)/SUM($J901:$J924))","v":0},0,0,0,0,0,null,null,null,null,null,null,null,null,null,null,38,{"$f":"IF(SUM($AB901:$AB924)=0,0,SUM(T901:T924)/SUM($AB901:$AB924))","v":0},{"$f":"IF(SUM($AB901:$AB924)=0,0,SUM(U901:U924)/SUM($AB901:$AB924))","v":0},0,0,0,0,0,null,null,null,null,null,null,null,null,null,null,38,{"$f":"IF(SUM($AT901:$AT924)=0,0,SUM(AL901:AL924)/SUM($AT901:$AT924))","v":0},{"$f":"IF(SUM($AT901:$AT924)=0,0,SUM(AM901:AM924)/SUM($AT901:$AT924))","v":0},0,0,0,0,0,null,null,null,null,null,null,null,null,null,null,38,{"$f":"IF(SUM($BL901:$BL924)=0,0,SUM(BD901:BD924)/SUM($BL901:$BL924))","v":0},{"$f":"IF(SUM($BL901:$BL924)=0,0,SUM(BE901:BE924)/SUM($BL901:$BL924))","v":0},0,0,0,0,0,null,null,null,null,null,null,null,null,null,null,38,{"$f":"IF(SUM($CD901:$CD924)=0,0,SUM(BV901:BV924)/SUM($CD901:$CD924))","v":0},{"$f":"IF(SUM($CD901:$CD924)=0,0,SUM(BW901:BW924)/SUM($CD901:$CD924))","v":0},0,0,0,0,0,null,null,null,null,null,null,null,null,null,null,38,{"$f":"IF(SUM($CV901:$CV924)=0,0,SUM(CN901:CN924)/SUM($CV901:$CV924))","v":0},{"$f":"IF(SUM($CV901:$CV924)=0,0,SUM(CO901:CO924)/SUM($CV901:$CV924))","v":0},0,0,0,0,0,null,null,null,null,null,null,null,null,null,null,38,{"$f":"IF(SUM($DN901:$DN924)=0,0,SUM(DF901:DF924)/SUM($DN901:$DN924))","v":0},{"$f":"IF(SUM($DN901:$DN924)=0,0,SUM(DG901:DG924)/SUM($DN901:$DN924))","v":0},0,0,0,0,0,null,null,null,null,null,null,null,null,null,null,38,{"$f":"IF(SUM($EF901:$EF924)=0,0,SUM(DX901:DX924)/SUM($EF901:$EF924))","v":0},{"$f":"IF(SUM($EF901:$EF924)=0,0,SUM(DY901:DY924)/SUM($EF901:$EF924))","v":0},0,0,0,0,0,null,null,null,null,null,null,null,null,null,null,38,{"$f":"IF(SUM($EX901:$EX924)=0,0,SUM(EP901:EP924)/SUM($EX901:$EX924))","v":0},{"$f":"IF(SUM($EX901:$EX924)=0,0,SUM(EQ901:EQ924)/SUM($EX901:$EX924))","v":0},0,0,0,0,0,null,null,null,null,null,null,null,null,null,null,38,{"$f":"IF(SUM($FP901:$FP924)=0,0,SUM(FH901:FH924)/SUM($FP901:$FP924))","v":0},{"$f":"IF(SUM($FP901:$FP924)=0,0,SUM(FI901:FI924)/SUM($FP901:$FP924))","v":0},0,0,0,0,0]
[null,39,{"$f":"IF(SUM($J925:$J948)=0,0,SUM(B925:B948)/SUM($J925:$J948))","v":0},{"$f":"IF(SUM($J925:$J948)=0,0,SUM(C925:C948)/SUM($J925:$J948))","v":0},0,0,0,0,0,null,null,null,null,null,null,null,null,null,null,39,{"$f":"IF(SUM($AB925:$AB948)=0,0,SUM(T925:T948)/SUM($AB925:$AB948))","v":0},{"$f":"IF(SUM($AB925:$AB948)=0,0,SUM(U925:U948)/SUM($AB925:$AB948))","v":0},0,0,0,0,0,null,null,null,null,null,null,null,null,null,null,39,{"$f":"IF(SUM($AT925:$AT948)=0,0,SUM(AL925:AL948)/SUM($AT925:$AT948))","v":0},{"$f":"IF(SUM($AT925:$AT948)=0,0,SUM(AM925:AM948)/SUM($AT925:$AT948))","v":0},0,0,0,0,0,null,null,null,null,null,null,null,null,null,null,39,{"$f":"IF(SUM($BL925:$BL948)=0,0,SUM(BD925:BD948)/SUM($BL925:$BL948))","v":0},{"$f":"IF(SUM($BL925:$BL948)=0,0,SUM(BE925:BE948)/SUM($BL925:$BL948))","v":0},0,0,0,0,0,null,null,null,null,null,null,null,null,null,null,39,{"$f":"IF(SUM($CD925:$CD948)=0,0,SUM(BV925:BV948)/SUM($CD925:$CD948))","v":0},{"$f":"IF(SUM($CD925:$CD948)=0,0,SUM(BW925:BW948)/SUM($CD925:$CD948))","v":0},0,0,0,0,0,null,null,null,null,null,null,null,null,null,null,39,{"$f":"IF(SUM($CV925:$CV948)=0,0,SUM(CN925:CN948)/SUM($CV925:$CV948))","v":0},{"$f":"IF(SUM($CV925:$CV948)=0,0,SUM(CO925:CO948)/SUM($CV925:$CV948))","v":0},0,0,0,0,0,null,null,null,null,null,null,null,null,null,null,39,{"$f":"IF(SUM($DN925:$DN948)=0,0,SUM(DF925:DF948)/SUM($DN925:$DN948))","v":0},{"$f":"IF(SUM($DN925:$DN948)=0,0,SUM(DG925:DG948)/SUM($DN925:$DN948))","v":0},0,0,0,0,0,null,null,null,null,null,null,null,null,null,null,39,{"$f":"IF(SUM($EF925:$EF948)=0,0,SUM(DX925:DX948)/SUM($EF925:$EF948))","v":0},{"$f":"IF(SUM($EF925:$EF948)=0,0,SUM(DY925:DY948)/SUM($EF925:$EF948))","v":0},0,0,0,0,0,null,null,null,null,null,null,null,null,null,null,39,{"$f":"IF(SUM($EX925:$EX948)=0,0,SUM(EP925:EP948)/SUM($EX925:$EX948))","v":0},{"$f":"IF(SUM($EX925:$EX948)=0,0,SUM(EQ925:EQ948)/SUM($EX925:$EX948))","v":0},0,0,0,0,0,null,null,null,null,null,null,null,null,null,null,39,{"$f":"IF(SUM($FP925:$FP948)=0,0,SUM(FH925:FH948)/SUM($FP925:$FP948))","v":0},{"$f":"IF(SUM($FP925:$FP948)=0,0,SUM(FI925:FI948)/SUM($FP925:$FP948))","v":0},0,0,0,0,0]
[null,40,{"$f":"IF(SUM($J949:$J972)=0,0,SUM(B949:B972)/SUM($J949:$J972))","v":0},{"$f":"IF(SUM($J949:$J972)=0,0,SUM(C949:C972)/SUM($J949:$J972))","v":0},0,0,0,0,0,null,null,null,null,null,null,null,null,null,null,40,{"$f":"IF(SUM($AB949:$AB972)=0,0,SUM(T949:T972)/SUM($AB949:$AB972))","v":0},{"$f":"IF(SUM($AB949:$AB972)=0,0,SUM(U949:U972)/SUM($AB949:$AB972))","v":0},0,0,0,0,0,null,null,null,null,null,null,null,null,null,null,40,{"$f":"IF(SUM($AT949:$AT972)=0,0,SUM(AL949:AL972)/SUM($AT949:$AT972))","v":0},{"$f":"IF(SUM($AT949:$AT972)=0,0,SUM(AM949:AM972)/SUM($AT949:$AT972))","v":0},0,0,0,0,0,null,null,null,null,null,null,null,null,null,null,40,{"$f":"IF(SUM($BL949:$BL972)=0,0,SUM(BD949:BD972)/SUM($BL949:$BL972))","v":0},{"$f":"IF(SUM($BL949:$BL972)=0,0,SUM(BE949:BE972)/SUM($BL949:$BL972))","v":0},0,0,0,0,0,null,null,null,null,null,null,null,null,null,null,40,{"$f":"IF(SUM($CD949:$CD972)=0,0,SUM(BV949:BV972)/SUM($CD949:$CD972))","v":0},{"$f":"IF(SUM($CD949:$CD972)=0,0,SUM(BW949:BW972)/SUM($CD949:$CD972))","v":0},0,0,0,0,0,null,null,null,null,null,null,null,null,null,null,40,{"$f":"IF(SUM($CV949:$CV972)=0,0,SUM(CN949:CN972)/SUM($CV949:$CV972))","v":0},{"$f":"IF(SUM($CV949:$CV972)=0,0,SUM(CO949:CO972)/SUM($CV949:$CV972))","v":0},0,0,0,0,0,null,null,null,null,null,null,null,null,null,null,40,{"$f":"IF(SUM($DN949:$DN972)=0,0,SUM(DF949:DF972)/SUM($DN949:$DN972))","v":0},{"$f":"IF(SUM($DN949:$DN972)=0,0,SUM(DG949:DG972)/SUM($DN949:$DN972))","v":0},0,0,0,0,0,null,null,null,null,null,null,null,null,null,null,40,{"$f":"IF(SUM($EF949:$EF972)=0,0,SUM(DX949:DX972)/SUM($EF949:$EF972))","v":0},{"$f":"IF(SUM($EF949:$EF972)=0,0,SUM(DY949:DY972)/SUM($EF949:$EF972))","v":0},0,0,0,0,0,null,null,null,null,null,null,null,null,null,null,40,{"$f":"IF(SUM($EX949:$EX972)=0,0,SUM(EP949:EP972)/SUM($EX949:$EX972))","v":0},{"$f":"IF(SUM($EX949:$EX972)=0,0,SUM(EQ949:EQ972)/SUM($EX949:$EX972))","v":0},0,0,0,0,0,null,null,null,null,null,null,null,null,null,null,40,{"$f":"IF(SUM($FP949:$FP972)=0,0,SUM(FH949:FH972)/SUM($FP949:$FP972))","v":0},{"$f":"IF(SUM($FP949:$FP972)=0,0,SUM(FI949:FI972)/SUM($FP949:$FP972))","v":0},0,0,0,0,0]
[null,41,{"$f":"IF(SUM($J973:$J996)=0,0,SUM(B973:B996)/SUM($J973:$J996))","v":0},{"$f":"IF(SUM($J973:$J996)=0,0,SUM(C973:C996)/SUM($J973:$J996))","v":0},0,0,0,0,0,null,null,null,null,null,null,null,null,null,null,41,{"$f":"IF(SUM($AB973:$AB996)=0,0,SUM(T973:T996)/SUM($AB973:$AB996))","v":0},{"$f":"IF(SUM($AB973:$AB996)=0,0,SUM(U973:U996)/SUM($AB973:$AB996))","v":0},0,0,0,0,0,null,null,null,null,null,null,null,null,null,null,41,{"$f":"IF(SUM($AT973:$AT996)=0,0,SUM(AL973:AL996)/SUM($AT973:$AT996))","v":0},{"$f":"IF(SUM($AT973:$AT996)=0,0,SUM(AM973:AM996)/SUM($AT973:$AT996))","v":0},0,0,0,0,0,null,null,null,null,null,null,null,null,null,null,41,{"$f":"IF(SUM($BL973:$BL996)=0,0,SUM(BD973:BD996)/SUM($BL973:$BL996))","v":0},{"$f":"IF(SUM($BL973:$BL996)=0,0,SUM(BE973:BE996)/SUM($BL973:$BL996))","v":0},0,0,0,0,0,null,null,null,null,null,null,null,null,null,null,41,{"$f":"IF(SUM($CD973:$CD996)=0,0,SUM(BV973:BV996)/SUM($CD973:$CD996))","v":0},{"$f":"IF(SUM($CD973:$CD996)=0,0,SUM(BW973:BW996)/SUM($CD973:$CD996))","v":0},0,0,0,0,0,null,null,null,null,null,null,null,null,null,null,41,{"$f":"IF(SUM($CV973:$CV996)=0,0,SUM(CN973:CN996)/SUM($CV973:$CV996))","v":0},{"$f":"IF(SUM($CV973:$CV996)=0,0,SUM(CO973:CO996)/SUM($CV973:$CV996))","v":0},0,0,0,0,0,null,null,null,null,null,null,null,null,null,null,41,{"$f":"IF(SUM($DN973:$DN996)=0,0,SUM(DF973:DF996)/SUM($DN973:$DN996))","v":0},{"$f":"IF(SUM($DN973:$DN996)=0,0,SUM(DG973:DG996)/SUM($DN973:$DN996))","v":0},0,0,0,0,0,null,null,null,null,null,null,null,null,null,null,41,{"$f":"IF(SUM($EF973:$EF996)=0,0,SUM(DX973:DX996)/SUM($EF973:$EF996))","v":0},{"$f":"IF(SUM($EF973:$EF996)=0,0,SUM(DY973:DY996)/SUM($EF973:$EF996))","v":0},0,0,0,0,0,null,null,null,null,null,null,null,null,null,null,41,{"$f":"IF(SUM($EX973:$EX996)=0,0,SUM(EP973:EP996)/SUM($EX973:$EX996))","v":0},{"$f":"IF(SUM($EX973:$EX996)=0,0,SUM(EQ973:EQ996)/SUM($EX973:$EX996))","v":0},0,0,0,0,0,null,null,null,null,null,null,null,null,null,null,41,{"$f":"IF(SUM($FP973:$FP996)=0,0,SUM(FH973:FH996)/SUM($FP973:$FP996))","v":0},{"$f":"IF(SUM($FP973:$FP996)=0,0,SUM(FI973:FI996)/SUM($FP973:$FP996))","v":0},0,0,0,0,0]
[null,42,{"$f":"IF(SUM($J997:$J1020)=0,0,SUM(B997:B1020)/SUM($J997:$J1020))","v":0},{"$f":"IF(SUM($J997:$J1020)=0,0,SUM(C997:C1020)/SUM($J997:$J1020))","v":0},0,0,0,0,0,null,null,null,null,null,null,null,null,null,null,42,{"$f":"IF(SUM($AB997:$AB1020)=0,0,SUM(T997:T1020)/SUM($AB997:$AB1020))","v":0},{"$f":"IF(SUM($AB997:$AB1020)=0,0,SUM(U997:U1020)/SUM($AB997:$AB1020))","v":0},0,0,0,0,0,null,null,null,null,null,null,null,null,null,null,42,{"$f":"IF(SUM($AT997:$AT1020)=0,0,SUM(AL997:AL1020)/SUM($AT997:$AT1020))","v":0},{"$f":"IF(SUM($AT997:$AT1020)=0,0,SUM(AM997:AM1020)/SUM($AT997:$AT1020))","v":0},0,0,0,0,0,null,null,null,null,null,null,null,null,null,null,42,{"$f":"IF(SUM($BL997:$BL1020)=0,0,SUM(BD997:BD1020)/SUM($BL997:$BL1020))","v":0},{"$f":"IF(SUM($BL997:$BL1020)=0,0,SUM(BE997:BE1020)/SUM($BL997:$BL1020))","v":0},0,0,0,0,0,null,null,null,null,null,null,null,null,null,null,42,{"$f":"IF(SUM($CD997:$CD1020)=0,0,SUM(BV997:BV1020)/SUM($CD997:$CD1020))","v":0},{"$f":"IF(SUM($CD997:$CD1020)=0,0,SUM(BW997:BW1020)/SUM($CD997:$CD1020))","v":0},0,0,0,0,0,null,null,null,null,null,null,null,null,null,null,42,{"$f":"IF(SUM($CV997:$CV1020)=0,0,SUM(CN997:CN1020)/SUM($CV997:$CV1020))","v":0},{"$f":"IF(SUM($CV997:$CV1020)=0,0,SUM(CO997:CO1020)/SUM($CV997:$CV1020))","v":0},0,0,0,0,0,null,null,null,null,null,null,null,null,null,null,42,{"$f":"IF(SUM($DN997:$DN1020)=0,0,SUM(DF997:DF1020)/SUM($DN997:$DN1020))","v":0},{"$f":"IF(SUM($DN997:$DN1020)=0,0,SUM(DG997:DG1020)/SUM($DN997:$DN1020))","v":0},0,0,0,0,0,null,null,null,null,null,null,null,null,null,null,42,{"$f":"IF(SUM($EF997:$EF1020)=0,0,SUM(DX997:DX1020)/SUM($EF997:$EF1020))","v":0},{"$f":"IF(SUM($EF997:$EF1020)=0,0,SUM(DY997:DY1020)/SUM($EF997:$EF1020))","v":0},0,0,0,0,0,null,null,null,null,null,null,null,null,null,null,42,{"$f":"IF(SUM($EX997:$EX1020)=0,0,SUM(EP997:EP1020)/SUM($EX997:$EX1020))","v":0},{"$f":"IF(SUM($EX997:$EX1020)=0,0,SUM(EQ997:EQ1020)/SUM($EX997:$EX1020))","v":0},0,0,0,0,0,null,null,null,null,null,null,null,null,null,null,42,{"$f":"IF(SUM($FP997:$FP1020)=0,0,SUM(FH997:FH1020)/SUM($FP997:$FP1020))","v":0},{"$f":"IF(SUM($FP997:$FP1020)=0,0,SUM(FI997:FI1020)/SUM($FP997:$FP1020))","v":0},0,0,0,0,0]
[null,43,{"$f":"IF(SUM($J1021:$J1044)=0,0,SUM(B1021:B1044)/SUM($J1021:$J1044))","v":0},{"$f":"IF(SUM($J1021:$J1044)=0,0,SUM(C1021:C1044)/SUM($J1021:$J1044))","v":0},0,0,0,0,0,null,null,null,null,null,null,null,null,null,null,43,{"$f":"IF(SUM($AB1021:$AB1044)=0,0,SUM(T1021:T1044)/SUM($AB1021:$AB1044))","v":0},{"$f":"IF(SUM($AB1021:$AB1044)=0,0,SUM(U1021:U1044)/SUM($AB1021:$AB1044))","v":0},0,0,0,0,0,null,null,null,null,null,null,null,null,null,null,43,{"$f":"IF(SUM($AT1021:$AT1044)=0,0,SUM(AL1021:AL1044)/SUM($AT1021:$AT1044))","v":0},{"$f":"IF(SUM($AT1021:$AT1044)=0,0,SUM(AM1021:AM1044)/SUM($AT1021:$AT1044))","v":0},0,0,0,0,0,null,null,null,null,null,null,null,null,null,null,43,{"$f":"IF(SUM($BL1021:$BL1044)=0,0,SUM(BD1021:BD1044)/SUM($BL1021:$BL1044))","v":0},{"$f":"IF(SUM($BL1021:$BL1044)=0,0,SUM(BE1021:BE1044)/SUM($BL1021:$BL1044))","v":0},0,0,0,0,0,null,null,null,null,null,null,null,null,null,null,43,{"$f":"IF(SUM($CD1021:$CD1044)=0,0,SUM(BV1021:BV1044)/SUM($CD1021:$CD1044))","v":0},{"$f":"IF(SUM($CD1021:$CD1044)=0,0,SUM(BW1021:BW1044)/SUM($CD1021:$CD1044))","v":0},0,0,0,0,0,null,null,null,null,null,null,null,null,null,null,43,{"$f":"IF(SUM($CV1021:$CV1044)=0,0,SUM(CN1021:CN1044)/SUM($CV1021:$CV1044))","v":0},{"$f":"IF(SUM($CV1021:$CV1044)=0,0,SUM(CO1021:CO1044)/SUM($CV1021:$CV1044))","v":0},0,0,0,0,0,null,null,null,null,null,null,null,null,null,null,43,{"$f":"IF(SUM($DN1021:$DN1044)=0,0,SUM(DF1021:DF1044)/SUM($DN1021:$DN1044))","v":0},{"$f":"IF(SUM($DN1021:$DN1044)=0,0,SUM(DG1021:DG1044)/SUM($DN1021:$DN1044))","v":0},0,0,0,0,0,null,null,null,null,null,null,null,null,null,null,43,{"$f":"IF(SUM($EF1021:$EF1044)=0,0,SUM(DX1021:DX1044)/SUM($EF1021:$EF1044))","v":0},{"$f":"IF(SUM($EF1021:$EF1044)=0,0,SUM(DY1021:DY1044)/SUM($EF1021:$EF1044))","v":0},0,0,0,0,0,null,null,null,null,null,null,null,null,null,null,43,{"$f":"IF(SUM($EX1021:$EX1044)=0,0,SUM(EP1021:EP1044)/SUM($EX1021:$EX1044))","v":0},{"$f":"IF(SUM($EX1021:$EX1044)=0,0,SUM(EQ1021:EQ1044)/SUM($EX1021:$EX1044))","v":0},0,0,0,0,0,null,null,null,null,null,null,null,null,null,null,43,{"$f":"IF(SUM($FP1021:$FP1044)=0,0,SUM(FH1021:FH1044)/SUM($FP1021:$FP1044))","v":0},{"$f":"IF(SUM($FP1021:$FP1044)=0,0,SUM(FI1021:FI1044)/SUM($FP1021:$FP1044))","v":0},0,0,0,0,0]
[null,44,{"$f":"IF(SUM($J1045:$J1068)=0,0,SUM(B1045:B1068)/SUM($J1045:$J1068))","v":0},{"$f":"IF(SUM($J1045:$J1068)=0,0,SUM(C1045:C1068)/SUM($J1045:$J1068))","v":0},0,0,0,0,0,null,null,null,null,null,null,null,null,null,null,44,{"$f":"IF(SUM($AB1045:$AB1068)=0,0,SUM(T1045:T1068)/SUM($AB1045:$AB1068))","v":0},{"$f":"IF(SUM($AB1045:$AB1068)=0,0,SUM(U1045:U1068)/SUM($AB1045:$AB1068))","v":0},0,0,0,0,0,null,null,null,null,null,null,null,null,null,null,44,{"$f":"IF(SUM($AT1045:$AT1068)=0,0,SUM(AL1045:AL1068)/SUM($AT1045:$AT1068))","v":0},{"$f":"IF(SUM($AT1045:$AT1068)=0,0,SUM(AM1045:AM1068)/SUM($AT1045:$AT1068))","v":0},0,0,0,0,0,null,null,null,null,null,null,null,null,null,null,44,{"$f":"IF(SUM($BL1045:$BL1068)=0,0,SUM(BD1045:BD1068)/SUM($BL1045:$BL1068))","v":0},{"$f":"IF(SUM($BL1045:$BL1068)=0,0,SUM(BE1045:BE1068)/SUM($BL1045:$BL1068))","v":0},0,0,0,0,0,null,null,null,null,null,null,null,null,null,null,44,{"$f":"IF(SUM($CD1045:$CD1068)=0,0,SUM(BV1045:BV1068)/SUM($CD1045:$CD1068))","v":0},{"$f":"IF(SUM($CD1045:$CD1068)=0,0,SUM(BW1045:BW1068)/SUM($CD1045:$CD1068))","v":0},0,0,0,0,0,null,null,null,null,null,null,null,null,null,null,44,{"$f":"IF(SUM($CV1045:$CV1068)=0,0,SUM(CN1045:CN1068)/SUM($CV1045:$CV1068))","v":0},{"$f":"IF(SUM($CV1045:$CV1068)=0,0,SUM(CO1045:CO1068)/SUM($CV1045:$CV1068))","v":0},0,0,0,0,0,null,null,null,null,null,null,null,null,null,null,44,{"$f":"IF(SUM($DN1045:$DN1068)=0,0,SUM(DF1045:DF1068)/SUM($DN1045:$DN1068))","v":0},{"$f":"IF(SUM($DN1045:$DN1068)=0,0,SUM(DG1045:DG1068)/SUM($DN1045:$DN1068))","v":0},0,0,0,0,0,null,null,null,null,null,null,null,null,null,null,44,{"$f":"IF(SUM($EF1045:$EF1068)=0,0,SUM(DX1045:DX1068)/SUM($EF1045:$EF1068))","v":0},{"$f":"IF(SUM($EF1045:$EF1068)=0,0,SUM(DY1045:DY1068)/SUM($EF1045:$EF1068))","v":0},0,0,0,0,0,null,null,null,null,null,null,null,null,null,null,44,{"$f":"IF(SUM($EX1045:$EX1068)=0,0,SUM(EP1045:EP1068)/SUM($EX1045:$EX1068))","v":0},{"$f":"IF(SUM($EX1045:$EX1068)=0,0,SUM(EQ1045:EQ1068)/SUM($EX1045:$EX1068))","v":0},0,0,0,0,0,null,null,null,null,null,null,null,null,null,null,44,{"$f":"IF(SUM($FP1045:$FP1068)=0,0,SUM(FH1045:FH1068)/SUM($FP1045:$FP1068))","v":0},{"$f":"IF(SUM($FP1045:$FP1068)=0,0,SUM(FI1045:FI1068)/SUM($FP1045:$FP1068))","v":0},0,0,0,0,0]
[null,45,{"$f":"IF(SUM($J1069:$J1092)=0,0,SUM(B1069:B1092)/SUM($J1069:$J1092))","v":0},{"$f":"IF(SUM($J1069:$J1092)=0,0,SUM(C1069:C1092)/SUM($J1069:$J1092))","v":0},0,0,0,0,0,null,null,null,null,null,null,null,null,null,null,45,{"$f":"IF(SUM($AB1069:$AB1092)=0,0,SUM(T1069:T1092)/SUM($AB1069:$AB1092))","v":0},{"$f":"IF(SUM($AB1069:$AB1092)=0,0,SUM(U1069:U1092)/SUM($AB1069:$AB1092))","v":0},0,0,0,0,0,null,null,null,null,null,null,null,null,null,null,45,{"$f":"IF(SUM($AT1069:$AT1092)=0,0,SUM(AL1069:AL1092)/SUM($AT1069:$AT1092))","v":0},{"$f":"IF(SUM($AT1069:$AT1092)=0,0,SUM(AM1069:AM1092)/SUM($AT1069:$AT1092))","v":0},0,0,0,0,0,null,null,null,null,null,null,null,null,null,null,45,{"$f":"IF(SUM($BL1069:$BL1092)=0,0,SUM(BD1069:BD1092)/SUM($BL1069:$BL1092))","v":0},{"$f":"IF(SUM($BL1069:$BL1092)=0,0,SUM(BE1069:BE1092)/SUM($BL1069:$BL1092))","v":0},0,0,0,0,0,null,null,null,null,null,null,null,null,null,null,45,{"$f":"IF(SUM($CD1069:$CD1092)=0,0,SUM(BV1069:BV1092)/SUM($CD1069:$CD1092))","v":0},{"$f":"IF(SUM($CD1069:$CD1092)=0,0,SUM(BW1069:BW1092)/SUM($CD1069:$CD1092))","v":0},0,0,0,0,0,null,null,null,null,null,null,null,null,null,null,45,{"$f":"IF(SUM($CV1069:$CV1092)=0,0,SUM(CN1069:CN1092)/SUM($CV1069:$CV1092))","v":0},{"$f":"IF(SUM($CV1069:$CV1092)=0,0,SUM(CO1069:CO1092)/SUM($CV1069:$CV1092))","v":0},0,0,0,0,0,null,null,null,null,null,null,null,null,null,null,45,{"$f":"IF(SUM($DN1069:$DN1092)=0,0,SUM(DF1069:DF1092)/SUM($DN1069:$DN1092))","v":0},{"$f":"IF(SUM($DN1069:$DN1092)=0,0,SUM(DG1069:DG1092)/SUM($DN1069:$DN1092))","v":0},0,0,0,0,0,null,null,null,null,null,null,null,null,null,null,45,{"$f":"IF(SUM($EF1069:$EF1092)=0,0,SUM(DX1069:DX1092)/SUM($EF1069:$EF1092))","v":0},{"$f":"IF(SUM($EF1069:$EF1092)=0,0,SUM(DY1069:DY1092)/SUM($EF1069:$EF1092))","v":0},0,0,0,0,0,null,null,null,null,null,null,null,null,null,null,45,{"$f":"IF(SUM($EX1069:$EX1092)=0,0,SUM(EP1069:EP1092)/SUM($EX1069:$EX1092))","v":0},{"$f":"IF(SUM($EX1069:$EX1092)=0,0,SUM(EQ1069:EQ1092)/SUM($EX1069:$EX1092))","v":0},0,0,0,0,0,null,null,null,null,null,null,null,null,null,null,45,{"$f":"IF(SUM($FP1069:$FP1092)=0,0,SUM(FH1069:FH1092)/SUM($FP1069:$FP1092))","v":0},{"$f":"IF(SUM($FP1069:$FP1092)=0,0,SUM(FI1069:FI1092)/SUM($FP1069:$FP1092))","v":0},0,0,0,0,0]
[null,46,{"$f":"IF(SUM($J1093:$J1116)=0,0,SUM(B1093:B1116)/SUM($J1093:$J1116))","v":0},{"$f":"IF(SUM($J1093:$J1116)=0,0,SUM(C1093:C1116)/SUM($J1093:$J1116))","v":0},0,0,0,0,0,null,null,null,null,null,null,null,null,null,null,46,{"$f":"IF(SUM($AB1093:$AB1116)=0,0,SUM(T1093:T1116)/SUM($AB1093:$AB1116))","v":0},{"$f":"IF(SUM($AB1093:$AB1116)=0,0,SUM(U1093:U1116)/SUM($AB1093:$AB1116))","v":0},0,0,0,0,0,null,null,null,null,null,null,null,null,null,null,46,{"$f":"IF(SUM($AT1093:$AT1116)=0,0,SUM(AL1093:AL1116)/SUM($AT1093:$AT1116))","v":0},{"$f":"IF(SUM($AT1093:$AT1116)=0,0,SUM(AM1093:AM1116)/SUM($AT1093:$AT1116))","v":0},0,0,0,0,0,null,null,null,null,null,null,null,null,null,null,46,{"$f":"IF(SUM($BL1093:$BL1116)=0,0,SUM(BD1093:BD1116)/SUM($BL1093:$BL1116))","v":0},{"$f":"IF(SUM($BL1093:$BL1116)=0,0,SUM(BE1093:BE1116)/SUM($BL1093:$BL1116))","v":0},0,0,0,0,0,null,null,null,null,null,null,null,null,null,null,46,{"$f":"IF(SUM($CD1093:$CD1116)=0,0,SUM(BV1093:BV1116)/SUM($CD1093:$CD1116))","v":0},{"$f":"IF(SUM($CD1093:$CD1116)=0,0,SUM(BW1093:BW1116)/SUM($CD1093:$CD1116))","v":0},0,0,0,0,0,null,null,null,null,null,null,null,null,null,null,46,{"$f":"IF(SUM($CV1093:$CV1116)=0,0,SUM(CN1093:CN1116)/SUM($CV1093:$CV1116))","v":0},{"$f":"IF(SUM($CV1093:$CV1116)=0,0,SUM(CO1093:CO1116)/SUM($CV1093:$CV1116))","v":0},0,0,0,0,0,null,null,null,null,null,null,null,null,null,null,46,{"$f":"IF(SUM($DN1093:$DN1116)=0,0,SUM(DF1093:DF1116)/SUM($DN1093:$DN1116))","v":0},{"$f":"IF(SUM($DN1093:$DN1116)=0,0,SUM(DG1093:DG1116)/SUM($DN1093:$DN1116))","v":0},0,0,0,0,0,null,null,null,null,null,null,null,null,null,null,46,{"$f":"IF(SUM($EF1093:$EF1116)=0,0,SUM(DX1093:DX1116)/SUM($EF1093:$EF1116))","v":0},{"$f":"IF(SUM($EF1093:$EF1116)=0,0,SUM(DY1093:DY1116)/SUM($EF1093:$EF1116))","v":0},0,0,0,0,0,null,null,null,null,null,null,null,null,null,null,46,{"$f":"IF(SUM($EX1093:$EX1116)=0,0,SUM(EP1093:EP1116)/SUM($EX1093:$EX1116))","v":0},{"$f":"IF(SUM($EX1093:$EX1116)=0,0,SUM(EQ1093:EQ1116)/SUM($EX1093:$EX1116))","v":0},0,0,0,0,0,null,null,null,null,null,null,null,null,null,null,46,{"$f":"IF(SUM($FP1093:$FP1116)=0,0,SUM(FH1093:FH1116)/SUM($FP1093:$FP1116))","v":0},{"$f":"IF(SUM($FP1093:$FP1116)=0,0,SUM(FI1093:FI1116)/SUM($FP1093:$FP1116))","v":0},0,0,0,0,0]
[null,47,{"$f":"IF(SUM($J1117:$J1140)=0,0,SUM(B1117:B1140)/SUM($J1117:$J1140))","v":0},{"$f":"IF(SUM($J1117:$J1140)=0,0,SUM(C1117:C1140)/SUM($J1117:$J1140))","v":0},0,0,0,0,0,null,null,null,null,null,null,null,null,null,null,47,{"$f":"IF(SUM($AB1117:$AB1140)=0,0,SUM(T1117:T1140)/SUM($AB1117:$AB1140))","v":0},{"$f":"IF(SUM($AB1117:$AB1140)=0,0,SUM(U1117:U1140)/SUM($AB1117:$AB1140))","v":0},0,0,0,0,0,null,null,null,null,null,null,null,null,null,null,47,{"$f":"IF(SUM($AT1117:$AT1140)=0,0,SUM(AL1117:AL1140)/SUM($AT1117:$AT1140))","v":0},{"$f":"IF(SUM($AT1117:$AT1140)=0,0,SUM(AM1117:AM1140)/SUM($AT1117:$AT1140))","v":0},0,0,0,0,0,null,null,null,null,null,null,null,null,null,null,47,{"$f":"IF(SUM($BL1117:$BL1140)=0,0,SUM(BD1117:BD1140)/SUM($BL1117:$BL1140))","v":0},{"$f":"IF(SUM($BL1117:$BL1140)=0,0,SUM(BE1117:BE1140)/SUM($BL1117:$BL1140))","v":0},0,0,0,0,0,null,null,null,null,null,null,null,null,null,null,47,{"$f":"IF(SUM($CD1117:$CD1140)=0,0,SUM(BV1117:BV1140)/SUM($CD1117:$CD1140))","v":0},{"$f":"IF(SUM($CD1117:$CD1140)=0,0,SUM(BW1117:BW1140)/SUM($CD1117:$CD1140))","v":0},0,0,0,0,0,null,null,null,null,null,null,null,null,null,null,47,{"$f":"IF(SUM($CV1117:$CV1140)=0,0,SUM(CN1117:CN1140)/SUM($CV1117:$CV1140))","v":0},{"$f":"IF(SUM($CV1117:$CV1140)=0,0,SUM(CO1117:CO1140)/SUM($CV1117:$CV1140))","v":0},0,0,0,0,0,null,null,null,null,null,null,null,null,null,null,47,{"$f":"IF(SUM($DN1117:$DN1140)=0,0,SUM(DF1117:DF1140)/SUM($DN1117:$DN1140))","v":0},{"$f":"IF(SUM($DN1117:$DN1140)=0,0,SUM(DG1117:DG1140)/SUM($DN1117:$DN1140))","v":0},0,0,0,0,0,null,null,null,null,null,null,null,null,null,null,47,{"$f":"IF(SUM($EF1117:$EF1140)=0,0,SUM(DX1117:DX1140)/SUM($EF1117:$EF1140))","v":0},{"$f":"IF(SUM($EF1117:$EF1140)=0,0,SUM(DY1117:DY1140)/SUM($EF1117:$EF1140))","v":0},0,0,0,0,0,null,null,null,null,null,null,null,null,null,null,47,{"$f":"IF(SUM($EX1117:$EX1140)=0,0,SUM(EP1117:EP1140)/SUM($EX1117:$EX1140))","v":0},{"$f":"IF(SUM($EX1117:$EX1140)=0,0,SUM(EQ1117:EQ1140)/SUM($EX1117:$EX1140))","v":0},0,0,0,0,0,null,null,null,null,null,null,null,null,null,null,47,{"$f":"IF(SUM($FP1117:$FP1140)=0,0,SUM(FH1117:FH1140)/SUM($FP1117:$FP1140))","v":0},{"$f":"IF(SUM($FP1117:$FP1140)=0,0,SUM(FI1117:FI1140)/SUM($FP1117:$FP1140))","v":0},0,0,0,0,0]
[null,48,{"$f":"IF(SUM($J1141:$J1164)=0,0,SUM(B1141:B1164)/SUM($J1141:$J1164))","v":0},{"$f":"IF(SUM($J1141:$J1164)=0,0,SUM(C1141:C1164)/SUM($J1141:$J1164))","v":0},0,0,0,0,0,null,null,null,null,null,null,null,null,null,null,48,{"$f":"IF(SUM($AB1141:$AB1164)=0,0,SUM(T1141:T1164)/SUM($AB1141:$AB1164))","v":0},{"$f":"IF(SUM($AB1141:$AB1164)=0,0,SUM(U1141:U1164)/SUM($AB1141:$AB1164))","v":0},0,0,0,0,0,null,null,null,null,null,null,null,null,null,null,48,{"$f":"IF(SUM($AT1141:$AT1164)=0,0,SUM(AL1141:AL1164)/SUM($AT1141:$AT1164))","v":0},{"$f":"IF(SUM($AT1141:$AT1164)=0,0,SUM(AM1141:AM1164)/SUM($AT1141:$AT1164))","v":0},0,0,0,0,0,null,null,null,null,null,null,null,null,null,null,48,{"$f":"IF(SUM($BL1141:$BL1164)=0,0,SUM(BD1141:BD1164)/SUM($BL1141:$BL1164))","v":0},{"$f":"IF(SUM($BL1141:$BL1164)=0,0,SUM(BE1141:BE1164)/SUM($BL1141:$BL1164))","v":0},0,0,0,0,0,null,null,null,null,null,null,null,null,null,null,48,{"$f":"IF(SUM($CD1141:$CD1164)=0,0,SUM(BV1141:BV1164)/SUM($CD1141:$CD1164))","v":0},{"$f":"IF(SUM($CD1141:$CD1164)=0,0,SUM(BW1141:BW1164)/SUM($CD1141:$CD1164))","v":0},0,0,0,0,0,null,null,null,null,null,null,null,null,null,null,48,{"$f":"IF(SUM($CV1141:$CV1164)=0,0,SUM(CN1141:CN1164)/SUM($CV1141:$CV1164))","v":0},{"$f":"IF(SUM($CV1141:$CV1164)=0,0,SUM(CO1141:CO1164)/SUM($CV1141:$CV1164))","v":0},0,0,0,0,0,null,null,null,null,null,null,null,null,null,null,48,{"$f":"IF(SUM($DN1141:$DN1164)=0,0,SUM(DF1141:DF1164)/SUM($DN1141:$DN1164))","v":0},{"$f":"IF(SUM($DN1141:$DN1164)=0,0,SUM(DG1141:DG1164)/SUM($DN1141:$DN1164))","v":0},0,0,0,0,0,null,null,null,null,null,null,null,null,null,null,48,{"$f":"IF(SUM($EF1141:$EF1164)=0,0,SUM(DX1141:DX1164)/SUM($EF1141:$EF1164))","v":0},{"$f":"IF(SUM($EF1141:$EF1164)=0,0,SUM(DY1141:DY1164)/SUM($EF1141:$EF1164))","v":0},0,0,0,0,0,null,null,null,null,null,null,null,null,null,null,48,{"$f":"IF(SUM($EX1141:$EX1164)=0,0,SUM(EP1141:EP1164)/SUM($EX1141:$EX1164))","v":0},{"$f":"IF(SUM($EX1141:$EX1164)=0,0,SUM(EQ1141:EQ1164)/SUM($EX1141:$EX1164))","v":0},0,0,0,0,0,null,null,null,null,null,null,null,null,null,null,48,{"$f":"IF(SUM($FP1141:$FP1164)=0,0,SUM(FH1141:FH1164)/SUM($FP1141:$FP1164))","v":0},{"$f":"IF(SUM($FP1141:$FP1164)=0,0,SUM(FI1141:FI1164)/SUM($FP1141:$FP1164))","v":0},0,0,0,0,0]
[null,49,{"$f":"IF(SUM($J1165:$J1188)=0,0,SUM(B1165:B1188)/SUM($J1165:$J1188))","v":0},{"$f":"IF(SUM($J1165:$J1188)=0,0,SUM(C1165:C1188)/SUM($J1165:$J1188))","v":0},0,0,0,0,0,null,null,null,null,null,null,null,null,null,null,49,{"$f":"IF(SUM($AB1165:$AB1188)=0,0,SUM(T1165:T1188)/SUM($AB1165:$AB1188))","v":0},{"$f":"IF(SUM($AB1165:$AB1188)=0,0,SUM(U1165:U1188)/SUM($AB1165:$AB1188))","v":0},0,0,0,0,0,null,null,null,null,null,null,null,null,null,null,49,{"$f":"IF(SUM($AT1165:$AT1188)=0,0,SUM(AL1165:AL1188)/SUM($AT1165:$AT1188))","v":0},{"$f":"IF(SUM($AT1165:$AT1188)=0,0,SUM(AM1165:AM1188)/SUM($AT1165:$AT1188))","v":0},0,0,0,0,0,null,null,null,null,null,null,null,null,null,null,49,{"$f":"IF(SUM($BL1165:$BL1188)=0,0,SUM(BD1165:BD1188)/SUM($BL1165:$BL1188))","v":0},{"$f":"IF(SUM($BL1165:$BL1188)=0,0,SUM(BE1165:BE1188)/SUM($BL1165:$BL1188))","v":0},0,0,0,0,0,null,null,null,null,null,null,null,null,null,null,49,{"$f":"IF(SUM($CD1165:$CD1188)=0,0,SUM(BV1165:BV1188)/SUM($CD1165:$CD1188))","v":0},{"$f":"IF(SUM($CD1165:$CD1188)=0,0,SUM(BW1165:BW1188)/SUM($CD1165:$CD1188))","v":0},0,0,0,0,0,null,null,null,null,null,null,null,null,null,null,49,{"$f":"IF(SUM($CV1165:$CV1188)=0,0,SUM(CN1165:CN1188)/SUM($CV1165:$CV1188))","v":0},{"$f":"IF(SUM($CV1165:$CV1188)=0,0,SUM(CO1165:CO1188)/SUM($CV1165:$CV1188))","v":0},0,0,0,0,0,null,null,null,null,null,null,null,null,null,null,49,{"$f":"IF(SUM($DN1165:$DN1188)=0,0,SUM(DF1165:DF1188)/SUM($DN1165:$DN1188))","v":0},{"$f":"IF(SUM($DN1165:$DN1188)=0,0,SUM(DG1165:DG1188)/SUM($DN1165:$DN1188))","v":0},0,0,0,0,0,null,null,null,null,null,null,null,null,null,null,49,{"$f":"IF(SUM($EF1165:$EF1188)=0,0,SUM(DX1165:DX1188)/SUM($EF1165:$EF1188))","v":0},{"$f":"IF(SUM($EF1165:$EF1188)=0,0,SUM(DY1165:DY1188)/SUM($EF1165:$EF1188))","v":0},0,0,0,0,0,null,null,null,null,null,null,null,null,null,null,49,{"$f":"IF(SUM($EX1165:$EX1188)=0,0,SUM(EP1165:EP1188)/SUM($EX1165:$EX1188))","v":0},{"$f":"IF(SUM($EX1165:$EX1188)=0,0,SUM(EQ1165:EQ1188)/SUM($EX1165:$EX1188))","v":0},0,0,0,0,0,null,null,null,null,null,null,null,null,null,null,49,{"$f":"IF(SUM($FP1165:$FP1188)=0,0,SUM(FH1165:FH1188)/SUM($FP1165:$FP1188))","v":0},{"$f":"IF(SUM($FP1165:$FP1188)=0,0,SUM(FI1165:FI1188)/SUM($FP1165:$FP1188))","v":0},0,0,0,0,0]
[null,50,{"$f":"IF(SUM($J1189:$J1212)=0,0,SUM(B1189:B1212)/SUM($J1189:$J1212))","v":0},{"$f":"IF(SUM($J1189:$J1212)=0,0,SUM(C1189:C1212)/SUM($J1189:$J1212))","v":0},0,0,0,0,0,null,null,null,null,null,null,null,null,null,null,50,{"$f":"IF(SUM($AB1189:$AB1212)=0,0,SUM(T1189:T1212)/SUM($AB1189:$AB1212))","v":0},{"$f":"IF(SUM($AB1189:$AB1212)=0,0,SUM(U1189:U1212)/SUM($AB1189:$AB1212))","v":0},0,0,0,0,0,null,null,null,null,null,null,null,null,null,null,50,{"$f":"IF(SUM($AT1189:$AT1212)=0,0,SUM(AL1189:AL1212)/SUM($AT1189:$AT1212))","v":0},{"$f":"IF(SUM($AT1189:$AT1212)=0,0,SUM(AM1189:AM1212)/SUM($AT1189:$AT1212))","v":0},0,0,0,0,0,null,null,null,null,null,null,null,null,null,null,50,{"$f":"IF(SUM($BL1189:$BL1212)=0,0,SUM(BD1189:BD1212)/SUM($BL1189:$BL1212))","v":0},{"$f":"IF(SUM($BL1189:$BL1212)=0,0,SUM(BE1189:BE1212)/SUM($BL1189:$BL1212))","v":0},0,0,0,0,0,null,null,null,null,null,null,null,null,null,null,50,{"$f":"IF(SUM($CD1189:$CD1212)=0,0,SUM(BV1189:BV1212)/SUM($CD1189:$CD1212))","v":0},{"$f":"IF(SUM($CD1189:$CD1212)=0,0,SUM(BW1189:BW1212)/SUM($CD1189:$CD1212))","v":0},0,0,0,0,0,null,null,null,null,null,null,null,null,null,null,50,{"$f":"IF(SUM($CV1189:$CV1212)=0,0,SUM(CN1189:CN1212)/SUM($CV1189:$CV1212))","v":0},{"$f":"IF(SUM($CV1189:$CV1212)=0,0,SUM(CO1189:CO1212)/SUM($CV1189:$CV1212))","v":0},0,0,0,0,0,null,null,null,null,null,null,null,null,null,null,50,{"$f":"IF(SUM($DN1189:$DN1212)=0,0,SUM(DF1189:DF1212)/SUM($DN1189:$DN1212))","v":0},{"$f":"IF(SUM($DN1189:$DN1212)=0,0,SUM(DG1189:DG1212)/SUM($DN1189:$DN1212))","v":0},0,0,0,0,0,null,null,null,null,null,null,null,null,null,null,50,{"$f":"IF(SUM($EF1189:$EF1212)=0,0,SUM(DX1189:DX1212)/SUM($EF1189:$EF1212))","v":0},{"$f":"IF(SUM($EF1189:$EF1212)=0,0,SUM(DY1189:DY1212)/SUM($EF1189:$EF1212))","v":0},0,0,0,0,0,null,null,null,null,null,null,null,null,null,null,50,{"$f":"IF(SUM($EX1189:$EX1212)=0,0,SUM(EP1189:EP1212)/SUM($EX1189:$EX1212))","v":0},{"$f":"IF(SUM($EX1189:$EX1212)=0,0,SUM(EQ1189:EQ1212)/SUM($EX1189:$EX1212))","v":0},0,0,0,0,0,null,null,null,null,null,null,null,null,null,null,50,{"$f":"IF(SUM($FP1189:$FP1212)=0,0,SUM(FH1189:FH1212)/SUM($FP1189:$FP1212))","v":0},{"$f":"IF(SUM($FP1189:$FP1212)=0,0,SUM(FI1189:FI1212)/SUM($FP1189:$FP1212))","v":0},0,0,0,0,0]
[null,51,{"$f":"IF(SUM($J1213:$J1236)=0,0,SUM(B1213:B1236)/SUM($J1213:$J1236))","v":0},{"$f":"IF(SUM($J1213:$J1236)=0,0,SUM(C1213:C1236)/SUM($J1213:$J1236))","v":0},0,0,0,0,0,null,null,null,null,null,null,null,null,null,null,51,{"$f":"IF(SUM($AB1213:$AB1236)=0,0,SUM(T1213:T1236)/SUM($AB1213:$AB1236))","v":0},{"$f":"IF(SUM($AB1213:$AB1236)=0,0,SUM(U1213:U1236)/SUM($AB1213:$AB1236))","v":0},0,0,0,0,0,null,null,null,null,null,null,null,null,null,null,51,{"$f":"IF(SUM($AT1213:$AT1236)=0,0,SUM(AL1213:AL1236)/SUM($AT1213:$AT1236))","v":0},{"$f":"IF(SUM($AT1213:$AT1236)=0,0,SUM(AM1213:AM1236)/SUM($AT1213:$AT1236))","v":0},0,0,0,0,0,null,null,null,null,null,null,null,null,null,null,51,{"$f":"IF(SUM($BL1213:$BL1236)=0,0,SUM(BD1213:BD1236)/SUM($BL1213:$BL1236))","v":0},{"$f":"IF(SUM($BL1213:$BL1236)=0,0,SUM(BE1213:BE1236)/SUM($BL1213:$BL1236))","v":0},0,0,0,0,0,null,null,null,null,null,null,null,null,null,null,51,{"$f":"IF(SUM($CD1213:$CD1236)=0,0,SUM(BV1213:BV1236)/SUM($CD1213:$CD1236))","v":0},{"$f":"IF(SUM($CD1213:$CD1236)=0,0,SUM(BW1213:BW1236)/SUM($CD1213:$CD1236))","v":0},0,0,0,0,0,null,null,null,null,null,null,null,null,null,null,51,{"$f":"IF(SUM($CV1213:$CV1236)=0,0,SUM(CN1213:CN1236)/SUM($CV1213:$CV1236))","v":0},{"$f":"IF(SUM($CV1213:$CV1236)=0,0,SUM(CO1213:CO1236)/SUM($CV1213:$CV1236))","v":0},0,0,0,0,0,null,null,null,null,null,null,null,null,null,null,51,{"$f":"IF(SUM($DN1213:$DN1236)=0,0,SUM(DF1213:DF1236)/SUM($DN1213:$DN1236))","v":0},{"$f":"IF(SUM($DN1213:$DN1236)=0,0,SUM(DG1213:DG1236)/SUM($DN1213:$DN1236))","v":0},0,0,0,0,0,null,null,null,null,null,null,null,null,null,null,51,{"$f":"IF(SUM($EF1213:$EF1236)=0,0,SUM(DX1213:DX1236)/SUM($EF1213:$EF1236))","v":0},{"$f":"IF(SUM($EF1213:$EF1236)=0,0,SUM(DY1213:DY1236)/SUM($EF1213:$EF1236))","v":0},0,0,0,0,0,null,null,null,null,null,null,null,null,null,null,51,{"$f":"IF(SUM($EX1213:$EX1236)=0,0,SUM(EP1213:EP1236)/SUM($EX1213:$EX1236))","v":0},{"$f":"IF(SUM($EX1213:$EX1236)=0,0,SUM(EQ1213:EQ1236)/SUM($EX1213:$EX1236))","v":0},0,0,0,0,0,null,null,null,null,null,null,null,null,null,null,51,{"$f":"IF(SUM($FP1213:$FP1236)=0,0,SUM(FH1213:FH1236)/SUM($FP1213:$FP1236))","v":0},{"$f":"IF(SUM($FP1213:$FP1236)=0,0,SUM(FI1213:FI1236)/SUM($FP1213:$FP1236))","v":0},0,0,0,0,0]
[null,52,{"$f":"IF(SUM($J1237:$J1260)=0,0,SUM(B1237:B1260)/SUM($J1237:$J1260))","v":0},{"$f":"IF(SUM($J1237:$J1260)=0,0,SUM(C1237:C1260)/SUM($J1237:$J1260))","v":0},0,0,0,0,0,null,null,null,null,null,null,null,null,null,null,52,{"$f":"IF(SUM($AB1237:$AB1260)=0,0,SUM(T1237:T1260)/SUM($AB1237:$AB1260))","v":0},{"$f":"IF(SUM($AB1237:$AB1260)=0,0,SUM(U1237:U1260)/SUM($AB1237:$AB1260))","v":0},0,0,0,0,0,null,null,null,null,null,null,null,null,null,null,52,{"$f":"IF(SUM($AT1237:$AT1260)=0,0,SUM(AL1237:AL1260)/SUM($AT1237:$AT1260))","v":0},{"$f":"IF(SUM($AT1237:$AT1260)=0,0,SUM(AM1237:AM1260)/SUM($AT1237:$AT1260))","v":0},0,0,0,0,0,null,null,null,null,null,null,null,null,null,null,52,{"$f":"IF(SUM($BL1237:$BL1260)=0,0,SUM(BD1237:BD1260)/SUM($BL1237:$BL1260))","v":0},{"$f":"IF(SUM($BL1237:$BL1260)=0,0,SUM(BE1237:BE1260)/SUM($BL1237:$BL1260))","v":0},0,0,0,0,0,null,null,null,null,null,null,null,null,null,null,52,{"$f":"IF(SUM($CD1237:$CD1260)=0,0,SUM(BV1237:BV1260)/SUM($CD1237:$CD1260))","v":0},{"$f":"IF(SUM($CD1237:$CD1260)=0,0,SUM(BW1237:BW1260)/SUM($CD1237:$CD1260))","v":0},0,0,0,0,0,null,null,null,null,null,null,null,null,null,null,52,{"$f":"IF(SUM($CV1237:$CV1260)=0,0,SUM(CN1237:CN1260)/SUM($CV1237:$CV1260))","v":0},{"$f":"IF(SUM($CV1237:$CV1260)=0,0,SUM(CO1237:CO1260)/SUM($CV1237:$CV1260))","v":0},0,0,0,0,0,null,null,null,null,null,null,null,null,null,null,52,{"$f":"IF(SUM($DN1237:$DN1260)=0,0,SUM(DF1237:DF1260)/SUM($DN1237:$DN1260))","v":0},{"$f":"IF(SUM($DN1237:$DN1260)=0,0,SUM(DG1237:DG1260)/SUM($DN1237:$DN1260))","v":0},0,0,0,0,0,null,null,null,null,null,null,null,null,null,null,52,{"$f":"IF(SUM($EF1237:$EF1260)=0,0,SUM(DX1237:DX1260)/SUM($EF1237:$EF1260))","v":0},{"$f":"IF(SUM($EF1237:$EF1260)=0,0,SUM(DY1237:DY1260)/SUM($EF1237:$EF1260))","v":0},0,0,0,0,0,null,null,null,null,null,null,null,null,null,null,52,{"$f":"IF(SUM($EX1237:$EX1260)=0,0,SUM(EP1237:EP1260)/SUM($EX1237:$EX1260))","v":0},{"$f":"IF(SUM($EX1237:$EX1260)=0,0,SUM(EQ1237:EQ1260)/SUM($EX1237:$EX1260))","v":0},0,0,0,0,0,null,null,null,null,null,null,null,null,null,null,52,{"$f":"IF(SUM($FP1237:$FP1260)=0,0,SUM(FH1237:FH1260)/SUM($FP1237:$FP1260))","v":0},{"$f":"IF(SUM($FP1237:$FP1260)=0,0,SUM(FI1237:FI1260)/SUM($FP1237:$FP1260))","v":0},0,0,0,0,0]
[null,53,{"$f":"IF(SUM($J1261:$J1284)=0,0,SUM(B1261:B1284)/SUM($J1261:$J1284))","v":0},{"$f":"IF(SUM($J1261:$J1284)=0,0,SUM(C1261:C1284)/SUM($J1261:$J1284))","v":0},0,0,0,0,0,null,null,null,null,null,null,null,null,null,null,53,{"$f":"IF(SUM($AB1261:$AB1284)=0,0,SUM(T1261:T1284)/SUM($AB1261:$AB1284))","v":0},{"$f":"IF(SUM($AB1261:$AB1284)=0,0,SUM(U1261:U1284)/SUM($AB1261:$AB1284))","v":0},0,0,0,0,0,null,null,null,null,null,null,null,null,null,null,53,{"$f":"IF(SUM($AT1261:$AT1284)=0,0,SUM(AL1261:AL1284)/SUM($AT1261:$AT1284))","v":0},{"$f":"IF(SUM($AT1261:$AT1284)=0,0,SUM(AM1261:AM1284)/SUM($AT1261:$AT1284))","v":0},0,0,0,0,0,null,null,null,null,null,null,null,null,null,null,53,{"$f":"IF(SUM($BL1261:$BL1284)=0,0,SUM(BD1261:BD1284)/SUM($BL1261:$BL1284))","v":0},{"$f":"IF(SUM($BL1261:$BL1284)=0,0,SUM(BE1261:BE1284)/SUM($BL1261:$BL1284))","v":0},0,0,0,0,0,null,null,null,null,null,null,null,null,null,null,53,{"$f":"IF(SUM($CD1261:$CD1284)=0,0,SUM(BV1261:BV1284)/SUM($CD1261:$CD1284))","v":0},{"$f":"IF(SUM($CD1261:$CD1284)=0,0,SUM(BW1261:BW1284)/SUM($CD1261:$CD1284))","v":0},0,0,0,0,0,null,null,null,null,null,null,null,null,null,null,53,{"$f":"IF(SUM($CV1261:$CV1284)=0,0,SUM(CN1261:CN1284)/SUM($CV1261:$CV1284))","v":0},{"$f":"IF(SUM($CV1261:$CV1284)=0,0,SUM(CO1261:CO1284)/SUM($CV1261:$CV1284))","v":0},0,0,0,0,0,null,null,null,null,null,null,null,null,null,null,53,{"$f":"IF(SUM($DN1261:$DN1284)=0,0,SUM(DF1261:DF1284)/SUM($DN1261:$DN1284))","v":0},{"$f":"IF(SUM($DN1261:$DN1284)=0,0,SUM(DG1261:DG1284)/SUM($DN1261:$DN1284))","v":0},0,0,0,0,0,null,null,null,null,null,null,null,null,null,null,53,{"$f":"IF(SUM($EF1261:$EF1284)=0,0,SUM(DX1261:DX1284)/SUM($EF1261:$EF1284))","v":0},{"$f":"IF(SUM($EF1261:$EF1284)=0,0,SUM(DY1261:DY1284)/SUM($EF1261:$EF1284))","v":0},0,0,0,0,0,null,null,null,null,null,null,null,null,null,null,53,{"$f":"IF(SUM($EX1261:$EX1284)=0,0,SUM(EP1261:EP1284)/SUM($EX1261:$EX1284))","v":0},{"$f":"IF(SUM($EX1261:$EX1284)=0,0,SUM(EQ1261:EQ1284)/SUM($EX1261:$EX1284))","v":0},0,0,0,0,0,null,null,null,null,null,null,null,null,null,null,53,{"$f":"IF(SUM($FP1261:$FP1284)=0,0,SUM(FH1261:FH1284)/SUM($FP1261:$FP1284))","v":0},{"$f":"IF(SUM($FP1261:$FP1284)=0,0,SUM(FI1261:FI1284)/SUM($FP1261:$FP1284))","v":0},0,0,0,0,0]
[null,54,{"$f":"IF(SUM($J1285:$J1308)=0,0,SUM(B1285:B1308)/SUM($J1285:$J1308))","v":0},{"$f":"IF(SUM($J1285:$J1308)=0,0,SUM(C1285:C1308)/SUM($J1285:$J1308))","v":0},0,0,0,0,0,null,null,null,null,null,null,null,null,null,null,54,{"$f":"IF(SUM($AB1285:$AB1308)=0,0,SUM(T1285:T1308)/SUM($AB1285:$AB1308))","v":0},{"$f":"IF(SUM($AB1285:$AB1308)=0,0,SUM(U1285:U1308)/SUM($AB1285:$AB1308))","v":0},0,0,0,0,0,null,null,null,null,null,null,null,null,null,null,54,{"$f":"IF(SUM($AT1285:$AT1308)=0,0,SUM(AL1285:AL1308)/SUM($AT1285:$AT1308))","v":0},{"$f":"IF(SUM($AT1285:$AT1308)=0,0,SUM(AM1285:AM1308)/SUM($AT1285:$AT1308))","v":0},0,0,0,0,0,null,null,null,null,null,null,null,null,null,null,54,{"$f":"IF(SUM($BL1285:$BL1308)=0,0,SUM(BD1285:BD1308)/SUM($BL1285:$BL1308))","v":0},{"$f":"IF(SUM($BL1285:$BL1308)=0,0,SUM(BE1285:BE1308)/SUM($BL1285:$BL1308))","v":0},0,0,0,0,0,null,null,null,null,null,null,null,null,null,null,54,{"$f":"IF(SUM($CD1285:$CD1308)=0,0,SUM(BV1285:BV1308)/SUM($CD1285:$CD1308))","v":0},{"$f":"IF(SUM($CD1285:$CD1308)=0,0,SUM(BW1285:BW1308)/SUM($CD1285:$CD1308))","v":0},0,0,0,0,0,null,null,null,null,null,null,null,null,null,null,54,{"$f":"IF(SUM($CV1285:$CV1308)=0,0,SUM(CN1285:CN1308)/SUM($CV1285:$CV1308))","v":0},{"$f":"IF(SUM($CV1285:$CV1308)=0,0,SUM(CO1285:CO1308)/SUM($CV1285:$CV1308))","v":0},0,0,0,0,0,null,null,null,null,null,null,null,null,null,null,54,{"$f":"IF(SUM($DN1285:$DN1308)=0,0,SUM(DF1285:DF1308)/SUM($DN1285:$DN1308))","v":0},{"$f":"IF(SUM($DN1285:$DN1308)=0,0,SUM(DG1285:DG1308)/SUM($DN1285:$DN1308))","v":0},0,0,0,0,0,null,null,null,null,null,null,null,null,null,null,54,{"$f":"IF(SUM($EF1285:$EF1308)=0,0,SUM(DX1285:DX1308)/SUM($EF1285:$EF1308))","v":0},{"$f":"IF(SUM($EF1285:$EF1308)=0,0,SUM(DY1285:DY1308)/SUM($EF1285:$EF1308))","v":0},0,0,0,0,0,null,null,null,null,null,null,null,null,null,null,54,{"$f":"IF(SUM($EX1285:$EX1308)=0,0,SUM(EP1285:EP1308)/SUM($EX1285:$EX1308))","v":0},{"$f":"IF(SUM($EX1285:$EX1308)=0,0,SUM(EQ1285:EQ1308)/SUM($EX1285:$EX1308))","v":0},0,0,0,0,0,null,null,null,null,null,null,null,null,null,null,54,{"$f":"IF(SUM($FP1285:$FP1308)=0,0,SUM(FH1285:FH1308)/SUM($FP1285:$FP1308))","v":0},{"$f":"IF(SUM($FP1285:$FP1308)=0,0,SUM(FI1285:FI1308)/SUM($FP1285:$FP1308))","v":0},0,0,0,0,0]
[null,55,{"$f":"IF(SUM($J1309:$J1332)=0,0,SUM(B1309:B1332)/SUM($J1309:$J1332))","v":0},{"$f":"IF(SUM($J1309:$J1332)=0,0,SUM(C1309:C1332)/SUM($J1309:$J1332))","v":0},0,0,0,0,0,null,null,null,null,null,null,null,null,null,null,55,{"$f":"IF(SUM($AB1309:$AB1332)=0,0,SUM(T1309:T1332)/SUM($AB1309:$AB1332))","v":0},{"$f":"IF(SUM($AB1309:$AB1332)=0,0,SUM(U1309:U1332)/SUM($AB1309:$AB1332))","v":0},0,0,0,0,0,null,null,null,null,null,null,null,null,null,null,55,{"$f":"IF(SUM($AT1309:$AT1332)=0,0,SUM(AL1309:AL1332)/SUM($AT1309:$AT1332))","v":0},{"$f":"IF(SUM($AT1309:$AT1332)=0,0,SUM(AM1309:AM1332)/SUM($AT1309:$AT1332))","v":0},0,0,0,0,0,null,null,null,null,null,null,null,null,null,null,55,{"$f":"IF(SUM($BL1309:$BL1332)=0,0,SUM(BD1309:BD1332)/SUM($BL1309:$BL1332))","v":0},{"$f":"IF(SUM($BL1309:$BL1332)=0,0,SUM(BE1309:BE1332)/SUM($BL1309:$BL1332))","v":0},0,0,0,0,0,null,null,null,null,null,null,null,null,null,null,55,{"$f":"IF(SUM($CD1309:$CD1332)=0,0,SUM(BV1309:BV1332)/SUM($CD1309:$CD1332))","v":0},{"$f":"IF(SUM($CD1309:$CD1332)=0,0,SUM(BW1309:BW1332)/SUM($CD1309:$CD1332))","v":0},0,0,0,0,0,null,null,null,null,null,null,null,null,null,null,55,{"$f":"IF(SUM($CV1309:$CV1332)=0,0,SUM(CN1309:CN1332)/SUM($CV1309:$CV1332))","v":0},{"$f":"IF(SUM($CV1309:$CV1332)=0,0,SUM(CO1309:CO1332)/SUM($CV1309:$CV1332))","v":0},0,0,0,0,0,null,null,null,null,null,null,null,null,null,null,55,{"$f":"IF(SUM($DN1309:$DN1332)=0,0,SUM(DF1309:DF1332)/SUM($DN1309:$DN1332))","v":0},{"$f":"IF(SUM($DN1309:$DN1332)=0,0,SUM(DG1309:DG1332)/SUM($DN1309:$DN1332))","v":0},0,0,0,0,0,null,null,null,null,null,null,null,null,null,null,55,{"$f":"IF(SUM($EF1309:$EF1332)=0,0,SUM(DX1309:DX1332)/SUM($EF1309:$EF1332))","v":0},{"$f":"IF(SUM($EF1309:$EF1332)=0,0,SUM(DY1309:DY1332)/SUM($EF1309:$EF1332))","v":0},0,0,0,0,0,null,null,null,null,null,null,null,null,null,null,55,{"$f":"IF(SUM($EX1309:$EX1332)=0,0,SUM(EP1309:EP1332)/SUM($EX1309:$EX1332))","v":0},{"$f":"IF(SUM($EX1309:$EX1332)=0,0,SUM(EQ1309:EQ1332)/SUM($EX1309:$EX1332))","v":0},0,0,0,0,0,null,null,null,null,null,null,null,null,null,null,55,{"$f":"IF(SUM($FP1309:$FP1332)=0,0,SUM(FH1309:FH1332)/SUM($FP1309:$FP1332))","v":0},{"$f":"IF(SUM($FP1309:$FP1332)=0,0,SUM(FI1309:FI1332)/SUM($FP1309:$FP1332))","v":0},0,0,0,0,0]
[null,56,{"$f":"IF(SUM($J1333:$J1356)=0,0,SUM(B1333:B1356)/SUM($J1333:$J1356))","v":0},{"$f":"IF(SUM($J1333:$J1356)=0,0,SUM(C1333:C1356)/SUM($J1333:$J1356))","v":0},0,0,0,0,0,null,null,null,null,null,null,null,null,null,null,56,{"$f":"IF(SUM($AB1333:$AB1356)=0,0,SUM(T1333:T1356)/SUM($AB1333:$AB1356))","v":0},{"$f":"IF(SUM($AB1333:$AB1356)=0,0,SUM(U1333:U1356)/SUM($AB1333:$AB1356))","v":0},0,0,0,0,0,null,null,null,null,null,null,null,null,null,null,56,{"$f":"IF(SUM($AT1333:$AT1356)=0,0,SUM(AL1333:AL1356)/SUM($AT1333:$AT1356))","v":0},{"$f":"IF(SUM($AT1333:$AT1356)=0,0,SUM(AM1333:AM1356)/SUM($AT1333:$AT1356))","v":0},0,0,0,0,0,null,null,null,null,null,null,null,null,null,null,56,{"$f":"IF(SUM($BL1333:$BL1356)=0,0,SUM(BD1333:BD1356)/SUM($BL1333:$BL1356))","v":0},{"$f":"IF(SUM($BL1333:$BL1356)=0,0,SUM(BE1333:BE1356)/SUM($BL1333:$BL1356))","v":0},0,0,0,0,0,null,null,null,null,null,null,null,null,null,null,56,{"$f":"IF(SUM($CD1333:$CD1356)=0,0,SUM(BV1333:BV1356)/SUM($CD1333:$CD1356))","v":0},{"$f":"IF(SUM($CD1333:$CD1356)=0,0,SUM(BW1333:BW1356)/SUM($CD1333:$CD1356))","v":0},0,0,0,0,0,null,null,null,null,null,null,null,null,null,null,56,{"$f":"IF(SUM($CV1333:$CV1356)=0,0,SUM(CN1333:CN1356)/SUM($CV1333:$CV1356))","v":0},{"$f":"IF(SUM($CV1333:$CV1356)=0,0,SUM(CO1333:CO1356)/SUM($CV1333:$CV1356))","v":0},0,0,0,0,0,null,null,null,null,null,null,null,null,null,null,56,{"$f":"IF(SUM($DN1333:$DN1356)=0,0,SUM(DF1333:DF1356)/SUM($DN1333:$DN1356))","v":0},{"$f":"IF(SUM($DN1333:$DN1356)=0,0,SUM(DG1333:DG1356)/SUM($DN1333:$DN1356))","v":0},0,0,0,0,0,null,null,null,null,null,null,null,null,null,null,56,{"$f":"IF(SUM($EF1333:$EF1356)=0,0,SUM(DX1333:DX1356)/SUM($EF1333:$EF1356))","v":0},{"$f":"IF(SUM($EF1333:$EF1356)=0,0,SUM(DY1333:DY1356)/SUM($EF1333:$EF1356))","v":0},0,0,0,0,0,null,null,null,null,null,null,null,null,null,null,56,{"$f":"IF(SUM($EX1333:$EX1356)=0,0,SUM(EP1333:EP1356)/SUM($EX1333:$EX1356))","v":0},{"$f":"IF(SUM($EX1333:$EX1356)=0,0,SUM(EQ1333:EQ1356)/SUM($EX1333:$EX1356))","v":0},0,0,0,0,0,null,null,null,null,null,null,null,null,null,null,56,{"$f":"IF(SUM($FP1333:$FP1356)=0,0,SUM(FH1333:FH1356)/SUM($FP1333:$FP1356))","v":0},{"$f":"IF(SUM($FP1333:$FP1356)=0,0,SUM(FI1333:FI1356)/SUM($FP1333:$FP1356))","v":0},0,0,0,0,0]
[null,57,{"$f":"IF(SUM($J1357:$J1380)=0,0,SUM(B1357:B1380)/SUM($J1357:$J1380))","v":0},{"$f":"IF(SUM($J1357:$J1380)=0,0,SUM(C1357:C1380)/SUM($J1357:$J1380))","v":0},0,0,0,0,0,null,null,null,null,null,null,null,null,null,null,57,{"$f":"IF(SUM($AB1357:$AB1380)=0,0,SUM(T1357:T1380)/SUM($AB1357:$AB1380))","v":0},{"$f":"IF(SUM($AB1357:$AB1380)=0,0,SUM(U1357:U1380)/SUM($AB1357:$AB1380))","v":0},0,0,0,0,0,null,null,null,null,null,null,null,null,null,null,57,{"$f":"IF(SUM($AT1357:$AT1380)=0,0,SUM(AL1357:AL1380)/SUM($AT1357:$AT1380))","v":0},{"$f":"IF(SUM($AT1357:$AT1380)=0,0,SUM(AM1357:AM1380)/SUM($AT1357:$AT1380))","v":0},0,0,0,0,0,null,null,null,null,null,null,null,null,null,null,57,{"$f":"IF(SUM($BL1357:$BL1380)=0,0,SUM(BD1357:BD1380)/SUM($BL1357:$BL1380))","v":0},{"$f":"IF(SUM($BL1357:$BL1380)=0,0,SUM(BE1357:BE1380)/SUM($BL1357:$BL1380))","v":0},0,0,0,0,0,null,null,null,null,null,null,null,null,null,null,57,{"$f":"IF(SUM($CD1357:$CD1380)=0,0,SUM(BV1357:BV1380)/SUM($CD1357:$CD1380))","v":0},{"$f":"IF(SUM($CD1357:$CD1380)=0,0,SUM(BW1357:BW1380)/SUM($CD1357:$CD1380))","v":0},0,0,0,0,0,null,null,null,null,null,null,null,null,null,null,57,{"$f":"IF(SUM($CV1357:$CV1380)=0,0,SUM(CN1357:CN1380)/SUM($CV1357:$CV1380))","v":0},{"$f":"IF(SUM($CV1357:$CV1380)=0,0,SUM(CO1357:CO1380)/SUM($CV1357:$CV1380))","v":0},0,0,0,0,0,null,null,null,null,null,null,null,null,null,null,57,{"$f":"IF(SUM($DN1357:$DN1380)=0,0,SUM(DF1357:DF1380)/SUM($DN1357:$DN1380))","v":0},{"$f":"IF(SUM($DN1357:$DN1380)=0,0,SUM(DG1357:DG1380)/SUM($DN1357:$DN1380))","v":0},0,0,0,0,0,null,null,null,null,null,null,null,null,null,null,57,{"$f":"IF(SUM($EF1357:$EF1380)=0,0,SUM(DX1357:DX1380)/SUM($EF1357:$EF1380))","v":0},{"$f":"IF(SUM($EF1357:$EF1380)=0,0,SUM(DY1357:DY1380)/SUM($EF1357:$EF1380))","v":0},0,0,0,0,0,null,null,null,null,null,null,null,null,null,null,57,{"$f":"IF(SUM($EX1357:$EX1380)=0,0,SUM(EP1357:EP1380)/SUM($EX1357:$EX1380))","v":0},{"$f":"IF(SUM($EX1357:$EX1380)=0,0,SUM(EQ1357:EQ1380)/SUM($EX1357:$EX1380))","v":0},0,0,0,0,0,null,null,null,null,null,null,null,null,null,null,57,{"$f":"IF(SUM($FP1357:$FP1380)=0,0,SUM(FH1357:FH1380)/SUM($FP1357:$FP1380))","v":0},{"$f":"IF(SUM($FP1357:$FP1380)=0,0,SUM(FI1357:FI1380)/SUM($FP1357:$FP1380))","v":0},0,0,0,0,0]
[null,58,{"$f":"IF(SUM($J1381:$J1404)=0,0,SUM(B1381:B1404)/SUM($J1381:$J1404))","v":0},{"$f":"IF(SUM($J1381:$J1404)=0,0,SUM(C1381:C1404)/SUM($J1381:$J1404))","v":0},0,0,0,0,0,null,null,null,null,null,null,null,null,null,null,58,{"$f":"IF(SUM($AB1381:$AB1404)=0,0,SUM(T1381:T1404)/SUM($AB1381:$AB1404))","v":0},{"$f":"IF(SUM($AB1381:$AB1404)=0,0,SUM(U1381:U1404)/SUM($AB1381:$AB1404))","v":0},0,0,0,0,0,null,null,null,null,null,null,null,null,null,null,58,{"$f":"IF(SUM($AT1381:$AT1404)=0,0,SUM(AL1381:AL1404)/SUM($AT1381:$AT1404))","v":0},{"$f":"IF(SUM($AT1381:$AT1404)=0,0,SUM(AM1381:AM1404)/SUM($AT1381:$AT1404))","v":0},0,0,0,0,0,null,null,null,null,null,null,null,null,null,null,58,{"$f":"IF(SUM($BL1381:$BL1404)=0,0,SUM(BD1381:BD1404)/SUM($BL1381:$BL1404))","v":0},{"$f":"IF(SUM($BL1381:$BL1404)=0,0,SUM(BE1381:BE1404)/SUM($BL1381:$BL1404))","v":0},0,0,0,0,0,null,null,null,null,null,null,null,null,null,null,58,{"$f":"IF(SUM($CD1381:$CD1404)=0,0,SUM(BV1381:BV1404)/SUM($CD1381:$CD1404))","v":0},{"$f":"IF(SUM($CD1381:$CD1404)=0,0,SUM(BW1381:BW1404)/SUM($CD1381:$CD1404))","v":0},0,0,0,0,0,null,null,null,null,null,null,null,null,null,null,58,{"$f":"IF(SUM($CV1381:$CV1404)=0,0,SUM(CN1381:CN1404)/SUM($CV1381:$CV1404))","v":0},{"$f":"IF(SUM($CV1381:$CV1404)=0,0,SUM(CO1381:CO1404)/SUM($CV1381:$CV1404))","v":0},0,0,0,0,0,null,null,null,null,null,null,null,null,null,null,58,{"$f":"IF(SUM($DN1381:$DN1404)=0,0,SUM(DF1381:DF1404)/SUM($DN1381:$DN1404))","v":0},{"$f":"IF(SUM($DN1381:$DN1404)=0,0,SUM(DG1381:DG1404)/SUM($DN1381:$DN1404))","v":0},0,0,0,0,0,null,null,null,null,null,null,null,null,null,null,58,{"$f":"IF(SUM($EF1381:$EF1404)=0,0,SUM(DX1381:DX1404)/SUM($EF1381:$EF1404))","v":0},{"$f":"IF(SUM($EF1381:$EF1404)=0,0,SUM(DY1381:DY1404)/SUM($EF1381:$EF1404))","v":0},0,0,0,0,0,null,null,null,null,null,null,null,null,null,null,58,{"$f":"IF(SUM($EX1381:$EX1404)=0,0,SUM(EP1381:EP1404)/SUM($EX1381:$EX1404))","v":0},{"$f":"IF(SUM($EX1381:$EX1404)=0,0,SUM(EQ1381:EQ1404)/SUM($EX1381:$EX1404))","v":0},0,0,0,0,0,null,null,null,null,null,null,null,null,null,null,58,{"$f":"IF(SUM($FP1381:$FP1404)=0,0,SUM(FH1381:FH1404)/SUM($FP1381:$FP1404))","v":0},{"$f":"IF(SUM($FP1381:$FP1404)=0,0,SUM(FI1381:FI1404)/SUM($FP1381:$FP1404))","v":0},0,0,0,0,0]
[null,59,{"$f":"IF(SUM($J1405:$J1428)=0,0,SUM(B1405:B1428)/SUM($J1405:$J1428))","v":0},{"$f":"IF(SUM($J1405:$J1428)=0,0,SUM(C1405:C1428)/SUM($J1405:$J1428))","v":0},0,0,0,0,0,null,null,null,null,null,null,null,null,null,null,59,{"$f":"IF(SUM($AB1405:$AB1428)=0,0,SUM(T1405:T1428)/SUM($AB1405:$AB1428))","v":0},{"$f":"IF(SUM($AB1405:$AB1428)=0,0,SUM(U1405:U1428)/SUM($AB1405:$AB1428))","v":0},0,0,0,0,0,null,null,null,null,null,null,null,null,null,null,59,{"$f":"IF(SUM($AT1405:$AT1428)=0,0,SUM(AL1405:AL1428)/SUM($AT1405:$AT1428))","v":0},{"$f":"IF(SUM($AT1405:$AT1428)=0,0,SUM(AM1405:AM1428)/SUM($AT1405:$AT1428))","v":0},0,0,0,0,0,null,null,null,null,null,null,null,null,null,null,59,{"$f":"IF(SUM($BL1405:$BL1428)=0,0,SUM(BD1405:BD1428)/SUM($BL1405:$BL1428))","v":0},{"$f":"IF(SUM($BL1405:$BL1428)=0,0,SUM(BE1405:BE1428)/SUM($BL1405:$BL1428))","v":0},0,0,0,0,0,null,null,null,null,null,null,null,null,null,null,59,{"$f":"IF(SUM($CD1405:$CD1428)=0,0,SUM(BV1405:BV1428)/SUM($CD1405:$CD1428))","v":0},{"$f":"IF(SUM($CD1405:$CD1428)=0,0,SUM(BW1405:BW1428)/SUM($CD1405:$CD1428))","v":0},0,0,0,0,0,null,null,null,null,null,null,null,null,null,null,59,{"$f":"IF(SUM($CV1405:$CV1428)=0,0,SUM(CN1405:CN1428)/SUM($CV1405:$CV1428))","v":0},{"$f":"IF(SUM($CV1405:$CV1428)=0,0,SUM(CO1405:CO1428)/SUM($CV1405:$CV1428))","v":0},0,0,0,0,0,null,null,null,null,null,null,null,null,null,null,59,{"$f":"IF(SUM($DN1405:$DN1428)=0,0,SUM(DF1405:DF1428)/SUM($DN1405:$DN1428))","v":0},{"$f":"IF(SUM($DN1405:$DN1428)=0,0,SUM(DG1405:DG1428)/SUM($DN1405:$DN1428))","v":0},0,0,0,0,0,null,null,null,null,null,null,null,null,null,null,59,{"$f":"IF(SUM($EF1405:$EF1428)=0,0,SUM(DX1405:DX1428)/SUM($EF1405:$EF1428))","v":0},{"$f":"IF(SUM($EF1405:$EF1428)=0,0,SUM(DY1405:DY1428)/SUM($EF1405:$EF1428))","v":0},0,0,0,0,0,null,null,null,null,null,null,null,null,null,null,59,{"$f":"IF(SUM($EX1405:$EX1428)=0,0,SUM(EP1405:EP1428)/SUM($EX1405:$EX1428))","v":0},{"$f":"IF(SUM($EX1405:$EX1428)=0,0,SUM(EQ1405:EQ1428)/SUM($EX1405:$EX1428))","v":0},0,0,0,0,0,null,null,null,null,null,null,null,null,null,null,59,{"$f":"IF(SUM($FP1405:$FP1428)=0,0,SUM(FH1405:FH1428)/SUM($FP1405:$FP1428))","v":0},{"$f":"IF(SUM($FP1405:$FP1428)=0,0,SUM(FI1405:FI1428)/SUM($FP1405:$FP1428))","v":0},0,0,0,0,0]
[null,60,{"$f":"IF(SUM($J1429:$J1452)=0,0,SUM(B1429:B1452)/SUM($J1429:$J1452))","v":0},{"$f":"IF(SUM($J1429:$J1452)=0,0,SUM(C1429:C1452)/SUM($J1429:$J1452))","v":0},0,0,0,0,0,null,null,null,null,null,null,null,null,null,null,60,{"$f":"IF(SUM($AB1429:$AB1452)=0,0,SUM(T1429:T1452)/SUM($AB1429:$AB1452))","v":0},{"$f":"IF(SUM($AB1429:$AB1452)=0,0,SUM(U1429:U1452)/SUM($AB1429:$AB1452))","v":0},0,0,0,0,0,null,null,null,null,null,null,null,null,null,null,60,{"$f":"IF(SUM($AT1429:$AT1452)=0,0,SUM(AL1429:AL1452)/SUM($AT1429:$AT1452))","v":0},{"$f":"IF(SUM($AT1429:$AT1452)=0,0,SUM(AM1429:AM1452)/SUM($AT1429:$AT1452))","v":0},0,0,0,0,0,null,null,null,null,null,null,null,null,null,null,60,{"$f":"IF(SUM($BL1429:$BL1452)=0,0,SUM(BD1429:BD1452)/SUM($BL1429:$BL1452))","v":0},{"$f":"IF(SUM($BL1429:$BL1452)=0,0,SUM(BE1429:BE1452)/SUM($BL1429:$BL1452))","v":0},0,0,0,0,0,null,null,null,null,null,null,null,null,null,null,60,{"$f":"IF(SUM($CD1429:$CD1452)=0,0,SUM(BV1429:BV1452)/SUM($CD1429:$CD1452))","v":0},{"$f":"IF(SUM($CD1429:$CD1452)=0,0,SUM(BW1429:BW1452)/SUM($CD1429:$CD1452))","v":0},0,0,0,0,0,null,null,null,null,null,null,null,null,null,null,60,{"$f":"IF(SUM($CV1429:$CV1452)=0,0,SUM(CN1429:CN1452)/SUM($CV1429:$CV1452))","v":0},{"$f":"IF(SUM($CV1429:$CV1452)=0,0,SUM(CO1429:CO1452)/SUM($CV1429:$CV1452))","v":0},0,0,0,0,0,null,null,null,null,null,null,null,null,null,null,60,{"$f":"IF(SUM($DN1429:$DN1452)=0,0,SUM(DF1429:DF1452)/SUM($DN1429:$DN1452))","v":0},{"$f":"IF(SUM($DN1429:$DN1452)=0,0,SUM(DG1429:DG1452)/SUM($DN1429:$DN1452))","v":0},0,0,0,0,0,null,null,null,null,null,null,null,null,null,null,60,{"$f":"IF(SUM($EF1429:$EF1452)=0,0,SUM(DX1429:DX1452)/SUM($EF1429:$EF1452))","v":0},{"$f":"IF(SUM($EF1429:$EF1452)=0,0,SUM(DY1429:DY1452)/SUM($EF1429:$EF1452))","v":0},0,0,0,0,0,null,null,null,null,null,null,null,null,null,null,60,{"$f":"IF(SUM($EX1429:$EX1452)=0,0,SUM(EP1429:EP1452)/SUM($EX1429:$EX1452))","v":0},{"$f":"IF(SUM($EX1429:$EX1452)=0,0,SUM(EQ1429:EQ1452)/SUM($EX1429:$EX1452))","v":0},0,0,0,0,0,null,null,null,null,null,null,null,null,null,null,60,{"$f":"IF(SUM($FP1429:$FP1452)=0,0,SUM(FH1429:FH1452)/SUM($FP1429:$FP1452))","v":0},{"$f":"IF(SUM($FP1429:$FP1452)=0,0,SUM(FI1429:FI1452)/SUM($FP1429:$FP1452))","v":0},0,0,0,0,0]